Workbook

Sheet Buffer Config Inputs
B1: ISL70x44SEH Case Temperature Calculator (Buffer Configuration)
B4: Inputs are in Yellow
B6: Parameter | C6: Value | D6: Unit | I6: Mean
B7: V+ | C7: 18 | D7: V | I7: Calculated Values (Amp) | M7: Calculated Values (Hot Spot)
B8: V- | C8: -18 | D8: V | G8: Inputs | H8: Count | I8: ISUPPLY (A) | J8: Power (W) | K8: θJC (°C/W) | L8: tRISE (°C) | M8: ISUPPLY (A) | N8: Power (W) | O8: θJC (°C/W) | P8: tRISE (°C)
B9: Vs | C9: =C7-C8 -> 36 | D9: V | G9: V+ | H9: ='I32-I55'!T6 -> 0 | I9: ='I32-I55'!U6 -> 0 | J9: ='I32-I55'!V6 -> 0 | K9: =$C$13 -> 9 | L9: =J9*K9 -> 0 | M9: ='I32-I55'!W6 -> 0 | N9: ='I32-I55'!X6 -> 0 | O9: =C12 -> 374 | P9: =N9*O9 -> 0
G10: V- | H10: ='I32-I55'!T7 -> 1 | I10: ='I32-I55'!U7 -> 0.0058842959 | J10: ='I32-I55'!V7 -> 0.2125186 | K10: =$C$13 -> 9 | L10: =J10*K10 -> 1.9126674 | M10: ='I32-I55'!W7 -> 0.00232982 | N10: ='I32-I55'!X7 -> 0.081082599 | O10: =C11 -> 458 | P10: =N10*O10 -> 37.13583
B11: θJC (I32) | C11: 458 | D11: °C/W | G11: Active | H11: ='I32-I55'!T8 -> 3 | I11: ='I32-I55'!U8 -> 0.0057656629 | J11: ='I32-I55'!V8 -> 0.20826468 | K11: =$C$13 -> 9 | L11: =J11*K11 -> 1.8743821 | M11: ='I32-I55'!W8 -> 0 | N11: ='I32-I55'!X8 -> 0 | O11: - | P11: 0
B12: θJC (I55) | C12: 374 | D12: °C/W | G12: Excluded | H12: ='I32-I55'!T9 -> 0 | I12: ='I32-I55'!U9 -> - | J12: ='I32-I55'!V9 -> - | K12: - | L12: - | M12: - | N12: - | O12: - | P12: -
B13: θJC (amp) | C13: 9 | D13: °C/W
B15: Input A | C15: Active | I15: WC
B16: Input B | C16: Active | I16: Calculated Values (Amp) | M16: Calculated Values (Hot Spot)
B17: Input C | C17: Active | G17: Inputs | H17: Count | I17: ISUPPLY (A) | J17: Power (W) | K17: θJC (°C/W) | L17: tRISE (°C) | M17: ISUPPLY (A) | N17: Power (W) | O17: θJC (°C/W) | P17: tRISE (°C)
B18: Input D | C18: V- | G18: V+ | H18: ='I32-I55'!T15 -> 0 | I18: ='I32-I55'!U15 -> 0 | J18: ='I32-I55'!V15 -> 0 | K18: =$C$13 -> 9 | L18: =J18*K18 -> 0 | M18: ='I32-I55'!W15 -> 0 | N18: ='I32-I55'!X15 -> 0 | O18: =C12 -> 374 | P18: =N18*O18 -> 0
G19: V- | H19: ='I32-I55'!T16 -> 1 | I19: ='I32-I55'!U16 -> 0.0067550818 | J19: ='I32-I55'!V16 -> 0.2439534 | K19: =$C$13 -> 9 | L19: =J19*K19 -> 2.1955806 | M19: ='I32-I55'!W16 -> 0.002675246 | N19: ='I32-I55'!X16 -> 0.09303049 | O19: =C11 -> 458 | P19: =N19*O19 -> 42.607964
B20: Worst Case Sigma | G20: Active | H20: ='I32-I55'!T17 -> 3 | I20: ='I32-I55'!U17 -> 0.0066697701 | J20: ='I32-I55'!V17 -> 0.24098205 | K20: =$C$13 -> 9 | L20: =J20*K20 -> 2.1688384 | M20: ='I32-I55'!W17 -> 0 | N20: ='I32-I55'!X17 -> 0 | O20: - | P20: 0
B21: ±σ | C21: 3 | G21: Excluded | H21: ='I32-I55'!T18 -> 0 | I21: ='I32-I55'!U18 -> - | J21: ='I32-I55'!V18 -> - | K21: - | L21: - | M21: - | N21: - | O21: - | P21: -
B23: Max Temperature
B24: TJ | C24: 150 | D24: °C
B25: TC (mean) | C25: =C24-SUM(L9:L11)-MAX(P9:P11) -> 109.07712 | D25: °C
B26: TC (WC) | C26: =C24-SUM(L18:L20)-MAX(P18:P20) -> 103.02762 | D26: °C
B28: Total Power Dissipation
B29: Mean | C29: =SUM(J9:J11) -> 0.42078328 | D29: W
B30: WC | C30: =SUM(J18:J20) -> 0.48493545 | D30: W

Sheet Comparator Config Inputs
B1: ISL70x44SEH Case Temperature Calculator (Comparator Configuration)
B4: Inputs are in Yellow
B6: Parameter | C6: Value | D6: Unit | I6: Mean
B7: V+ | C7: 18 | D7: V | I7: Calculated Values (Amp) | M7: Calculated Values (Hot Spot)
B8: V- | C8: -18 | D8: V | G8: Inputs | H8: Count | I8: ISUPPLY (A) | J8: Power (W) | K8: θJC (°C/W) | L8: tRISE (°C) | M8: ISUPPLY (A) | N8: Power (W) | O8: θJC (°C/W) | P8: tRISE (°C)
B9: Vs | C9: =C7-C8 -> 36 | D9: V | G9: V+ | H9: ='Comparator Data'!AU28 -> 0 | I9: ='Comparator Data'!AV28 -> 0 | J9: ='Comparator Data'!AW28 -> 0 | K9: =$C$13 -> 9 | L9: =J9*K9 -> 0 | M9: ='Comparator Data'!AX28 -> 0 | N9: ='Comparator Data'!AY28 -> 0 | O9: =C12 -> 374 | P9: =N9*O9 -> 0
G10: V- | H10: ='Comparator Data'!AU29 -> 2 | I10: ='Comparator Data'!AV29 -> 0.09 | J10: ='Comparator Data'!AW29 -> 3.2632 | K10: =$C$13 -> 9 | L10: =J10*K10 -> 29.3688 | M10: ='Comparator Data'!AX29 -> 1.3e-05 | N10: ='Comparator Data'!AY29 -> 0.00022589 | O10: =C11 -> 458 | P10: =N10*O10 -> 0.10345762
B11: θJC (I32) | C11: 458 | D11: °C/W | G11: Excluded | H11: ='Comparator Data'!AU30 -> 2 | I11: ='I32-I55'!U9 -> - | J11: ='I32-I55'!V9 -> - | K11: - | L11: - | M11: - | N11: - | O11: - | P11: -
B12: θJC (I55) | C12: 374 | D12: °C/W
B13: θJC (amp) | C13: 9 | D13: °C/W
B15: Input A | C15: V- | I15: WC
B16: Input B | C16: V- | I16: Calculated Values (Amp) | M16: Calculated Values (Hot Spot)
B17: Input C | C17: Exclude | G17: Inputs | H17: Count | I17: ISUPPLY (A) | J17: Power (W) | K17: θJC (°C/W) | L17: tRISE (°C) | M17: ISUPPLY (A) | N17: Power (W) | O17: θJC (°C/W) | P17: tRISE (°C)
B18: Input D | C18: Exclude | G18: V+ | H18: ='Comparator Data'!AU36 -> 0 | I18: ='Comparator Data'!AV36 -> 0 | J18: ='Comparator Data'!AW36 -> 0 | K18: =$C$13 -> 9 | L18: =J18*K18 -> 0 | M18: ='Comparator Data'!AX36 -> 0 | N18: ='Comparator Data'!AY36 -> 0 | O18: =C12 -> 374 | P18: =N18*O18 -> 0
G19: V- | H19: ='Comparator Data'!AU37 -> 2 | I19: ='Comparator Data'!AV37 -> 0.2219242 | J19: ='Comparator Data'!AW37 -> 8.0121098 | K19: =$C$13 -> 9 | L19: =J19*K19 -> 72.108988 | M19: ='Comparator Data'!AX37 -> 0.00035907274 | N19: ='Comparator Data'!AY37 -> 0.0062487656 | O19: =C11 -> 458 | P19: =N19*O19 -> 2.8619347
B20: Worst Case Sigma | G20: Excluded | H20: ='Comparator Data'!AU38 -> 2 | I20: ='I32-I55'!U18 -> - | J20: ='I32-I55'!V18 -> - | K20: - | L20: - | M20: - | N20: - | O20: - | P20: -
B21: ±σ | C21: 6
B23: Max Temperature
B24: TJ | C24: 150 | D24: °C
B25: TC (mean) | C25: =C24-SUM(L9:L11)-MAX(P9:P11) -> 120.52774 | D25: °C
B26: TC (WC) | C26: =C24-SUM(L18:L20)-MAX(P18:P20) -> 75.029077 | D26: °C
B28: Total Power Dissipation
B29: Mean | C29: =SUM(J9:J11) -> 3.2632 | D29: W
B30: WC | C30: =SUM(J18:J20) -> 8.0121098 | D30: W

Sheet I32-I55
C1: Sigma | D1: ='Buffer Config Inputs'!C21 -> 3
C2: Supply | D2: ='Buffer Config Inputs'!C9 -> 36
U3: Mean
B4: I32 (Scenario 1) | J4: I55 (Scenario 1) | U4: Calculated Values (Amp) | W4: Calculated Values (Hot Spot)
B5: V | C5: I (mean) | D5: I (st.dev) | E5: I (+6 Sigma) | F5: W (mean) | G5: W (st.dev) | H5: W (+6 Sigma) | J5: V | K5: I (mean) | L5: I (st.dev) | M5: I (+6 Sigma) | N5: W (mean) | O5: W (st.dev) | P5: W (+6 Sigma) | S5: List of Options | T5: Count | U5: ISUPPLY (A) | V5: Power (W) | W5: ISUPPLY (A) | X5: Power (W) | AA5: θJC Options
B6: 5 | C6: 6.13407e-05 | D6: 3.1435e-06 | E6: =C6+(6*D6) -> 8.02017e-05 | F6: 0.000244752 | G6: 1.2344e-05 | H6: =F6+($D$1*G6) -> 0.000281784 | J6: 5 | K6: 9.48072e-05 | L6: 4.78728e-06 | M6: =K6+(6*L6) -> 0.00012353088 | N6: 0.000378286 | O6: 1.88103e-05 | P6: =N6+($D$1*O6) -> 0.0004347169 | S6: V+ | T6: =COUNTIF('Buffer Config Inputs'!$C$15:$C$18,S6) -> 0 | U6: =$T$6*Amp!$Q$42 -> 0 | V6: =$T$6*Amp!$Q$46 -> 0 | W6: =IF(T6=0,0,$AH$43) -> 0 | X6: =IF(T6=0,0,$AH$47) -> 0 | AA6: 4.2
B7: 10 | C7: 6.40519e-05 | D7: 3.45353e-06 | E7: =C7+(6*D7) -> 8.477308e-05 | F7: 0.000575547 | G7: 3.08325e-05 | H7: =F7+($D$1*G7) -> 0.0006680445 | J7: 10 | K7: 9.49353e-05 | L7: 4.88961e-06 | M7: =K7+(6*L7) -> 0.00012427296 | N7: 0.000853054 | O7: 4.36356e-05 | P7: =N7+($D$1*O7) -> 0.0009839608 | S7: V- | T7: =COUNTIF('Buffer Config Inputs'!$C$15:$C$18,S7) -> 1 | U7: =$T$7*Amp!$Q$33 -> 0.0058842959 | V7: =$T$7*Amp!$Q$37 -> 0.2125186 | W7: =IF(T7=0,0,$AH$33) -> 0.00232982 | X7: =IF(T7=0,0,$AH$37) -> 0.081082599 | AA7: 10
B8: 15 | C8: 6.64514e-05 | D8: 3.74907e-06 | E8: =C8+(6*D8) -> 8.894582e-05 | F8: 0.000929118 | G8: 5.22233e-05 | H8: =F8+($D$1*G8) -> 0.0010857879 | J8: 15 | K8: 9.46756e-05 | L8: 4.98053e-06 | M8: =K8+(6*L8) -> 0.00012455878 | N8: 0.00132375 | O8: 6.93444e-05 | P8: =N8+($D$1*O8) -> 0.0015317832 | S8: Active | T8: =COUNTIF('Buffer Config Inputs'!$C$15:$C$18,S8) -> 3 | U8: =$T$8*Amp!$Q$6 -> 0.0057656629 | V8: =$T$8*Amp!$Q$10 -> 0.20826468 | W8: 0 | X8: 0
B9: 26 | C9: 7.15497e-05 | D9: 4.56255e-06 | E9: =C9+(6*D9) -> 9.8925e-05 | F9: 0.00178691 | G9: 0.000113746 | H9: =F9+($D$1*G9) -> 0.002128148 | J9: 26 | K9: 9.38965e-05 | L9: 5.20548e-06 | M9: =K9+(6*L9) -> 0.00012512938 | N9: 0.00234501 | O9: 0.000129736 | P9: =N9+($D$1*O9) -> 0.002734218 | S9: Exclude | T9: =COUNTIF('Buffer Config Inputs'!$C$15:$C$18,S9) -> 0 | U9: - | V9: - | W9: - | X9: -
B10: 30 | C10: 7.34428e-05 | D10: 4.91131e-06 | E10: =C10+(6*D10) -> 0.00010291066 | F10: 0.00212776 | G10: 0.00014208 | H10: =F10+($D$1*G10) -> 0.002554 | J10: 30 | K10: 9.35399e-05 | L10: 5.30326e-06 | M10: =K10+(6*L10) -> 0.00012535946 | N10: 0.00271001 | O10: 0.000153391 | P10: =N10+($D$1*O10) -> 0.003170183
B11: 36 | C11: 7.63766e-05 | D11: 5.49621e-06 | E11: =C11+(6*D11) -> 0.00010935386 | F11: 0.00267071 | G11: 0.000191963 | H11: =F11+($D$1*G11) -> 0.003246599 | J11: 36 | K11: 9.2965e-05 | L11: 5.47512e-06 | M11: =K11+(6*L11) -> 0.00012581572 | N11: 0.00325078 | O11: 0.000191224 | P11: =N11+($D$1*O11) -> 0.003824452
U12: WC
B13: I32 (Scenario 2L) | J13: I55 (Scenario 2L) | U13: Calculated Values (Amp) | W13: Calculated Values (Hot Spot)
B14: V | C14: I (mean) | D14: I (st.dev) | E14: I (+6 Sigma) | F14: W (mean) | G14: W (st.dev) | H14: W (+6 Sigma) | J14: V | K14: I (mean) | L14: I (st.dev) | M14: I (+6 Sigma) | N14: W (mean) | O14: W (st.dev) | P14: W (+6 Sigma) | S14: List of Options | T14: Count | U14: ISUPPLY (A) | V14: Power (W) | W14: ISUPPLY (A) | X14: Power (W)
B15: 5 | C15: 6.26392e-05 | D15: 3.22328e-06 | E15: =C15+(6*D15) -> 8.197888e-05 | F15: 0.000249949 | G15: 1.26691e-05 | H15: =F15+($D$1*G15) -> 0.0002879563 | J15: 5 | K15: 9.34955e-05 | L15: 4.74813e-06 | M15: =K15+(6*L15) -> 0.00012198428 | N15: 0.000373076 | O15: 1.86519e-05 | P15: =N15+($D$1*O15) -> 0.0004290317 | S15: V+ | T15: =COUNTIF('Buffer Config Inputs'!$C$15:$C$18,S15) -> 0 | U15: =$T$15*Amp!$X$42 -> 0 | V15: =$T$15*Amp!$X$46 -> 0 | W15: =IF(T15=0,0,$Y$43) -> 0 | X15: =IF(T15=0,0,$Y$47) -> 0
B16: 10 | C16: 6.71264e-05 | D16: 3.68124e-06 | E16: =C16+(6*D16) -> 8.921384e-05 | F16: 0.000603207 | G16: 3.2892e-05 | H16: =F16+($D$1*G16) -> 0.000701883 | J16: 10 | K16: 9.18319e-05 | L16: 4.80699e-06 | M16: =K16+(6*L16) -> 0.00012067384 | N16: 0.000825212 | O16: 4.28925e-05 | P16: =N16+($D$1*O16) -> 0.0009538895 | S16: V- | T16: =COUNTIF('Buffer Config Inputs'!$C$15:$C$18,S16) -> 1 | U16: =$T$16*Amp!$X$33 -> 0.0067550818 | V16: =$T$16*Amp!$X$37 -> 0.2439534 | W16: =IF(T16=0,0,$Y$33) -> 0.002675246 | X16: =IF(T16=0,0,$Y$37) -> 0.09303049
B17: 15 | C17: 7.12893e-05 | D17: 4.15932e-06 | E17: =C17+(6*D17) -> 9.624522e-05 | F17: 0.000996808 | G17: 5.79756e-05 | H17: =F17+($D$1*G17) -> 0.0011707348 | J17: 15 | K17: 8.9802e-05 | L17: 4.88069e-06 | M17: =K17+(6*L17) -> 0.00011908614 | N17: 0.00125566 | O17: 6.79537e-05 | P17: =N17+($D$1*O17) -> 0.0014595211 | S17: Active | T17: =COUNTIF('Buffer Config Inputs'!$C$15:$C$18,S17) -> 3 | U17: =$T$17*Amp!$X$6 -> 0.0066697701 | V17: =$T$17*Amp!$X$10 -> 0.24098205 | W17: 0 | X17: 0
B18: 26 | C18: 8.06428e-05 | D18: 5.52033e-06 | E18: =C18+(6*D18) -> 0.00011376478 | F18: 0.00201406 | G18: 0.000137672 | H18: =F18+($D$1*G18) -> 0.002427076 | J18: 26 | K18: 8.47772e-05 | L18: 5.16267e-06 | M18: =K18+(6*L18) -> 0.00011575322 | N18: 0.00211731 | O18: 0.000128703 | P18: =N18+($D$1*O18) -> 0.002503419 | S18: Exclude | T18: =COUNTIF('Buffer Config Inputs'!$C$15:$C$18,S18) -> 0 | U18: - | V18: - | W18: - | X18: -
B19: 30 | C19: 8.42746e-05 | D19: 6.12266e-06 | E19: =C19+(6*D19) -> 0.00012101056 | F19: 0.00244162 | G19: 0.000177171 | H19: =F19+($D$1*G19) -> 0.002973133 | J19: 30 | K19: 8.26927e-05 | L19: 5.33048e-06 | M19: =K19+(6*L19) -> 0.00011467558 | N19: 0.00239579 | O19: 0.000154233 | P19: =N19+($D$1*O19) -> 0.002858489
B20: 36 | C20: 9.00562e-05 | D20: 7.14739e-06 | E20: =C20+(6*D20) -> 0.00013294054 | F20: 0.00314907 | G20: 0.00024967 | H20: =F20+($D$1*G20) -> 0.00389808 | J20: 36 | K20: 7.92853e-05 | L20: 5.67284e-06 | M20: =K20+(6*L20) -> 0.00011332234 | N20: 0.00277244 | O20: 0.000198225 | P20: =N20+($D$1*O20) -> 0.003367115
B22: I32 (Scenario 2H) | J22: I55 (Scenario 2H)
B23: V | C23: I (mean) | D23: I (st.dev) | E23: I (+6 Sigma) | F23: W (mean) | G23: W (st.dev) | H23: W (+6 Sigma) | J23: V | K23: I (mean) | L23: I (st.dev) | M23: I (+6 Sigma) | N23: W (mean) | O23: W (st.dev) | P23: W (+6 Sigma)
B24: 5 | C24: 5.99133e-05 | D24: 3.05695e-06 | E24: =C24+(6*D24) -> 7.8255e-05 | F24: 0.000239039 | G24: 1.19918e-05 | H24: =F24+($D$1*G24) -> 0.0002750144 | J24: 5 | K24: 9.62676e-05 | L24: 4.83194e-06 | M24: =K24+(6*L24) -> 0.00012525924 | N24: 0.000384085 | O24: 1.89897e-05 | P24: =N24+($D$1*O24) -> 0.0004410541
B25: 10 | C25: 6.064e-05 | D25: 3.20951e-06 | E25: =C25+(6*D25) -> 7.989706e-05 | F25: 0.000544847 | G25: 2.8626e-05 | H25: =F25+($D$1*G25) -> 0.000630725 | J25: 10 | K25: 9.84165e-05 | L25: 4.99777e-06 | M25: =K25+(6*L25) -> 0.00012840312 | N25: 0.00088427 | O25: 4.46062e-05 | P25: =N25+($D$1*O25) -> 0.0010180886
B26: 15 | C26: 6.11316e-05 | D26: 3.32283e-06 | E26: =C26+(6*D26) -> 8.106858e-05 | F26: 0.000854676 | G26: 4.62458e-05 | H26: =F26+($D$1*G26) -> 0.0009934134 | J26: 15 | K26: 0.000100097 | L26: 5.13845e-06 | M26: =K26+(6*L26) -> 0.0001309277 | N26: 0.00139945 | O26: 7.15433e-05 | P26: =N26+($D$1*O26) -> 0.0016140799
B27: 26 | C27: 6.18966e-05 | D27: 3.6312e-06 | E27: =C27+(6*D27) -> 8.36838e-05 | F27: 0.00154573 | G27: 9.04703e-05 | H27: =F27+($D$1*G27) -> 0.0018171409 | J27: 26 | K27: 0.000103715 | L27: 5.46594e-06 | M27: =K27+(6*L27) -> 0.00013651064 | N27: 0.00259007 | O27: 0.000136205 | P27: =N27+($D$1*O27) -> 0.002998685
B28: 30 | C28: 6.21e-05 | D28: 3.7568e-06 | E28: =C28+(6*D28) -> 8.46408e-05 | F28: 0.00179903 | G28: 0.000108621 | H28: =F28+($D$1*G28) -> 0.002124893 | J28: 30 | K28: 0.000105066 | L28: 5.59403e-06 | M28: =K28+(6*L28) -> 0.00013863018 | N28: 0.00304376 | O28: 0.000161763 | P28: =N28+($D$1*O28) -> 0.003529049 | S28: Unused Op Amp Regression (WC) | AB28: Unused Op Amp Regression (mean)
B29: 36 | C29: 6.23226e-05 | D29: 3.96014e-06 | E29: =C29+(6*D29) -> 8.608344e-05 | F29: 0.00217914 | G29: 0.000138261 | H29: =F29+($D$1*G29) -> 0.002593923 | J29: 36 | K29: 0.000107203 | L29: 5.80069e-06 | M29: =K29+(6*L29) -> 0.00014200714 | N29: 0.00374842 | O29: 0.000202526 | P29: =N29+($D$1*O29) -> 0.004355998
B31: I32 (Scenario 3L) | J31: I55 (Scenario 3L) | S31: I32 (3L) - Current | AB31: I32 (3L) - Current
B32: V | C32: I (mean) | D32: I (st.dev) | E32: I (+6 Sigma) | F32: W (mean) | G32: W (st.dev) | H32: W (+6 Sigma) | J32: V | K32: I (mean) | L32: I (st.dev) | M32: I (+6 Sigma) | N32: W (mean) | O32: W (st.dev) | P32: W (+6 Sigma) | S32: x5 | T32: x4 | U32: x3 | V32: x2 | W32: x | X32: c | Y32: Calculated | AB32: x5 | AC32: x4 | AD32: x3 | AE32: x2 | AF32: x | AG32: c | AH32: Calculated
B33: 5 | C33: 0.0015153 | D33: 7.39304e-05 | E33: =C33+($D$1*D33) -> 0.0017370912 | F33: 0.00592305 | G33: 0.000282908 | H33: =F33+($D$1*G33) -> 0.006771774 | J33: 5 | K33: 7.55351e-08 | L33: 1.95366e-08 | M33: =K33+($D$1*L33) -> 1.341449e-07 | N33: 2.95316e-07 | O33: 7.65831e-08 | P33: =N33+($D$1*O33) -> 5.250653e-07 | S33: {=LINEST($E$33:$E$38,$B$33:$B$38^{1,2,3,4,5},TRUE,FALSE)} -> 4.1282561e-10 | T33: -4.9062594e-08 | U33: 2.2499064e-06 | V33: -4.9580696e-05 | W33: 0.00053805744 | X33: 3.445714e-05 | Y33: =($S$33*$D$2^5)+($T$33*$D$2^4)+($U$33*$D$2^3)+($V$33*$D$2^2)+($W$33*$D$2^1)+$X$33 -> 0.002675246 | AB33: {=LINEST($C$33:$C$38,$B$33:$B$38^{1,2,3,4,5},TRUE,FALSE)} -> 3.1758508e-10 | AC33: -3.7780249e-08 | AD33: 1.7357138e-06 | AE33: -3.841919e-05 | AF33: 0.00042294669 | AG33: 0.00016670226 | AH33: =($AB$33*$D$2^5)+($AC$33*$D$2^4)+($AD$33*$D$2^3)+($AE$33*$D$2^2)+($AF$33*$D$2^1)+$AG$33 -> 0.00232982
B34: 10 | C34: 0.00194392 | D34: 0.000104535 | E34: =C34+($D$1*D34) -> 0.002257525 | F34: 0.0172804 | G34: 0.000914533 | H34: =F34+($D$1*G34) -> 0.020023999 | J34: 10 | K34: 3.13835e-08 | L34: 9.74809e-09 | M34: =K34+($D$1*L34) -> 6.062777e-08 | N34: 2.79055e-07 | O34: 8.69262e-08 | P34: =N34+($D$1*O34) -> 5.398336e-07
B35: 15 | C35: 0.00205316 | D35: 0.000106544 | E35: =C35+($D$1*D35) -> 0.002372792 | F35: 0.0284822 | G35: 0.00146097 | H35: =F35+($D$1*G35) -> 0.03286511 | J35: 15 | K35: 2.7295e-08 | L35: 7.75021e-09 | M35: =K35+($D$1*L35) -> 5.054563e-08 | N35: 3.7871e-07 | O35: 1.07784e-07 | P35: =N35+($D$1*O35) -> 7.02062e-07 | S35: I32 (3L) - Power | AB35: I32 (3L) - Power
B36: 26 | C36: 0.00220753 | D36: 0.000109578 | E36: =C36+($D$1*D36) -> 0.002536264 | F36: 0.0548283 | G36: 0.00270097 | H36: =F36+($D$1*G36) -> 0.06293121 | J36: 26 | K36: 2.43033e-08 | L36: 6.0133e-09 | M36: =K36+($D$1*L36) -> 4.23432e-08 | N36: 6.03671e-07 | O36: 1.49579e-07 | P36: =N36+($D$1*O36) -> 1.052408e-06 | T36: x4 | U36: x3 | V36: x2 | W36: x | X36: c | Y36: Calculated | AC36: x4 | AD36: x3 | AE36: x2 | AF36: x | AG36: c | AH36: Calculated
B37: 30 | C37: 0.00225742 | D37: 0.000111523 | E37: =C37+($D$1*D37) -> 0.002591989 | F37: 0.0650679 | G37: 0.00319258 | H37: =F37+($D$1*G37) -> 0.07464564 | J37: 30 | K37: 2.35418e-08 | L37: 5.61212e-09 | M37: =K37+($D$1*L37) -> 4.037816e-08 | N37: 6.78616e-07 | O37: 1.61975e-07 | P37: =N37+($D$1*O37) -> 1.164541e-06 | T37: {=LINEST($H$33:$H$38,$B$33:$B$38^{1,2,3,4},TRUE,FALSE)} -> -1.7652544e-08 | U37: 1.7143048e-06 | V37: -4.6573337e-05 | W37: 0.00307471 | X37: -0.0076331349 | Y37: =($T$37*$D$2^4)+($U$37*$D$2^3)+($V$37*$D$2^2)+($W$37*$D$2^1)+$X$37 -> 0.09303049 | AC37: {=LINEST($F$33:$F$38,$B$33:$B$38^{1,2,3,4},TRUE,FALSE)} -> -1.2619103e-08 | AD37: 1.1987182e-06 | AE37: -2.966649e-05 | AF37: 0.0025248336 | AG37: -0.0060957913 | AH37: =($AC$37*$D$2^4)+($AD$37*$D$2^3)+($AE$37*$D$2^2)+($AF$37*$D$2^1)+$AG$37 -> 0.081082599
B38: 36 | C38: 0.00232982 | D38: 0.000115142 | E38: =C38+($D$1*D38) -> 0.002675246 | F38: 0.0810871 | G38: 0.00398315 | H38: =F38+($D$1*G38) -> 0.09303655 | J38: 36 | K38: 2.24818e-08 | L38: 5.14563e-09 | M38: =K38+($D$1*L38) -> 3.791869e-08 | N38: 7.825e-07 | O38: 1.79281e-07 | P38: =N38+($D$1*O38) -> 1.320343e-06
B40: I32 (Scenario 3H) | J40: I55 (Scenario 3H)
B41: V | C41: I (mean) | D41: I (st.dev) | E41: I (+6 Sigma) | F41: W (mean) | G41: W (st.dev) | H41: W (+6 Sigma) | J41: V | K41: I (mean) | L41: I (st.dev) | M41: I (+6 Sigma) | N41: W (mean) | O41: W (st.dev) | P41: W (+6 Sigma) | S41: I55 (3H) - Current (WC) | AB41: I55 (3H) - Current (mean)
B42: 5 | C42: 3.13597e-08 | D42: 8.28245e-09 | E42: =C42+($D$1*D42) -> 5.620705e-08 | F42: 1.214e-07 | G42: 3.21377e-08 | H42: =F42+($D$1*G42) -> 2.178131e-07 | J42: 5 | K42: 0.0018433 | L42: 8.21607e-05 | M42: =K42+($D$1*L42) -> 0.0020897821 | N42: 0.00713455 | O42: 0.000312314 | P42: =N42+($D$1*O42) -> 0.008071492 | S42: x5 | T42: x4 | U42: x3 | V42: x2 | W42: x | X42: c | Y42: Calculated | AB42: x5 | AC42: x4 | AD42: x3 | AE42: x2 | AF42: x | AG42: c | AH42: Calculated
B43: 10 | C43: 1.34269e-08 | D43: 4.14365e-09 | E43: =C43+($D$1*D43) -> 2.585785e-08 | F43: 1.18722e-07 | G43: 3.67242e-08 | H43: =F43+($D$1*G43) -> 2.288946e-07 | J43: 10 | K43: 0.00236357 | L43: 0.000112516 | M43: =K43+($D$1*L43) -> 0.002701118 | N43: 0.0208951 | O43: 0.000981691 | P43: =N43+($D$1*O43) -> 0.023840173 | S43: {=LINEST($M$42:$M$47,$J$42:$J$47^{1,2,3,4,5},TRUE,FALSE)} -> 5.0402891e-10 | T43: -5.9877336e-08 | U43: 2.7440285e-06 | V43: -6.0416323e-05 | W43: 0.00065081149 | X43: 3.8977428e-05 | Y43: =($S$43*$D$2^5)+($T$43*$D$2^4)+($U$43*$D$2^3)+($V$43*$D$2^2)+($W$43*$D$2^1)+$X$43 -> 0.003099799 | AB43: {=LINEST($K$42:$K$47,$J$42:$J$47^{1,2,3,4,5},TRUE,FALSE)} -> 4.1829665e-10 | AC43: -4.968731e-08 | AD43: 2.2776026e-06 | AE43: -5.0221546e-05 | AF43: 0.00054385594 | AG43: 0.00012460599 | AH43: =($AB$43*$D$2^5)+($AC$43*$D$2^4)+($AD$43*$D$2^3)+($AE$43*$D$2^2)+($AF$43*$D$2^1)+$AG$43 -> 0.00271732
B44: 15 | C44: 1.2042e-08 | D44: 3.2737e-09 | E44: =C44+($D$1*D44) -> 2.18631e-08 | F44: 1.66494e-07 | G44: 4.53511e-08 | H44: =F44+($D$1*G44) -> 3.025473e-07 | J44: 15 | K44: 0.00247173 | L44: 0.0001161 | M44: =K44+($D$1*L44) -> 0.00282003 | N44: 0.0341706 | O44: 0.00159023 | P44: =N44+($D$1*O44) -> 0.03894129
B45: 26 | C45: 1.13792e-08 | D45: 2.33294e-09 | E45: =C45+($D$1*D45) -> 1.837802e-08 | F45: 2.82145e-07 | G45: 5.79344e-08 | H45: =F45+($D$1*G45) -> 4.559482e-07 | J45: 26 | K45: 0.00261027 | L45: 0.000121156 | M45: =K45+($D$1*L45) -> 0.002973738 | N45: 0.0647173 | O45: 0.00298612 | P45: =N45+($D$1*O45) -> 0.07367566 | S45: I55 (3H) - Power | AB45: I55 (3H) - Power
B46: 30 | C46: 1.12537e-08 | D46: 2.11747e-09 | E46: =C46+($D$1*D46) -> 1.760611e-08 | F46: 3.23918e-07 | G46: 6.10377e-08 | H46: =F46+($D$1*G46) -> 5.070311e-07 | J46: 30 | K46: 0.00265405 | L46: 0.000123537 | M46: =K46+($D$1*L46) -> 0.003024661 | N46: 0.0763882 | O46: 0.00353669 | P46: =N46+($D$1*O46) -> 0.08699827 | T46: x4 | U46: x3 | V46: x2 | W46: x | X46: c | Y46: Calculated | AC46: x4 | AD46: x3 | AE46: x2 | AF46: x | AG46: c | AH46: Calculated
B47: 36 | C47: 1.10806e-08 | D47: 1.86868e-09 | E47: =C47+($D$1*D47) -> 1.668664e-08 | F47: 3.85221e-07 | G47: 6.50573e-08 | H47: =F47+($D$1*G47) -> 5.803929e-07 | J47: 36 | K47: 0.00271732 | L47: 0.000127493 | M47: =K47+($D$1*L47) -> 0.003099799 | N47: 0.094465 | O47: 0.00441119 | P47: =N47+($D$1*O47) -> 0.10769857 | T47: {=LINEST($P$42:$P$47,$J$42:$J$47^{1,2,3,4},TRUE,FALSE)} -> -2.1226055e-08 | U47: 2.0452446e-06 | V47: -5.8990271e-05 | W47: 0.0037115631 | X47: -0.0092448889 | Y47: =($T$47*$D$2^4)+($U$47*$D$2^3)+($V$47*$D$2^2)+($W$47*$D$2^1)+$X$47 -> 0.1076913 | AC47: {=LINEST($N$42:$N$47,$B$33:$B$38^{1,2,3,4},TRUE,FALSE)} -> -1.70034e-08 | AD47: 1.6172388e-06 | AE47: -4.5511969e-05 | AF47: 0.003176101 | AG47: -0.0077919955 | AH47: =($AC$47*$D$2^4)+($AD$47*$D$2^3)+($AE$47*$D$2^2)+($AF$47*$D$2^1)+$AG$47 -> 0.09445884
C48: =C33/Amp!C33 -> 0.38791779 | K48: =K42/Amp!C42 -> 0.42271124
C49: =C34/Amp!C34 -> 0.38146521 | K49: =K43/Amp!C43 -> 0.42260489
C50: =C35/Amp!C35 -> 0.38344856 | K50: =K44/Amp!C44 -> 0.42357072
C51: =C36/Amp!C36 -> 0.37278087 | K51: =K45/Amp!C45 -> 0.41000723
C52: =C37/Amp!C37 -> 0.3922203 | K52: =K46/Amp!C46 -> 0.42746448
C53: =C38/Amp!C38 -> 0.39462924 | K53: =K47/Amp!C47 -> 0.42792306

Sheet Amp
C1: Sigma | D1: ='Buffer Config Inputs'!C21 -> 3
C2: Supply | D2: ='Buffer Config Inputs'!C9 -> 36
B4: Amp (Scenario 1) | L4: Amp (Scenario 1) Current - Mean | S4: Amp (Scenario 1) Current - WC
B5: V | C5: I (mean) | D5: I (st.dev) | E5: I (+6 Sigma) | F5: W (mean) | G5: W (st.dev) | H5: W (+6 Sigma) | L5: x4 | M5: x3 | N5: x2 | O5: x | P5: c | Q5: Calculated | S5: x4 | T5: x3 | U5: x2 | V5: x | W5: c | X5: Calculated
B6: 5 | C6: 0.00152769 | D6: 6.61195e-05 | E6: =C6+($D$1*D6) -> 0.0017260485 | F6: 0.00763843 | G6: 0.000330598 | H6: =F6+($D$1*G6) -> 0.008630224 | L6: {=LINEST($C$6:$C$11,$B$6:$B$11^{1,2,3,4},TRUE,FALSE)} -> 3.8440851e-09 | M6: -3.3302285e-07 | N6: 9.404907e-06 | O6: -8.1478293e-05 | P6: 0.0017472741 | Q6: {=($L$6*$D$2^4)+($M$6*$D$2^3)+($N$6*$D$2^2)+($O$6*$D$2^1)+$P$6} -> 0.0019218876 | S6: {=LINEST($E$6:$E$11,$B$33:$B$38^{1,2,3,4},TRUE,FALSE)} -> 4.8091457e-09 | T6: -4.1671941e-07 | U6: 1.1816631e-05 | V6: -0.00010373954 | W6: 0.0020084689 | X6: =($S$6*$D$2^4)+($T$6*$D$2^3)+($U$6*$D$2^2)+($V$6*$D$2^1)+$W$6 -> 0.0022232567
B7: 10 | C7: 0.00161005 | D7: 7.11312e-05 | E7: =C7+($D$1*D7) -> 0.0018234436 | F7: 0.0161005 | G7: 0.000711312 | H7: =F7+($D$1*G7) -> 0.018234436
B8: 15 | C8: 0.00167386 | D8: 7.56894e-05 | E8: =C8+($D$1*D8) -> 0.0019009282 | F8: 0.0251079 | G8: 0.00113534 | H8: =F8+($D$1*G8) -> 0.02851392 | L8: Amp (Scenario 1) Power - Mean | S8: Amp (Scenario 1) Power - WC
B9: 26 | C9: 0.00193453 | D9: 9.78329e-05 | E9: =C9+($D$1*D9) -> 0.0022280287 | F9: 0.0469167 | G9: 0.00226909 | H9: =F9+($D$1*G9) -> 0.05372397 | L9: x4 | M9: x3 | N9: x2 | O9: x | P9: c | Q9: Calculated | S9: x4 | T9: x3 | U9: x2 | V9: x | W9: c | X9: Calculated
B10: 30 | C10: 0.00185286 | D10: 9.2307e-05 | E10: =C10+($D$1*D10) -> 0.002129781 | F10: 0.0555859 | G10: 0.00276921 | H10: =F10+($D$1*G10) -> 0.06389353 | L10: {=LINEST($F$6:$F$11,$B$33:$B$38^{1,2,3,4},TRUE,FALSE)} -> 1.0706057e-09 | M10: -3.8652933e-08 | N10: 1.1376725e-05 | O10: 0.0015265939 | P10: -0.00027487019 | Q10: {=($L$10*$D$2^4)+($M$10*$D$2^3)+($N$10*$D$2^2)+($O$10*$D$2^1)+$P$10} -> 0.06942156 | S10: {=LINEST($H$6:$H$11,$B$33:$B$38^{1,2,3,4},TRUE,FALSE)} -> 1.5971913e-09 | T10: -3.0920646e-08 | U10: 1.3441617e-05 | V10: 0.0017216098 | W10: -0.0003109735 | X10: =($S$10*$D$2^4)+($T$10*$D$2^3)+($U$10*$D$2^2)+($V$10*$D$2^1)+$W$10 -> 0.08032735
B11: 36 | C11: 0.00192837 | D11: 0.000100981 | E11: =C11+($D$1*D11) -> 0.002231313 | F11: 0.0694215 | G11: 0.00363529 | H11: =F11+($D$1*G11) -> 0.08032737
B13: Amp (Scenario 2L)
B14: V | C14: I (mean) | D14: I (st.dev) | E14: I (+6 Sigma) | F14: W (mean) | G14: W (st.dev) | H14: W (+6 Sigma)
B15: 5 | C15: 0.00152866 | D15: 6.60951e-05 | E15: =C15+(6*D15) -> 0.0019252306 | F15: 0.00764327 | G15: 0.000330476 | H15: =F15+(6*G15) -> 0.009626126
B16: 10 | C16: 0.00161457 | D16: 7.14888e-05 | E16: =C16+(6*D16) -> 0.0020435028 | F16: 0.0161457 | G16: 0.000714888 | H16: =F16+(6*G16) -> 0.020435028
B17: 15 | C17: 0.00168278 | D17: 7.66653e-05 | E17: =C17+(6*D17) -> 0.0021427718 | F17: 0.0252417 | G17: 0.00114997 | H17: =F17+(6*G17) -> 0.03214152
B18: 26 | C18: 0.00197878 | D18: 0.000108332 | E18: =C18+(6*D18) -> 0.002628772 | F18: 0.0475124 | G18: 0.00237561 | H18: =F18+(6*G18) -> 0.06176606
B19: 30 | C19: 0.00188293 | D19: 9.84019e-05 | E19: =C19+(6*D19) -> 0.0024733414 | F19: 0.0564879 | G19: 0.00295207 | H19: =F19+(6*G19) -> 0.07420032
B20: 36 | C20: 0.00197208 | D20: 0.000111377 | E20: =C20+(6*D20) -> 0.002640342 | F20: 0.0709947 | G20: 0.00400957 | H20: =F20+(6*G20) -> 0.09505212
B22: Amp (Scenario 2H)
B23: V | C23: I (mean) | D23: I (st.dev) | E23: I (+6 Sigma) | F23: W (mean) | G23: W (st.dev) | H23: W (+6 Sigma)
B24: 5 | C24: 0.00159379 | D24: 6.83618e-05 | E24: =C24+(6*D24) -> 0.0020039608 | F24: 0.00796895 | G24: 0.00034181 | H24: =F24+(6*G24) -> 0.01001981
B25: 10 | C25: 0.00167155 | D25: 7.32376e-05 | E25: =C25+(6*D25) -> 0.0021109756 | F25: 0.0167155 | G25: 0.000732376 | H25: =F25+(6*G25) -> 0.021109756
B26: 15 | C26: 0.00172916 | D26: 7.72261e-05 | E26: =C26+(6*D26) -> 0.0021925166 | F26: 0.0259374 | G26: 0.0011584 | H26: =F26+(6*G26) -> 0.0328878
B27: 26 | C27: 0.00196135 | D27: 9.38937e-05 | E27: =C27+(6*D27) -> 0.0025247122 | F27: 0.0479874 | G27: 0.00225329 | H27: =F27+(6*G27) -> 0.06150714
B28: 30 | C28: 0.00188856 | D28: 9.05872e-05 | E28: =C28+(6*D28) -> 0.0024320832 | F28: 0.0566568 | G28: 0.00271761 | H28: =F28+(6*G28) -> 0.07296246
B29: 36 | C29: 0.00195552 | D29: 9.71885e-05 | E29: =C29+(6*D29) -> 0.002538651 | F29: 0.0703986 | G29: 0.00349878 | H29: =F29+(6*G29) -> 0.09139128
B31: Amp (Scenario 3L) | L31: Amp (Scenario 3L) Current - Mean | S31: Amp (Scenario 3L) Current - WC
B32: V | C32: I (mean) | D32: I (st.dev) | E32: I (+6 Sigma) | F32: W (mean) | G32: W (st.dev) | H32: W (+6 Sigma) | L32: x4 | M32: x3 | N32: x2 | O32: x | P32: c | Q32: Calculated | S32: x4 | T32: x3 | U32: x2 | V32: x | W32: c | X32: Calculated
B33: 5 | C33: 0.00390624 | D33: 0.00018207 | E33: =C33+($D$1*D33) -> 0.00445245 | F33: 0.0195312 | G33: 0.000910359 | H33: =F33+($D$1*G33) -> 0.022262277 | L33: {=LINEST($C$33:$C$38,$B$33:$B$38^{1,2,3,4},TRUE,FALSE)} -> -8.4008914e-09 | M33: 8.5098535e-07 | N33: -3.2312875e-05 | O33: 0.00056552181 | P33: 0.0018096964 | Q33: =($L$33*$D$2^4)+($M$33*$D$2^3)+($N$33*$D$2^2)+($O$33*$D$2^1)+$P$33 -> 0.0058842959 | S33: {=LINEST($E$33:$E$38,$B$33:$B$38^{1,2,3,4},TRUE,FALSE)} -> -1.298594e-08 | T33: 1.2844577e-06 | U33: -4.6772565e-05 | V33: 0.00076642502 | W33: 0.0016647578 | X33: =($S$33*$D$2^4)+($T$33*$D$2^3)+($U$33*$D$2^2)+($V$33*$D$2^1)+$W$33 -> 0.0067550818
B34: 10 | C34: 0.00509593 | D34: 0.000272747 | E34: =C34+($D$1*D34) -> 0.005914171 | F34: 0.0509593 | G34: 0.00272747 | H34: =F34+($D$1*G34) -> 0.05914171
B35: 15 | C35: 0.00535446 | D35: 0.00027701 | E35: =C35+($D$1*D35) -> 0.00618549 | F35: 0.0803169 | G35: 0.00415516 | H35: =F35+($D$1*G35) -> 0.09278238 | L35: Amp (Scenario 3L) Power - Mean | S35: Amp (Scenario 3L) Power - WC
B36: 26 | C36: 0.00592179 | D36: 0.000281609 | E36: =C36+($D$1*D36) -> 0.006766617 | F36: 0.147115 | G36: 0.00721718 | H36: =F36+($D$1*G36) -> 0.16876654 | L36: x4 | M36: x3 | N36: x2 | O36: x | P36: c | Q36: Calculated | S36: x4 | T36: x3 | U36: x2 | V36: x | W36: c | X36: Calculated
B37: 30 | C37: 0.00575549 | D37: 0.000281288 | E37: =C37+($D$1*D37) -> 0.006599354 | F37: 0.172665 | G37: 0.00843865 | H37: =F37+($D$1*G37) -> 0.19798095 | L37: {=LINEST($F$33:$F$38,$B$33:$B$38^{1,2,3,4},TRUE,FALSE)} -> -4.8761746e-08 | M37: 4.8241684e-06 | N37: -0.00014944975 | O37: 0.0077520075 | P37: -0.016042178 | Q37: =($L$37*$D$2^4)+($M$37*$D$2^3)+($N$37*$D$2^2)+($O$37*$D$2^1)+$P$37 -> 0.2125186 | S37: {=LINEST($H$33:$H$38,$B$33:$B$38^{1,2,3,4},TRUE,FALSE)} -> -6.5485636e-08 | T37: 6.6589234e-06 | U37: -0.0002154466 | V37: 0.0095353865 | W37: -0.020789724 | X37: =($S$37*$D$2^4)+($T$37*$D$2^3)+($U$37*$D$2^2)+($V$37*$D$2^1)+$W$37 -> 0.2439534
B38: 36 | C38: 0.00590382 | D38: 0.000291115 | E38: =C38+($D$1*D38) -> 0.006777165 | F38: 0.212537 | G38: 0.0104802 | H38: =F38+($D$1*G38) -> 0.2439776
B40: Amp (Scenario 3H) | L40: Amp (Scenario 3H) Current - Mean | S40: Amp (Scenario 3H) Current - WC
B41: V | C41: I (mean) | D41: I (st.dev) | E41: I (+6 Sigma) | F41: W (mean) | G41: W (st.dev) | H41: W (+6 Sigma) | L41: x4 | M41: x3 | N41: x2 | O41: x | P41: c | Q41: Calculated | S41: x4 | T41: x3 | U41: x2 | V41: x | W41: c | X41: Calculated
B42: 5 | C42: 0.00436066 | D42: 0.000190547 | E42: =C42+($D$1*D42) -> 0.004932301 | F42: 0.0218033 | G42: 0.000952733 | H42: =F42+($D$1*G42) -> 0.024661499 | L42: {=LINEST($C$42:$C$47,$B$42:$B$47^{1,2,3,4},TRUE,FALSE)} -> -1.0121682e-08 | M42: 1.0059262e-06 | N42: -3.7097168e-05 | O42: 0.00062205539 | P42: 0.0020826055 | Q42: =($L$42*$D$2^4)+($M$42*$D$2^3)+($N$42*$D$2^2)+($O$42*$D$2^1)+$P$42 -> 0.0063306226 | S42: {=LINEST($E$42:$E$47,$B$42:$B$47^{1,2,3,4},TRUE,FALSE)} -> -1.3726874e-08 | T42: 1.3488557e-06 | U42: -4.8687276e-05 | V42: 0.00078866497 | W42: 0.0020735136 | X42: =($S$42*$D$2^4)+($T$42*$D$2^3)+($U$42*$D$2^2)+($V$42*$D$2^1)+$W$42 -> 0.0072430783
B43: 10 | C43: 0.00559286 | D43: 0.000272431 | E43: =C43+($D$1*D43) -> 0.006410153 | F43: 0.0559286 | G43: 0.00272431 | H43: =F43+($D$1*G43) -> 0.06410153
B44: 15 | C44: 0.00583546 | D44: 0.000280746 | E44: =C44+($D$1*D44) -> 0.006677698 | F44: 0.0875319 | G44: 0.00421119 | H44: =F44+($D$1*G44) -> 0.10016547 | L44: Amp (Scenario 3H) Power - Mean | S44: Amp (Scenario 3H) Power - WC
B45: 26 | C45: 0.0063664 | D45: 0.000295055 | E45: =C45+($D$1*D45) -> 0.007251565 | F45: 0.159051 | G45: 0.00751207 | H45: =F45+($D$1*G45) -> 0.18158721 | L45: x4 | M45: x3 | N45: x2 | O45: x | P45: c | Q45: Calculated | S45: x4 | T45: x3 | U45: x2 | V45: x | W45: c | X45: Calculated
B46: 30 | C46: 0.00620882 | D46: 0.000294212 | E46: =C46+($D$1*D46) -> 0.007091456 | F46: 0.186264 | G46: 0.00882639 | H46: =F46+($D$1*G46) -> 0.21274317 | L46: {=LINEST($F$42:$F$47,$B$42:$B$47^{1,2,3,4},TRUE,FALSE)} -> -5.6163606e-08 | M46: 5.5231416e-06 | N46: -0.00017370092 | O46: 0.0085426975 | P46: -0.017195846 | Q46: =($L$46*$D$2^4)+($M$46*$D$2^3)+($N$46*$D$2^2)+($O$46*$D$2^1)+$P$46 -> 0.22857928 | S46: {=LINEST($H$42:$H$47,$B$42:$B$47^{1,2,3,4},TRUE,FALSE)} -> -7.0105224e-08 | T46: 7.023809e-06 | U46: -0.00022555716 | V46: 0.010141445 | W46: -0.021208183 | X46: =($S$46*$D$2^4)+($T$46*$D$2^3)+($U$46*$D$2^2)+($V$46*$D$2^1)+$W$46 -> 0.26151474
B47: 36 | C47: 0.00635002 | D47: 0.000305 | E47: =C47+($D$1*D47) -> 0.00726502 | F47: 0.228601 | G47: 0.01098 | H47: =F47+($D$1*G47) -> 0.261541
B49: Scenario 3L | P49: Scenario 3H

Sheet Comparator Data
C1: I55 and I32 have been identified as the 2 devices that have the highest power dissipation, they will determine the max junction temperature. | S1: Supply | T1: ='Comparator Config Inputs'!C9 -> 36 | V1: Sigma | W1: ='Comparator Config Inputs'!C21 -> 6
C3: Current Mean Negative Input | K3: Current Sigma Negative Input | S3: +σ Current Negative Input | AB3: I32 Power Mean Negative Input | AK3: I32 Power WC Negative Input | AS3: Amp Power Mean Negative Input | BB3: Amp Power WC Negative Input
C4: I32 | D4: I55 | E4: I199 | F4: I200 | G4: I151 | H4: I150 | I4: Amp | K4: I32 | L4: I55 | M4: I199 | N4: I200 | O4: I151 | P4: I150 | Q4: Amp | S4: I32 | T4: I55 | U4: I199 | V4: I200 | W4: I151 | X4: I150 | Y4: Amp | AB4: x6 | AC4: x5 | AD4: x4 | AE4: x3 | AF4: x2 | AG4: x | AH4: c | AI4: Calculated | AK4: x5 | AL4: x4 | AM4: x3 | AN4: x2 | AO4: x | AP4: c | AQ4: Calculated | AS4: x6 | AT4: x5 | AU4: x4 | AV4: x3 | AW4: x2 | AX4: x | AY4: c | AZ4: Calculated | BB4: x5 | BC4: x4 | BD4: x3 | BE4: x2 | BF4: x | BG4: c | BH4: Calculated
B5: 36 | C5: 6.5e-06 | D5: 3.876e-09 | E5: 0.00719 | F5: 0.0127 | G5: 0.0122 | H5: 0.0077 | I5: 0.045 | K5: 2.8898e-05 | L5: 9.4508e-09 | M5: 0.0010231 | N5: 0.001644 | O5: 0.0011795 | P5: 0.0015148 | Q5: 0.010994 | S5: =C5+($W$1*K5) -> 0.000179888 | T5: =D5+($W$1*L5) -> 6.05808e-08 | U5: =E5+($W$1*M5) -> 0.0133286 | V5: =F5+($W$1*N5) -> 0.022564 | W5: =G5+($W$1*O5) -> 0.019277 | X5: =H5+($W$1*P5) -> 0.0167888 | Y5: =I5+($W$1*Q5) -> 0.110964 | AB5: {=LINEST($C$25:$C$31,$B$25:$B$31^{1,2,3,4,5,6},TRUE,FALSE)} -> -6.7697058e-10 | AC5: 7.0534702e-08 | AD5: -2.5581029e-06 | AE5: 3.6175716e-05 | AF5: -0.0002221175 | AG5: 0.0030907238 | AH5: -0.0057056748 | AI5: =($AB$5*$T$1^6)+($AC$5*$T$1^5)+($AD$5*$T$1^4)+($AE$5*$T$1^3)+($AF$5*$T$1^2)+($AG$5*$T$1^1)+$AH$5 -> 0.00022589 | AK5: {=LINEST($S$25:$S$31,$B$25:$B$31^{1,2,3,4,5},TRUE,FALSE)} -> -6.1290991e-08 | AL5: 4.6334472e-06 | AM5: -0.00012171723 | AN5: 0.0013109982 | AO5: -0.0025512821 | AP5: 0.0015004005 | AQ5: =($AK$5*$T$1^5)+($AL$5*$T$1^4)+($AM$5*$T$1^3)+($AN$5*$T$1^2)+($AO$5*$T$1^1)+$AP$5 -> 0.0062487656 | AS5: {=LINEST($I$25:$I$31,$B$25:$B$31^{1,2,3,4,5,6},TRUE,FALSE)} -> 8.5391668e-09 | AT5: -6.7484245e-07 | AU5: 2.038693e-05 | AV5: -0.00029430005 | AW5: 0.0026095173 | AX5: -0.0011502195 | AY5: -0.0030417014 | AZ5: =($AS$5*$T$1^6)+($AT$5*$T$1^5)+($AU$5*$T$1^4)+($AV$5*$T$1^3)+($AW$5*$T$1^2)+($AX$5*$T$1^1)+$AY$5 -> 1.6316 | BB5: {=LINEST($Y$25:$Y$31,$B$25:$B$31^{1,2,3,4,5},TRUE,FALSE)} -> 7.0795148e-07 | BC5: -5.0162508e-05 | BD5: 0.0013092613 | BE5: -0.014086039 | BF5: 0.076178471 | BG5: -0.11912673 | BH5: =($BB$5*$T$1^5)+($BC$5*$T$1^4)+($BD$5*$T$1^3)+($BE$5*$T$1^2)+($BF$5*$T$1^1)+$BG$5 -> 4.0060549
B6: 30 | C6: 0.0004267 | D6: 1.9389e-08 | E6: 0.0041567 | F6: 0.009021 | G6: 0.0091059 | H6: 0.0041957 | I6: 0.02349 | K6: 0.00040484 | L6: 1.1627e-08 | M6: 0.00091204 | N6: 0.0010502 | O6: 0.0010809 | P6: 0.00089963 | Q6: 0.0039166 | S6: =C6+($W$1*K6) -> 0.00285574 | T6: =D6+($W$1*L6) -> 8.9151e-08 | U6: =E6+($W$1*M6) -> 0.00962894 | V6: =F6+($W$1*N6) -> 0.0153222 | W6: =G6+($W$1*O6) -> 0.0155913 | X6: =H6+($W$1*P6) -> 0.00959348 | Y6: =I6+($W$1*Q6) -> 0.0469896
B7: 20 | C7: 0.0018001 | D7: 9.4843e-09 | E7: 0.0014799 | F7: 0.0060825 | G7: 0.0061623 | H7: 0.0014692 | I7: 0.015614 | K7: 0.00014544 | L7: 2.0045e-09 | M7: 0.00028964 | N7: 0.0003968 | O7: 0.00044321 | P7: 0.00025644 | Q7: 0.0014632 | S7: =C7+($W$1*K7) -> 0.00267274 | T7: =D7+($W$1*L7) -> 2.15113e-08 | U7: =E7+($W$1*M7) -> 0.00321774 | V7: =F7+($W$1*N7) -> 0.0084633 | W7: =G7+($W$1*O7) -> 0.00882156 | X7: =H7+($W$1*P7) -> 0.00300784 | Y7: =I7+($W$1*Q7) -> 0.0243932
B8: 15 | C8: 0.0021047 | D8: 7.744e-09 | E8: 0.00073462 | F8: 0.0051096 | G8: 0.0052477 | H8: 0.00065795 | I8: 0.012699 | K8: 7.8549e-05 | L8: 1.7265e-09 | M8: 0.0001037 | N8: 0.0002452 | O8: 0.0002587 | P8: 0.00010005 | Q8: 0.00079302 | S8: =C8+($W$1*K8) -> 0.002575994 | T8: =D8+($W$1*L8) -> 1.8103e-08 | U8: =E8+($W$1*M8) -> 0.00135682 | V8: =F8+($W$1*N8) -> 0.0065808 | W8: =G8+($W$1*O8) -> 0.0067999 | X8: =H8+($W$1*P8) -> 0.00125825 | Y8: =I8+($W$1*Q8) -> 0.01745712 | AB8: I55 Power Mean Positive Input | AK8: I55 Power WC Positive Input | AS8: Amp Power Mean Positive Input | BB8: Amp Power WC Positive Input
B9: 10 | C9: 0.0022495 | D9: 8.3457e-09 | E9: 0.00015963 | F9: 0.0043013 | G9: 0.0043895 | H9: 0.00013613 | I9: 0.0097032 | K9: 0.00010538 | L9: 1.8599e-09 | M9: 3.0788e-05 | N9: 0.0001892 | O9: 0.00018201 | P9: 2.7448e-05 | Q9: 0.00041444 | S9: =C9+($W$1*K9) -> 0.00288178 | T9: =D9+($W$1*L9) -> 1.95051e-08 | U9: =E9+($W$1*M9) -> 0.000344358 | V9: =F9+($W$1*N9) -> 0.0054365 | W9: =G9+($W$1*O9) -> 0.00548156 | X9: =H9+($W$1*P9) -> 0.000300818 | Y9: =I9+($W$1*Q9) -> 0.01218984 | AB9: x4 | AC9: x3 | AD9: x2 | AE9: x | AF9: c | AG9: Calculated | AK9: x5 | AL9: x4 | AM9: x3 | AN9: x2 | AO9: x | AP9: c | AQ9: Calculated | AS9: x4 | AT9: x3 | AU9: x2 | AV9: x | AW9: c | AX9: Calculated | BB9: x5 | BC9: x4 | BD9: x3 | BE9: x2 | BF9: x | BG9: c | BH9: Calculated
B10: 5 | C10: 0.0018703 | D10: 2.9475e-08 | E10: 4.9624e-08 | F10: 0.0027626 | G10: 0.0028021 | H10: 7.579e-06 | I10: 0.0060847 | K10: 7.8741e-05 | L10: 6.9004e-09 | M10: 3.5281e-07 | N10: 0.0001154 | O10: 0.00011882 | P10: 4.8171e-06 | Q10: 0.00023425 | S10: =C10+($W$1*K10) -> 0.002342746 | T10: =D10+($W$1*L10) -> 7.08774e-08 | U10: =E10+($W$1*M10) -> 2.166484e-06 | V10: =F10+($W$1*N10) -> 0.003455 | W10: =G10+($W$1*O10) -> 0.00351502 | X10: =H10+($W$1*P10) -> 3.64816e-05 | Y10: =I10+($W$1*Q10) -> 0.0074902 | AB10: {=LINEST($D$35:$D$41,$B$25:$B$31^{1,2,3,4},TRUE,FALSE)} -> 2.1511873e-07 | AC10: -1.8449362e-05 | AD10: 0.00036657274 | AE10: 0.00078289905 | AF10: -0.0024577609 | AG10: =($AB$10*$T$1^4)+($AC$10*$T$1^3)+($AD$10*$T$1^2)+($AE$10*$T$1^1)+$AF$10 -> 0.0013482967 | AK10: {=LINEST($T$35:$T$41,$B$25:$B$31^{1,2,3,4,5},TRUE,FALSE)} -> -7.8013521e-08 | AL10: 6.0614378e-06 | AM10: -0.0001669189 | AN10: 0.0019595497 | AO10: -0.0055717596 | AP10: 0.0061845367 | AQ10: =($AK$10*$T$1^5)+($AL$10*$T$1^4)+($AM$10*$T$1^3)+($AN$10*$T$1^2)+($AO$10*$T$1^1)+$AP$10 -> 0.021118027 | AS10: {=LINEST($I$35:$I$41,$B$25:$B$31^{1,2,3,4},TRUE,FALSE)} -> 4.0535603e-06 | AT10: -0.00023895571 | AU10: 0.0051122762 | AV10: -0.025808171 | AW10: 0.051174407 | AX10: =($AS$10*$T$1^4)+($AT$10*$T$1^3)+($AU$10*$T$1^2)+($AV$10*$T$1^1)+$AW$10 -> 1.4072971 | BB10: {=LINEST($Y$35:$Y$41,$B$25:$B$31^{1,2,3,4,5},TRUE,FALSE)} -> 7.1782553e-07 | BC10: -5.2282955e-05 | BD10: 0.0013859972 | BE10: -0.015057197 | BF10: 0.081821277 | BG10: -0.12840115 | BH10: =($BB$10*$T$1^5)+($BC$10*$T$1^4)+($BD$10*$T$1^3)+($BE$10*$T$1^2)+($BF$10*$T$1^1)+$BG$10 -> 3.5569991
B11: 2.7 | C11: 0.00098714 | D11: 2.3164e-07 | E11: 2.4873e-12 | F11: 0.0011487 | G11: 0.0011694 | H11: -7.2256e-13 | I11: 0.0029901 | K11: 3.8623e-05 | L11: 3.9838e-08 | M11: 5.2867e-14 | N11: 4.1438e-05 | O11: 4.2274e-05 | P11: 7.3735e-14 | Q11: 0.00010808 | S11: =C11+($W$1*K11) -> 0.001218878 | T11: =D11+($W$1*L11) -> 4.70668e-07 | U11: =E11+($W$1*M11) -> 2.804502e-12 | V11: =F11+($W$1*N11) -> 0.001397328 | W11: =G11+($W$1*O11) -> 0.001423044 | X11: =H11+($W$1*P11) -> -2.8015e-13 | Y11: =I11+($W$1*Q11) -> 0.00363858
C13: Current Mean Positive Input | K13: Current Sigma Positive Input | S13: +σ Current Positive Input | AB13: I32 Current Mean Negative Input | AK13: I32 Current WC Negative Input | AS13: Amp Current Mean Negative Input | BB13: Amp Current WC Negative Input
C14: I32 | D14: I55 | E14: I199 | F14: I200 | G14: I151 | H14: I150 | I14: Amp | K14: I32 | L14: I55 | M14: I199 | N14: I200 | O14: I151 | P14: I150 | Q14: Amp | S14: I32 | T14: I55 | U14: I199 | V14: I200 | W14: I151 | X14: I150 | Y14: Amp | AB14: x6 | AC14: x5 | AD14: x4 | AE14: x3 | AF14: x2 | AG14: x | AH14: c | AI14: Calculated | AK14: x5 | AL14: x4 | AM14: x3 | AN14: x2 | AO14: x | AP14: c | AQ14: Calculated | AS14: x6 | AT14: x5 | AU14: x4 | AV14: x3 | AW14: x2 | AX14: x | AY14: c | AZ14: Calculated | BB14: x5 | BC14: x4 | BD14: x3 | BE14: x2 | BF14: x | BG14: c | BH14: Calculated
B15: 36 | C15: 1.86e-09 | D15: 4.0508e-05 | E15: 0.012731 | F15: 0.0071989 | G15: 0.0078401 | H15: 0.012346 | I15: 0.039121 | K15: 3.4478e-09 | L15: 9.4591e-05 | M15: 0.0015299 | N15: 0.0010983 | O15: 0.0013964 | P15: 0.001243 | Q15: 0.0099481 | S15: =C15+($W$1*K15) -> 2.25468e-08 | T15: =D15+($W$1*L15) -> 0.000608054 | U15: =E15+($W$1*M15) -> 0.0219104 | V15: =F15+($W$1*N15) -> 0.0137887 | W15: =G15+($W$1*O15) -> 0.0162185 | X15: =H15+($W$1*P15) -> 0.019804 | Y15: =I15+($W$1*Q15) -> 0.0988096 | AB15: {=LINEST($C$5:$C$11,$B$25:$B$31^{1,2,3,4,5,6},TRUE,FALSE)} -> -6.5078539e-11 | AC15: 8.9654984e-09 | AD15: -4.7852009e-07 | AE15: 1.2689856e-05 | AF15: -0.00018071957 | AG15: 0.0013022398 | AH15: -0.0014370669 | AI15: =($AB$15*$T$1^6)+($AC$15*$T$1^5)+($AD$15*$T$1^4)+($AE$15*$T$1^3)+($AF$15*$T$1^2)+($AG$15*$T$1^1)+$AH$15 -> 6.5e-06 | AK15: {=LINEST($S$5:$S$11,$B$25:$B$31^{1,2,3,4,5},TRUE,FALSE)} -> 9.5525819e-10 | AL15: -1.4793786e-07 | AM15: 7.3177737e-06 | AN15: -0.00015323567 | AO15: 0.0013777507 | AP15: -0.0015261295 | AQ15: =($AK$15*$T$1^5)+($AL$15*$T$1^4)+($AM$15*$T$1^3)+($AN$15*$T$1^2)+($AO$15*$T$1^1)+$AP$15 -> 0.00017953637 | AS15: {=LINEST($I$5:$I$11,$B$25:$B$31^{1,2,3,4,5,6},TRUE,FALSE)} -> -7.5741168e-11 | AT15: 1.7311278e-08 | AU15: -1.0784334e-06 | AV15: 2.9827052e-05 | AW15: -0.00041374776 | AX15: 0.0034117505 | AY15: -0.0037376332 | AZ15: =($AS$15*$T$1^6)+($AT$15*$T$1^5)+($AU$15*$T$1^4)+($AV$15*$T$1^3)+($AW$15*$T$1^2)+($AX$15*$T$1^1)+$AY$15 -> 0.045 | BB15: {=LINEST($Y$5:$Y$11,$B$25:$B$31^{1,2,3,4,5},TRUE,FALSE)} -> 2.3601789e-08 | BC15: -1.8364811e-06 | BD15: 5.3912352e-05 | BE15: -0.00071573868 | BF15: 0.0051903969 | BG15: -0.0061563724 | BH15: =($BB$15*$T$1^5)+($BC$15*$T$1^4)+($BD$15*$T$1^3)+($BE$15*$T$1^2)+($BF$15*$T$1^1)+$BG$15 -> 0.1109621
B16: 30 | C16: 5.8034e-09 | D16: 0.00093505 | E16: 0.0091022 | F16: 0.0041383 | G16: 0.0042778 | H16: 0.0090887 | I16: 0.023528 | K16: 1.7556e-09 | L16: 0.00048138 | M16: 0.0010569 | N16: 0.00089181 | O16: 0.00090803 | P16: 0.0010561 | Q16: 0.0032445 | S16: =C16+($W$1*K16) -> 1.6337e-08 | T16: =D16+($W$1*L16) -> 0.00382333 | U16: =E16+($W$1*M16) -> 0.0154436 | V16: =F16+($W$1*N16) -> 0.00948916 | W16: =G16+($W$1*O16) -> 0.00972598 | X16: =H16+($W$1*P16) -> 0.0154253 | Y16: =I16+($W$1*Q16) -> 0.042995
B17: 20 | C17: 3.5884e-09 | D17: 0.0025175 | E17: 0.006084 | F17: 0.0014936 | G17: 0.0014706 | H17: 0.0061765 | I17: 0.016372 | K17: 4.1538e-10 | L17: 0.00013873 | M17: 0.00039285 | N17: 0.0002852 | O17: 0.00025249 | P17: 0.00043779 | Q17: 0.0015181 | S17: =C17+($W$1*K17) -> 6.08068e-09 | T17: =D17+($W$1*L17) -> 0.00334988 | U17: =E17+($W$1*M17) -> 0.0084411 | V17: =F17+($W$1*N17) -> 0.0032048 | W17: =G17+($W$1*O17) -> 0.00298554 | X17: =H17+($W$1*P17) -> 0.00880324 | Y17: =I17+($W$1*Q17) -> 0.0254806
B18: 15 | C18: 2.9529e-09 | D18: 0.0028743 | E18: 0.0051011 | F18: 0.00074902 | G18: 0.00065015 | H18: 0.0052622 | I18: 0.0135 | K18: 4.2318e-10 | L18: 0.00011084 | M18: 0.00024538 | N18: 0.00010413 | O18: 9.8023e-05 | P18: 0.00025981 | Q18: 0.00082735 | S18: =C18+($W$1*K18) -> 5.49198e-09 | T18: =D18+($W$1*L18) -> 0.00353934 | U18: =E18+($W$1*M18) -> 0.00657338 | V18: =F18+($W$1*N18) -> 0.0013738 | W18: =G18+($W$1*O18) -> 0.001238288 | X18: =H18+($W$1*P18) -> 0.00682106 | Y18: =I18+($W$1*Q18) -> 0.0184641 | AB18: I55 Current Mean Positive Input | AK18: I55 Current WC Positive Input | AS18: Amp Current Mean Positive Input | BB18: Amp Current WC Positive Input
B19: 10 | C19: 3.0217e-09 | D19: 0.0029356 | E19: 0.0042958 | F19: 0.00017201 | G19: 0.00013104 | H19: 0.0044031 | I19: 0.010426 | K19: 5.1836e-10 | L19: 0.00010511 | M19: 0.00019025 | N19: 3.1156e-05 | O19: 2.6491e-05 | P19: 0.00018246 | Q19: 0.00041824 | S19: =C19+($W$1*K19) -> 6.13186e-09 | T19: =D19+($W$1*L19) -> 0.00356626 | U19: =E19+($W$1*M19) -> 0.0054373 | V19: =F19+($W$1*N19) -> 0.000358946 | W19: =G19+($W$1*O19) -> 0.000289986 | X19: =H19+($W$1*P19) -> 0.00549786 | Y19: =I19+($W$1*Q19) -> 0.01293544 | AB19: x4 | AC19: x3 | AD19: x2 | AE19: x | AF19: c | AG19: Calculated | AK19: x5 | AL19: x4 | AM19: x3 | AN19: x2 | AO19: x | AP19: c | AQ19: Calculated | AS19: x4 | AT19: x3 | AU19: x2 | AV19: x | AW19: c | AX19: Calculated | BB19: x5 | BC19: x4 | BD19: x3 | BE19: x2 | BF19: x | BG19: c | BH19: Calculated
B20: 5 | C20: 1.1332e-08 | D20: 0.0022555 | E20: 0.0027846 | F20: 1.2407e-06 | G20: 2.3279e-06 | H20: 0.0028409 | I20: 0.0065154 | K20: 2.1447e-09 | L20: 8.7733e-05 | M20: 0.00010801 | N20: 2.0955e-06 | O20: 3.4756e-06 | P20: 0.00011125 | Q20: 0.0002398 | S20: =C20+($W$1*K20) -> 2.42002e-08 | T20: =D20+($W$1*L20) -> 0.002781898 | U20: =E20+($W$1*M20) -> 0.00343266 | V20: =F20+($W$1*N20) -> 1.38137e-05 | W20: =G20+($W$1*O20) -> 2.31815e-05 | X20: =H20+($W$1*P20) -> 0.0035084 | Y20: =I20+($W$1*Q20) -> 0.0079542 | AB20: {=LINEST($D$15:$D$21,$B$25:$B$31^{1,2,3,4},TRUE,FALSE)} -> -1.0977834e-08 | AC20: 1.1834891e-06 | AD20: -4.7805801e-05 | AE20: 0.00071131755 | AF20: -0.00040117189 | AG20: =($AB$20*$T$1^4)+($AC$20*$T$1^3)+($AD$20*$T$1^2)+($AE$20*$T$1^1)+$AF$20 -> 2.8263929e-05 | AK20: {=LINEST($T$15:$T$21,$B$25:$B$31^{1,2,3,4,5},TRUE,FALSE)} -> -3.8933202e-10 | AL20: -3.2392854e-08 | AM20: 3.9076816e-06 | AN20: -0.00011498618 | AO20: 0.0012946276 | AP20: -0.0013427993 | AQ20: =($AK$20*$T$1^5)+($AL$20*$T$1^4)+($AM$20*$T$1^3)+($AN$20*$T$1^2)+($AO$20*$T$1^1)+$AP$20 -> 0.00060951705 | AS20: {=LINEST($I$15:$I$21,$B$25:$B$31^{1,2,3,4},TRUE,FALSE)} -> 7.2743372e-08 | AT20: -3.1519438e-06 | AU20: 1.9474902e-05 | AV20: 0.0010611209 | AW20: 0.00050858877 | AX20: =($AS$20*$T$1^4)+($AT$20*$T$1^3)+($AU$20*$T$1^2)+($AV$20*$T$1^1)+$AW$20 -> 0.039072258 | BB20: {=LINEST($Y$15:$Y$21,$B$25:$B$31^{1,2,3,4,5},TRUE,FALSE)} -> 2.5468288e-08 | BC20: -2.0234685e-06 | BD20: 5.9736965e-05 | BE20: -0.00079285229 | BF20: 0.0056885405 | BG20: -0.006851512 | BH20: =($BB$20*$T$1^5)+($BC$20*$T$1^4)+($BD$20*$T$1^3)+($BE$20*$T$1^2)+($BF$20*$T$1^1)+$BG$20 -> 0.098807186
B21: 2.7 | C21: 1.166e-07 | D21: 0.0011103 | E21: 0.0011283 | F21: 2.7923e-12 | G21: -8.4685e-13 | H21: 0.001157 | I21: 0.0031483 | K21: 1.9549e-08 | L21: 4.2485e-05 | M21: 4.026e-05 | N21: 5.2817e-14 | O21: 5.8887e-14 | P21: 4.1465e-05 | Q21: 0.00011525 | S21: =C21+($W$1*K21) -> 2.33894e-07 | T21: =D21+($W$1*L21) -> 0.00136521 | U21: =E21+($W$1*M21) -> 0.00136986 | V21: =F21+($W$1*N21) -> 3.109202e-12 | W21: =G21+($W$1*O21) -> -4.93528e-13 | X21: =H21+($W$1*P21) -> 0.00140579 | Y21: =I21+($W$1*Q21) -> 0.0038398
C23: Power Mean Negative Input | K23: Power Sigma Negative Input | S23: +σ Power Negative Input
C24: I32 | D24: I55 | E24: I199 | F24: I200 | G24: I151 | H24: I150 | I24: Amp | K24: I32 | L24: I55 | M24: I199 | N24: I200 | O24: I151 | P24: I150 | Q24: Amp | S24: I32 | T24: I55 | U24: I199 | V24: I200 | W24: I151 | X24: I150 | Y24: Amp | AB24: Power Mean Neg Input | AG24: Power WC Neg Input
B25: 36 | C25: 0.00022589 | D25: 1.3391e-07 | E25: 0.12746 | F25: 0.17524 | G25: 0.2 | H25: 0.15972 | I25: 1.6316 | K25: 0.0010034 | L25: 3.2758e-07 | M25: 0.017783 | N25: 0.021832 | O25: 0.01796 | P25: 0.031209 | Q25: 0.39577 | S25: =C25+($W$1*K25) -> 0.00624629 | T25: =D25+($W$1*L25) -> 2.09939e-06 | U25: =E25+($W$1*M25) -> 0.234158 | V25: =F25+($W$1*N25) -> 0.306232 | W25: =G25+($W$1*O25) -> 0.30776 | X25: =H25+($W$1*P25) -> 0.346974 | Y25: =I25+($W$1*Q25) -> 4.00622 | AC25: I32 | AD25: Calc | AE25: Error | AH25: I32 | AI25: Calc | AJ25: Error | AV25: Mean
B26: 30 | C26: 0.012273 | D26: 5.5726e-07 | E26: 0.063784 | F26: 0.10065 | G26: 0.12169 | H26: 0.072493 | I26: 0.70471 | K26: 0.011659 | L26: 3.347e-07 | M26: 0.014026 | N26: 0.011469 | O26: 0.013813 | P26: 0.01552 | Q26: 0.1175 | S26: =C26+($W$1*K26) -> 0.082227 | T26: =D26+($W$1*L26) -> 2.56546e-06 | U26: =E26+($W$1*M26) -> 0.14794 | V26: =F26+($W$1*N26) -> 0.169464 | W26: =G26+($W$1*O26) -> 0.204568 | X26: =H26+($W$1*P26) -> 0.165613 | Y26: =I26+($W$1*Q26) -> 1.40971 | AB26: 36 | AC26: 0.00022589 | AD26: =($AB$5*$AB26^6)+($AC$5*$AB26^5)+($AD$5*$AB26^4)+($AE$5*$AB26^3)+($AF$5*$AB26^2)+($AG$5*$AB26^1)+$AH$5 -> 0.00022589 | AE26: =(AC26-AD26)/AC26 -> -4.8202096e-12 | AG26: 36 | AH26: =S25 -> 0.00624629 | AI26: =($AK$5*$AG26^5)+($AL$5*$AG26^4)+($AM$5*$AG26^3)+($AN$5*$AG26^2)+($AO$5*$AG26^1)+$AP$5 -> 0.0062487656 | AJ26: =(AH26-AI26)/AH26 -> -0.00039633903 | AV26: Calculated Values (Amp) | AX26: Calculated Values (Hot Spot)
A27: 0.033856 | B27: 20 | C27: 0.029756 | D27: 1.7839e-07 | E27: 0.015818 | F27: 0.040391 | G27: 0.050049 | H27: 0.017527 | I27: 0.31228 | K27: 0.002756 | L27: 3.7764e-08 | M27: 0.0031342 | N27: 0.0025019 | O27: 0.0033815 | P27: 0.0030648 | Q27: 0.029264 | S27: =C27+($W$1*K27) -> 0.046292 | T27: =D27+($W$1*L27) -> 4.04974e-07 | U27: =E27+($W$1*M27) -> 0.0346232 | V27: =F27+($W$1*N27) -> 0.0554024 | W27: =G27+($W$1*O27) -> 0.070338 | X27: =H27+($W$1*P27) -> 0.0359158 | Y27: =I27+($W$1*Q27) -> 0.487864 | AB27: 30 | AC27: 0.012273 | AD27: =($AB$5*$AB27^6)+($AC$5*$AB27^5)+($AD$5*$AB27^4)+($AE$5*$AB27^3)+($AF$5*$AB27^2)+($AG$5*$AB27^1)+$AH$5 -> 0.012273 | AE27: =(AC27-AD27)/AC27 -> 6.1626288e-14 | AG27: 30 | AH27: =S26 -> 0.082227 | AI27: =($AK$5*$AG27^5)+($AL$5*$AG27^4)+($AM$5*$AG27^3)+($AN$5*$AG27^2)+($AO$5*$AG27^1)+$AP$5 -> 0.082216096 | AJ27: =(AH27-AI27)/AH27 -> 0.00013260784 | AT27: List of Options | AU27: Count | AV27: ISUPPLY (A) | AW27: Power (W) | AX27: ISUPPLY (A) | AY27: Power (W)
A28: =A27-C27 -> 0.0041 | B28: 15 | C28: 0.029119 | D28: 1.0715e-07 | E28: 0.0061029 | F28: 0.022392 | G28: 0.029007 | H28: 0.0060872 | I28: 0.19048 | K28: 0.0010758 | L28: 2.3936e-08 | M28: 0.00086425 | N28: 0.00096928 | O28: 0.0013636 | P28: 0.00093102 | Q28: 0.011895 | S28: =C28+($W$1*K28) -> 0.0355738 | T28: =D28+($W$1*L28) -> 2.50766e-07 | U28: =E28+($W$1*M28) -> 0.0112884 | V28: =F28+($W$1*N28) -> 0.02820768 | W28: =G28+($W$1*O28) -> 0.0371886 | X28: =H28+($W$1*P28) -> 0.01167332 | Y28: =I28+($W$1*Q28) -> 0.26185 | AB28: 20 | AC28: 0.033856 | AD28: =($AB$5*$AB28^6)+($AC$5*$AB28^5)+($AD$5*$AB28^4)+($AE$5*$AB28^3)+($AF$5*$AB28^2)+($AG$5*$AB28^1)+$AH$5 -> 0.029756 | AE28: =(AC28-AD28)/AC28 -> 0.12110113 | AG28: 20 | AH28: =S27 -> 0.046292 | AI28: =($AK$5*$AG28^5)+($AL$5*$AG28^4)+($AM$5*$AG28^3)+($AN$5*$AG28^2)+($AO$5*$AG28^1)+$AP$5 -> 0.046356526 | AJ28: =(AH28-AI28)/AH28 -> -0.0013938804 | AT28: V+ | AU28: =COUNTIF('Comparator Config Inputs'!$C$15:$C$18,AT28) -> 0 | AV28: =$AU$28*$AX$20 -> 0 | AW28: =$AU$28*$AX$10 -> 0 | AX28: =AU28*AG20 -> 0 | AY28: =IF(AU28>0,AG10,0) -> 0
A29: 0.0041 | B29: 10 | C29: 0.019961 | D29: 7.4071e-08 | E29: 0.00094488 | F29: 0.0094417 | G29: 0.012972 | H29: 0.0008871 | I29: 0.097032 | K29: 0.00091223 | L29: 1.6545e-08 | M29: 0.00018245 | N29: 0.00038138 | O29: 0.00052433 | P29: 0.00017844 | Q29: 0.0041444 | S29: =C29+($W$1*K29) -> 0.02543438 | T29: =D29+($W$1*L29) -> 1.73341e-07 | U29: =E29+($W$1*M29) -> 0.00203958 | V29: =F29+($W$1*N29) -> 0.01172998 | W29: =G29+($W$1*O29) -> 0.01611798 | X29: =H29+($W$1*P29) -> 0.00195774 | Y29: =I29+($W$1*Q29) -> 0.1218984 | AB29: 15 | AC29: 0.029119 | AD29: =($AB$5*$AB29^6)+($AC$5*$AB29^5)+($AD$5*$AB29^4)+($AE$5*$AB29^3)+($AF$5*$AB29^2)+($AG$5*$AB29^1)+$AH$5 -> 0.029119 | AE29: =(AC29-AD29)/AC29 -> 1.906355e-14 | AG29: 15 | AH29: =S28 -> 0.0355738 | AI29: =($AK$5*$AG29^5)+($AL$5*$AG29^4)+($AM$5*$AG29^3)+($AN$5*$AG29^2)+($AO$5*$AG29^1)+$AP$5 -> 0.035435506 | AJ29: =(AH29-AI29)/AH29 -> 0.003887522 | AT29: V- | AU29: =COUNTIF('Comparator Config Inputs'!$C$15:$C$18,AT29) -> 2 | AV29: =AU29*AZ15 -> 0.09 | AW29: =AU29*AZ5 -> 3.2632 | AX29: =AU29*AI15 -> 1.3e-05 | AY29: =IF(AU29>0,AI5,0) -> 0.00022589
B30: 5 | C30: 0.007328 | D30: 1.1551e-07 | E30: 1.5385e-07 | F30: 0.0013402 | G30: 0.0023985 | H30: 2.5385e-05 | I30: 0.030424 | K30: 0.00029681 | L30: 2.7123e-08 | M30: 1.0912e-06 | N30: 8.7291e-05 | O30: 0.0001241 | P30: 1.5834e-05 | Q30: 0.0011712 | S30: =C30+($W$1*K30) -> 0.00910886 | T30: =D30+($W$1*L30) -> 2.78248e-07 | U30: =E30+($W$1*M30) -> 6.70105e-06 | V30: =F30+($W$1*N30) -> 0.001863946 | W30: =G30+($W$1*O30) -> 0.0031431 | X30: =H30+($W$1*P30) -> 0.000120389 | Y30: =I30+($W$1*Q30) -> 0.0374512 | AB30: 10 | AC30: 0.019961 | AD30: =($AB$5*$AB30^6)+($AC$5*$AB30^5)+($AD$5*$AB30^4)+($AE$5*$AB30^3)+($AF$5*$AB30^2)+($AG$5*$AB30^1)+$AH$5 -> 0.019961 | AE30: =(AC30-AD30)/AC30 -> 2.2074033e-14 | AG30: 10 | AH30: =S29 -> 0.02543438 | AI30: =($AK$5*$AG30^5)+($AL$5*$AG30^4)+($AM$5*$AG30^3)+($AN$5*$AG30^2)+($AO$5*$AG30^1)+$AP$5 -> 0.025575534 | AJ30: =(AH30-AI30)/AH30 -> -0.0055497245 | AT30: Exclude | AU30: =COUNTIF('Comparator Config Inputs'!$C$15:$C$18,AT30) -> 2 | AV30: - | AW30: - | AX30: - | AY30: -
B31: 2.7 | C31: 0.001606 | D31: 3.769e-07 | E31: 3.3686e-12 | F31: 0.00021807 | G31: 0.00031893 | H31: 1.3195e-12 | I31: 0.0080733 | K31: 6.0593e-05 | L31: 6.4984e-08 | M31: 8.2057e-14 | N31: 1.2873e-05 | O31: 2.0135e-05 | P31: 1.3328e-13 | Q31: 0.00029181 | S31: =C31+($W$1*K31) -> 0.001969558 | T31: =D31+($W$1*L31) -> 7.66804e-07 | U31: =E31+($W$1*M31) -> 3.860942e-12 | V31: =F31+($W$1*N31) -> 0.000295308 | W31: =G31+($W$1*O31) -> 0.00043974 | X31: =H31+($W$1*P31) -> 2.11918e-12 | Y31: =I31+($W$1*Q31) -> 0.00982416 | AB31: 5 | AC31: 0.007328 | AD31: =($AB$5*$AB31^6)+($AC$5*$AB31^5)+($AD$5*$AB31^4)+($AE$5*$AB31^3)+($AF$5*$AB31^2)+($AG$5*$AB31^1)+$AH$5 -> 0.007328 | AE31: =(AC31-AD31)/AC31 -> 6.5691289e-14 | AG31: 5 | AH31: =S30 -> 0.00910886 | AI31: =($AK$5*$AG31^5)+($AL$5*$AG31^4)+($AM$5*$AG31^3)+($AN$5*$AG31^2)+($AO$5*$AG31^1)+$AP$5 -> 0.0090086599 | AJ31: =(AH31-AI31)/AH31 -> 0.011000286
AB32: 2.7 | AC32: 0.001606 | AD32: =($AB$5*$AB32^6)+($AC$5*$AB32^5)+($AD$5*$AB32^4)+($AE$5*$AB32^3)+($AF$5*$AB32^2)+($AG$5*$AB32^1)+$AH$5 -> 0.001606 | AE32: =(AC32-AD32)/AC32 -> 8.9247526e-14 | AG32: 2.7 | AH32: =S31 -> 0.001969558 | AI32: =($AK$5*$AG32^5)+($AL$5*$AG32^4)+($AM$5*$AG32^3)+($AN$5*$AG32^2)+($AO$5*$AG32^1)+$AP$5 -> 0.002010801 | AJ32: =(AH32-AI32)/AH32 -> -0.020940219
C33: Power Mean Positive Input | K33: Power Sigma Positive Input | S33: +σ Power Positive Input | AV33: Worst Case
C34: I32 | D34: I55 | E34: I199 | F34: I200 | G34: I151 | H34: I150 | I34: Amp | K34: I32 | L34: I55 | M34: I199 | N34: I200 | O34: I151 | P34: I150 | Q34: Amp | S34: I32 | T34: I55 | U34: I199 | V34: I200 | W34: I151 | X34: I150 | Y34: Amp | AB34: Power Mean Pos Input | AG34: Power WC Pos Input | AV34: Calculated Values (Amp) | AX34: Calculated Values (Hot Spot)
B35: 36 | C35: 6.4508e-08 | D35: 0.0014044 | E35: 0.17523 | F35: 0.12855 | G35: 0.16153 | H35: 0.20337 | I35: 1.4084 | K35: 1.1962e-07 | L35: 0.0032827 | M35: 0.019139 | N35: 0.019592 | O35: 0.028368 | P35: 0.020113 | Q35: 0.35813 | S35: =C35+($W$1*K35) -> 7.82228e-07 | T35: =D35+($W$1*L35) -> 0.0211006 | U35: =E35+($W$1*M35) -> 0.290064 | V35: =F35+($W$1*N35) -> 0.246102 | W35: =G35+($W$1*O35) -> 0.331738 | X35: =H35+($W$1*P35) -> 0.324048 | Y35: =I35+($W$1*Q35) -> 3.55718 | AC35: I55 | AD35: Calc | AE35: Error | AH35: I55 | AI35: Calc | AJ35: Error | AT35: List of Options | AU35: Count | AV35: ISUPPLY (A) | AW35: Power (W) | AX35: ISUPPLY (A) | AY35: Power (W)
B36: 30 | C36: 1.6669e-07 | D36: 0.026865 | E36: 0.1017 | F36: 0.062362 | G36: 0.075021 | H36: 0.12171 | I36: 0.70585 | K36: 5.0519e-08 | L36: 0.013844 | M36: 0.011657 | N36: 0.01357 | O36: 0.015848 | P36: 0.013522 | Q36: 0.097334 | S36: =C36+($W$1*K36) -> 4.69804e-07 | T36: =D36+($W$1*L36) -> 0.109929 | U36: =E36+($W$1*M36) -> 0.171642 | V36: =F36+($W$1*N36) -> 0.143782 | W36: =G36+($W$1*O36) -> 0.170109 | X36: =H36+($W$1*P36) -> 0.202842 | Y36: =I36+($W$1*Q36) -> 1.289854 | AB36: 36 | AC36: 0.0014044 | AD36: =($AB$10*$AB36^4)+($AC$10*$AB36^3)+($AD$10*$AB36^2)+($AE$10*$AB36^1)+$AF$10 -> 0.0013482967 | AE36: =(AC36-AD36)/AC36 -> 0.039948254 | AG36: 36 | AH36: =T35 -> 0.0211006 | AI36: =($AK$10*$AG36^5)+($AL$10*$AG36^4)+($AM$10*$AG36^3)+($AN$10*$AG36^2)+($AO$10*$AG36^1)+$AP$10 -> 0.021118027 | AJ36: =(AH36-AI36)/AH36 -> -0.00082588824 | AT36: V+ | AU36: =COUNTIF('Comparator Config Inputs'!$C$15:$C$18,AT36) -> 0 | AV36: =AU36*BH20 -> 0 | AW36: =AU36*BH10 -> 0 | AX36: =AQ20*AU36 -> 0 | AY36: =IF(AU36>0,AQ10,0) -> 0
B37: 20 | C37: 6.7369e-08 | D37: 0.047263 | E37: 0.040076 | F37: 0.015534 | G37: 0.017921 | H37: 0.050709 | I37: 0.32744 | K37: 7.8114e-09 | L37: 0.0026146 | M37: 0.0024938 | N37: 0.0029992 | O37: 0.0030823 | P37: 0.0033605 | Q37: 0.030361 | S37: =C37+($W$1*K37) -> 1.142374e-07 | T37: =D37+($W$1*L37) -> 0.0629506 | U37: =E37+($W$1*M37) -> 0.0550388 | V37: =F37+($W$1*N37) -> 0.0335292 | W37: =G37+($W$1*O37) -> 0.0364148 | X37: =H37+($W$1*P37) -> 0.070872 | Y37: =I37+($W$1*Q37) -> 0.509606 | AB37: 30 | AC37: 0.026865 | AD37: =($AB$10*$AB37^4)+($AC$10*$AB37^3)+($AD$10*$AB37^2)+($AE$10*$AB37^1)+$AF$10 -> 0.027058071 | AE37: =(AC37-AD37)/AC37 -> -0.0071866941 | AG37: 30 | AH37: =T36 -> 0.109929 | AI37: =($AK$10*$AG37^5)+($AL$10*$AG37^4)+($AM$10*$AG37^3)+($AN$10*$AG37^2)+($AO$10*$AG37^1)+$AP$10 -> 0.10985224 | AJ37: =(AH37-AI37)/AH37 -> 0.00069822991 | AT37: V- | AU37: =COUNTIF('Comparator Config Inputs'!$C$15:$C$18,AT37) -> 2 | AV37: =BH15*AU37 -> 0.2219242 | AW37: =AU37*BH5 -> 8.0121098 | AX37: =AQ15*AU37 -> 0.00035907274 | AY37: =IF(AU37>0,AQ5,0) -> 0.0062487656
B38: 15 | C38: 4.0739e-08 | D38: 0.039653 | E38: 0.021951 | F38: 0.0060203 | G38: 0.0061716 | H38: 0.029662 | I38: 0.2025 | K38: 5.8514e-09 | L38: 0.0015158 | M38: 0.00097117 | N38: 0.00084379 | O38: 0.00093623 | P38: 0.0013871 | Q38: 0.01241 | S38: =C38+($W$1*K38) -> 7.58474e-08 | T38: =D38+($W$1*L38) -> 0.0487478 | U38: =E38+($W$1*M38) -> 0.02777802 | V38: =F38+($W$1*N38) -> 0.01108304 | W38: =G38+($W$1*O38) -> 0.01178898 | X38: =H38+($W$1*P38) -> 0.0379846 | Y38: =I38+($W$1*Q38) -> 0.27696 | AB38: 20 | AC38: 0.047263 | AD38: =($AB$10*$AB38^4)+($AC$10*$AB38^3)+($AD$10*$AB38^2)+($AE$10*$AB38^1)+$AF$10 -> 0.046653416 | AE38: =(AC38-AD38)/AC38 -> 0.012897693 | AG38: 20 | AH38: =T37 -> 0.0629506 | AI38: =($AK$10*$AG38^5)+($AL$10*$AG38^4)+($AM$10*$AG38^3)+($AN$10*$AG38^2)+($AO$10*$AG38^1)+$AP$10 -> 0.063404812 | AJ38: =(AH38-AI38)/AH38 -> -0.007215371 | AT38: Exclude | AU38: =COUNTIF('Comparator Config Inputs'!$C$15:$C$18,AT38) -> 2 | AV38: - | AW38: - | AX38: - | AY38: -
B39: 10 | C39: 2.6661e-08 | D39: 0.025898 | E39: 0.0090195 | F39: 0.00097578 | G39: 0.00088095 | H39: 0.013542 | I39: 0.10426 | K39: 4.588e-09 | L39: 0.00090407 | M39: 0.0003826 | N39: 0.00017655 | O39: 0.00017827 | P39: 0.00053347 | Q39: 0.0041824 | S39: =C39+($W$1*K39) -> 5.4189e-08 | T39: =D39+($W$1*L39) -> 0.03132242 | U39: =E39+($W$1*M39) -> 0.0113151 | V39: =F39+($W$1*N39) -> 0.00203508 | W39: =G39+($W$1*O39) -> 0.00195057 | X39: =H39+($W$1*P39) -> 0.01674282 | Y39: =I39+($W$1*Q39) -> 0.1293544 | AB39: 15 | AC39: 0.039653 | AD39: =($AB$10*$AB39^4)+($AC$10*$AB39^3)+($AD$10*$AB39^2)+($AE$10*$AB39^1)+$AF$10 -> 0.04038838 | AE39: =(AC39-AD39)/AC39 -> -0.018545388 | AG39: 15 | AH39: =T38 -> 0.0487478 | AI39: =($AK$10*$AG39^5)+($AL$10*$AG39^4)+($AM$10*$AG39^3)+($AN$10*$AG39^2)+($AO$10*$AG39^1)+$AP$10 -> 0.047774313 | AJ39: =(AH39-AI39)/AH39 -> 0.019969868
B40: 5 | C40: 4.3942e-08 | D40: 0.0087441 | E40: 0.0010716 | F40: 3.7125e-06 | G40: 8.0566e-06 | H40: 0.0026912 | I40: 0.032577 | K40: 8.3547e-09 | L40: 0.00032591 | M40: 8.5932e-05 | N40: 6.2327e-06 | O40: 1.1964e-05 | P40: 0.00012258 | Q40: 0.001199 | S40: =C40+($W$1*K40) -> 9.40702e-08 | T40: =D40+($W$1*L40) -> 0.01069956 | U40: =E40+($W$1*M40) -> 0.001587192 | V40: =F40+($W$1*N40) -> 4.11087e-05 | W40: =G40+($W$1*O40) -> 7.98406e-05 | X40: =H40+($W$1*P40) -> 0.00342668 | Y40: =I40+($W$1*Q40) -> 0.039771 | AB40: 10 | AC40: 0.025898 | AD40: =($AB$10*$AB40^4)+($AC$10*$AB40^3)+($AD$10*$AB40^2)+($AE$10*$AB40^1)+$AF$10 -> 0.025730329 | AE40: =(AC40-AD40)/AC40 -> 0.0064742835 | AG40: 10 | AH40: =T39 -> 0.03132242 | AI40: =($AK$10*$AG40^5)+($AL$10*$AG40^4)+($AM$10*$AG40^3)+($AN$10*$AG40^2)+($AO$10*$AG40^1)+$AP$10 -> 0.032316039 | AJ40: =(AH40-AI40)/AH40 -> -0.031722278
B41: 2.7 | C41: 1.8665e-07 | D41: 0.001777 | E41: 0.00018653 | F41: 4.8315e-12 | G41: 1.2157e-12 | H41: 0.00035362 | I41: 0.0085004 | K41: 3.1418e-08 | L41: 6.4009e-05 | M41: 1.0829e-05 | N41: 1.0616e-13 | O41: 8.6938e-14 | P41: 2.217e-05 | Q41: 0.00031118 | S41: =C41+($W$1*K41) -> 3.75158e-07 | T41: =D41+($W$1*L41) -> 0.002161054 | U41: =E41+($W$1*M41) -> 0.000251504 | V41: =F41+($W$1*N41) -> 5.46846e-12 | W41: =G41+($W$1*O41) -> 1.737328e-12 | X41: =H41+($W$1*P41) -> 0.00048664 | Y41: =I41+($W$1*Q41) -> 0.01036748 | AB41: 5 | AC41: 0.0087441 | AD41: =($AB$10*$AB41^4)+($AC$10*$AB41^3)+($AD$10*$AB41^2)+($AE$10*$AB41^1)+$AF$10 -> 0.0084493319 | AE41: =(AC41-AD41)/AC41 -> 0.033710519 | AG41: 5 | AH41: =T40 -> 0.01069956 | AI41: =($AK$10*$AG41^5)+($AL$10*$AG41^4)+($AM$10*$AG41^3)+($AN$10*$AG41^2)+($AO$10*$AG41^1)+$AP$10 -> 0.0099942256 | AJ41: =(AH41-AI41)/AH41 -> 0.065921817
AB42: 2.7 | AC42: 0.001777 | AD42: =($AB$10*$AB42^4)+($AC$10*$AB42^3)+($AD$10*$AB42^2)+($AE$10*$AB42^1)+$AF$10 -> 0.0019766753 | AE42: =(AC42-AD42)/AC42 -> -0.11236652 | AG42: 2.7 | AH42: =T41 -> 0.002161054 | AI42: =($AK$10*$AG42^5)+($AL$10*$AG42^4)+($AM$10*$AG42^3)+($AN$10*$AG42^2)+($AO$10*$AG42^1)+$AP$10 -> 0.0024513741 | AJ42: =(AH42-AI42)/AH42 -> -0.1343419
