Workbook

Sheet Design tool
F12: User can input in these colour table
F14: Calculated Value in these colour table
A19: Power Stage Components
A20: Basic Converter spec
A21: Output Voltage | B21: 12 | C21: V | D21: Min. Input Voltage | E21: 120 | F21: V
A22: Max. Load Current | B22: 0.667 | C22: A | D22: Nom. Input Voltage | E22: 320 | F22: V
D23: Max. Input Votlage | E23: 400 | F23: V
A25: Inductor | B25: (Inductor. DC degrading not integrated. Please enter corresponding value.)
A26: Inductance | B26: 680 | C26: uH | D26: Recommended Inductance | E26: =Table!C14 -> 470 | F26: uH
A27: Saturation Current | B27: 2 | C27: A | D27: Recommended Saturation Current | E27: ='Power parameter'!E12 -> 1.68 | F27: A
A28: Heat Rating Current | B28: 1.5 | C28: A | D28: Recommended Heat Rating Current | E28: ='Power parameter'!B5*1.5 -> 1.0005 | F28: A
A29: DCR | B29: 680 | C29: mΩ | D29: Typical Ripple current | E29: ='Power parameter'!K16 -> 0.40368189 | F29: A
A31: Diode | B31: (Suggest to use fast recovery diode .)
A32: Vf | B32: 1.25 | C32: V
A33: Qrr | B33: 75 | C33: nC | D33: Recovery current Slew rate | E33: 100 | F33: A/us
A34: Vr | B34: 600 | C34: V | D34: Recommended Vr | E34: =Table!C8 -> 600 | F34: V
A35: If | B35: 2 | C35: A | D35: Recommended Current | E35: =Table!C11 -> 2 | F35: A
A37: Output Capcitor | B37: (Ceramic Cap. DC degrading not integrated. Please enter corresponding value.)
A38: Co_b | B38: 330 | C38: uF | D38: Recommended min Capacitance | E38: =Table!C5 -> 220 | F38: uF
A39: ESR of Co_b | B39: 50 | C39: mΩ | D39: Recommended max ESR | E39: ='Power parameter'!E22*1000 -> 118.26087 | F39: mΩ
A41: Input Capcitor
A42: Cin_b | B42: 22 | C42: uF | D42: Recommended min Capacitance | E42: =Table!C2 -> 22 | F42: uF
A44: Efficiency | B44: (Inductor Core Loss is not considered.)
A45: Input Voltage | B45: 320 | C45: V | D45: Vo | E45: ='Power parameter'!K14 -> 11.850105 | F45: V
A46: Output current | B46: 0.67 | C46: A | D46: Efficiency | E46: ='Power parameter'!B43*100 -> 84.352883 | F46: %
A63: Others
A64: RFB1 | B64: 396 | C64: kΩ | D64: Recommended REB1 | E64: ='Power parameter'!B9 -> 398 | F64: kΩ
A65: RFB2 | B65: 98.8 | C65: kΩ | D65: Recommended RFB2 | E65: ='Power parameter'!B10 -> 99.5 | F65: kΩ
A66: CFB | B66: 100 | C66: nF | D66: Recommended CFB | E66: ='Power parameter'!B16*1000000000 -> 41.422664 | F66: nF
A67: CFB2 | B67: 2200 | C67: pF | D67: Recommended CFB2 | E67: 2200 | F67: pF
A68: R2 | B68: 10000 | C68: Ω | D68: Recommended R2 | E68: ='Power parameter'!B20 -> 9891.5715 | F68: Ω
A69: CFB1 | B69: 680 | C69: pF | D69: Recommended CFB1 | E69: 680 | F69: pF
A70: Ouput setting Voltage | B70: ='Power parameter'!B13 -> 11.934943 | C70: V
A71: Loop Result
A72: Phase | B72: ='LOOP GAIN FOR TOTAL'!Z8 -> 47.658245 | C72: Deg | D72: Gain | E72: ='LOOP GAIN FOR TOTAL'!Z12 -> -61.875497 | F72: dB
A73: Cross over Frequency | B73: ='LOOP GAIN FOR TOTAL'!Z7 -> 0.24 | C73: kHz

Sheet Power parameter
A1: Input | D1: Internal | G1: Calculation internal
A2: Vin_max | B2: ='Design tool'!$E$23 -> 400 | D2: Toff_min | E2: 2.3e-05 | G2: Ipk_min | H2: =(B6-B13)*E8/E15 -> 0.13591105 | J2: Ipkmin_dcm | K2: =(2*B8*E15*B13+SQRT((2*B8*E15*B13)^2+8*E15*B6^2*B8*E2*B13))/2/E15/B6 -> 0.76124734 | M2: Ts | N2: =IF(H7,H11,K6) -> 2.3891058e-05
A3: Vin_min | B3: ='Design tool'!$E$21 -> 120 | D3: Ipk | E3: 1.12 | G3: PFM_judge | H3: =IF(K2<H2,1,0) -> 0 | J3: PFM_judge_N | K3: =IF(K2>H2,1,0) -> 1 | M3: Toff_diode | N3: =IF(H7,E2,K5) -> 2.3e-05
A4: Vo | B4: ='Design tool'!B21 -> 12 | D4: Rfb1 | E4: ='Design tool'!B64*1000 -> 396000 | G4: Toff_DCM | H4: =IF(H3,(K6-K4),E2) -> 2.3e-05 | J4: Ton_DCM | K4: =IF(H3,E8,E15*K8/(B6-B13)) -> 1.680321e-06 | M4: Ton | N4: =IF(H7,H14,K4) -> 8.9105752e-07
A5: Io_max | B5: ='Design tool'!B22 -> 0.667 | D5: Rfb2 | E5: ='Design tool'!B65*1000 -> 98800 | G5: Ipk_judge | H5: =IF((B7+B13*E2/2/E15)<E3,1,0) -> 1 | J5: Toff1_DCM | K5: =E15*K8/B13 -> 4.337249e-05 | M5: Duty | N5: =N4/N2 -> 0.037296697
A6: Vin | B6: ='Design tool'!B45 -> 320 | D6: Tmax | E6: 0.001 | G6: Ipk_CCM | H6: =IF(H5,(B8+H10/2),1.2) -> 0.87244095 | J6: Ts_DCM | K6: =(K4+K5)*K8/2/B8 -> 2.5571379e-05 | M6: Ipk | N6: =IF(H7,H6,K8) -> 0.87244095
A7: io | B7: ='Design tool'!B46 -> 0.67 | D7: kcf | E7: =-LN(1/1.05) -> 0.048790164 | G7: CCM_juge | H7: =IF((H10/2)<B7,1,0) -> 1 | J7: DCM_judge | K7: =IF((H10/2)>B7,1,0) -> 0 | M7: Irms | N7: =IF(H7,H8,K9) -> 0.6806499
A8: Io | B8: =B7+0.0006 -> 0.6706 | D8: Ton_min | E8: 3e-07 | G8: Irms_CCM | H8: =SQRT(B8^2+H10^2/12) -> 0.6806499 | J8: Ipk_DCM | K8: =IF(H3,H2,K2) -> 0.76124734 | M8: Irms_up | N8: =IF(H7,H13,K10) -> 0.13144951
A9: Rfb1_r | B9: 398 | D9: Iq | E9: 0.0006 | G9: Duty_CCM | H9: =B12/B6 -> 0.037296697 | J9: Irms_DCM | K9: =K8*SQRT((K4+K5)/K6/3) -> 0.58337665 | M9: Ts | N9: =IF(H7,H11,K6) -> 2.3891058e-05
A10: Rfb2_r | B10: =B9/((B4+0.5)/2.5-1) -> 99.5 | G10: ΔI_CCM | H10: =B12*E2/E15 -> 0.40368189 | J10: Irms_DCM_UP | K10: =K8*SQRT((K4)/K6/3) -> 0.11266376
G11: Ts_CCM | H11: =E2/(1-H9) -> 2.3891058e-05 | J11: Vo_PFM | K11: =B13/EXP(-K6/(E16*(E4+E5))) -> 11.941113
A12: Vo_C | B12: =IF((H5),B13,H12) -> 11.934943 | D12: Ipk_s | E12: =E3*1.5 -> 1.68 | G12: Vo_Ipk_clamp | H12: =IF(B8>E3,0,(E3-B8)*2*E15/E2) -> 26.573217
A13: Vo_FB | B13: =2.5*(1+E4/E5)-0.25-0.5*B8 -> 11.934943 | D13: Ipk_h | E13: =E3 -> 1.12 | G13: Irms_CCM_UP | H13: =H8*SQRT(H9) -> 0.13144951
A14: L_min | B14: =B4*E2/(E3-B5)/2*(1000000) -> 304.63576 | G14: Ton_CCM | H14: =H11*H9 -> 8.9105752e-07 | J14: Vo_show | K14: =IF(H3,K11,K15) -> 11.850105
A15: L_r | B15: =B14*1.5 -> 456.95364 | D15: L | E15: ='Design tool'!B26*0.000001 -> 0.00068 | J15: Vo_c1 | K15: =IF((H5),(B12-(N6-H2)*0.023*(1+E4/E5)),H12) -> 11.850105 | M15: Ipk_DCM_type_c | N15: =(2*B5*E15*B13+SQRT((2*B5*E15*B13)^2+8*E15*K18^2*B5*E2*B13))/2/E15/K18 -> 0.75913196
A16: CFB_r | B16: =IF(B17>B18,B17,B18) -> 4.1422664e-08 | D16: Cfb | E16: ='Design tool'!B66*0.000000001 -> 1e-07 | J16: ΔI_CCM_type | K16: =B13*E2/E15 -> 0.40368189 | M16: Ipk_DCM_type | N16: =IF(N15>H2,N15,H2) -> 0.75913196
A17: CFB_min_1 | B17: =100*E2/(E4+E5) -> 4.6483428e-09 | D17: CFB_max | E17: =B12*B21/B5/(E4+E5) -> 1.19338e-08 | J17: ΔI_CCM_shwo | K17: =IF((K16>B5/2),K16,N16) -> 0.40368189
A18: CFB_min_2 | B18: =E6/E7/(E4+E5) -> 4.1422664e-08 | J18: Vin_normal | K18: ='Design tool'!E22 -> 320
A19: R2t | B19: =(B13-6)/E9 -> 9891.5715 | J19: Duty_loop | K19: =H9 -> 0.037296697
A20: R2_r | B20: =IF(B19<0,100,B19) -> 9891.5715 | D20: R2 | E20: ='Design tool'!B68 -> 10000 | J20: Ts_loop | K20: =H11 -> 2.3891058e-05
A21: Cout | B21: ='Design tool'!B38*(0.000001) -> 0.00033 | D21: Cout_r | E21: =B5*E2/(B12*0.1)/0.1 -> 0.00012853853 | J21: Vripple | K21: =IF(B13<6,B13*0.005,B13*0.004) -> 0.047739772
A22: ESR | B22: ='Design tool'!B39 -> 50 | D22: ESR_R | E22: =K21/K16 -> 0.11826087
A24: RL_DCR | B24: ='Design tool'!B29*0.001 -> 0.68 | D24: Pcon_inductor | E24: =N7^2*B24 -> 0.31503331
A25: R_MOS | B25: =4+3.74*B8 -> 6.508044 | D25: Pcon_mos | E25: =N8^2*B25 -> 0.11245232
A26: ton_s | B26: 2.1e-08 | D26: Pswitch | E26: =B6*(N6*B27+B28*B26)/N2/3 -> 0.17638703
A27: toff_s | B27: 3.4e-08
A28: I_vally | B28: =IF(H7,(B8-H10/2),0.001) -> 0.46875905
A30: Vdiode | B30: 0.9 | D30: Pcon_diode | E30: =B30*B8*N3/N2 -> 0.58102995
A31: Qrr_input | B31: ='Design tool'!B33 -> 75 | C31: nC | D31: Slew_rate_c | E31: =B28/B26/1000000 -> 22.32186 | F31: A/us
A32: Slew_rate | B32: ='Design tool'!E33 -> 100 | C32: A/us | D32: Qrr_c | E32: =B33*LN(E31)+B34 -> 65.231163 | F32: nC
A33: Factor a | B33: =B31/(LN(B32)+6.908) -> 6.5142788 | D33: PQrr | E33: =IF(K7,0,B6*E32/N2/3*(0.000000001)) -> 0.29123829
A34: Factor b | B34: =B33*6.908 -> 45.000638
A36: DCR | B36: 0.68 | D36: Pcon_inductor | E36: =N7^2*B36 -> 0.31503331
A40: Pinductor | B40: =E36 -> 0.31503331
A41: Pdiode | B41: =E30+E33/2 -> 0.7266491
A42: Pmosfet | B42: =E25+E26+E33/2 -> 0.4344585
A43: Efficiency | B43: =B12*B7/(B12*B7+B40+B41+B42+E9*B12) -> 0.84352883
A46: Cin | B46: =B4*B5*1.5 -> 12.006

Sheet Table
E1: Capacitance | J1: Diode | O1: Diode | T1: Indctor
A2: Input cap | B2: ='Power parameter'!B46 -> 12.006 | C2: =VLOOKUP(B2,$F$2:$G$13,2,1) -> 22 | E2: (0-22) | F2: 0 | G2: 22 | J2: (0-100) | K2: 0 | L2: 100 | O2: (0-1) | P2: 0 | Q2: 1 | U2: 0 | V2: 220
E3: (23-33) | F3: 22 | G3: 33 | J3: (101-150) | K3: 101 | L3: 150 | O3: (1.1-2) | P3: 1 | Q3: 2 | U3: 221 | V3: 330
E4: (34-47) | F4: 33 | G4: 47 | J4: (151-400) | K4: 151 | L4: 400 | O4: (2.1-3) | P4: 2 | Q4: 3 | U4: 331 | V4: 470
A5: Output cap | B5: ='Power parameter'!E21*1000000 -> 128.53853 | C5: =VLOOKUP(B5,$F$2:$G$13,2,1) -> 220 | E5: (48-56) | F5: 47 | G5: 56 | J5: (401-600) | K5: 401 | L5: 600 | U5: 471 | V5: 560
E6: (57-68) | F6: 56 | G6: 68 | J6: 601 | K6: 601 | L6: 650 | U6: 561 | V6: 680
E7: (68-100) | F7: 68 | G7: 100 | U7: 681 | V7: 1000
A8: Diode voltage | B8: ='Power parameter'!B2*1.5 -> 600 | C8: =VLOOKUP(B8,$K$2:$L$6,2,1) -> 600 | E8: (101-220) | F8: 100 | G8: 220 | U8: 1001 | V8: 1470
E9: (221-330) | F9: 221 | G9: 330
E10: 331-470 | F10: 331 | G10: 470
A11: Idiode | B11: ='Power parameter'!B5*1.5 -> 1.0005 | C11: =VLOOKUP(B11,$P$2:$Q$4,2,1) -> 2 | E11: 471-560 | F11: 471 | G11: 560
E12: 561-680 | F12: 561 | G12: 680
E13: 681 | F13: 681 | G13: 1000
A14: Inductor | B14: ='Power parameter'!B15 -> 456.95364 | C14: =VLOOKUP(B14,U2:V8,2,1) -> 470

Sheet waves
A1: Ton_dcm | B1: ='Power parameter'!K4 -> 1.680321e-06 | D1: Toff1_DCM | E1: ='Power parameter'!K5 -> 4.337249e-05 | G1: CCM judge | H1: =IF((('Power parameter'!H10/2)<='Power parameter'!B7),1,0) -> 1
A2: Ton_ccm | B2: ='Power parameter'!H14 -> 8.9105752e-07 | G2: DCM judge | H2: =IF((('Power parameter'!H10/2)>'Power parameter'!B7),1,0) -> 0
A3: Ton | B3: =IF('Power parameter'!H7,waves!B2,waves!B1) -> 8.9105752e-07
A4: TCCM | B4: ='Power parameter'!H4+waves!B2 -> 2.3891058e-05 | D4: TDCM | E4: ='Power parameter'!K6 -> 2.5571379e-05
B7: t | C7: On judge | D7: off judge | E7: IL_CCM_ON | F7: IL_CCM_OFF | G7: IL_CCM | K7: t | L7: On judge | M7: off judge | N7: IL_DEM_ON | O7: IL_DCM_OFF | P7: IL_DCM | S7: t_total | T7: IL
A8: 0 | B8: =2*B$4/1000*A8 -> 0 | C8: =IF(B8<B$3,1,0) -> 1 | D8: =IF(B8>=B$3,1,0) -> 0 | E8: =('Power parameter'!B$7-'Power parameter'!H$10/2+('Power parameter'!B$6-'Power parameter'!B$12)/'Power parameter'!E$15*B8)*C8 -> 0.46815905 | F8: =('Power parameter'!B$7+'Power parameter'!H$10/2-'Power parameter'!B$12/'Power parameter'!E$15*(B8-B$3))*D8 -> 0 | G8: =E8+F8 -> 0.46815905 | J8: 0 | K8: =E$4*2/1000*J8 -> 0 | L8: =IF(K8<B$1,1,0) -> 1 | M8: =IF(K8>=B$1,1,0) -> 0 | N8: =('Power parameter'!B$6-'Power parameter'!B$13)/'Power parameter'!E$15*K8*L8 -> 0 | O8: =IF((K8-B$1-E$1)>0,0,('Power parameter'!K$8-'Power parameter'!B$13/'Power parameter'!E$15*(waves!K8-waves!B$1))*M8) -> 0 | P8: =N8+O8 -> 0 | S8: =B8*H$1+K8*H$2 -> 0 | T8: =G8*H$1+P8*H$2 -> 0.46815905
A9: 1 | B9: =2*B$4/1000*A9 -> 4.7782115e-08 | C9: =IF(B9<B$3,1,0) -> 1 | D9: =IF(B9>B$3,1,0) -> 0 | E9: =('Power parameter'!B$7-'Power parameter'!H$10/2+('Power parameter'!B$6-'Power parameter'!B$12)/'Power parameter'!E$15*B9)*C9 -> 0.48980611 | F9: =('Power parameter'!B$7+'Power parameter'!H$10/2-'Power parameter'!B$12/'Power parameter'!E$15*(B9-B$3))*D9 -> 0 | G9: =E9+F9 -> 0.48980611 | J9: 1 | K9: =E$4*2/1000*J9 -> 5.1142757e-08 | L9: =IF(K9<B$1,1,0) -> 1 | M9: =IF(K9>=B$1,1,0) -> 0 | N9: =('Power parameter'!B$6-'Power parameter'!B$13)/'Power parameter'!E$15*K9*L9 -> 0.023169554 | O9: =IF((K9-B$1-E$1)>0,0,('Power parameter'!K$8-'Power parameter'!B$13/'Power parameter'!E$15*(waves!K9-waves!B$1))*M9) -> 0 | P9: =N9+O9 -> 0.023169554 | S9: =B9*H$1+K9*H$2 -> 4.7782115e-08 | T9: =G9*H$1+P9*H$2 -> 0.48980611
A10: 2 | B10: =2*B$4/1000*A10 -> 9.556423e-08 | C10: =IF(B10<B$3,1,0) -> 1 | D10: =IF(B10>B$3,1,0) -> 0 | E10: =('Power parameter'!B$7-'Power parameter'!H$10/2+('Power parameter'!B$6-'Power parameter'!B$12)/'Power parameter'!E$15*B10)*C10 -> 0.51145317 | F10: =('Power parameter'!B$7+'Power parameter'!H$10/2-'Power parameter'!B$12/'Power parameter'!E$15*(B10-B$3))*D10 -> 0 | G10: =E10+F10 -> 0.51145317 | J10: 2 | K10: =E$4*2/1000*J10 -> 1.0228551e-07 | L10: =IF(K10<B$1,1,0) -> 1 | M10: =IF(K10>=B$1,1,0) -> 0 | N10: =('Power parameter'!B$6-'Power parameter'!B$13)/'Power parameter'!E$15*K10*L10 -> 0.046339107 | O10: =IF((K10-B$1-E$1)>0,0,('Power parameter'!K$8-'Power parameter'!B$13/'Power parameter'!E$15*(waves!K10-waves!B$1))*M10) -> 0 | P10: =N10+O10 -> 0.046339107 | S10: =B10*H$1+K10*H$2 -> 9.556423e-08 | T10: =G10*H$1+P10*H$2 -> 0.51145317
A11: 3 | B11: =2*B$4/1000*A11 -> 1.4334635e-07 | C11: =IF(B11<B$3,1,0) -> 1 | D11: =IF(B11>B$3,1,0) -> 0 | E11: =('Power parameter'!B$7-'Power parameter'!H$10/2+('Power parameter'!B$6-'Power parameter'!B$12)/'Power parameter'!E$15*B11)*C11 -> 0.53310023 | F11: =('Power parameter'!B$7+'Power parameter'!H$10/2-'Power parameter'!B$12/'Power parameter'!E$15*(B11-B$3))*D11 -> 0 | G11: =E11+F11 -> 0.53310023 | J11: 3 | K11: =E$4*2/1000*J11 -> 1.5342827e-07 | L11: =IF(K11<B$1,1,0) -> 1 | M11: =IF(K11>=B$1,1,0) -> 0 | N11: =('Power parameter'!B$6-'Power parameter'!B$13)/'Power parameter'!E$15*K11*L11 -> 0.069508661 | O11: =IF((K11-B$1-E$1)>0,0,('Power parameter'!K$8-'Power parameter'!B$13/'Power parameter'!E$15*(waves!K11-waves!B$1))*M11) -> 0 | P11: =N11+O11 -> 0.069508661 | S11: =B11*H$1+K11*H$2 -> 1.4334635e-07 | T11: =G11*H$1+P11*H$2 -> 0.53310023
A12: 4 | B12: =2*B$4/1000*A12 -> 1.9112846e-07 | C12: =IF(B12<B$3,1,0) -> 1 | D12: =IF(B12>B$3,1,0) -> 0 | E12: =('Power parameter'!B$7-'Power parameter'!H$10/2+('Power parameter'!B$6-'Power parameter'!B$12)/'Power parameter'!E$15*B12)*C12 -> 0.55474729 | F12: =('Power parameter'!B$7+'Power parameter'!H$10/2-'Power parameter'!B$12/'Power parameter'!E$15*(B12-B$3))*D12 -> 0 | G12: =E12+F12 -> 0.55474729 | J12: 4 | K12: =E$4*2/1000*J12 -> 2.0457103e-07 | L12: =IF(K12<B$1,1,0) -> 1 | M12: =IF(K12>=B$1,1,0) -> 0 | N12: =('Power parameter'!B$6-'Power parameter'!B$13)/'Power parameter'!E$15*K12*L12 -> 0.092678214 | O12: =IF((K12-B$1-E$1)>0,0,('Power parameter'!K$8-'Power parameter'!B$13/'Power parameter'!E$15*(waves!K12-waves!B$1))*M12) -> 0 | P12: =N12+O12 -> 0.092678214 | S12: =B12*H$1+K12*H$2 -> 1.9112846e-07 | T12: =G12*H$1+P12*H$2 -> 0.55474729
A13: 5 | B13: =2*B$4/1000*A13 -> 2.3891058e-07 | C13: =IF(B13<B$3,1,0) -> 1 | D13: =IF(B13>B$3,1,0) -> 0 | E13: =('Power parameter'!B$7-'Power parameter'!H$10/2+('Power parameter'!B$6-'Power parameter'!B$12)/'Power parameter'!E$15*B13)*C13 -> 0.57639435 | F13: =('Power parameter'!B$7+'Power parameter'!H$10/2-'Power parameter'!B$12/'Power parameter'!E$15*(B13-B$3))*D13 -> 0 | G13: =E13+F13 -> 0.57639435 | J13: 5 | K13: =E$4*2/1000*J13 -> 2.5571379e-07 | L13: =IF(K13<B$1,1,0) -> 1 | M13: =IF(K13>=B$1,1,0) -> 0 | N13: =('Power parameter'!B$6-'Power parameter'!B$13)/'Power parameter'!E$15*K13*L13 -> 0.11584777 | O13: =IF((K13-B$1-E$1)>0,0,('Power parameter'!K$8-'Power parameter'!B$13/'Power parameter'!E$15*(waves!K13-waves!B$1))*M13) -> 0 | P13: =N13+O13 -> 0.11584777 | S13: =B13*H$1+K13*H$2 -> 2.3891058e-07 | T13: =G13*H$1+P13*H$2 -> 0.57639435
A14: 6 | B14: =2*B$4/1000*A14 -> 2.8669269e-07 | C14: =IF(B14<B$3,1,0) -> 1 | D14: =IF(B14>B$3,1,0) -> 0 | E14: =('Power parameter'!B$7-'Power parameter'!H$10/2+('Power parameter'!B$6-'Power parameter'!B$12)/'Power parameter'!E$15*B14)*C14 -> 0.59804141 | F14: =('Power parameter'!B$7+'Power parameter'!H$10/2-'Power parameter'!B$12/'Power parameter'!E$15*(B14-B$3))*D14 -> 0 | G14: =E14+F14 -> 0.59804141 | J14: 6 | K14: =E$4*2/1000*J14 -> 3.0685654e-07 | L14: =IF(K14<B$1,1,0) -> 1 | M14: =IF(K14>=B$1,1,0) -> 0 | N14: =('Power parameter'!B$6-'Power parameter'!B$13)/'Power parameter'!E$15*K14*L14 -> 0.13901732 | O14: =IF((K14-B$1-E$1)>0,0,('Power parameter'!K$8-'Power parameter'!B$13/'Power parameter'!E$15*(waves!K14-waves!B$1))*M14) -> 0 | P14: =N14+O14 -> 0.13901732 | S14: =B14*H$1+K14*H$2 -> 2.8669269e-07 | T14: =G14*H$1+P14*H$2 -> 0.59804141
A15: 7 | B15: =2*B$4/1000*A15 -> 3.3447481e-07 | C15: =IF(B15<B$3,1,0) -> 1 | D15: =IF(B15>B$3,1,0) -> 0 | E15: =('Power parameter'!B$7-'Power parameter'!H$10/2+('Power parameter'!B$6-'Power parameter'!B$12)/'Power parameter'!E$15*B15)*C15 -> 0.61968847 | F15: =('Power parameter'!B$7+'Power parameter'!H$10/2-'Power parameter'!B$12/'Power parameter'!E$15*(B15-B$3))*D15 -> 0 | G15: =E15+F15 -> 0.61968847 | J15: 7 | K15: =E$4*2/1000*J15 -> 3.579993e-07 | L15: =IF(K15<B$1,1,0) -> 1 | M15: =IF(K15>=B$1,1,0) -> 0 | N15: =('Power parameter'!B$6-'Power parameter'!B$13)/'Power parameter'!E$15*K15*L15 -> 0.16218687 | O15: =IF((K15-B$1-E$1)>0,0,('Power parameter'!K$8-'Power parameter'!B$13/'Power parameter'!E$15*(waves!K15-waves!B$1))*M15) -> 0 | P15: =N15+O15 -> 0.16218687 | S15: =B15*H$1+K15*H$2 -> 3.3447481e-07 | T15: =G15*H$1+P15*H$2 -> 0.61968847
A16: 8 | B16: =2*B$4/1000*A16 -> 3.8225692e-07 | C16: =IF(B16<B$3,1,0) -> 1 | D16: =IF(B16>B$3,1,0) -> 0 | E16: =('Power parameter'!B$7-'Power parameter'!H$10/2+('Power parameter'!B$6-'Power parameter'!B$12)/'Power parameter'!E$15*B16)*C16 -> 0.64133552 | F16: =('Power parameter'!B$7+'Power parameter'!H$10/2-'Power parameter'!B$12/'Power parameter'!E$15*(B16-B$3))*D16 -> 0 | G16: =E16+F16 -> 0.64133552 | J16: 8 | K16: =E$4*2/1000*J16 -> 4.0914206e-07 | L16: =IF(K16<B$1,1,0) -> 1 | M16: =IF(K16>=B$1,1,0) -> 0 | N16: =('Power parameter'!B$6-'Power parameter'!B$13)/'Power parameter'!E$15*K16*L16 -> 0.18535643 | O16: =IF((K16-B$1-E$1)>0,0,('Power parameter'!K$8-'Power parameter'!B$13/'Power parameter'!E$15*(waves!K16-waves!B$1))*M16) -> 0 | P16: =N16+O16 -> 0.18535643 | S16: =B16*H$1+K16*H$2 -> 3.8225692e-07 | T16: =G16*H$1+P16*H$2 -> 0.64133552
A17: 9 | B17: =2*B$4/1000*A17 -> 4.3003904e-07 | C17: =IF(B17<B$3,1,0) -> 1 | D17: =IF(B17>B$3,1,0) -> 0 | E17: =('Power parameter'!B$7-'Power parameter'!H$10/2+('Power parameter'!B$6-'Power parameter'!B$12)/'Power parameter'!E$15*B17)*C17 -> 0.66298258 | F17: =('Power parameter'!B$7+'Power parameter'!H$10/2-'Power parameter'!B$12/'Power parameter'!E$15*(B17-B$3))*D17 -> 0 | G17: =E17+F17 -> 0.66298258 | J17: 9 | K17: =E$4*2/1000*J17 -> 4.6028481e-07 | L17: =IF(K17<B$1,1,0) -> 1 | M17: =IF(K17>=B$1,1,0) -> 0 | N17: =('Power parameter'!B$6-'Power parameter'!B$13)/'Power parameter'!E$15*K17*L17 -> 0.20852598 | O17: =IF((K17-B$1-E$1)>0,0,('Power parameter'!K$8-'Power parameter'!B$13/'Power parameter'!E$15*(waves!K17-waves!B$1))*M17) -> 0 | P17: =N17+O17 -> 0.20852598 | S17: =B17*H$1+K17*H$2 -> 4.3003904e-07 | T17: =G17*H$1+P17*H$2 -> 0.66298258
A18: 10 | B18: =2*B$4/1000*A18 -> 4.7782115e-07 | C18: =IF(B18<B$3,1,0) -> 1 | D18: =IF(B18>B$3,1,0) -> 0 | E18: =('Power parameter'!B$7-'Power parameter'!H$10/2+('Power parameter'!B$6-'Power parameter'!B$12)/'Power parameter'!E$15*B18)*C18 -> 0.68462964 | F18: =('Power parameter'!B$7+'Power parameter'!H$10/2-'Power parameter'!B$12/'Power parameter'!E$15*(B18-B$3))*D18 -> 0 | G18: =E18+F18 -> 0.68462964 | J18: 10 | K18: =E$4*2/1000*J18 -> 5.1142757e-07 | L18: =IF(K18<B$1,1,0) -> 1 | M18: =IF(K18>=B$1,1,0) -> 0 | N18: =('Power parameter'!B$6-'Power parameter'!B$13)/'Power parameter'!E$15*K18*L18 -> 0.23169554 | O18: =IF((K18-B$1-E$1)>0,0,('Power parameter'!K$8-'Power parameter'!B$13/'Power parameter'!E$15*(waves!K18-waves!B$1))*M18) -> 0 | P18: =N18+O18 -> 0.23169554 | S18: =B18*H$1+K18*H$2 -> 4.7782115e-07 | T18: =G18*H$1+P18*H$2 -> 0.68462964
A19: 11 | B19: =2*B$4/1000*A19 -> 5.2560327e-07 | C19: =IF(B19<B$3,1,0) -> 1 | D19: =IF(B19>B$3,1,0) -> 0 | E19: =('Power parameter'!B$7-'Power parameter'!H$10/2+('Power parameter'!B$6-'Power parameter'!B$12)/'Power parameter'!E$15*B19)*C19 -> 0.7062767 | F19: =('Power parameter'!B$7+'Power parameter'!H$10/2-'Power parameter'!B$12/'Power parameter'!E$15*(B19-B$3))*D19 -> 0 | G19: =E19+F19 -> 0.7062767 | J19: 11 | K19: =E$4*2/1000*J19 -> 5.6257033e-07 | L19: =IF(K19<B$1,1,0) -> 1 | M19: =IF(K19>=B$1,1,0) -> 0 | N19: =('Power parameter'!B$6-'Power parameter'!B$13)/'Power parameter'!E$15*K19*L19 -> 0.25486509 | O19: =IF((K19-B$1-E$1)>0,0,('Power parameter'!K$8-'Power parameter'!B$13/'Power parameter'!E$15*(waves!K19-waves!B$1))*M19) -> 0 | P19: =N19+O19 -> 0.25486509 | S19: =B19*H$1+K19*H$2 -> 5.2560327e-07 | T19: =G19*H$1+P19*H$2 -> 0.7062767
A20: 12 | B20: =2*B$4/1000*A20 -> 5.7338538e-07 | C20: =IF(B20<B$3,1,0) -> 1 | D20: =IF(B20>B$3,1,0) -> 0 | E20: =('Power parameter'!B$7-'Power parameter'!H$10/2+('Power parameter'!B$6-'Power parameter'!B$12)/'Power parameter'!E$15*B20)*C20 -> 0.72792376 | F20: =('Power parameter'!B$7+'Power parameter'!H$10/2-'Power parameter'!B$12/'Power parameter'!E$15*(B20-B$3))*D20 -> 0 | G20: =E20+F20 -> 0.72792376 | J20: 12 | K20: =E$4*2/1000*J20 -> 6.1371309e-07 | L20: =IF(K20<B$1,1,0) -> 1 | M20: =IF(K20>=B$1,1,0) -> 0 | N20: =('Power parameter'!B$6-'Power parameter'!B$13)/'Power parameter'!E$15*K20*L20 -> 0.27803464 | O20: =IF((K20-B$1-E$1)>0,0,('Power parameter'!K$8-'Power parameter'!B$13/'Power parameter'!E$15*(waves!K20-waves!B$1))*M20) -> 0 | P20: =N20+O20 -> 0.27803464 | S20: =B20*H$1+K20*H$2 -> 5.7338538e-07 | T20: =G20*H$1+P20*H$2 -> 0.72792376
... A507: 499 | B507: =2*B$4/1000*A507 -> 2.3843275e-05 | C507: =IF(B507<B$3,1,0) -> 0 | D507: =IF(B507>B$3,1,0) -> 1 | E507: =('Power parameter'!B$7-'Power parameter'!H$10/2+('Power parameter'!B$6-'Power parameter'!B$12)/'Power parameter'!E$15*B507)*C507 -> 0 | F507: =('Power parameter'!B$7+'Power parameter'!H$10/2-'Power parameter'!B$12/'Power parameter'!E$15*(B507-B$3))*D507 -> 0.4689977 | G507: =E507+F507 -> 0.4689977 | J507: 499 | K507: =E$4*2/1000*J507 -> 2.5520236e-05 | L507: =IF(K507<B$1,1,0) -> 0 | M507: =IF(K507>=B$1,1,0) -> 1 | N507: =('Power parameter'!B$6-'Power parameter'!B$13)/'Power parameter'!E$15*K507*L507 -> 0 | O507: =IF((K507-B$1-E$1)>0,0,('Power parameter'!K$8-'Power parameter'!B$13/'Power parameter'!E$15*(waves!K507-waves!B$1))*M507) -> 0.34282378 | P507: =N507+O507 -> 0.34282378 | S507: =B507*H$1+K507*H$2 -> 2.3843275e-05 | T507: =G507*H$1+P507*H$2 -> 0.4689977
A508: 500 | B508: =2*B$4/1000*A508 -> 2.3891058e-05 | C508: =IF((B508-B$4)<B$3,1,0) -> 1 | D508: =IF((B508-B$4)>B$3,1,0) -> 0 | E508: =('Power parameter'!B$7-'Power parameter'!H$10/2+('Power parameter'!B$6-'Power parameter'!B$12)/'Power parameter'!E$15*(B508-B$4))*C508 -> 0.46815905 | F508: =('Power parameter'!B$7+'Power parameter'!H$10/2-'Power parameter'!B$12/'Power parameter'!E$15*(B508-B$3-B$4))*D508 -> 0 | G508: =E508+F508 -> 0.46815905 | J508: 500 | K508: =E$4*2/1000*J508 -> 2.5571379e-05 | L508: =IF((K508-E$4)<B$1,1,0) -> 1 | M508: =IF((K508-E$4)>=B$1,1,0) -> 0 | N508: =('Power parameter'!B$6-'Power parameter'!B$13)/'Power parameter'!E$15*(K508-E$4)*L508 -> 0 | O508: =IF(((K508-E$4)-B$1-E$1)>0,0,('Power parameter'!K$8-'Power parameter'!B$13/'Power parameter'!E$15*((K508-E$4)-waves!B$1))*M508) -> 0 | P508: =N508+O508 -> 0 | S508: =B508*H$1+K508*H$2 -> 2.3891058e-05 | T508: =G508*H$1+P508*H$2 -> 0.46815905
A509: 501 | B509: =2*B$4/1000*A509 -> 2.393884e-05 | C509: =IF((B509-B$4)<B$3,1,0) -> 1 | D509: =IF((B509-B$4)>B$3,1,0) -> 0 | E509: =('Power parameter'!B$7-'Power parameter'!H$10/2+('Power parameter'!B$6-'Power parameter'!B$12)/'Power parameter'!E$15*(B509-B$4))*C509 -> 0.48980611 | F509: =('Power parameter'!B$7+'Power parameter'!H$10/2-'Power parameter'!B$12/'Power parameter'!E$15*(B509-B$3-B$4))*D509 -> 0 | G509: =E509+F509 -> 0.48980611 | J509: 501 | K509: =E$4*2/1000*J509 -> 2.5622521e-05 | L509: =IF((K509-E$4)<B$1,1,0) -> 1 | M509: =IF((K509-E$4)>=B$1,1,0) -> 0 | N509: =('Power parameter'!B$6-'Power parameter'!B$13)/'Power parameter'!E$15*(K509-E$4)*L509 -> 0.023169554 | O509: =IF(((K509-E$4)-B$1-E$1)>0,0,('Power parameter'!K$8-'Power parameter'!B$13/'Power parameter'!E$15*((K509-E$4)-waves!B$1))*M509) -> 0 | P509: =N509+O509 -> 0.023169554 | S509: =B509*H$1+K509*H$2 -> 2.393884e-05 | T509: =G509*H$1+P509*H$2 -> 0.48980611
A510: 502 | B510: =2*B$4/1000*A510 -> 2.3986622e-05 | C510: =IF((B510-B$4)<B$3,1,0) -> 1 | D510: =IF((B510-B$4)>B$3,1,0) -> 0 | E510: =('Power parameter'!B$7-'Power parameter'!H$10/2+('Power parameter'!B$6-'Power parameter'!B$12)/'Power parameter'!E$15*(B510-B$4))*C510 -> 0.51145317 | F510: =('Power parameter'!B$7+'Power parameter'!H$10/2-'Power parameter'!B$12/'Power parameter'!E$15*(B510-B$3-B$4))*D510 -> 0 | G510: =E510+F510 -> 0.51145317 | J510: 502 | K510: =E$4*2/1000*J510 -> 2.5673664e-05 | L510: =IF((K510-E$4)<B$1,1,0) -> 1 | M510: =IF((K510-E$4)>=B$1,1,0) -> 0 | N510: =('Power parameter'!B$6-'Power parameter'!B$13)/'Power parameter'!E$15*(K510-E$4)*L510 -> 0.046339107 | O510: =IF(((K510-E$4)-B$1-E$1)>0,0,('Power parameter'!K$8-'Power parameter'!B$13/'Power parameter'!E$15*((K510-E$4)-waves!B$1))*M510) -> 0 | P510: =N510+O510 -> 0.046339107 | S510: =B510*H$1+K510*H$2 -> 2.3986622e-05 | T510: =G510*H$1+P510*H$2 -> 0.51145317
A511: 503 | B511: =2*B$4/1000*A511 -> 2.4034404e-05 | C511: =IF((B511-B$4)<B$3,1,0) -> 1 | D511: =IF((B511-B$4)>B$3,1,0) -> 0 | E511: =('Power parameter'!B$7-'Power parameter'!H$10/2+('Power parameter'!B$6-'Power parameter'!B$12)/'Power parameter'!E$15*(B511-B$4))*C511 -> 0.53310023 | F511: =('Power parameter'!B$7+'Power parameter'!H$10/2-'Power parameter'!B$12/'Power parameter'!E$15*(B511-B$3-B$4))*D511 -> 0 | G511: =E511+F511 -> 0.53310023 | J511: 503 | K511: =E$4*2/1000*J511 -> 2.5724807e-05 | L511: =IF((K511-E$4)<B$1,1,0) -> 1 | M511: =IF((K511-E$4)>=B$1,1,0) -> 0 | N511: =('Power parameter'!B$6-'Power parameter'!B$13)/'Power parameter'!E$15*(K511-E$4)*L511 -> 0.069508661 | O511: =IF(((K511-E$4)-B$1-E$1)>0,0,('Power parameter'!K$8-'Power parameter'!B$13/'Power parameter'!E$15*((K511-E$4)-waves!B$1))*M511) -> 0 | P511: =N511+O511 -> 0.069508661 | S511: =B511*H$1+K511*H$2 -> 2.4034404e-05 | T511: =G511*H$1+P511*H$2 -> 0.53310023
A512: 504 | B512: =2*B$4/1000*A512 -> 2.4082186e-05 | C512: =IF((B512-B$4)<B$3,1,0) -> 1 | D512: =IF((B512-B$4)>B$3,1,0) -> 0 | E512: =('Power parameter'!B$7-'Power parameter'!H$10/2+('Power parameter'!B$6-'Power parameter'!B$12)/'Power parameter'!E$15*(B512-B$4))*C512 -> 0.55474729 | F512: =('Power parameter'!B$7+'Power parameter'!H$10/2-'Power parameter'!B$12/'Power parameter'!E$15*(B512-B$3-B$4))*D512 -> 0 | G512: =E512+F512 -> 0.55474729 | J512: 504 | K512: =E$4*2/1000*J512 -> 2.577595e-05 | L512: =IF((K512-E$4)<B$1,1,0) -> 1 | M512: =IF((K512-E$4)>=B$1,1,0) -> 0 | N512: =('Power parameter'!B$6-'Power parameter'!B$13)/'Power parameter'!E$15*(K512-E$4)*L512 -> 0.092678214 | O512: =IF(((K512-E$4)-B$1-E$1)>0,0,('Power parameter'!K$8-'Power parameter'!B$13/'Power parameter'!E$15*((K512-E$4)-waves!B$1))*M512) -> 0 | P512: =N512+O512 -> 0.092678214 | S512: =B512*H$1+K512*H$2 -> 2.4082186e-05 | T512: =G512*H$1+P512*H$2 -> 0.55474729
A513: 505 | B513: =2*B$4/1000*A513 -> 2.4129968e-05 | C513: =IF((B513-B$4)<B$3,1,0) -> 1 | D513: =IF((B513-B$4)>B$3,1,0) -> 0 | E513: =('Power parameter'!B$7-'Power parameter'!H$10/2+('Power parameter'!B$6-'Power parameter'!B$12)/'Power parameter'!E$15*(B513-B$4))*C513 -> 0.57639435 | F513: =('Power parameter'!B$7+'Power parameter'!H$10/2-'Power parameter'!B$12/'Power parameter'!E$15*(B513-B$3-B$4))*D513 -> 0 | G513: =E513+F513 -> 0.57639435 | J513: 505 | K513: =E$4*2/1000*J513 -> 2.5827092e-05 | L513: =IF((K513-E$4)<B$1,1,0) -> 1 | M513: =IF((K513-E$4)>=B$1,1,0) -> 0 | N513: =('Power parameter'!B$6-'Power parameter'!B$13)/'Power parameter'!E$15*(K513-E$4)*L513 -> 0.11584777 | O513: =IF(((K513-E$4)-B$1-E$1)>0,0,('Power parameter'!K$8-'Power parameter'!B$13/'Power parameter'!E$15*((K513-E$4)-waves!B$1))*M513) -> 0 | P513: =N513+O513 -> 0.11584777 | S513: =B513*H$1+K513*H$2 -> 2.4129968e-05 | T513: =G513*H$1+P513*H$2 -> 0.57639435
A514: 506 | B514: =2*B$4/1000*A514 -> 2.417775e-05 | C514: =IF((B514-B$4)<B$3,1,0) -> 1 | D514: =IF((B514-B$4)>B$3,1,0) -> 0 | E514: =('Power parameter'!B$7-'Power parameter'!H$10/2+('Power parameter'!B$6-'Power parameter'!B$12)/'Power parameter'!E$15*(B514-B$4))*C514 -> 0.59804141 | F514: =('Power parameter'!B$7+'Power parameter'!H$10/2-'Power parameter'!B$12/'Power parameter'!E$15*(B514-B$3-B$4))*D514 -> 0 | G514: =E514+F514 -> 0.59804141 | J514: 506 | K514: =E$4*2/1000*J514 -> 2.5878235e-05 | L514: =IF((K514-E$4)<B$1,1,0) -> 1 | M514: =IF((K514-E$4)>=B$1,1,0) -> 0 | N514: =('Power parameter'!B$6-'Power parameter'!B$13)/'Power parameter'!E$15*(K514-E$4)*L514 -> 0.13901732 | O514: =IF(((K514-E$4)-B$1-E$1)>0,0,('Power parameter'!K$8-'Power parameter'!B$13/'Power parameter'!E$15*((K514-E$4)-waves!B$1))*M514) -> 0 | P514: =N514+O514 -> 0.13901732 | S514: =B514*H$1+K514*H$2 -> 2.417775e-05 | T514: =G514*H$1+P514*H$2 -> 0.59804141
A515: 507 | B515: =2*B$4/1000*A515 -> 2.4225532e-05 | C515: =IF((B515-B$4)<B$3,1,0) -> 1 | D515: =IF((B515-B$4)>B$3,1,0) -> 0 | E515: =('Power parameter'!B$7-'Power parameter'!H$10/2+('Power parameter'!B$6-'Power parameter'!B$12)/'Power parameter'!E$15*(B515-B$4))*C515 -> 0.61968847 | F515: =('Power parameter'!B$7+'Power parameter'!H$10/2-'Power parameter'!B$12/'Power parameter'!E$15*(B515-B$3-B$4))*D515 -> 0 | G515: =E515+F515 -> 0.61968847 | J515: 507 | K515: =E$4*2/1000*J515 -> 2.5929378e-05 | L515: =IF((K515-E$4)<B$1,1,0) -> 1 | M515: =IF((K515-E$4)>=B$1,1,0) -> 0 | N515: =('Power parameter'!B$6-'Power parameter'!B$13)/'Power parameter'!E$15*(K515-E$4)*L515 -> 0.16218687 | O515: =IF(((K515-E$4)-B$1-E$1)>0,0,('Power parameter'!K$8-'Power parameter'!B$13/'Power parameter'!E$15*((K515-E$4)-waves!B$1))*M515) -> 0 | P515: =N515+O515 -> 0.16218687 | S515: =B515*H$1+K515*H$2 -> 2.4225532e-05 | T515: =G515*H$1+P515*H$2 -> 0.61968847
A516: 508 | B516: =2*B$4/1000*A516 -> 2.4273314e-05 | C516: =IF((B516-B$4)<B$3,1,0) -> 1 | D516: =IF((B516-B$4)>B$3,1,0) -> 0 | E516: =('Power parameter'!B$7-'Power parameter'!H$10/2+('Power parameter'!B$6-'Power parameter'!B$12)/'Power parameter'!E$15*(B516-B$4))*C516 -> 0.64133552 | F516: =('Power parameter'!B$7+'Power parameter'!H$10/2-'Power parameter'!B$12/'Power parameter'!E$15*(B516-B$3-B$4))*D516 -> 0 | G516: =E516+F516 -> 0.64133552 | J516: 508 | K516: =E$4*2/1000*J516 -> 2.5980521e-05 | L516: =IF((K516-E$4)<B$1,1,0) -> 1 | M516: =IF((K516-E$4)>=B$1,1,0) -> 0 | N516: =('Power parameter'!B$6-'Power parameter'!B$13)/'Power parameter'!E$15*(K516-E$4)*L516 -> 0.18535643 | O516: =IF(((K516-E$4)-B$1-E$1)>0,0,('Power parameter'!K$8-'Power parameter'!B$13/'Power parameter'!E$15*((K516-E$4)-waves!B$1))*M516) -> 0 | P516: =N516+O516 -> 0.18535643 | S516: =B516*H$1+K516*H$2 -> 2.4273314e-05 | T516: =G516*H$1+P516*H$2 -> 0.64133552
A517: 509 | B517: =2*B$4/1000*A517 -> 2.4321097e-05 | C517: =IF((B517-B$4)<B$3,1,0) -> 1 | D517: =IF((B517-B$4)>B$3,1,0) -> 0 | E517: =('Power parameter'!B$7-'Power parameter'!H$10/2+('Power parameter'!B$6-'Power parameter'!B$12)/'Power parameter'!E$15*(B517-B$4))*C517 -> 0.66298258 | F517: =('Power parameter'!B$7+'Power parameter'!H$10/2-'Power parameter'!B$12/'Power parameter'!E$15*(B517-B$3-B$4))*D517 -> 0 | G517: =E517+F517 -> 0.66298258 | J517: 509 | K517: =E$4*2/1000*J517 -> 2.6031663e-05 | L517: =IF((K517-E$4)<B$1,1,0) -> 1 | M517: =IF((K517-E$4)>=B$1,1,0) -> 0 | N517: =('Power parameter'!B$6-'Power parameter'!B$13)/'Power parameter'!E$15*(K517-E$4)*L517 -> 0.20852598 | O517: =IF(((K517-E$4)-B$1-E$1)>0,0,('Power parameter'!K$8-'Power parameter'!B$13/'Power parameter'!E$15*((K517-E$4)-waves!B$1))*M517) -> 0 | P517: =N517+O517 -> 0.20852598 | S517: =B517*H$1+K517*H$2 -> 2.4321097e-05 | T517: =G517*H$1+P517*H$2 -> 0.66298258
A518: 510 | B518: =2*B$4/1000*A518 -> 2.4368879e-05 | C518: =IF((B518-B$4)<B$3,1,0) -> 1 | D518: =IF((B518-B$4)>B$3,1,0) -> 0 | E518: =('Power parameter'!B$7-'Power parameter'!H$10/2+('Power parameter'!B$6-'Power parameter'!B$12)/'Power parameter'!E$15*(B518-B$4))*C518 -> 0.68462964 | F518: =('Power parameter'!B$7+'Power parameter'!H$10/2-'Power parameter'!B$12/'Power parameter'!E$15*(B518-B$3-B$4))*D518 -> 0 | G518: =E518+F518 -> 0.68462964 | J518: 510 | K518: =E$4*2/1000*J518 -> 2.6082806e-05 | L518: =IF((K518-E$4)<B$1,1,0) -> 1 | M518: =IF((K518-E$4)>=B$1,1,0) -> 0 | N518: =('Power parameter'!B$6-'Power parameter'!B$13)/'Power parameter'!E$15*(K518-E$4)*L518 -> 0.23169554 | O518: =IF(((K518-E$4)-B$1-E$1)>0,0,('Power parameter'!K$8-'Power parameter'!B$13/'Power parameter'!E$15*((K518-E$4)-waves!B$1))*M518) -> 0 | P518: =N518+O518 -> 0.23169554 | S518: =B518*H$1+K518*H$2 -> 2.4368879e-05 | T518: =G518*H$1+P518*H$2 -> 0.68462964
A519: 511 | B519: =2*B$4/1000*A519 -> 2.4416661e-05 | C519: =IF((B519-B$4)<B$3,1,0) -> 1 | D519: =IF((B519-B$4)>B$3,1,0) -> 0 | E519: =('Power parameter'!B$7-'Power parameter'!H$10/2+('Power parameter'!B$6-'Power parameter'!B$12)/'Power parameter'!E$15*(B519-B$4))*C519 -> 0.7062767 | F519: =('Power parameter'!B$7+'Power parameter'!H$10/2-'Power parameter'!B$12/'Power parameter'!E$15*(B519-B$3-B$4))*D519 -> 0 | G519: =E519+F519 -> 0.7062767 | J519: 511 | K519: =E$4*2/1000*J519 -> 2.6133949e-05 | L519: =IF((K519-E$4)<B$1,1,0) -> 1 | M519: =IF((K519-E$4)>=B$1,1,0) -> 0 | N519: =('Power parameter'!B$6-'Power parameter'!B$13)/'Power parameter'!E$15*(K519-E$4)*L519 -> 0.25486509 | O519: =IF(((K519-E$4)-B$1-E$1)>0,0,('Power parameter'!K$8-'Power parameter'!B$13/'Power parameter'!E$15*((K519-E$4)-waves!B$1))*M519) -> 0 | P519: =N519+O519 -> 0.25486509 | S519: =B519*H$1+K519*H$2 -> 2.4416661e-05 | T519: =G519*H$1+P519*H$2 -> 0.7062767
... A1007: 999 | B1007: =2*B$4/1000*A1007 -> 4.7734333e-05 | C1007: =IF((B1007-B$4)<B$3,1,0) -> 0 | D1007: =IF((B1007-B$4)>B$3,1,0) -> 1 | E1007: =('Power parameter'!B$7-'Power parameter'!H$10/2+('Power parameter'!B$6-'Power parameter'!B$12)/'Power parameter'!E$15*(B1007-B$4))*C1007 -> 0 | F1007: =('Power parameter'!B$7+'Power parameter'!H$10/2-'Power parameter'!B$12/'Power parameter'!E$15*(B1007-B$3-B$4))*D1007 -> 0.4689977 | G1007: =E1007+F1007 -> 0.4689977 | J1007: 999 | K1007: =E$4*2/1000*J1007 -> 5.1091614e-05 | L1007: =IF((K1007-E$4)<B$1,1,0) -> 0 | M1007: =IF((K1007-E$4)>=B$1,1,0) -> 1 | N1007: =('Power parameter'!B$6-'Power parameter'!B$13)/'Power parameter'!E$15*(K1007-E$4)*L1007 -> 0 | O1007: =IF(((K1007-E$4)-B$1-E$1)>0,0,('Power parameter'!K$8-'Power parameter'!B$13/'Power parameter'!E$15*((K1007-E$4)-waves!B$1))*M1007) -> 0.34282378 | P1007: =N1007+O1007 -> 0.34282378 | S1007: =B1007*H$1+K1007*H$2 -> 4.7734333e-05 | T1007: =G1007*H$1+P1007*H$2 -> 0.4689977

Sheet LOOP GAIN FOR BUCK
B1: Basic Value | E1: Parameters | H1: Calculated Parameters | K1: Hz | Q1: f(KHz) | R1: f | S1: ω | T1: ωn_R | U1: ωn_I | V1: ARC | W1: Deg | X1: Gain | Y1: ωp_R | Z1: ωp_I | AA1: ARC | AB1: Deg | AC1: Gain | AD1: ωpesr_R | AE1: ωpesr_I | AF1: ARC | AG1: Deg/n | AH1: Gain/n | AI1: ωR_R | AJ1: ωR_I | AK1: ARC | AL1: Deg | AM1: Gain | AN1: ωze_R | AO1: ωze_I | AP1: ARC | AQ1: Deg | AR1: Gain | AS1: ωzc_R | AT1: ωzc_I | AU1: ARC | AV1: Deg/n | AW1: Gain/n | AX1: Converter Deg | AY1: Converter Gain | AZ1: Converter Gain(DB)
B2: T | C2: ='Power parameter'!K20 -> 2.3891058e-05 | E2: Ri | F2: =C5*C8 -> 0.231663 | H2: 1/ωn | I2: =C2/3.14 -> 7.608617e-06 | J2: fn | K2: =1/I2/6.28 -> 20928.333 | Q2: =R2/1000 -> 0.001 | R2: 1 | S2: =R2*6.28 -> 6.28 | T2: =1-S2*S2*I$2*I$2 -> 1 | U2: =S2*I$2/F$8 -> 7.5017921e-05 | V2: =ATAN2(T2,U2) -> 7.5017921e-05 | W2: =DEGREES(V2) -> 0.0042982102 | X2: =SQRT(T2^2+U2^2) -> 1 | Y2: 1 | Z2: =S2*I$4 -> 0.028213856 | AA2: =ATAN2(Y2,Z2) -> 0.028206373 | AB2: =DEGREES(AA2) -> 1.6161061 | AC2: =SQRT(Y2^2+Z2^2) -> 1.0003979 | AD2: 1 | AE2: =S2*I$5 -> 1.0362e-06 | AF2: =ATAN2(AD2,AE2) -> 1.0362e-06 | AG2: =DEGREES(AF2) -> 5.9369887e-05 | AH2: =SQRT(AD2^2+AE2^2) -> 1 | AI2: 1 | AJ2: =-1*S2*I$3 -> 0 | AK2: =ATAN2(AI2,AJ2) -> 0 | AL2: =DEGREES(AK2) -> 0 | AM2: =SQRT(AI2^2+AJ2^2) -> 1 | AN2: 1 | AO2: =S2*I$6 -> 0.00010362 | AP2: =ATAN2(AN2,AO2) -> 0.00010362 | AQ2: =DEGREES(AP2) -> 0.0059369887 | AR2: =SQRT(AN2^2+AO2^2) -> 1 | AS2: 1 | AT2: =S2*I$7 -> 1.0362e-08 | AU2: =ATAN2(AS2,AT2) -> 1.0362e-08 | AV2: =DEGREES(AU2) -> 5.9369887e-07 | AW2: =SQRT(AS2^2+AT2^2) -> 1 | AX2: =AQ2-W2-AB2 -> -1.6144674 | AY2: =MAX(1E-25,F$12*AM2*AR2/X2/AC2) -> 58.743444 | AZ2: =20*LOG(AY2) -> 35.379188
B3: D' | C3: =1-C4 -> 0.9627033 | E3: K | F3: =-0.5*F2*C2*C3*C4/C7 -> -0.00014612212 | H3: 1/ωR | I3: 0 | J3: fR | K3: =1/I3/6.28 -> #DIV/0! | Q3: =R3/1000 -> 0.002 | R3: =1+R2 -> 2 | S3: =R3*6.28 -> 12.56 | T3: =1-S3*S3*I$2*I$2 -> 0.99999999 | U3: =S3*I$2/F$8 -> 0.00015003584 | V3: =ATAN2(T3,U3) -> 0.00015003584 | W3: =DEGREES(V3) -> 0.0085964205 | X3: =SQRT(T3^2+U3^2) -> 1 | Y3: 1 | Z3: =S3*I$4 -> 0.056427712 | AA3: =ATAN2(Y3,Z3) -> 0.056367936 | AB3: =DEGREES(AA3) -> 3.2296448 | AC3: =SQRT(Y3^2+Z3^2) -> 1.0015908 | AD3: 1 | AE3: =S3*I$5 -> 2.0724e-06 | AF3: =ATAN2(AD3,AE3) -> 2.0724e-06 | AG3: =DEGREES(AF3) -> 0.00011873977 | AH3: =SQRT(AD3^2+AE3^2) -> 1 | AI3: 1 | AJ3: =-1*S3*I$3 -> 0 | AK3: =ATAN2(AI3,AJ3) -> 0 | AL3: =DEGREES(AK3) -> 0 | AM3: =SQRT(AI3^2+AJ3^2) -> 1 | AN3: 1 | AO3: =S3*I$6 -> 0.00020724 | AP3: =ATAN2(AN3,AO3) -> 0.00020724 | AQ3: =DEGREES(AP3) -> 0.011873977 | AR3: =SQRT(AN3^2+AO3^2) -> 1 | AS3: 1 | AT3: =S3*I$7 -> 2.0724e-08 | AU3: =ATAN2(AS3,AT3) -> 2.0724e-08 | AV3: =DEGREES(AU3) -> 1.1873977e-06 | AW3: =SQRT(AS3^2+AT3^2) -> 1 | AX3: =AQ3-W3-AB3 -> -3.2263673 | AY3: =MAX(1E-25,F$12*AM3*AR3/X3/AC3) -> 58.673484 | AZ3: =20*LOG(AY3) -> 35.368838
B4: D | C4: ='Power parameter'!K19 -> 0.037296697 | E4: Se | F4: =C4/C3*F6 -> 4066.0069 | H4: 1/ωp | I4: =C16*C6/F11 -> 0.0044926522 | J4: fp | K4: =1/I4/6.28 -> 35.443578 | Q4: =R4/1000 -> 0.003 | R4: =1+R3 -> 3 | S4: =R4*6.28 -> 18.84 | T4: =1-S4*S4*I$2*I$2 -> 0.99999998 | U4: =S4*I$2/F$8 -> 0.00022505376 | V4: =ATAN2(T4,U4) -> 0.00022505376 | W4: =DEGREES(V4) -> 0.012894631 | X4: =SQRT(T4^2+U4^2) -> 1 | Y4: 1 | Z4: =S4*I$4 -> 0.084641568 | AA4: =ATAN2(Y4,Z4) -> 0.084440303 | AB4: =DEGREES(AA4) -> 4.838073 | AC4: =SQRT(Y4^2+Z4^2) -> 1.0035757 | AD4: 1 | AE4: =S4*I$5 -> 3.1086e-06 | AF4: =ATAN2(AD4,AE4) -> 3.1086e-06 | AG4: =DEGREES(AF4) -> 0.00017810966 | AH4: =SQRT(AD4^2+AE4^2) -> 1 | AI4: 1 | AJ4: =-1*S4*I$3 -> 0 | AK4: =ATAN2(AI4,AJ4) -> 0 | AL4: =DEGREES(AK4) -> 0 | AM4: =SQRT(AI4^2+AJ4^2) -> 1 | AN4: 1 | AO4: =S4*I$6 -> 0.00031086 | AP4: =ATAN2(AN4,AO4) -> 0.00031085999 | AQ4: =DEGREES(AP4) -> 0.017810965 | AR4: =SQRT(AN4^2+AO4^2) -> 1 | AS4: 1 | AT4: =S4*I$7 -> 3.1086e-08 | AU4: =ATAN2(AS4,AT4) -> 3.1086e-08 | AV4: =DEGREES(AU4) -> 1.7810966e-06 | AW4: =SQRT(AS4^2+AT4^2) -> 1 | AX4: =AQ4-W4-AB4 -> -4.8331566 | AY4: =MAX(1E-25,F$12*AM4*AR4/X4/AC4) -> 58.557438 | AZ4: =20*LOG(AY4) -> 35.351641
B5: Rs | C5: 0.093 | E5: Vap | F5: ='Power parameter'!K18 -> 320 | G5: (Resr_E+Resr)*(Co_E*Co_C)/(Co_E+Co_C) | H5: 1/ωp_esr | I5: =(C14+C15)*C12*C13/(C12+C13) -> 1.65e-07 | J5: fp_esr | K5: =1/I5/6.28 -> 965064.66 | Q5: =R5/1000 -> 0.004 | R5: =1+R4 -> 4 | S5: =R5*6.28 -> 25.12 | T5: =1-S5*S5*I$2*I$2 -> 0.99999996 | U5: =S5*I$2/F$8 -> 0.00030007168 | V5: =ATAN2(T5,U5) -> 0.00030007168 | W5: =DEGREES(V5) -> 0.017192841 | X5: =SQRT(T5^2+U5^2) -> 1 | Y5: 1 | Z5: =S5*I$4 -> 0.11285542 | AA5: =ATAN2(Y5,Z5) -> 0.11237993 | AB5: =DEGREES(AA5) -> 6.4388957 | AC5: =SQRT(Y5^2+Z5^2) -> 1.006348 | AD5: 1 | AE5: =S5*I$5 -> 4.1448e-06 | AF5: =ATAN2(AD5,AE5) -> 4.1448e-06 | AG5: =DEGREES(AF5) -> 0.00023747955 | AH5: =SQRT(AD5^2+AE5^2) -> 1 | AI5: 1 | AJ5: =-1*S5*I$3 -> 0 | AK5: =ATAN2(AI5,AJ5) -> 0 | AL5: =DEGREES(AK5) -> 0 | AM5: =SQRT(AI5^2+AJ5^2) -> 1 | AN5: 1 | AO5: =S5*I$6 -> 0.00041448 | AP5: =ATAN2(AN5,AO5) -> 0.00041447998 | AQ5: =DEGREES(AP5) -> 0.023747953 | AR5: =SQRT(AN5^2+AO5^2) -> 1.0000001 | AS5: 1 | AT5: =S5*I$7 -> 4.1448e-08 | AU5: =ATAN2(AS5,AT5) -> 4.1448e-08 | AV5: =DEGREES(AU5) -> 2.3747955e-06 | AW5: =SQRT(AS5^2+AT5^2) -> 1 | AX5: =AQ5-W5-AB5 -> -6.4323406 | AY5: =MAX(1E-25,F$12*AM5*AR5/X5/AC5) -> 58.396124 | AZ5: =20*LOG(AY5) -> 35.32768
B6: Ro | C6: ='Power parameter'!B12/'Power parameter'!B5 -> 17.893468 | E6: Sn | F6: =F5*C3*F2/C7 -> 104951.88 | G6: (Resr_E*Co_E) | H6: 1/ωz_esr_E | I6: =C12*C14 -> 1.65e-05 | J6: fz_e | K6: =1/I6/6.28 -> 9650.6466 | Q6: =R6/1000 -> 0.005 | R6: =1+R5 -> 5 | S6: =R6*6.28 -> 31.4 | T6: =1-S6*S6*I$2*I$2 -> 0.99999994 | U6: =S6*I$2/F$8 -> 0.0003750896 | V6: =ATAN2(T6,U6) -> 0.00037508961 | W6: =DEGREES(V6) -> 0.021491051 | X6: =SQRT(T6^2+U6^2) -> 1 | Y6: 1 | Z6: =S6*I$4 -> 0.14106928 | AA6: =ATAN2(Y6,Z6) -> 0.14014451 | AB6: =DEGREES(AA6) -> 8.029689 | AC6: =SQRT(Y6^2+Z6^2) -> 1.0099013 | AD6: 1 | AE6: =S6*I$5 -> 5.181e-06 | AF6: =ATAN2(AD6,AE6) -> 5.181e-06 | AG6: =DEGREES(AF6) -> 0.00029684943 | AH6: =SQRT(AD6^2+AE6^2) -> 1 | AI6: 1 | AJ6: =-1*S6*I$3 -> 0 | AK6: =ATAN2(AI6,AJ6) -> 0 | AL6: =DEGREES(AK6) -> 0 | AM6: =SQRT(AI6^2+AJ6^2) -> 1 | AN6: 1 | AO6: =S6*I$6 -> 0.0005181 | AP6: =ATAN2(AN6,AO6) -> 0.00051809995 | AQ6: =DEGREES(AP6) -> 0.029684941 | AR6: =SQRT(AN6^2+AO6^2) -> 1.0000001 | AS6: 1 | AT6: =S6*I$7 -> 5.181e-08 | AU6: =ATAN2(AS6,AT6) -> 5.181e-08 | AV6: =DEGREES(AU6) -> 2.9684943e-06 | AW6: =SQRT(AS6^2+AT6^2) -> 1 | AX6: =AQ6-W6-AB6 -> -8.0214952 | AY6: =MAX(1E-25,F$12*AM6*AR6/X6/AC6) -> 58.190666 | AZ6: =20*LOG(AY6) -> 35.297067
B7: L | C7: ='Power parameter'!E15 -> 0.00068 | E7: mc | F7: =1+F4/F6 -> 1.0387416 | G7: (Resr_C*Co_C) | H7: 1/ωz_esr_C | I7: =C13*C15 -> 1.65e-09 | J7: fz_c | K7: =1/I7/6.28 -> 96506466 | Q7: =R7/1000 -> 0.006 | R7: =1+R6 -> 6 | S7: =R7*6.28 -> 37.68 | T7: =1-S7*S7*I$2*I$2 -> 0.99999992 | U7: =S7*I$2/F$8 -> 0.00045010752 | V7: =ATAN2(T7,U7) -> 0.00045010753 | W7: =DEGREES(V7) -> 0.025789262 | X7: =SQRT(T7^2+U7^2) -> 1 | Y7: 1 | Z7: =S7*I$4 -> 0.16928314 | AA7: =ATAN2(Y7,Z7) -> 0.16769335 | AB7: =DEGREES(AA7) -> 9.608121 | AC7: =SQRT(Y7^2+Z7^2) -> 1.0142272 | AD7: 1 | AE7: =S7*I$5 -> 6.2172e-06 | AF7: =ATAN2(AD7,AE7) -> 6.2172e-06 | AG7: =DEGREES(AF7) -> 0.00035621932 | AH7: =SQRT(AD7^2+AE7^2) -> 1 | AI7: 1 | AJ7: =-1*S7*I$3 -> 0 | AK7: =ATAN2(AI7,AJ7) -> 0 | AL7: =DEGREES(AK7) -> 0 | AM7: =SQRT(AI7^2+AJ7^2) -> 1 | AN7: 1 | AO7: =S7*I$6 -> 0.00062172 | AP7: =ATAN2(AN7,AO7) -> 0.00062171992 | AQ7: =DEGREES(AP7) -> 0.035621927 | AR7: =SQRT(AN7^2+AO7^2) -> 1.0000002 | AS7: 1 | AT7: =S7*I$7 -> 6.2172e-08 | AU7: =ATAN2(AS7,AT7) -> 6.2172e-08 | AV7: =DEGREES(AU7) -> 3.5621932e-06 | AW7: =SQRT(AS7^2+AT7^2) -> 1 | AX7: =AQ7-W7-AB7 -> -9.5982883 | AY7: =MAX(1E-25,F$12*AM7*AR7/X7/AC7) -> 57.942471 | AZ7: =20*LOG(AY7) -> 35.25994
B8: Gi | C8: =2.491 -> 2.491 | E8: Q | F8: =2/3.14 -> 0.63694268 | H8: 1/ωl | I8: =C7/F9/C8/C5 -> 1.1945529e-05 | Q8: =R8/1000 -> 0.007 | R8: =1+R7 -> 7 | S8: =R8*6.28 -> 43.96 | T8: =1-S8*S8*I$2*I$2 -> 0.99999989 | U8: =S8*I$2/F$8 -> 0.00052512544 | V8: =ATAN2(T8,U8) -> 0.00052512545 | W8: =DEGREES(V8) -> 0.030087472 | X8: =SQRT(T8^2+U8^2) -> 1 | Y8: 1 | Z8: =S8*I$4 -> 0.19749699 | AA8: =ATAN2(Y8,Z8) -> 0.19498767 | AB8: =DEGREES(AA8) -> 11.17197 | AC8: =SQRT(Y8^2+Z8^2) -> 1.019316 | AD8: 1 | AE8: =S8*I$5 -> 7.2534e-06 | AF8: =ATAN2(AD8,AE8) -> 7.2534e-06 | AG8: =DEGREES(AF8) -> 0.00041558921 | AH8: =SQRT(AD8^2+AE8^2) -> 1 | AI8: 1 | AJ8: =-1*S8*I$3 -> 0 | AK8: =ATAN2(AI8,AJ8) -> 0 | AL8: =DEGREES(AK8) -> 0 | AM8: =SQRT(AI8^2+AJ8^2) -> 1 | AN8: 1 | AO8: =S8*I$6 -> 0.00072534 | AP8: =ATAN2(AN8,AO8) -> 0.00072533987 | AQ8: =DEGREES(AP8) -> 0.041558913 | AR8: =SQRT(AN8^2+AO8^2) -> 1.0000003 | AS8: 1 | AT8: =S8*I$7 -> 7.2534e-08 | AU8: =ATAN2(AS8,AT8) -> 7.2534e-08 | AV8: =DEGREES(AU8) -> 4.1558921e-06 | AW8: =SQRT(AS8^2+AT8^2) -> 1 | AX8: =AQ8-W8-AB8 -> -11.160499 | AY8: =MAX(1E-25,F$12*AM8*AR8/X8/AC8) -> 57.653205 | AZ8: =20*LOG(AY8) -> 35.216469
B9: Vsl | C9: =F4*C2 -> 0.097141204 | E9: Km | F9: =1/((0.5-C4)*F2*C2/C7+C9/F5) -> 245.72359 | Q9: =R9/1000 -> 0.008 | R9: =1+R8 -> 8 | S9: =R9*6.28 -> 50.24 | T9: =1-S9*S9*I$2*I$2 -> 0.99999985 | U9: =S9*I$2/F$8 -> 0.00060014337 | V9: =ATAN2(T9,U9) -> 0.00060014338 | W9: =DEGREES(V9) -> 0.034385683 | X9: =SQRT(T9^2+U9^2) -> 1 | Y9: 1 | Z9: =S9*I$4 -> 0.22571085 | AA9: =ATAN2(Y9,Z9) -> 0.22199093 | AB9: =DEGREES(AA9) -> 12.719144 | AC9: =SQRT(Y9^2+Z9^2) -> 1.0251563 | AD9: 1 | AE9: =S9*I$5 -> 8.2896e-06 | AF9: =ATAN2(AD9,AE9) -> 8.2896e-06 | AG9: =DEGREES(AF9) -> 0.00047495909 | AH9: =SQRT(AD9^2+AE9^2) -> 1 | AI9: 1 | AJ9: =-1*S9*I$3 -> 0 | AK9: =ATAN2(AI9,AJ9) -> 0 | AL9: =DEGREES(AK9) -> 0 | AM9: =SQRT(AI9^2+AJ9^2) -> 1 | AN9: 1 | AO9: =S9*I$6 -> 0.00082896 | AP9: =ATAN2(AN9,AO9) -> 0.00082895981 | AQ9: =DEGREES(AP9) -> 0.047495899 | AR9: =SQRT(AN9^2+AO9^2) -> 1.0000003 | AS9: 1 | AT9: =S9*I$7 -> 8.2896e-08 | AU9: =ATAN2(AS9,AT9) -> 8.2896e-08 | AV9: =DEGREES(AU9) -> 4.7495909e-06 | AW9: =SQRT(AS9^2+AT9^2) -> 1 | AX9: =AQ9-W9-AB9 -> -12.706033 | AY9: =MAX(1E-25,F$12*AM9*AR9/X9/AC9) -> 57.32476 | AZ9: =20*LOG(AY9) -> 35.166845
B10: Vo | C10: ='Power parameter'!B12 -> 11.934943 | E10: K | F10: =0.5*F2*C2*C3*C4/C7 -> 0.00014612212 | Q10: =R10/1000 -> 0.009 | R10: =1+R9 -> 9 | S10: =R10*6.28 -> 56.52 | T10: =1-S10*S10*I$2*I$2 -> 0.99999982 | U10: =S10*I$2/F$8 -> 0.00067516129 | V10: =ATAN2(T10,U10) -> 0.00067516131 | W10: =DEGREES(V10) -> 0.038683893 | X10: =SQRT(T10^2+U10^2) -> 1 | Y10: 1 | Z10: =S10*I$4 -> 0.2539247 | AA10: =ATAN2(Y10,Z10) -> 0.24866908 | AB10: =DEGREES(AA10) -> 14.247689 | AC10: =SQRT(Y10^2+Z10^2) -> 1.0317353 | AD10: 1 | AE10: =S10*I$5 -> 9.3258e-06 | AF10: =ATAN2(AD10,AE10) -> 9.3258e-06 | AG10: =DEGREES(AF10) -> 0.00053432898 | AH10: =SQRT(AD10^2+AE10^2) -> 1 | AI10: 1 | AJ10: =-1*S10*I$3 -> 0 | AK10: =ATAN2(AI10,AJ10) -> 0 | AL10: =DEGREES(AK10) -> 0 | AM10: =SQRT(AI10^2+AJ10^2) -> 1 | AN10: 1 | AO10: =S10*I$6 -> 0.00093258 | AP10: =ATAN2(AN10,AO10) -> 0.00093257973 | AQ10: =DEGREES(AP10) -> 0.053432883 | AR10: =SQRT(AN10^2+AO10^2) -> 1.0000004 | AS10: 1 | AT10: =S10*I$7 -> 9.3258e-08 | AU10: =ATAN2(AS10,AT10) -> 9.3258e-08 | AV10: =DEGREES(AU10) -> 5.3432898e-06 | AW10: =SQRT(AS10^2+AT10^2) -> 1 | AX10: =AQ10-W10-AB10 -> -14.23294 | AY10: =MAX(1E-25,F$12*AM10*AR10/X10/AC10) -> 56.959223 | AZ10: =20*LOG(AY10) -> 35.111281
B11: R | C11: =C6 -> 17.893468 | E11: KD | F11: =1+C6/F9/F2 -> 1.3143337 | Q11: =R11/1000 -> 0.01 | R11: =1+R10 -> 10 | S11: =R11*6.28 -> 62.8 | T11: =1-S11*S11*I$2*I$2 -> 0.99999977 | U11: =S11*I$2/F$8 -> 0.00075017921 | V11: =ATAN2(T11,U11) -> 0.00075017924 | W11: =DEGREES(V11) -> 0.042982104 | X11: =SQRT(T11^2+U11^2) -> 1.0000001 | Y11: 1 | Z11: =S11*I$4 -> 0.28213856 | AA11: =ATAN2(Y11,Z11) -> 0.27499069 | AB11: =DEGREES(AA11) -> 15.755806 | AC11: =SQRT(Y11^2+Z11^2) -> 1.0390391 | AD11: 1 | AE11: =S11*I$5 -> 1.0362e-05 | AF11: =ATAN2(AD11,AE11) -> 1.0362e-05 | AG11: =DEGREES(AF11) -> 0.00059369887 | AH11: =SQRT(AD11^2+AE11^2) -> 1 | AI11: 1 | AJ11: =-1*S11*I$3 -> 0 | AK11: =ATAN2(AI11,AJ11) -> 0 | AL11: =DEGREES(AK11) -> 0 | AM11: =SQRT(AI11^2+AJ11^2) -> 1 | AN11: 1 | AO11: =S11*I$6 -> 0.0010362 | AP11: =ATAN2(AN11,AO11) -> 0.0010361996 | AQ11: =DEGREES(AP11) -> 0.059369865 | AR11: =SQRT(AN11^2+AO11^2) -> 1.0000005 | AS11: 1 | AT11: =S11*I$7 -> 1.0362e-07 | AU11: =ATAN2(AS11,AT11) -> 1.0362e-07 | AV11: =DEGREES(AU11) -> 5.9369887e-06 | AW11: =SQRT(AS11^2+AT11^2) -> 1 | AX11: =AQ11-W11-AB11 -> -15.739418 | AY11: =MAX(1E-25,F$12*AM11*AR11/X11/AC11) -> 56.558844 | AZ11: =20*LOG(AY11) -> 35.05001
B12: Co_E | C12: ='Power parameter'!B21 -> 0.00033 | E12: Gdc | F12: =C6/F2/F11 -> 58.766819 | G12: =20*LOG(F12) -> 35.382644 | Q12: =R12/1000 -> 0.02 | R12: =10+R11 -> 20 | S12: =R12*6.28 -> 125.6 | T12: =1-S12*S12*I$2*I$2 -> 0.99999909 | U12: =S12*I$2/F$8 -> 0.0015003584 | V12: =ATAN2(T12,U12) -> 0.0015003587 | W12: =DEGREES(V12) -> 0.085964219 | X12: =SQRT(T12^2+U12^2) -> 1.0000002 | Y12: 1 | Z12: =S12*I$4 -> 0.56427712 | AA12: =ATAN2(Y12,Z12) -> 0.51373841 | AB12: =DEGREES(AA12) -> 29.435043 | AC12: =SQRT(Y12^2+Z12^2) -> 1.1482198 | AD12: 1 | AE12: =S12*I$5 -> 2.0724e-05 | AF12: =ATAN2(AD12,AE12) -> 2.0724e-05 | AG12: =DEGREES(AF12) -> 0.0011873977 | AH12: =SQRT(AD12^2+AE12^2) -> 1 | AI12: 1 | AJ12: =-1*S12*I$3 -> 0 | AK12: =ATAN2(AI12,AJ12) -> 0 | AL12: =DEGREES(AK12) -> 0 | AM12: =SQRT(AI12^2+AJ12^2) -> 1 | AN12: 1 | AO12: =S12*I$6 -> 0.0020724 | AP12: =ATAN2(AN12,AO12) -> 0.002072397 | AQ12: =DEGREES(AP12) -> 0.1187396 | AR12: =SQRT(AN12^2+AO12^2) -> 1.0000021 | AS12: 1 | AT12: =S12*I$7 -> 2.0724e-07 | AU12: =ATAN2(AS12,AT12) -> 2.0724e-07 | AV12: =DEGREES(AU12) -> 1.1873977e-05 | AW12: =SQRT(AS12^2+AT12^2) -> 1 | AX12: =AQ12-W12-AB12 -> -29.402267 | AY12: =MAX(1E-25,F$12*AM12*AR12/X12/AC12) -> 51.18091 | AZ12: =20*LOG(AY12) -> 34.18216
B13: Co_C | C13: =C12/100 -> 3.3e-06 | Q13: =R13/1000 -> 0.03 | R13: =10+R12 -> 30 | S13: =R13*6.28 -> 188.4 | T13: =1-S13*S13*I$2*I$2 -> 0.99999795 | U13: =S13*I$2/F$8 -> 0.0022505376 | V13: =ATAN2(T13,U13) -> 0.0022505384 | W13: =DEGREES(V13) -> 0.12894635 | X13: =SQRT(T13^2+U13^2) -> 1.0000005 | Y13: 1 | Z13: =S13*I$4 -> 0.84641568 | AA13: =ATAN2(Y13,Z13) -> 0.7024095 | AB13: =DEGREES(AA13) -> 40.2451 | AC13: =SQRT(Y13^2+Z13^2) -> 1.3101219 | AD13: 1 | AE13: =S13*I$5 -> 3.1086e-05 | AF13: =ATAN2(AD13,AE13) -> 3.1086e-05 | AG13: =DEGREES(AF13) -> 0.0017810966 | AH13: =SQRT(AD13^2+AE13^2) -> 1 | AI13: 1 | AJ13: =-1*S13*I$3 -> 0 | AK13: =ATAN2(AI13,AJ13) -> 0 | AL13: =DEGREES(AK13) -> 0 | AM13: =SQRT(AI13^2+AJ13^2) -> 1 | AN13: 1 | AO13: =S13*I$6 -> 0.0031086 | AP13: =ATAN2(AN13,AO13) -> 0.00310859 | AQ13: =DEGREES(AP13) -> 0.17810909 | AR13: =SQRT(AN13^2+AO13^2) -> 1.0000048 | AS13: 1 | AT13: =S13*I$7 -> 3.1086e-07 | AU13: =ATAN2(AS13,AT13) -> 3.1086e-07 | AV13: =DEGREES(AU13) -> 1.7810966e-05 | AW13: =SQRT(AS13^2+AT13^2) -> 1 | AX13: =AQ13-W13-AB13 -> -40.195937 | AY13: =MAX(1E-25,F$12*AM13*AR13/X13/AC13) -> 44.856187 | AZ13: =20*LOG(AY13) -> 33.036447
B14: Resr_E | C14: ='Design tool'!B39/1000 -> 0.05 | Q14: =R14/1000 -> 0.04 | R14: =10+R13 -> 40 | S14: =R14*6.28 -> 251.2 | T14: =1-S14*S14*I$2*I$2 -> 0.99999635 | U14: =S14*I$2/F$8 -> 0.0030007168 | V14: =ATAN2(T14,U14) -> 0.0030007188 | W14: =DEGREES(V14) -> 0.17192852 | X14: =SQRT(T14^2+U14^2) -> 1.0000008 | Y14: 1 | Z14: =S14*I$4 -> 1.1285542 | AA14: =ATAN2(Y14,Z14) -> 0.84571999 | AB14: =DEGREES(AA14) -> 48.456186 | AC14: =SQRT(Y14^2+Z14^2) -> 1.5078576 | AD14: 1 | AE14: =S14*I$5 -> 4.1448e-05 | AF14: =ATAN2(AD14,AE14) -> 4.1448e-05 | AG14: =DEGREES(AF14) -> 0.0023747955 | AH14: =SQRT(AD14^2+AE14^2) -> 1 | AI14: 1 | AJ14: =-1*S14*I$3 -> 0 | AK14: =ATAN2(AI14,AJ14) -> 0 | AL14: =DEGREES(AK14) -> 0 | AM14: =SQRT(AI14^2+AJ14^2) -> 1 | AN14: 1 | AO14: =S14*I$6 -> 0.0041448 | AP14: =ATAN2(AN14,AO14) -> 0.0041447763 | AQ14: =DEGREES(AP14) -> 0.23747819 | AR14: =SQRT(AN14^2+AO14^2) -> 1.0000086 | AS14: 1 | AT14: =S14*I$7 -> 4.1448e-07 | AU14: =ATAN2(AS14,AT14) -> 4.1448e-07 | AV14: =DEGREES(AU14) -> 2.3747955e-05 | AW14: =SQRT(AS14^2+AT14^2) -> 1 | AX14: =AQ14-W14-AB14 -> -48.390636 | AY14: =MAX(1E-25,F$12*AM14*AR14/X14/AC14) -> 38.97402 | AZ14: =20*LOG(AY14) -> 31.815504
B15: Resr_C | C15: =C14/100 -> 0.0005 | Q15: =R15/1000 -> 0.05 | R15: =10+R14 -> 50 | S15: =R15*6.28 -> 314 | T15: =1-S15*S15*I$2*I$2 -> 0.99999429 | U15: =S15*I$2/F$8 -> 0.003750896 | V15: =ATAN2(T15,U15) -> 0.0037508998 | W15: =DEGREES(V15) -> 0.21491073 | X15: =SQRT(T15^2+U15^2) -> 1.0000013 | Y15: 1 | Z15: =S15*I$4 -> 1.4106928 | AA15: =ATAN2(Y15,Z15) -> 0.95414108 | AB15: =DEGREES(AA15) -> 54.668257 | AC15: =SQRT(Y15^2+Z15^2) -> 1.7291773 | AD15: 1 | AE15: =S15*I$5 -> 5.181e-05 | AF15: =ATAN2(AD15,AE15) -> 5.181e-05 | AG15: =DEGREES(AF15) -> 0.0029684943 | AH15: =SQRT(AD15^2+AE15^2) -> 1 | AI15: 1 | AJ15: =-1*S15*I$3 -> 0 | AK15: =ATAN2(AI15,AJ15) -> 0 | AL15: =DEGREES(AK15) -> 0 | AM15: =SQRT(AI15^2+AJ15^2) -> 1 | AN15: 1 | AO15: =S15*I$6 -> 0.005181 | AP15: =ATAN2(AN15,AO15) -> 0.0051809536 | AQ15: =DEGREES(AP15) -> 0.29684678 | AR15: =SQRT(AN15^2+AO15^2) -> 1.0000134 | AS15: 1 | AT15: =S15*I$7 -> 5.181e-07 | AU15: =ATAN2(AS15,AT15) -> 5.181e-07 | AV15: =DEGREES(AU15) -> 2.9684943e-05 | AW15: =SQRT(AS15^2+AT15^2) -> 1 | AX15: =AQ15-W15-AB15 -> -54.586321 | AY15: =MAX(1E-25,F$12*AM15*AR15/X15/AC15) -> 33.985832 | AZ15: =20*LOG(AY15) -> 30.625958
B16: Co | C16: =C12 -> 0.00033 | Q16: =R16/1000 -> 0.06 | R16: =10+R15 -> 60 | S16: =R16*6.28 -> 376.8 | T16: =1-S16*S16*I$2*I$2 -> 0.99999178 | U16: =S16*I$2/F$8 -> 0.0045010752 | V16: =ATAN2(T16,U16) -> 0.0045010818 | W16: =DEGREES(V16) -> 0.25789299 | X16: =SQRT(T16^2+U16^2) -> 1.0000019 | Y16: 1 | Z16: =S16*I$4 -> 1.6928314 | AA16: =ATAN2(Y16,Z16) -> 1.0372236 | AB16: =DEGREES(AA16) -> 59.428536 | AC16: =SQRT(Y16^2+Z16^2) -> 1.9661328 | AD16: 1 | AE16: =S16*I$5 -> 6.2172e-05 | AF16: =ATAN2(AD16,AE16) -> 6.2172e-05 | AG16: =DEGREES(AF16) -> 0.0035621932 | AH16: =SQRT(AD16^2+AE16^2) -> 1 | AI16: 1 | AJ16: =-1*S16*I$3 -> 0 | AK16: =ATAN2(AI16,AJ16) -> 0 | AL16: =DEGREES(AK16) -> 0 | AM16: =SQRT(AI16^2+AJ16^2) -> 1 | AN16: 1 | AO16: =S16*I$6 -> 0.0062172 | AP16: =ATAN2(AN16,AO16) -> 0.0062171199 | AQ16: =DEGREES(AP16) -> 0.35621473 | AR16: =SQRT(AN16^2+AO16^2) -> 1.0000193 | AS16: 1 | AT16: =S16*I$7 -> 6.2172e-07 | AU16: =ATAN2(AS16,AT16) -> 6.2172e-07 | AV16: =DEGREES(AU16) -> 3.5621932e-05 | AW16: =SQRT(AS16^2+AT16^2) -> 1 | AX16: =AQ16-W16-AB16 -> -59.330215 | AY16: =MAX(1E-25,F$12*AM16*AR16/X16/AC16) -> 29.890069 | AZ16: =20*LOG(AY16) -> 29.510538
Q17: =R17/1000 -> 0.07 | R17: =10+R16 -> 70 | S17: =R17*6.28 -> 439.6 | T17: =1-S17*S17*I$2*I$2 -> 0.99998881 | U17: =S17*I$2/F$8 -> 0.0052512544 | V17: =ATAN2(T17,U17) -> 0.0052512649 | W17: =DEGREES(V17) -> 0.30087532 | X17: =SQRT(T17^2+U17^2) -> 1.0000026 | Y17: 1 | Z17: =S17*I$4 -> 1.9749699 | AA17: =ATAN2(Y17,Z17) -> 1.1020921 | AB17: =DEGREES(AA17) -> 63.145227 | AC17: =SQRT(Y17^2+Z17^2) -> 2.2137087 | AD17: 1 | AE17: =S17*I$5 -> 7.2534e-05 | AF17: =ATAN2(AD17,AE17) -> 7.2534e-05 | AG17: =DEGREES(AF17) -> 0.0041558921 | AH17: =SQRT(AD17^2+AE17^2) -> 1 | AI17: 1 | AJ17: =-1*S17*I$3 -> 0 | AK17: =ATAN2(AI17,AJ17) -> 0 | AL17: =DEGREES(AK17) -> 0 | AM17: =SQRT(AI17^2+AJ17^2) -> 1 | AN17: 1 | AO17: =S17*I$6 -> 0.0072534 | AP17: =ATAN2(AN17,AO17) -> 0.0072532728 | AQ17: =DEGREES(AP17) -> 0.41558192 | AR17: =SQRT(AN17^2+AO17^2) -> 1.0000263 | AS17: 1 | AT17: =S17*I$7 -> 7.2534e-07 | AU17: =ATAN2(AS17,AT17) -> 7.2534e-07 | AV17: =DEGREES(AU17) -> 4.1558921e-05 | AW17: =SQRT(AS17^2+AT17^2) -> 1 | AX17: =AQ17-W17-AB17 -> -63.03052 | AY17: =MAX(1E-25,F$12*AM17*AR17/X17/AC17) -> 26.547401 | AZ17: =20*LOG(AY17) -> 28.48044
Q18: =R18/1000 -> 0.08 | R18: =10+R17 -> 80 | S18: =R18*6.28 -> 502.4 | T18: =1-S18*S18*I$2*I$2 -> 0.99998539 | U18: =S18*I$2/F$8 -> 0.0060014337 | V18: =ATAN2(T18,U18) -> 0.0060014493 | W18: =DEGREES(V18) -> 0.34385772 | X18: =SQRT(T18^2+U18^2) -> 1.0000034 | Y18: 1 | Z18: =S18*I$4 -> 2.2571085 | AA18: =ATAN2(Y18,Z18) -> 1.1537414 | AB18: =DEGREES(AA18) -> 66.104515 | AC18: =SQRT(Y18^2+Z18^2) -> 2.4687119 | AD18: 1 | AE18: =S18*I$5 -> 8.2896e-05 | AF18: =ATAN2(AD18,AE18) -> 8.2896e-05 | AG18: =DEGREES(AF18) -> 0.0047495909 | AH18: =SQRT(AD18^2+AE18^2) -> 1 | AI18: 1 | AJ18: =-1*S18*I$3 -> 0 | AK18: =ATAN2(AI18,AJ18) -> 0 | AL18: =DEGREES(AK18) -> 0 | AM18: =SQRT(AI18^2+AJ18^2) -> 1 | AN18: 1 | AO18: =S18*I$6 -> 0.0082896 | AP18: =ATAN2(AN18,AO18) -> 0.0082894101 | AQ18: =DEGREES(AP18) -> 0.47494821 | AR18: =SQRT(AN18^2+AO18^2) -> 1.0000344 | AS18: 1 | AT18: =S18*I$7 -> 8.2896e-07 | AU18: =ATAN2(AS18,AT18) -> 8.2896e-07 | AV18: =DEGREES(AU18) -> 4.7495909e-05 | AW18: =SQRT(AS18^2+AT18^2) -> 1 | AX18: =AQ18-W18-AB18 -> -65.973425 | AY18: =MAX(1E-25,F$12*AM18*AR18/X18/AC18) -> 23.805385 | AZ18: =20*LOG(AY18) -> 27.533504
H19: =(0.5-C4)*F2*C2/C7 -> 0.003766047 | I19: =F2*C2/C7 -> 0.0081392266 | Q19: =R19/1000 -> 0.09 | R19: =10+R18 -> 90 | S19: =R19*6.28 -> 565.2 | T19: =1-S19*S19*I$2*I$2 -> 0.99998151 | U19: =S19*I$2/F$8 -> 0.0067516129 | V19: =ATAN2(T19,U19) -> 0.0067516351 | W19: =DEGREES(V19) -> 0.3868402 | X19: =SQRT(T19^2+U19^2) -> 1.0000043 | Y19: 1 | Z19: =S19*I$4 -> 2.539247 | AA19: =ATAN2(Y19,Z19) -> 1.195631 | AB19: =DEGREES(AA19) -> 68.50461 | AC19: =SQRT(Y19^2+Z19^2) -> 2.7290613 | AD19: 1 | AE19: =S19*I$5 -> 9.3258e-05 | AF19: =ATAN2(AD19,AE19) -> 9.3258e-05 | AG19: =DEGREES(AF19) -> 0.0053432898 | AH19: =SQRT(AD19^2+AE19^2) -> 1 | AI19: 1 | AJ19: =-1*S19*I$3 -> 0 | AK19: =ATAN2(AI19,AJ19) -> 0 | AL19: =DEGREES(AK19) -> 0 | AM19: =SQRT(AI19^2+AJ19^2) -> 1 | AN19: 1 | AO19: =S19*I$6 -> 0.0093258 | AP19: =ATAN2(AN19,AO19) -> 0.0093255297 | AQ19: =DEGREES(AP19) -> 0.53431349 | AR19: =SQRT(AN19^2+AO19^2) -> 1.0000435 | AS19: 1 | AT19: =S19*I$7 -> 9.3258e-07 | AU19: =ATAN2(AS19,AT19) -> 9.3258e-07 | AV19: =DEGREES(AU19) -> 5.3432898e-05 | AW19: =SQRT(AS19^2+AT19^2) -> 1 | AX19: =AQ19-W19-AB19 -> -68.357137 | AY19: =MAX(1E-25,F$12*AM19*AR19/X19/AC19) -> 21.534556 | AZ19: =20*LOG(AY19) -> 26.662718
Q20: =R20/1000 -> 0.1 | R20: =10+R19 -> 100 | S20: =R20*6.28 -> 628 | T20: =1-S20*S20*I$2*I$2 -> 0.99997717 | U20: =S20*I$2/F$8 -> 0.0075017921 | V20: =ATAN2(T20,U20) -> 0.0075018226 | W20: =DEGREES(V20) -> 0.42982277 | X20: =SQRT(T20^2+U20^2) -> 1.0000053 | Y20: 1 | Z20: =S20*I$4 -> 2.8213856 | AA20: =ATAN2(Y20,Z20) -> 1.2301753 | AB20: =DEGREES(AA20) -> 70.483852 | AC20: =SQRT(Y20^2+Z20^2) -> 2.9933621 | AD20: 1 | AE20: =S20*I$5 -> 0.00010362 | AF20: =ATAN2(AD20,AE20) -> 0.00010362 | AG20: =DEGREES(AF20) -> 0.0059369887 | AH20: =SQRT(AD20^2+AE20^2) -> 1 | AI20: 1 | AJ20: =-1*S20*I$3 -> 0 | AK20: =ATAN2(AI20,AJ20) -> 0 | AL20: =DEGREES(AK20) -> 0 | AM20: =SQRT(AI20^2+AJ20^2) -> 1 | AN20: 1 | AO20: =S20*I$6 -> 0.010362 | AP20: =ATAN2(AN20,AO20) -> 0.010361629 | AQ20: =DEGREES(AP20) -> 0.59367762 | AR20: =SQRT(AN20^2+AO20^2) -> 1.0000537 | AS20: 1 | AT20: =S20*I$7 -> 1.0362e-06 | AU20: =ATAN2(AS20,AT20) -> 1.0362e-06 | AV20: =DEGREES(AU20) -> 5.9369887e-05 | AW20: =SQRT(AS20^2+AT20^2) -> 1 | AX20: =AQ20-W20-AB20 -> -70.319997 | AY20: =MAX(1E-25,F$12*AM20*AR20/X20/AC20) -> 19.633329 | AZ20: =20*LOG(AY20) -> 25.859879
Q21: =R21/1000 -> 0.11 | R21: =10+R20 -> 110 | S21: =R21*6.28 -> 690.8 | T21: =1-S21*S21*I$2*I$2 -> 0.99997237 | U21: =S21*I$2/F$8 -> 0.0082519713 | V21: =ATAN2(T21,U21) -> 0.0082520119 | W21: =DEGREES(V21) -> 0.47280546 | X21: =SQRT(T21^2+U21^2) -> 1.0000064 | Y21: 1 | Z21: =S21*I$4 -> 3.1035242 | AA21: =ATAN2(Y21,Z21) -> 1.259086 | AB21: =DEGREES(AA21) -> 72.140315 | AC21: =SQRT(Y21^2+Z21^2) -> 3.2606536 | AD21: 1 | AE21: =S21*I$5 -> 0.000113982 | AF21: =ATAN2(AD21,AE21) -> 0.000113982 | AG21: =DEGREES(AF21) -> 0.0065306875 | AH21: =SQRT(AD21^2+AE21^2) -> 1 | AI21: 1 | AJ21: =-1*S21*I$3 -> 0 | AK21: =ATAN2(AI21,AJ21) -> 0 | AL21: =DEGREES(AK21) -> 0 | AM21: =SQRT(AI21^2+AJ21^2) -> 1 | AN21: 1 | AO21: =S21*I$6 -> 0.0113982 | AP21: =ATAN2(AN21,AO21) -> 0.011397706 | AQ21: =DEGREES(AP21) -> 0.65304047 | AR21: =SQRT(AN21^2+AO21^2) -> 1.000065 | AS21: 1 | AT21: =S21*I$7 -> 1.13982e-06 | AU21: =ATAN2(AS21,AT21) -> 1.13982e-06 | AV21: =DEGREES(AU21) -> 6.5306875e-05 | AW21: =SQRT(AS21^2+AT21^2) -> 1 | AX21: =AQ21-W21-AB21 -> -71.96008 | AY21: =MAX(1E-25,F$12*AM21*AR21/X21/AC21) -> 18.024073 | AZ21: =20*LOG(AY21) -> 25.117059
Q22: =R22/1000 -> 0.12 | R22: =10+R21 -> 120 | S22: =R22*6.28 -> 753.6 | T22: =1-S22*S22*I$2*I$2 -> 0.99996712 | U22: =S22*I$2/F$8 -> 0.0090021505 | V22: =ATAN2(T22,U22) -> 0.0090022033 | W22: =DEGREES(V22) -> 0.51578825 | X22: =SQRT(T22^2+U22^2) -> 1.0000076 | Y22: 1 | Z22: =S22*I$4 -> 3.3856627 | AA22: =ATAN2(Y22,Z22) -> 1.2835989 | AB22: =DEGREES(AA22) -> 73.544802 | AC22: =SQRT(Y22^2+Z22^2) -> 3.5302566 | AD22: 1 | AE22: =S22*I$5 -> 0.000124344 | AF22: =ATAN2(AD22,AE22) -> 0.000124344 | AG22: =DEGREES(AF22) -> 0.0071243864 | AH22: =SQRT(AD22^2+AE22^2) -> 1 | AI22: 1 | AJ22: =-1*S22*I$3 -> 0 | AK22: =ATAN2(AI22,AJ22) -> 0 | AL22: =DEGREES(AK22) -> 0 | AM22: =SQRT(AI22^2+AJ22^2) -> 1 | AN22: 1 | AO22: =S22*I$6 -> 0.0124344 | AP22: =ATAN2(AN22,AO22) -> 0.012433759 | AQ22: =DEGREES(AP22) -> 0.71240193 | AR22: =SQRT(AN22^2+AO22^2) -> 1.0000773 | AS22: 1 | AT22: =S22*I$7 -> 1.24344e-06 | AU22: =ATAN2(AS22,AT22) -> 1.24344e-06 | AV22: =DEGREES(AU22) -> 7.1243864e-05 | AW22: =SQRT(AS22^2+AT22^2) -> 1 | AX22: =AQ22-W22-AB22 -> -73.348188 | AY22: =MAX(1E-25,F$12*AM22*AR22/X22/AC22) -> 16.647773 | AZ22: =20*LOG(AY22) -> 24.427123
