Workbook

Sheet Design tool
F12: User can input in these colour table
F14: Calculated Value in these colour table
A19: Power Stage Components
A20: Basic Converter spec
A21: Output Voltage | B21: 12 | C21: V | D21: Min. Input Voltage | E21: 120 | F21: V
A22: Max. Load Current | B22: 0.667 | C22: A | D22: Nom. Input Voltage | E22: 320 | F22: V
D23: Max. Input Votlage | E23: 400 | F23: V
A25: Inductor | B25: (Inductor. DC degrading not integrated. Please enter corresponding value.)
A26: Inductance | B26: 680 | C26: uH | D26: Recommended Inductance | E26: =Table!C14 -> 470 | F26: uH
A27: Saturation Current | B27: 2 | C27: A | D27: Recommended Saturation Current | E27: ='Power parameter'!E12 -> 1.68 | F27: A
A28: Heat Rating Current | B28: 1.5 | C28: A | D28: Recommended Heat Rating Current | E28: ='Power parameter'!B5*1.5 -> 1.0005 | F28: A
A29: DCR | B29: 680 | C29: mΩ | D29: Typical Ripple current | E29: ='Power parameter'!K16 -> 0.40368189 | F29: A
A31: Diode | B31: (Suggest to use fast recovery diode .)
A32: Vf | B32: 1.25 | C32: V
A33: Qrr | B33: 75 | C33: nC | D33: Recovery current Slew rate | E33: 100 | F33: A/us
A34: Vr | B34: 600 | C34: V | D34: Recommended Vr | E34: =Table!C8 -> 600 | F34: V
A35: If | B35: 2 | C35: A | D35: Recommended Current | E35: =Table!C11 -> 2 | F35: A
A37: Output Capcitor | B37: (Ceramic Cap. DC degrading not integrated. Please enter corresponding value.)
A38: Co_b | B38: 330 | C38: uF | D38: Recommended min Capacitance | E38: =Table!C5 -> 220 | F38: uF
A39: ESR of Co_b | B39: 50 | C39: mΩ | D39: Recommended max ESR | E39: ='Power parameter'!E22*1000 -> 118.26087 | F39: mΩ
A41: Input Capcitor
A42: Cin_b | B42: 22 | C42: uF | D42: Recommended min Capacitance | E42: =Table!C2 -> 22 | F42: uF
A44: Efficiency | B44: (Inductor Core Loss is not considered.)
A45: Input Voltage | B45: 320 | C45: V | D45: Vo | E45: ='Power parameter'!K14 -> 11.850105 | F45: V
A46: Output current | B46: 0.67 | C46: A | D46: Efficiency | E46: ='Power parameter'!B43*100 -> 84.352883 | F46: %
A63: Others
A64: RFB1 | B64: 396 | C64: kΩ | D64: Recommended REB1 | E64: ='Power parameter'!B9 -> 398 | F64: kΩ
A65: RFB2 | B65: 98.8 | C65: kΩ | D65: Recommended RFB2 | E65: ='Power parameter'!B10 -> 99.5 | F65: kΩ
A66: CFB | B66: 100 | C66: nF | D66: Recommended CFB | E66: ='Power parameter'!B16*1000000000 -> 41.422664 | F66: nF
A67: CFB2 | B67: 2200 | C67: pF | D67: Recommended CFB2 | E67: 2200 | F67: pF
A68: R2 | B68: 10000 | C68: Ω | D68: Recommended R2 | E68: ='Power parameter'!B20 -> 9891.5715 | F68: Ω
A69: CFB1 | B69: 680 | C69: pF | D69: Recommended CFB1 | E69: 680 | F69: pF
A70: Ouput setting Voltage | B70: ='Power parameter'!B13 -> 11.934943 | C70: V
A71: Loop Result
A72: Phase | B72: ='LOOP GAIN FOR TOTAL'!Z8 -> 47.658245 | C72: Deg | D72: Gain | E72: ='LOOP GAIN FOR TOTAL'!Z12 -> -61.875497 | F72: dB
A73: Cross over Frequency | B73: ='LOOP GAIN FOR TOTAL'!Z7 -> 0.24 | C73: kHz

Sheet Power parameter
A1: Input | D1: Internal | G1: Calculation internal
A2: Vin_max | B2: ='Design tool'!$E$23 -> 400 | D2: Toff_min | E2: 2.3e-05 | G2: Ipk_min | H2: =(B6-B13)*E8/E15 -> 0.13591105 | J2: Ipkmin_dcm | K2: =(2*B8*E15*B13+SQRT((2*B8*E15*B13)^2+8*E15*B6^2*B8*E2*B13))/2/E15/B6 -> 0.76124734 | M2: Ts | N2: =IF(H7,H11,K6) -> 2.3891058e-05
A3: Vin_min | B3: ='Design tool'!$E$21 -> 120 | D3: Ipk | E3: 1.12 | G3: PFM_judge | H3: =IF(K2<H2,1,0) -> 0 | J3: PFM_judge_N | K3: =IF(K2>H2,1,0) -> 1 | M3: Toff_diode | N3: =IF(H7,E2,K5) -> 2.3e-05
A4: Vo | B4: ='Design tool'!B21 -> 12 | D4: Rfb1 | E4: ='Design tool'!B64*1000 -> 396000 | G4: Toff_DCM | H4: =IF(H3,(K6-K4),E2) -> 2.3e-05 | J4: Ton_DCM | K4: =IF(H3,E8,E15*K8/(B6-B13)) -> 1.680321e-06 | M4: Ton | N4: =IF(H7,H14,K4) -> 8.9105752e-07
A5: Io_max | B5: ='Design tool'!B22 -> 0.667 | D5: Rfb2 | E5: ='Design tool'!B65*1000 -> 98800 | G5: Ipk_judge | H5: =IF((B7+B13*E2/2/E15)<E3,1,0) -> 1 | J5: Toff1_DCM | K5: =E15*K8/B13 -> 4.337249e-05 | M5: Duty | N5: =N4/N2 -> 0.037296697
A6: Vin | B6: ='Design tool'!B45 -> 320 | D6: Tmax | E6: 0.001 | G6: Ipk_CCM | H6: =IF(H5,(B8+H10/2),1.2) -> 0.87244095 | J6: Ts_DCM | K6: =(K4+K5)*K8/2/B8 -> 2.5571379e-05 | M6: Ipk | N6: =IF(H7,H6,K8) -> 0.87244095
A7: io | B7: ='Design tool'!B46 -> 0.67 | D7: kcf | E7: =-LN(1/1.05) -> 0.048790164 | G7: CCM_juge | H7: =IF((H10/2)<B7,1,0) -> 1 | J7: DCM_judge | K7: =IF((H10/2)>B7,1,0) -> 0 | M7: Irms | N7: =IF(H7,H8,K9) -> 0.6806499
A8: Io | B8: =B7+0.0006 -> 0.6706 | D8: Ton_min | E8: 3e-07 | G8: Irms_CCM | H8: =SQRT(B8^2+H10^2/12) -> 0.6806499 | J8: Ipk_DCM | K8: =IF(H3,H2,K2) -> 0.76124734 | M8: Irms_up | N8: =IF(H7,H13,K10) -> 0.13144951
A9: Rfb1_r | B9: 398 | D9: Iq | E9: 0.0006 | G9: Duty_CCM | H9: =B12/B6 -> 0.037296697 | J9: Irms_DCM | K9: =K8*SQRT((K4+K5)/K6/3) -> 0.58337665 | M9: Ts | N9: =IF(H7,H11,K6) -> 2.3891058e-05
A10: Rfb2_r | B10: =B9/((B4+0.5)/2.5-1) -> 99.5 | G10: ΔI_CCM | H10: =B12*E2/E15 -> 0.40368189 | J10: Irms_DCM_UP | K10: =K8*SQRT((K4)/K6/3) -> 0.11266376
G11: Ts_CCM | H11: =E2/(1-H9) -> 2.3891058e-05 | J11: Vo_PFM | K11: =B13/EXP(-K6/(E16*(E4+E5))) -> 11.941113
A12: Vo_C | B12: =IF((H5),B13,H12) -> 11.934943 | D12: Ipk_s | E12: =E3*1.5 -> 1.68 | G12: Vo_Ipk_clamp | H12: =IF(B8>E3,0,(E3-B8)*2*E15/E2) -> 26.573217
A13: Vo_FB | B13: =2.5*(1+E4/E5)-0.25-0.5*B8 -> 11.934943 | D13: Ipk_h | E13: =E3 -> 1.12 | G13: Irms_CCM_UP | H13: =H8*SQRT(H9) -> 0.13144951
A14: L_min | B14: =B4*E2/(E3-B5)/2*(1000000) -> 304.63576 | G14: Ton_CCM | H14: =H11*H9 -> 8.9105752e-07 | J14: Vo_show | K14: =IF(H3,K11,K15) -> 11.850105
A15: L_r | B15: =B14*1.5 -> 456.95364 | D15: L | E15: ='Design tool'!B26*0.000001 -> 0.00068 | J15: Vo_c1 | K15: =IF((H5),(B12-(N6-H2)*0.023*(1+E4/E5)),H12) -> 11.850105 | M15: Ipk_DCM_type_c | N15: =(2*B5*E15*B13+SQRT((2*B5*E15*B13)^2+8*E15*K18^2*B5*E2*B13))/2/E15/K18 -> 0.75913196
A16: CFB_r | B16: =IF(B17>B18,B17,B18) -> 4.1422664e-08 | D16: Cfb | E16: ='Design tool'!B66*0.000000001 -> 1e-07 | J16: ΔI_CCM_type | K16: =B13*E2/E15 -> 0.40368189 | M16: Ipk_DCM_type | N16: =IF(N15>H2,N15,H2) -> 0.75913196
A17: CFB_min_1 | B17: =100*E2/(E4+E5) -> 4.6483428e-09 | D17: CFB_max | E17: =B12*B21/B5/(E4+E5) -> 1.19338e-08 | J17: ΔI_CCM_shwo | K17: =IF((K16>B5/2),K16,N16) -> 0.40368189
A18: CFB_min_2 | B18: =E6/E7/(E4+E5) -> 4.1422664e-08 | J18: Vin_normal | K18: ='Design tool'!E22 -> 320
A19: R2t | B19: =(B13-6)/E9 -> 9891.5715 | J19: Duty_loop | K19: =H9 -> 0.037296697
A20: R2_r | B20: =IF(B19<0,100,B19) -> 9891.5715 | D20: R2 | E20: ='Design tool'!B68 -> 10000 | J20: Ts_loop | K20: =H11 -> 2.3891058e-05
A21: Cout | B21: ='Design tool'!B38*(0.000001) -> 0.00033 | D21: Cout_r | E21: =B5*E2/(B12*0.1)/0.1 -> 0.00012853853 | J21: Vripple | K21: =IF(B13<6,B13*0.005,B13*0.004) -> 0.047739772
A22: ESR | B22: ='Design tool'!B39 -> 50 | D22: ESR_R | E22: =K21/K16 -> 0.11826087
A24: RL_DCR | B24: ='Design tool'!B29*0.001 -> 0.68 | D24: Pcon_inductor | E24: =N7^2*B24 -> 0.31503331
A25: R_MOS | B25: =4+3.74*B8 -> 6.508044 | D25: Pcon_mos | E25: =N8^2*B25 -> 0.11245232
A26: ton_s | B26: 2.1e-08 | D26: Pswitch | E26: =B6*(N6*B27+B28*B26)/N2/3 -> 0.17638703
A27: toff_s | B27: 3.4e-08
A28: I_vally | B28: =IF(H7,(B8-H10/2),0.001) -> 0.46875905
A30: Vdiode | B30: 0.9 | D30: Pcon_diode | E30: =B30*B8*N3/N2 -> 0.58102995
A31: Qrr_input | B31: ='Design tool'!B33 -> 75 | C31: nC | D31: Slew_rate_c | E31: =B28/B26/1000000 -> 22.32186 | F31: A/us
A32: Slew_rate | B32: ='Design tool'!E33 -> 100 | C32: A/us | D32: Qrr_c | E32: =B33*LN(E31)+B34 -> 65.231163 | F32: nC
A33: Factor a | B33: =B31/(LN(B32)+6.908) -> 6.5142788 | D33: PQrr | E33: =IF(K7,0,B6*E32/N2/3*(0.000000001)) -> 0.29123829
A34: Factor b | B34: =B33*6.908 -> 45.000638
A36: DCR | B36: 0.68 | D36: Pcon_inductor | E36: =N7^2*B36 -> 0.31503331
A40: Pinductor | B40: =E36 -> 0.31503331
A41: Pdiode | B41: =E30+E33/2 -> 0.7266491
A42: Pmosfet | B42: =E25+E26+E33/2 -> 0.4344585
A43: Efficiency | B43: =B12*B7/(B12*B7+B40+B41+B42+E9*B12) -> 0.84352883
A46: Cin | B46: =B4*B5*1.5 -> 12.006

Sheet Table
E1: Capacitance | J1: Diode | O1: Diode | T1: Indctor
A2: Input cap | B2: ='Power parameter'!B46 -> 12.006 | C2: =VLOOKUP(B2,$F$2:$G$13,2,1) -> 22 | E2: (0-22) | F2: 0 | G2: 22 | J2: (0-100) | K2: 0 | L2: 100 | O2: (0-1) | P2: 0 | Q2: 1 | U2: 0 | V2: 220
E3: (23-33) | F3: 22 | G3: 33 | J3: (101-150) | K3: 101 | L3: 150 | O3: (1.1-2) | P3: 1 | Q3: 2 | U3: 221 | V3: 330
E4: (34-47) | F4: 33 | G4: 47 | J4: (151-400) | K4: 151 | L4: 400 | O4: (2.1-3) | P4: 2 | Q4: 3 | U4: 331 | V4: 470
A5: Output cap | B5: ='Power parameter'!E21*1000000 -> 128.53853 | C5: =VLOOKUP(B5,$F$2:$G$13,2,1) -> 220 | E5: (48-56) | F5: 47 | G5: 56 | J5: (401-600) | K5: 401 | L5: 600 | U5: 471 | V5: 560
E6: (57-68) | F6: 56 | G6: 68 | J6: 601 | K6: 601 | L6: 650 | U6: 561 | V6: 680
E7: (68-100) | F7: 68 | G7: 100 | U7: 681 | V7: 1000
A8: Diode voltage | B8: ='Power parameter'!B2*1.5 -> 600 | C8: =VLOOKUP(B8,$K$2:$L$6,2,1) -> 600 | E8: (101-220) | F8: 100 | G8: 220 | U8: 1001 | V8: 1470
E9: (221-330) | F9: 221 | G9: 330
E10: 331-470 | F10: 331 | G10: 470
A11: Idiode | B11: ='Power parameter'!B5*1.5 -> 1.0005 | C11: =VLOOKUP(B11,$P$2:$Q$4,2,1) -> 2 | E11: 471-560 | F11: 471 | G11: 560
E12: 561-680 | F12: 561 | G12: 680
E13: 681 | F13: 681 | G13: 1000
A14: Inductor | B14: ='Power parameter'!B15 -> 456.95364 | C14: =VLOOKUP(B14,U2:V8,2,1) -> 470

Sheet waves
A1: Ton_dcm | B1: ='Power parameter'!K4 -> 1.680321e-06 | D1: Toff1_DCM | E1: ='Power parameter'!K5 -> 4.337249e-05 | G1: CCM judge | H1: =IF((('Power parameter'!H10/2)<='Power parameter'!B7),1,0) -> 1
A2: Ton_ccm | B2: ='Power parameter'!H14 -> 8.9105752e-07 | G2: DCM judge | H2: =IF((('Power parameter'!H10/2)>'Power parameter'!B7),1,0) -> 0
A3: Ton | B3: =IF('Power parameter'!H7,waves!B2,waves!B1) -> 8.9105752e-07
A4: TCCM | B4: ='Power parameter'!H4+waves!B2 -> 2.3891058e-05 | D4: TDCM | E4: ='Power parameter'!K6 -> 2.5571379e-05
B7: t | C7: On judge | D7: off judge | E7: IL_CCM_ON | F7: IL_CCM_OFF | G7: IL_CCM | K7: t | L7: On judge | M7: off judge | N7: IL_DEM_ON | O7: IL_DCM_OFF | P7: IL_DCM | S7: t_total | T7: IL
A8: 0 | B8: =2*B$4/1000*A8 -> 0 | C8: =IF(B8<B$3,1,0) -> 1 | D8: =IF(B8>=B$3,1,0) -> 0 | E8: =('Power parameter'!B$7-'Power parameter'!H$10/2+('Power parameter'!B$6-'Power parameter'!B$12)/'Power parameter'!E$15*B8)*C8 -> 0.46815905 | F8: =('Power parameter'!B$7+'Power parameter'!H$10/2-'Power parameter'!B$12/'Power parameter'!E$15*(B8-B$3))*D8 -> 0 | G8: =E8+F8 -> 0.46815905 | J8: 0 | K8: =E$4*2/1000*J8 -> 0 | L8: =IF(K8<B$1,1,0) -> 1 | M8: =IF(K8>=B$1,1,0) -> 0 | N8: =('Power parameter'!B$6-'Power parameter'!B$13)/'Power parameter'!E$15*K8*L8 -> 0 | O8: =IF((K8-B$1-E$1)>0,0,('Power parameter'!K$8-'Power parameter'!B$13/'Power parameter'!E$15*(waves!K8-waves!B$1))*M8) -> 0 | P8: =N8+O8 -> 0 | S8: =B8*H$1+K8*H$2 -> 0 | T8: =G8*H$1+P8*H$2 -> 0.46815905
A9: 1 | B9: =2*B$4/1000*A9 -> 4.7782115e-08 | C9: =IF(B9<B$3,1,0) -> 1 | D9: =IF(B9>B$3,1,0) -> 0 | E9: =('Power parameter'!B$7-'Power parameter'!H$10/2+('Power parameter'!B$6-'Power parameter'!B$12)/'Power parameter'!E$15*B9)*C9 -> 0.48980611 | F9: =('Power parameter'!B$7+'Power parameter'!H$10/2-'Power parameter'!B$12/'Power parameter'!E$15*(B9-B$3))*D9 -> 0 | G9: =E9+F9 -> 0.48980611 | J9: 1 | K9: =E$4*2/1000*J9 -> 5.1142757e-08 | L9: =IF(K9<B$1,1,0) -> 1 | M9: =IF(K9>=B$1,1,0) -> 0 | N9: =('Power parameter'!B$6-'Power parameter'!B$13)/'Power parameter'!E$15*K9*L9 -> 0.023169554 | O9: =IF((K9-B$1-E$1)>0,0,('Power parameter'!K$8-'Power parameter'!B$13/'Power parameter'!E$15*(waves!K9-waves!B$1))*M9) -> 0 | P9: =N9+O9 -> 0.023169554 | S9: =B9*H$1+K9*H$2 -> 4.7782115e-08 | T9: =G9*H$1+P9*H$2 -> 0.48980611
A10: 2 | B10: =2*B$4/1000*A10 -> 9.556423e-08 | C10: =IF(B10<B$3,1,0) -> 1 | D10: =IF(B10>B$3,1,0) -> 0 | E10: =('Power parameter'!B$7-'Power parameter'!H$10/2+('Power parameter'!B$6-'Power parameter'!B$12)/'Power parameter'!E$15*B10)*C10 -> 0.51145317 | F10: =('Power parameter'!B$7+'Power parameter'!H$10/2-'Power parameter'!B$12/'Power parameter'!E$15*(B10-B$3))*D10 -> 0 | G10: =E10+F10 -> 0.51145317 | J10: 2 | K10: =E$4*2/1000*J10 -> 1.0228551e-07 | L10: =IF(K10<B$1,1,0) -> 1 | M10: =IF(K10>=B$1,1,0) -> 0 | N10: =('Power parameter'!B$6-'Power parameter'!B$13)/'Power parameter'!E$15*K10*L10 -> 0.046339107 | O10: =IF((K10-B$1-E$1)>0,0,('Power parameter'!K$8-'Power parameter'!B$13/'Power parameter'!E$15*(waves!K10-waves!B$1))*M10) -> 0 | P10: =N10+O10 -> 0.046339107 | S10: =B10*H$1+K10*H$2 -> 9.556423e-08 | T10: =G10*H$1+P10*H$2 -> 0.51145317
A11: 3 | B11: =2*B$4/1000*A11 -> 1.4334635e-07 | C11: =IF(B11<B$3,1,0) -> 1 | D11: =IF(B11>B$3,1,0) -> 0 | E11: =('Power parameter'!B$7-'Power parameter'!H$10/2+('Power parameter'!B$6-'Power parameter'!B$12)/'Power parameter'!E$15*B11)*C11 -> 0.53310023 | F11: =('Power parameter'!B$7+'Power parameter'!H$10/2-'Power parameter'!B$12/'Power parameter'!E$15*(B11-B$3))*D11 -> 0 | G11: =E11+F11 -> 0.53310023 | J11: 3 | K11: =E$4*2/1000*J11 -> 1.5342827e-07 | L11: =IF(K11<B$1,1,0) -> 1 | M11: =IF(K11>=B$1,1,0) -> 0 | N11: =('Power parameter'!B$6-'Power parameter'!B$13)/'Power parameter'!E$15*K11*L11 -> 0.069508661 | O11: =IF((K11-B$1-E$1)>0,0,('Power parameter'!K$8-'Power parameter'!B$13/'Power parameter'!E$15*(waves!K11-waves!B$1))*M11) -> 0 | P11: =N11+O11 -> 0.069508661 | S11: =B11*H$1+K11*H$2 -> 1.4334635e-07 | T11: =G11*H$1+P11*H$2 -> 0.53310023
A12: 4 | B12: =2*B$4/1000*A12 -> 1.9112846e-07 | C12: =IF(B12<B$3,1,0) -> 1 | D12: =IF(B12>B$3,1,0) -> 0 | E12: =('Power parameter'!B$7-'Power parameter'!H$10/2+('Power parameter'!B$6-'Power parameter'!B$12)/'Power parameter'!E$15*B12)*C12 -> 0.55474729 | F12: =('Power parameter'!B$7+'Power parameter'!H$10/2-'Power parameter'!B$12/'Power parameter'!E$15*(B12-B$3))*D12 -> 0 | G12: =E12+F12 -> 0.55474729 | J12: 4 | K12: =E$4*2/1000*J12 -> 2.0457103e-07 | L12: =IF(K12<B$1,1,0) -> 1 | M12: =IF(K12>=B$1,1,0) -> 0 | N12: =('Power parameter'!B$6-'Power parameter'!B$13)/'Power parameter'!E$15*K12*L12 -> 0.092678214 | O12: =IF((K12-B$1-E$1)>0,0,('Power parameter'!K$8-'Power parameter'!B$13/'Power parameter'!E$15*(waves!K12-waves!B$1))*M12) -> 0 | P12: =N12+O12 -> 0.092678214 | S12: =B12*H$1+K12*H$2 -> 1.9112846e-07 | T12: =G12*H$1+P12*H$2 -> 0.55474729
A13: 5 | B13: =2*B$4/1000*A13 -> 2.3891058e-07 | C13: =IF(B13<B$3,1,0) -> 1 | D13: =IF(B13>B$3,1,0) -> 0 | E13: =('Power parameter'!B$7-'Power parameter'!H$10/2+('Power parameter'!B$6-'Power parameter'!B$12)/'Power parameter'!E$15*B13)*C13 -> 0.57639435 | F13: =('Power parameter'!B$7+'Power parameter'!H$10/2-'Power parameter'!B$12/'Power parameter'!E$15*(B13-B$3))*D13 -> 0 | G13: =E13+F13 -> 0.57639435 | J13: 5 | K13: =E$4*2/1000*J13 -> 2.5571379e-07 | L13: =IF(K13<B$1,1,0) -> 1 | M13: =IF(K13>=B$1,1,0) -> 0 | N13: =('Power parameter'!B$6-'Power parameter'!B$13)/'Power parameter'!E$15*K13*L13 -> 0.11584777 | O13: =IF((K13-B$1-E$1)>0,0,('Power parameter'!K$8-'Power parameter'!B$13/'Power parameter'!E$15*(waves!K13-waves!B$1))*M13) -> 0 | P13: =N13+O13 -> 0.11584777 | S13: =B13*H$1+K13*H$2 -> 2.3891058e-07 | T13: =G13*H$1+P13*H$2 -> 0.57639435
A14: 6 | B14: =2*B$4/1000*A14 -> 2.8669269e-07 | C14: =IF(B14<B$3,1,0) -> 1 | D14: =IF(B14>B$3,1,0) -> 0 | E14: =('Power parameter'!B$7-'Power parameter'!H$10/2+('Power parameter'!B$6-'Power parameter'!B$12)/'Power parameter'!E$15*B14)*C14 -> 0.59804141 | F14: =('Power parameter'!B$7+'Power parameter'!H$10/2-'Power parameter'!B$12/'Power parameter'!E$15*(B14-B$3))*D14 -> 0 | G14: =E14+F14 -> 0.59804141 | J14: 6 | K14: =E$4*2/1000*J14 -> 3.0685654e-07 | L14: =IF(K14<B$1,1,0) -> 1 | M14: =IF(K14>=B$1,1,0) -> 0 | N14: =('Power parameter'!B$6-'Power parameter'!B$13)/'Power parameter'!E$15*K14*L14 -> 0.13901732 | O14: =IF((K14-B$1-E$1)>0,0,('Power parameter'!K$8-'Power parameter'!B$13/'Power parameter'!E$15*(waves!K14-waves!B$1))*M14) -> 0 | P14: =N14+O14 -> 0.13901732 | S14: =B14*H$1+K14*H$2 -> 2.8669269e-07 | T14: =G14*H$1+P14*H$2 -> 0.59804141
A15: 7 | B15: =2*B$4/1000*A15 -> 3.3447481e-07 | C15: =IF(B15<B$3,1,0) -> 1 | D15: =IF(B15>B$3,1,0) -> 0 | E15: =('Power parameter'!B$7-'Power parameter'!H$10/2+('Power parameter'!B$6-'Power parameter'!B$12)/'Power parameter'!E$15*B15)*C15 -> 0.61968847 | F15: =('Power parameter'!B$7+'Power parameter'!H$10/2-'Power parameter'!B$12/'Power parameter'!E$15*(B15-B$3))*D15 -> 0 | G15: =E15+F15 -> 0.61968847 | J15: 7 | K15: =E$4*2/1000*J15 -> 3.579993e-07 | L15: =IF(K15<B$1,1,0) -> 1 | M15: =IF(K15>=B$1,1,0) -> 0 | N15: =('Power parameter'!B$6-'Power parameter'!B$13)/'Power parameter'!E$15*K15*L15 -> 0.16218687 | O15: =IF((K15-B$1-E$1)>0,0,('Power parameter'!K$8-'Power parameter'!B$13/'Power parameter'!E$15*(waves!K15-waves!B$1))*M15) -> 0 | P15: =N15+O15 -> 0.16218687 | S15: =B15*H$1+K15*H$2 -> 3.3447481e-07 | T15: =G15*H$1+P15*H$2 -> 0.61968847
A16: 8 | B16: =2*B$4/1000*A16 -> 3.8225692e-07 | C16: =IF(B16<B$3,1,0) -> 1 | D16: =IF(B16>B$3,1,0) -> 0 | E16: =('Power parameter'!B$7-'Power parameter'!H$10/2+('Power parameter'!B$6-'Power parameter'!B$12)/'Power parameter'!E$15*B16)*C16 -> 0.64133552 | F16: =('Power parameter'!B$7+'Power parameter'!H$10/2-'Power parameter'!B$12/'Power parameter'!E$15*(B16-B$3))*D16 -> 0 | G16: =E16+F16 -> 0.64133552 | J16: 8 | K16: =E$4*2/1000*J16 -> 4.0914206e-07 | L16: =IF(K16<B$1,1,0) -> 1 | M16: =IF(K16>=B$1,1,0) -> 0 | N16: =('Power parameter'!B$6-'Power parameter'!B$13)/'Power parameter'!E$15*K16*L16 -> 0.18535643 | O16: =IF((K16-B$1-E$1)>0,0,('Power parameter'!K$8-'Power parameter'!B$13/'Power parameter'!E$15*(waves!K16-waves!B$1))*M16) -> 0 | P16: =N16+O16 -> 0.18535643 | S16: =B16*H$1+K16*H$2 -> 3.8225692e-07 | T16: =G16*H$1+P16*H$2 -> 0.64133552
A17: 9 | B17: =2*B$4/1000*A17 -> 4.3003904e-07 | C17: =IF(B17<B$3,1,0) -> 1 | D17: =IF(B17>B$3,1,0) -> 0 | E17: =('Power parameter'!B$7-'Power parameter'!H$10/2+('Power parameter'!B$6-'Power parameter'!B$12)/'Power parameter'!E$15*B17)*C17 -> 0.66298258 | F17: =('Power parameter'!B$7+'Power parameter'!H$10/2-'Power parameter'!B$12/'Power parameter'!E$15*(B17-B$3))*D17 -> 0 | G17: =E17+F17 -> 0.66298258 | J17: 9 | K17: =E$4*2/1000*J17 -> 4.6028481e-07 | L17: =IF(K17<B$1,1,0) -> 1 | M17: =IF(K17>=B$1,1,0) -> 0 | N17: =('Power parameter'!B$6-'Power parameter'!B$13)/'Power parameter'!E$15*K17*L17 -> 0.20852598 | O17: =IF((K17-B$1-E$1)>0,0,('Power parameter'!K$8-'Power parameter'!B$13/'Power parameter'!E$15*(waves!K17-waves!B$1))*M17) -> 0 | P17: =N17+O17 -> 0.20852598 | S17: =B17*H$1+K17*H$2 -> 4.3003904e-07 | T17: =G17*H$1+P17*H$2 -> 0.66298258
A18: 10 | B18: =2*B$4/1000*A18 -> 4.7782115e-07 | C18: =IF(B18<B$3,1,0) -> 1 | D18: =IF(B18>B$3,1,0) -> 0 | E18: =('Power parameter'!B$7-'Power parameter'!H$10/2+('Power parameter'!B$6-'Power parameter'!B$12)/'Power parameter'!E$15*B18)*C18 -> 0.68462964 | F18: =('Power parameter'!B$7+'Power parameter'!H$10/2-'Power parameter'!B$12/'Power parameter'!E$15*(B18-B$3))*D18 -> 0 | G18: =E18+F18 -> 0.68462964 | J18: 10 | K18: =E$4*2/1000*J18 -> 5.1142757e-07 | L18: =IF(K18<B$1,1,0) -> 1 | M18: =IF(K18>=B$1,1,0) -> 0 | N18: =('Power parameter'!B$6-'Power parameter'!B$13)/'Power parameter'!E$15*K18*L18 -> 0.23169554 | O18: =IF((K18-B$1-E$1)>0,0,('Power parameter'!K$8-'Power parameter'!B$13/'Power parameter'!E$15*(waves!K18-waves!B$1))*M18) -> 0 | P18: =N18+O18 -> 0.23169554 | S18: =B18*H$1+K18*H$2 -> 4.7782115e-07 | T18: =G18*H$1+P18*H$2 -> 0.68462964
A19: 11 | B19: =2*B$4/1000*A19 -> 5.2560327e-07 | C19: =IF(B19<B$3,1,0) -> 1 | D19: =IF(B19>B$3,1,0) -> 0 | E19: =('Power parameter'!B$7-'Power parameter'!H$10/2+('Power parameter'!B$6-'Power parameter'!B$12)/'Power parameter'!E$15*B19)*C19 -> 0.7062767 | F19: =('Power parameter'!B$7+'Power parameter'!H$10/2-'Power parameter'!B$12/'Power parameter'!E$15*(B19-B$3))*D19 -> 0 | G19: =E19+F19 -> 0.7062767 | J19: 11 | K19: =E$4*2/1000*J19 -> 5.6257033e-07 | L19: =IF(K19<B$1,1,0) -> 1 | M19: =IF(K19>=B$1,1,0) -> 0 | N19: =('Power parameter'!B$6-'Power parameter'!B$13)/'Power parameter'!E$15*K19*L19 -> 0.25486509 | O19: =IF((K19-B$1-E$1)>0,0,('Power parameter'!K$8-'Power parameter'!B$13/'Power parameter'!E$15*(waves!K19-waves!B$1))*M19) -> 0 | P19: =N19+O19 -> 0.25486509 | S19: =B19*H$1+K19*H$2 -> 5.2560327e-07 | T19: =G19*H$1+P19*H$2 -> 0.7062767
A20: 12 | B20: =2*B$4/1000*A20 -> 5.7338538e-07 | C20: =IF(B20<B$3,1,0) -> 1 | D20: =IF(B20>B$3,1,0) -> 0 | E20: =('Power parameter'!B$7-'Power parameter'!H$10/2+('Power parameter'!B$6-'Power parameter'!B$12)/'Power parameter'!E$15*B20)*C20 -> 0.72792376 | F20: =('Power parameter'!B$7+'Power parameter'!H$10/2-'Power parameter'!B$12/'Power parameter'!E$15*(B20-B$3))*D20 -> 0 | G20: =E20+F20 -> 0.72792376 | J20: 12 | K20: =E$4*2/1000*J20 -> 6.1371309e-07 | L20: =IF(K20<B$1,1,0) -> 1 | M20: =IF(K20>=B$1,1,0) -> 0 | N20: =('Power parameter'!B$6-'Power parameter'!B$13)/'Power parameter'!E$15*K20*L20 -> 0.27803464 | O20: =IF((K20-B$1-E$1)>0,0,('Power parameter'!K$8-'Power parameter'!B$13/'Power parameter'!E$15*(waves!K20-waves!B$1))*M20) -> 0 | P20: =N20+O20 -> 0.27803464 | S20: =B20*H$1+K20*H$2 -> 5.7338538e-07 | T20: =G20*H$1+P20*H$2 -> 0.72792376
... A507: 499 | B507: =2*B$4/1000*A507 -> 2.3843275e-05 | C507: =IF(B507<B$3,1,0) -> 0 | D507: =IF(B507>B$3,1,0) -> 1 | E507: =('Power parameter'!B$7-'Power parameter'!H$10/2+('Power parameter'!B$6-'Power parameter'!B$12)/'Power parameter'!E$15*B507)*C507 -> 0 | F507: =('Power parameter'!B$7+'Power parameter'!H$10/2-'Power parameter'!B$12/'Power parameter'!E$15*(B507-B$3))*D507 -> 0.4689977 | G507: =E507+F507 -> 0.4689977 | J507: 499 | K507: =E$4*2/1000*J507 -> 2.5520236e-05 | L507: =IF(K507<B$1,1,0) -> 0 | M507: =IF(K507>=B$1,1,0) -> 1 | N507: =('Power parameter'!B$6-'Power parameter'!B$13)/'Power parameter'!E$15*K507*L507 -> 0 | O507: =IF((K507-B$1-E$1)>0,0,('Power parameter'!K$8-'Power parameter'!B$13/'Power parameter'!E$15*(waves!K507-waves!B$1))*M507) -> 0.34282378 | P507: =N507+O507 -> 0.34282378 | S507: =B507*H$1+K507*H$2 -> 2.3843275e-05 | T507: =G507*H$1+P507*H$2 -> 0.4689977
A508: 500 | B508: =2*B$4/1000*A508 -> 2.3891058e-05 | C508: =IF((B508-B$4)<B$3,1,0) -> 1 | D508: =IF((B508-B$4)>B$3,1,0) -> 0 | E508: =('Power parameter'!B$7-'Power parameter'!H$10/2+('Power parameter'!B$6-'Power parameter'!B$12)/'Power parameter'!E$15*(B508-B$4))*C508 -> 0.46815905 | F508: =('Power parameter'!B$7+'Power parameter'!H$10/2-'Power parameter'!B$12/'Power parameter'!E$15*(B508-B$3-B$4))*D508 -> 0 | G508: =E508+F508 -> 0.46815905 | J508: 500 | K508: =E$4*2/1000*J508 -> 2.5571379e-05 | L508: =IF((K508-E$4)<B$1,1,0) -> 1 | M508: =IF((K508-E$4)>=B$1,1,0) -> 0 | N508: =('Power parameter'!B$6-'Power parameter'!B$13)/'Power parameter'!E$15*(K508-E$4)*L508 -> 0 | O508: =IF(((K508-E$4)-B$1-E$1)>0,0,('Power parameter'!K$8-'Power parameter'!B$13/'Power parameter'!E$15*((K508-E$4)-waves!B$1))*M508) -> 0 | P508: =N508+O508 -> 0 | S508: =B508*H$1+K508*H$2 -> 2.3891058e-05 | T508: =G508*H$1+P508*H$2 -> 0.46815905
A509: 501 | B509: =2*B$4/1000*A509 -> 2.393884e-05 | C509: =IF((B509-B$4)<B$3,1,0) -> 1 | D509: =IF((B509-B$4)>B$3,1,0) -> 0 | E509: =('Power parameter'!B$7-'Power parameter'!H$10/2+('Power parameter'!B$6-'Power parameter'!B$12)/'Power parameter'!E$15*(B509-B$4))*C509 -> 0.48980611 | F509: =('Power parameter'!B$7+'Power parameter'!H$10/2-'Power parameter'!B$12/'Power parameter'!E$15*(B509-B$3-B$4))*D509 -> 0 | G509: =E509+F509 -> 0.48980611 | J509: 501 | K509: =E$4*2/1000*J509 -> 2.5622521e-05 | L509: =IF((K509-E$4)<B$1,1,0) -> 1 | M509: =IF((K509-E$4)>=B$1,1,0) -> 0 | N509: =('Power parameter'!B$6-'Power parameter'!B$13)/'Power parameter'!E$15*(K509-E$4)*L509 -> 0.023169554 | O509: =IF(((K509-E$4)-B$1-E$1)>0,0,('Power parameter'!K$8-'Power parameter'!B$13/'Power parameter'!E$15*((K509-E$4)-waves!B$1))*M509) -> 0 | P509: =N509+O509 -> 0.023169554 | S509: =B509*H$1+K509*H$2 -> 2.393884e-05 | T509: =G509*H$1+P509*H$2 -> 0.48980611
A510: 502 | B510: =2*B$4/1000*A510 -> 2.3986622e-05 | C510: =IF((B510-B$4)<B$3,1,0) -> 1 | D510: =IF((B510-B$4)>B$3,1,0) -> 0 | E510: =('Power parameter'!B$7-'Power parameter'!H$10/2+('Power parameter'!B$6-'Power parameter'!B$12)/'Power parameter'!E$15*(B510-B$4))*C510 -> 0.51145317 | F510: =('Power parameter'!B$7+'Power parameter'!H$10/2-'Power parameter'!B$12/'Power parameter'!E$15*(B510-B$3-B$4))*D510 -> 0 | G510: =E510+F510 -> 0.51145317 | J510: 502 | K510: =E$4*2/1000*J510 -> 2.5673664e-05 | L510: =IF((K510-E$4)<B$1,1,0) -> 1 | M510: =IF((K510-E$4)>=B$1,1,0) -> 0 | N510: =('Power parameter'!B$6-'Power parameter'!B$13)/'Power parameter'!E$15*(K510-E$4)*L510 -> 0.046339107 | O510: =IF(((K510-E$4)-B$1-E$1)>0,0,('Power parameter'!K$8-'Power parameter'!B$13/'Power parameter'!E$15*((K510-E$4)-waves!B$1))*M510) -> 0 | P510: =N510+O510 -> 0.046339107 | S510: =B510*H$1+K510*H$2 -> 2.3986622e-05 | T510: =G510*H$1+P510*H$2 -> 0.51145317
A511: 503 | B511: =2*B$4/1000*A511 -> 2.4034404e-05 | C511: =IF((B511-B$4)<B$3,1,0) -> 1 | D511: =IF((B511-B$4)>B$3,1,0) -> 0 | E511: =('Power parameter'!B$7-'Power parameter'!H$10/2+('Power parameter'!B$6-'Power parameter'!B$12)/'Power parameter'!E$15*(B511-B$4))*C511 -> 0.53310023 | F511: =('Power parameter'!B$7+'Power parameter'!H$10/2-'Power parameter'!B$12/'Power parameter'!E$15*(B511-B$3-B$4))*D511 -> 0 | G511: =E511+F511 -> 0.53310023 | J511: 503 | K511: =E$4*2/1000*J511 -> 2.5724807e-05 | L511: =IF((K511-E$4)<B$1,1,0) -> 1 | M511: =IF((K511-E$4)>=B$1,1,0) -> 0 | N511: =('Power parameter'!B$6-'Power parameter'!B$13)/'Power parameter'!E$15*(K511-E$4)*L511 -> 0.069508661 | O511: =IF(((K511-E$4)-B$1-E$1)>0,0,('Power parameter'!K$8-'Power parameter'!B$13/'Power parameter'!E$15*((K511-E$4)-waves!B$1))*M511) -> 0 | P511: =N511+O511 -> 0.069508661 | S511: =B511*H$1+K511*H$2 -> 2.4034404e-05 | T511: =G511*H$1+P511*H$2 -> 0.53310023
A512: 504 | B512: =2*B$4/1000*A512 -> 2.4082186e-05 | C512: =IF((B512-B$4)<B$3,1,0) -> 1 | D512: =IF((B512-B$4)>B$3,1,0) -> 0 | E512: =('Power parameter'!B$7-'Power parameter'!H$10/2+('Power parameter'!B$6-'Power parameter'!B$12)/'Power parameter'!E$15*(B512-B$4))*C512 -> 0.55474729 | F512: =('Power parameter'!B$7+'Power parameter'!H$10/2-'Power parameter'!B$12/'Power parameter'!E$15*(B512-B$3-B$4))*D512 -> 0 | G512: =E512+F512 -> 0.55474729 | J512: 504 | K512: =E$4*2/1000*J512 -> 2.577595e-05 | L512: =IF((K512-E$4)<B$1,1,0) -> 1 | M512: =IF((K512-E$4)>=B$1,1,0) -> 0 | N512: =('Power parameter'!B$6-'Power parameter'!B$13)/'Power parameter'!E$15*(K512-E$4)*L512 -> 0.092678214 | O512: =IF(((K512-E$4)-B$1-E$1)>0,0,('Power parameter'!K$8-'Power parameter'!B$13/'Power parameter'!E$15*((K512-E$4)-waves!B$1))*M512) -> 0 | P512: =N512+O512 -> 0.092678214 | S512: =B512*H$1+K512*H$2 -> 2.4082186e-05 | T512: =G512*H$1+P512*H$2 -> 0.55474729
A513: 505 | B513: =2*B$4/1000*A513 -> 2.4129968e-05 | C513: =IF((B513-B$4)<B$3,1,0) -> 1 | D513: =IF((B513-B$4)>B$3,1,0) -> 0 | E513: =('Power parameter'!B$7-'Power parameter'!H$10/2+('Power parameter'!B$6-'Power parameter'!B$12)/'Power parameter'!E$15*(B513-B$4))*C513 -> 0.57639435 | F513: =('Power parameter'!B$7+'Power parameter'!H$10/2-'Power parameter'!B$12/'Power parameter'!E$15*(B513-B$3-B$4))*D513 -> 0 | G513: =E513+F513 -> 0.57639435 | J513: 505 | K513: =E$4*2/1000*J513 -> 2.5827092e-05 | L513: =IF((K513-E$4)<B$1,1,0) -> 1 | M513: =IF((K513-E$4)>=B$1,1,0) -> 0 | N513: =('Power parameter'!B$6-'Power parameter'!B$13)/'Power parameter'!E$15*(K513-E$4)*L513 -> 0.11584777 | O513: =IF(((K513-E$4)-B$1-E$1)>0,0,('Power parameter'!K$8-'Power parameter'!B$13/'Power parameter'!E$15*((K513-E$4)-waves!B$1))*M513) -> 0 | P513: =N513+O513 -> 0.11584777 | S513: =B513*H$1+K513*H$2 -> 2.4129968e-05 | T513: =G513*H$1+P513*H$2 -> 0.57639435
A514: 506 | B514: =2*B$4/1000*A514 -> 2.417775e-05 | C514: =IF((B514-B$4)<B$3,1,0) -> 1 | D514: =IF((B514-B$4)>B$3,1,0) -> 0 | E514: =('Power parameter'!B$7-'Power parameter'!H$10/2+('Power parameter'!B$6-'Power parameter'!B$12)/'Power parameter'!E$15*(B514-B$4))*C514 -> 0.59804141 | F514: =('Power parameter'!B$7+'Power parameter'!H$10/2-'Power parameter'!B$12/'Power parameter'!E$15*(B514-B$3-B$4))*D514 -> 0 | G514: =E514+F514 -> 0.59804141 | J514: 506 | K514: =E$4*2/1000*J514 -> 2.5878235e-05 | L514: =IF((K514-E$4)<B$1,1,0) -> 1 | M514: =IF((K514-E$4)>=B$1,1,0) -> 0 | N514: =('Power parameter'!B$6-'Power parameter'!B$13)/'Power parameter'!E$15*(K514-E$4)*L514 -> 0.13901732 | O514: =IF(((K514-E$4)-B$1-E$1)>0,0,('Power parameter'!K$8-'Power parameter'!B$13/'Power parameter'!E$15*((K514-E$4)-waves!B$1))*M514) -> 0 | P514: =N514+O514 -> 0.13901732 | S514: =B514*H$1+K514*H$2 -> 2.417775e-05 | T514: =G514*H$1+P514*H$2 -> 0.59804141
A515: 507 | B515: =2*B$4/1000*A515 -> 2.4225532e-05 | C515: =IF((B515-B$4)<B$3,1,0) -> 1 | D515: =IF((B515-B$4)>B$3,1,0) -> 0 | E515: =('Power parameter'!B$7-'Power parameter'!H$10/2+('Power parameter'!B$6-'Power parameter'!B$12)/'Power parameter'!E$15*(B515-B$4))*C515 -> 0.61968847 | F515: =('Power parameter'!B$7+'Power parameter'!H$10/2-'Power parameter'!B$12/'Power parameter'!E$15*(B515-B$3-B$4))*D515 -> 0 | G515: =E515+F515 -> 0.61968847 | J515: 507 | K515: =E$4*2/1000*J515 -> 2.5929378e-05 | L515: =IF((K515-E$4)<B$1,1,0) -> 1 | M515: =IF((K515-E$4)>=B$1,1,0) -> 0 | N515: =('Power parameter'!B$6-'Power parameter'!B$13)/'Power parameter'!E$15*(K515-E$4)*L515 -> 0.16218687 | O515: =IF(((K515-E$4)-B$1-E$1)>0,0,('Power parameter'!K$8-'Power parameter'!B$13/'Power parameter'!E$15*((K515-E$4)-waves!B$1))*M515) -> 0 | P515: =N515+O515 -> 0.16218687 | S515: =B515*H$1+K515*H$2 -> 2.4225532e-05 | T515: =G515*H$1+P515*H$2 -> 0.61968847
A516: 508 | B516: =2*B$4/1000*A516 -> 2.4273314e-05 | C516: =IF((B516-B$4)<B$3,1,0) -> 1 | D516: =IF((B516-B$4)>B$3,1,0) -> 0 | E516: =('Power parameter'!B$7-'Power parameter'!H$10/2+('Power parameter'!B$6-'Power parameter'!B$12)/'Power parameter'!E$15*(B516-B$4))*C516 -> 0.64133552 | F516: =('Power parameter'!B$7+'Power parameter'!H$10/2-'Power parameter'!B$12/'Power parameter'!E$15*(B516-B$3-B$4))*D516 -> 0 | G516: =E516+F516 -> 0.64133552 | J516: 508 | K516: =E$4*2/1000*J516 -> 2.5980521e-05 | L516: =IF((K516-E$4)<B$1,1,0) -> 1 | M516: =IF((K516-E$4)>=B$1,1,0) -> 0 | N516: =('Power parameter'!B$6-'Power parameter'!B$13)/'Power parameter'!E$15*(K516-E$4)*L516 -> 0.18535643 | O516: =IF(((K516-E$4)-B$1-E$1)>0,0,('Power parameter'!K$8-'Power parameter'!B$13/'Power parameter'!E$15*((K516-E$4)-waves!B$1))*M516) -> 0 | P516: =N516+O516 -> 0.18535643 | S516: =B516*H$1+K516*H$2 -> 2.4273314e-05 | T516: =G516*H$1+P516*H$2 -> 0.64133552
A517: 509 | B517: =2*B$4/1000*A517 -> 2.4321097e-05 | C517: =IF((B517-B$4)<B$3,1,0) -> 1 | D517: =IF((B517-B$4)>B$3,1,0) -> 0 | E517: =('Power parameter'!B$7-'Power parameter'!H$10/2+('Power parameter'!B$6-'Power parameter'!B$12)/'Power parameter'!E$15*(B517-B$4))*C517 -> 0.66298258 | F517: =('Power parameter'!B$7+'Power parameter'!H$10/2-'Power parameter'!B$12/'Power parameter'!E$15*(B517-B$3-B$4))*D517 -> 0 | G517: =E517+F517 -> 0.66298258 | J517: 509 | K517: =E$4*2/1000*J517 -> 2.6031663e-05 | L517: =IF((K517-E$4)<B$1,1,0) -> 1 | M517: =IF((K517-E$4)>=B$1,1,0) -> 0 | N517: =('Power parameter'!B$6-'Power parameter'!B$13)/'Power parameter'!E$15*(K517-E$4)*L517 -> 0.20852598 | O517: =IF(((K517-E$4)-B$1-E$1)>0,0,('Power parameter'!K$8-'Power parameter'!B$13/'Power parameter'!E$15*((K517-E$4)-waves!B$1))*M517) -> 0 | P517: =N517+O517 -> 0.20852598 | S517: =B517*H$1+K517*H$2 -> 2.4321097e-05 | T517: =G517*H$1+P517*H$2 -> 0.66298258
A518: 510 | B518: =2*B$4/1000*A518 -> 2.4368879e-05 | C518: =IF((B518-B$4)<B$3,1,0) -> 1 | D518: =IF((B518-B$4)>B$3,1,0) -> 0 | E518: =('Power parameter'!B$7-'Power parameter'!H$10/2+('Power parameter'!B$6-'Power parameter'!B$12)/'Power parameter'!E$15*(B518-B$4))*C518 -> 0.68462964 | F518: =('Power parameter'!B$7+'Power parameter'!H$10/2-'Power parameter'!B$12/'Power parameter'!E$15*(B518-B$3-B$4))*D518 -> 0 | G518: =E518+F518 -> 0.68462964 | J518: 510 | K518: =E$4*2/1000*J518 -> 2.6082806e-05 | L518: =IF((K518-E$4)<B$1,1,0) -> 1 | M518: =IF((K518-E$4)>=B$1,1,0) -> 0 | N518: =('Power parameter'!B$6-'Power parameter'!B$13)/'Power parameter'!E$15*(K518-E$4)*L518 -> 0.23169554 | O518: =IF(((K518-E$4)-B$1-E$1)>0,0,('Power parameter'!K$8-'Power parameter'!B$13/'Power parameter'!E$15*((K518-E$4)-waves!B$1))*M518) -> 0 | P518: =N518+O518 -> 0.23169554 | S518: =B518*H$1+K518*H$2 -> 2.4368879e-05 | T518: =G518*H$1+P518*H$2 -> 0.68462964
A519: 511 | B519: =2*B$4/1000*A519 -> 2.4416661e-05 | C519: =IF((B519-B$4)<B$3,1,0) -> 1 | D519: =IF((B519-B$4)>B$3,1,0) -> 0 | E519: =('Power parameter'!B$7-'Power parameter'!H$10/2+('Power parameter'!B$6-'Power parameter'!B$12)/'Power parameter'!E$15*(B519-B$4))*C519 -> 0.7062767 | F519: =('Power parameter'!B$7+'Power parameter'!H$10/2-'Power parameter'!B$12/'Power parameter'!E$15*(B519-B$3-B$4))*D519 -> 0 | G519: =E519+F519 -> 0.7062767 | J519: 511 | K519: =E$4*2/1000*J519 -> 2.6133949e-05 | L519: =IF((K519-E$4)<B$1,1,0) -> 1 | M519: =IF((K519-E$4)>=B$1,1,0) -> 0 | N519: =('Power parameter'!B$6-'Power parameter'!B$13)/'Power parameter'!E$15*(K519-E$4)*L519 -> 0.25486509 | O519: =IF(((K519-E$4)-B$1-E$1)>0,0,('Power parameter'!K$8-'Power parameter'!B$13/'Power parameter'!E$15*((K519-E$4)-waves!B$1))*M519) -> 0 | P519: =N519+O519 -> 0.25486509 | S519: =B519*H$1+K519*H$2 -> 2.4416661e-05 | T519: =G519*H$1+P519*H$2 -> 0.7062767
... A1007: 999 | B1007: =2*B$4/1000*A1007 -> 4.7734333e-05 | C1007: =IF((B1007-B$4)<B$3,1,0) -> 0 | D1007: =IF((B1007-B$4)>B$3,1,0) -> 1 | E1007: =('Power parameter'!B$7-'Power parameter'!H$10/2+('Power parameter'!B$6-'Power parameter'!B$12)/'Power parameter'!E$15*(B1007-B$4))*C1007 -> 0 | F1007: =('Power parameter'!B$7+'Power parameter'!H$10/2-'Power parameter'!B$12/'Power parameter'!E$15*(B1007-B$3-B$4))*D1007 -> 0.4689977 | G1007: =E1007+F1007 -> 0.4689977 | J1007: 999 | K1007: =E$4*2/1000*J1007 -> 5.1091614e-05 | L1007: =IF((K1007-E$4)<B$1,1,0) -> 0 | M1007: =IF((K1007-E$4)>=B$1,1,0) -> 1 | N1007: =('Power parameter'!B$6-'Power parameter'!B$13)/'Power parameter'!E$15*(K1007-E$4)*L1007 -> 0 | O1007: =IF(((K1007-E$4)-B$1-E$1)>0,0,('Power parameter'!K$8-'Power parameter'!B$13/'Power parameter'!E$15*((K1007-E$4)-waves!B$1))*M1007) -> 0.34282378 | P1007: =N1007+O1007 -> 0.34282378 | S1007: =B1007*H$1+K1007*H$2 -> 4.7734333e-05 | T1007: =G1007*H$1+P1007*H$2 -> 0.4689977

Sheet LOOP GAIN FOR BUCK
B1: Basic Value | E1: Parameters | H1: Calculated Parameters | K1: Hz | Q1: f(KHz) | R1: f | S1: ω | T1: ωn_R | U1: ωn_I | V1: ARC | W1: Deg | X1: Gain | Y1: ωp_R | Z1: ωp_I | AA1: ARC | AB1: Deg | AC1: Gain | AD1: ωpesr_R | AE1: ωpesr_I | AF1: ARC | AG1: Deg/n | AH1: Gain/n | AI1: ωR_R | AJ1: ωR_I | AK1: ARC | AL1: Deg | AM1: Gain | AN1: ωze_R | AO1: ωze_I | AP1: ARC | AQ1: Deg | AR1: Gain | AS1: ωzc_R | AT1: ωzc_I | AU1: ARC | AV1: Deg/n | AW1: Gain/n | AX1: Converter Deg | AY1: Converter Gain | AZ1: Converter Gain(DB)
B2: T | C2: ='Power parameter'!K20 -> 2.3891058e-05 | E2: Ri | F2: =C5*C8 -> 0.231663 | H2: 1/ωn | I2: =C2/3.14 -> 7.608617e-06 | J2: fn | K2: =1/I2/6.28 -> 20928.333 | Q2: =R2/1000 -> 0.001 | R2: 1 | S2: =R2*6.28 -> 6.28 | T2: =1-S2*S2*I$2*I$2 -> 1 | U2: =S2*I$2/F$8 -> 7.5017921e-05 | V2: =ATAN2(T2,U2) -> 7.5017921e-05 | W2: =DEGREES(V2) -> 0.0042982102 | X2: =SQRT(T2^2+U2^2) -> 1 | Y2: 1 | Z2: =S2*I$4 -> 0.028213856 | AA2: =ATAN2(Y2,Z2) -> 0.028206373 | AB2: =DEGREES(AA2) -> 1.6161061 | AC2: =SQRT(Y2^2+Z2^2) -> 1.0003979 | AD2: 1 | AE2: =S2*I$5 -> 1.0362e-06 | AF2: =ATAN2(AD2,AE2) -> 1.0362e-06 | AG2: =DEGREES(AF2) -> 5.9369887e-05 | AH2: =SQRT(AD2^2+AE2^2) -> 1 | AI2: 1 | AJ2: =-1*S2*I$3 -> 0 | AK2: =ATAN2(AI2,AJ2) -> 0 | AL2: =DEGREES(AK2) -> 0 | AM2: =SQRT(AI2^2+AJ2^2) -> 1 | AN2: 1 | AO2: =S2*I$6 -> 0.00010362 | AP2: =ATAN2(AN2,AO2) -> 0.00010362 | AQ2: =DEGREES(AP2) -> 0.0059369887 | AR2: =SQRT(AN2^2+AO2^2) -> 1 | AS2: 1 | AT2: =S2*I$7 -> 1.0362e-08 | AU2: =ATAN2(AS2,AT2) -> 1.0362e-08 | AV2: =DEGREES(AU2) -> 5.9369887e-07 | AW2: =SQRT(AS2^2+AT2^2) -> 1 | AX2: =AQ2-W2-AB2 -> -1.6144674 | AY2: =MAX(1E-25,F$12*AM2*AR2/X2/AC2) -> 58.743444 | AZ2: =20*LOG(AY2) -> 35.379188
B3: D' | C3: =1-C4 -> 0.9627033 | E3: K | F3: =-0.5*F2*C2*C3*C4/C7 -> -0.00014612212 | H3: 1/ωR | I3: 0 | J3: fR | K3: =1/I3/6.28 -> #DIV/0! | Q3: =R3/1000 -> 0.002 | R3: =1+R2 -> 2 | S3: =R3*6.28 -> 12.56 | T3: =1-S3*S3*I$2*I$2 -> 0.99999999 | U3: =S3*I$2/F$8 -> 0.00015003584 | V3: =ATAN2(T3,U3) -> 0.00015003584 | W3: =DEGREES(V3) -> 0.0085964205 | X3: =SQRT(T3^2+U3^2) -> 1 | Y3: 1 | Z3: =S3*I$4 -> 0.056427712 | AA3: =ATAN2(Y3,Z3) -> 0.056367936 | AB3: =DEGREES(AA3) -> 3.2296448 | AC3: =SQRT(Y3^2+Z3^2) -> 1.0015908 | AD3: 1 | AE3: =S3*I$5 -> 2.0724e-06 | AF3: =ATAN2(AD3,AE3) -> 2.0724e-06 | AG3: =DEGREES(AF3) -> 0.00011873977 | AH3: =SQRT(AD3^2+AE3^2) -> 1 | AI3: 1 | AJ3: =-1*S3*I$3 -> 0 | AK3: =ATAN2(AI3,AJ3) -> 0 | AL3: =DEGREES(AK3) -> 0 | AM3: =SQRT(AI3^2+AJ3^2) -> 1 | AN3: 1 | AO3: =S3*I$6 -> 0.00020724 | AP3: =ATAN2(AN3,AO3) -> 0.00020724 | AQ3: =DEGREES(AP3) -> 0.011873977 | AR3: =SQRT(AN3^2+AO3^2) -> 1 | AS3: 1 | AT3: =S3*I$7 -> 2.0724e-08 | AU3: =ATAN2(AS3,AT3) -> 2.0724e-08 | AV3: =DEGREES(AU3) -> 1.1873977e-06 | AW3: =SQRT(AS3^2+AT3^2) -> 1 | AX3: =AQ3-W3-AB3 -> -3.2263673 | AY3: =MAX(1E-25,F$12*AM3*AR3/X3/AC3) -> 58.673484 | AZ3: =20*LOG(AY3) -> 35.368838
B4: D | C4: ='Power parameter'!K19 -> 0.037296697 | E4: Se | F4: =C4/C3*F6 -> 4066.0069 | H4: 1/ωp | I4: =C16*C6/F11 -> 0.0044926522 | J4: fp | K4: =1/I4/6.28 -> 35.443578 | Q4: =R4/1000 -> 0.003 | R4: =1+R3 -> 3 | S4: =R4*6.28 -> 18.84 | T4: =1-S4*S4*I$2*I$2 -> 0.99999998 | U4: =S4*I$2/F$8 -> 0.00022505376 | V4: =ATAN2(T4,U4) -> 0.00022505376 | W4: =DEGREES(V4) -> 0.012894631 | X4: =SQRT(T4^2+U4^2) -> 1 | Y4: 1 | Z4: =S4*I$4 -> 0.084641568 | AA4: =ATAN2(Y4,Z4) -> 0.084440303 | AB4: =DEGREES(AA4) -> 4.838073 | AC4: =SQRT(Y4^2+Z4^2) -> 1.0035757 | AD4: 1 | AE4: =S4*I$5 -> 3.1086e-06 | AF4: =ATAN2(AD4,AE4) -> 3.1086e-06 | AG4: =DEGREES(AF4) -> 0.00017810966 | AH4: =SQRT(AD4^2+AE4^2) -> 1 | AI4: 1 | AJ4: =-1*S4*I$3 -> 0 | AK4: =ATAN2(AI4,AJ4) -> 0 | AL4: =DEGREES(AK4) -> 0 | AM4: =SQRT(AI4^2+AJ4^2) -> 1 | AN4: 1 | AO4: =S4*I$6 -> 0.00031086 | AP4: =ATAN2(AN4,AO4) -> 0.00031085999 | AQ4: =DEGREES(AP4) -> 0.017810965 | AR4: =SQRT(AN4^2+AO4^2) -> 1 | AS4: 1 | AT4: =S4*I$7 -> 3.1086e-08 | AU4: =ATAN2(AS4,AT4) -> 3.1086e-08 | AV4: =DEGREES(AU4) -> 1.7810966e-06 | AW4: =SQRT(AS4^2+AT4^2) -> 1 | AX4: =AQ4-W4-AB4 -> -4.8331566 | AY4: =MAX(1E-25,F$12*AM4*AR4/X4/AC4) -> 58.557438 | AZ4: =20*LOG(AY4) -> 35.351641
B5: Rs | C5: 0.093 | E5: Vap | F5: ='Power parameter'!K18 -> 320 | G5: (Resr_E+Resr)*(Co_E*Co_C)/(Co_E+Co_C) | H5: 1/ωp_esr | I5: =(C14+C15)*C12*C13/(C12+C13) -> 1.65e-07 | J5: fp_esr | K5: =1/I5/6.28 -> 965064.66 | Q5: =R5/1000 -> 0.004 | R5: =1+R4 -> 4 | S5: =R5*6.28 -> 25.12 | T5: =1-S5*S5*I$2*I$2 -> 0.99999996 | U5: =S5*I$2/F$8 -> 0.00030007168 | V5: =ATAN2(T5,U5) -> 0.00030007168 | W5: =DEGREES(V5) -> 0.017192841 | X5: =SQRT(T5^2+U5^2) -> 1 | Y5: 1 | Z5: =S5*I$4 -> 0.11285542 | AA5: =ATAN2(Y5,Z5) -> 0.11237993 | AB5: =DEGREES(AA5) -> 6.4388957 | AC5: =SQRT(Y5^2+Z5^2) -> 1.006348 | AD5: 1 | AE5: =S5*I$5 -> 4.1448e-06 | AF5: =ATAN2(AD5,AE5) -> 4.1448e-06 | AG5: =DEGREES(AF5) -> 0.00023747955 | AH5: =SQRT(AD5^2+AE5^2) -> 1 | AI5: 1 | AJ5: =-1*S5*I$3 -> 0 | AK5: =ATAN2(AI5,AJ5) -> 0 | AL5: =DEGREES(AK5) -> 0 | AM5: =SQRT(AI5^2+AJ5^2) -> 1 | AN5: 1 | AO5: =S5*I$6 -> 0.00041448 | AP5: =ATAN2(AN5,AO5) -> 0.00041447998 | AQ5: =DEGREES(AP5) -> 0.023747953 | AR5: =SQRT(AN5^2+AO5^2) -> 1.0000001 | AS5: 1 | AT5: =S5*I$7 -> 4.1448e-08 | AU5: =ATAN2(AS5,AT5) -> 4.1448e-08 | AV5: =DEGREES(AU5) -> 2.3747955e-06 | AW5: =SQRT(AS5^2+AT5^2) -> 1 | AX5: =AQ5-W5-AB5 -> -6.4323406 | AY5: =MAX(1E-25,F$12*AM5*AR5/X5/AC5) -> 58.396124 | AZ5: =20*LOG(AY5) -> 35.32768
B6: Ro | C6: ='Power parameter'!B12/'Power parameter'!B5 -> 17.893468 | E6: Sn | F6: =F5*C3*F2/C7 -> 104951.88 | G6: (Resr_E*Co_E) | H6: 1/ωz_esr_E | I6: =C12*C14 -> 1.65e-05 | J6: fz_e | K6: =1/I6/6.28 -> 9650.6466 | Q6: =R6/1000 -> 0.005 | R6: =1+R5 -> 5 | S6: =R6*6.28 -> 31.4 | T6: =1-S6*S6*I$2*I$2 -> 0.99999994 | U6: =S6*I$2/F$8 -> 0.0003750896 | V6: =ATAN2(T6,U6) -> 0.00037508961 | W6: =DEGREES(V6) -> 0.021491051 | X6: =SQRT(T6^2+U6^2) -> 1 | Y6: 1 | Z6: =S6*I$4 -> 0.14106928 | AA6: =ATAN2(Y6,Z6) -> 0.14014451 | AB6: =DEGREES(AA6) -> 8.029689 | AC6: =SQRT(Y6^2+Z6^2) -> 1.0099013 | AD6: 1 | AE6: =S6*I$5 -> 5.181e-06 | AF6: =ATAN2(AD6,AE6) -> 5.181e-06 | AG6: =DEGREES(AF6) -> 0.00029684943 | AH6: =SQRT(AD6^2+AE6^2) -> 1 | AI6: 1 | AJ6: =-1*S6*I$3 -> 0 | AK6: =ATAN2(AI6,AJ6) -> 0 | AL6: =DEGREES(AK6) -> 0 | AM6: =SQRT(AI6^2+AJ6^2) -> 1 | AN6: 1 | AO6: =S6*I$6 -> 0.0005181 | AP6: =ATAN2(AN6,AO6) -> 0.00051809995 | AQ6: =DEGREES(AP6) -> 0.029684941 | AR6: =SQRT(AN6^2+AO6^2) -> 1.0000001 | AS6: 1 | AT6: =S6*I$7 -> 5.181e-08 | AU6: =ATAN2(AS6,AT6) -> 5.181e-08 | AV6: =DEGREES(AU6) -> 2.9684943e-06 | AW6: =SQRT(AS6^2+AT6^2) -> 1 | AX6: =AQ6-W6-AB6 -> -8.0214952 | AY6: =MAX(1E-25,F$12*AM6*AR6/X6/AC6) -> 58.190666 | AZ6: =20*LOG(AY6) -> 35.297067
B7: L | C7: ='Power parameter'!E15 -> 0.00068 | E7: mc | F7: =1+F4/F6 -> 1.0387416 | G7: (Resr_C*Co_C) | H7: 1/ωz_esr_C | I7: =C13*C15 -> 1.65e-09 | J7: fz_c | K7: =1/I7/6.28 -> 96506466 | Q7: =R7/1000 -> 0.006 | R7: =1+R6 -> 6 | S7: =R7*6.28 -> 37.68 | T7: =1-S7*S7*I$2*I$2 -> 0.99999992 | U7: =S7*I$2/F$8 -> 0.00045010752 | V7: =ATAN2(T7,U7) -> 0.00045010753 | W7: =DEGREES(V7) -> 0.025789262 | X7: =SQRT(T7^2+U7^2) -> 1 | Y7: 1 | Z7: =S7*I$4 -> 0.16928314 | AA7: =ATAN2(Y7,Z7) -> 0.16769335 | AB7: =DEGREES(AA7) -> 9.608121 | AC7: =SQRT(Y7^2+Z7^2) -> 1.0142272 | AD7: 1 | AE7: =S7*I$5 -> 6.2172e-06 | AF7: =ATAN2(AD7,AE7) -> 6.2172e-06 | AG7: =DEGREES(AF7) -> 0.00035621932 | AH7: =SQRT(AD7^2+AE7^2) -> 1 | AI7: 1 | AJ7: =-1*S7*I$3 -> 0 | AK7: =ATAN2(AI7,AJ7) -> 0 | AL7: =DEGREES(AK7) -> 0 | AM7: =SQRT(AI7^2+AJ7^2) -> 1 | AN7: 1 | AO7: =S7*I$6 -> 0.00062172 | AP7: =ATAN2(AN7,AO7) -> 0.00062171992 | AQ7: =DEGREES(AP7) -> 0.035621927 | AR7: =SQRT(AN7^2+AO7^2) -> 1.0000002 | AS7: 1 | AT7: =S7*I$7 -> 6.2172e-08 | AU7: =ATAN2(AS7,AT7) -> 6.2172e-08 | AV7: =DEGREES(AU7) -> 3.5621932e-06 | AW7: =SQRT(AS7^2+AT7^2) -> 1 | AX7: =AQ7-W7-AB7 -> -9.5982883 | AY7: =MAX(1E-25,F$12*AM7*AR7/X7/AC7) -> 57.942471 | AZ7: =20*LOG(AY7) -> 35.25994
B8: Gi | C8: =2.491 -> 2.491 | E8: Q | F8: =2/3.14 -> 0.63694268 | H8: 1/ωl | I8: =C7/F9/C8/C5 -> 1.1945529e-05 | Q8: =R8/1000 -> 0.007 | R8: =1+R7 -> 7 | S8: =R8*6.28 -> 43.96 | T8: =1-S8*S8*I$2*I$2 -> 0.99999989 | U8: =S8*I$2/F$8 -> 0.00052512544 | V8: =ATAN2(T8,U8) -> 0.00052512545 | W8: =DEGREES(V8) -> 0.030087472 | X8: =SQRT(T8^2+U8^2) -> 1 | Y8: 1 | Z8: =S8*I$4 -> 0.19749699 | AA8: =ATAN2(Y8,Z8) -> 0.19498767 | AB8: =DEGREES(AA8) -> 11.17197 | AC8: =SQRT(Y8^2+Z8^2) -> 1.019316 | AD8: 1 | AE8: =S8*I$5 -> 7.2534e-06 | AF8: =ATAN2(AD8,AE8) -> 7.2534e-06 | AG8: =DEGREES(AF8) -> 0.00041558921 | AH8: =SQRT(AD8^2+AE8^2) -> 1 | AI8: 1 | AJ8: =-1*S8*I$3 -> 0 | AK8: =ATAN2(AI8,AJ8) -> 0 | AL8: =DEGREES(AK8) -> 0 | AM8: =SQRT(AI8^2+AJ8^2) -> 1 | AN8: 1 | AO8: =S8*I$6 -> 0.00072534 | AP8: =ATAN2(AN8,AO8) -> 0.00072533987 | AQ8: =DEGREES(AP8) -> 0.041558913 | AR8: =SQRT(AN8^2+AO8^2) -> 1.0000003 | AS8: 1 | AT8: =S8*I$7 -> 7.2534e-08 | AU8: =ATAN2(AS8,AT8) -> 7.2534e-08 | AV8: =DEGREES(AU8) -> 4.1558921e-06 | AW8: =SQRT(AS8^2+AT8^2) -> 1 | AX8: =AQ8-W8-AB8 -> -11.160499 | AY8: =MAX(1E-25,F$12*AM8*AR8/X8/AC8) -> 57.653205 | AZ8: =20*LOG(AY8) -> 35.216469
B9: Vsl | C9: =F4*C2 -> 0.097141204 | E9: Km | F9: =1/((0.5-C4)*F2*C2/C7+C9/F5) -> 245.72359 | Q9: =R9/1000 -> 0.008 | R9: =1+R8 -> 8 | S9: =R9*6.28 -> 50.24 | T9: =1-S9*S9*I$2*I$2 -> 0.99999985 | U9: =S9*I$2/F$8 -> 0.00060014337 | V9: =ATAN2(T9,U9) -> 0.00060014338 | W9: =DEGREES(V9) -> 0.034385683 | X9: =SQRT(T9^2+U9^2) -> 1 | Y9: 1 | Z9: =S9*I$4 -> 0.22571085 | AA9: =ATAN2(Y9,Z9) -> 0.22199093 | AB9: =DEGREES(AA9) -> 12.719144 | AC9: =SQRT(Y9^2+Z9^2) -> 1.0251563 | AD9: 1 | AE9: =S9*I$5 -> 8.2896e-06 | AF9: =ATAN2(AD9,AE9) -> 8.2896e-06 | AG9: =DEGREES(AF9) -> 0.00047495909 | AH9: =SQRT(AD9^2+AE9^2) -> 1 | AI9: 1 | AJ9: =-1*S9*I$3 -> 0 | AK9: =ATAN2(AI9,AJ9) -> 0 | AL9: =DEGREES(AK9) -> 0 | AM9: =SQRT(AI9^2+AJ9^2) -> 1 | AN9: 1 | AO9: =S9*I$6 -> 0.00082896 | AP9: =ATAN2(AN9,AO9) -> 0.00082895981 | AQ9: =DEGREES(AP9) -> 0.047495899 | AR9: =SQRT(AN9^2+AO9^2) -> 1.0000003 | AS9: 1 | AT9: =S9*I$7 -> 8.2896e-08 | AU9: =ATAN2(AS9,AT9) -> 8.2896e-08 | AV9: =DEGREES(AU9) -> 4.7495909e-06 | AW9: =SQRT(AS9^2+AT9^2) -> 1 | AX9: =AQ9-W9-AB9 -> -12.706033 | AY9: =MAX(1E-25,F$12*AM9*AR9/X9/AC9) -> 57.32476 | AZ9: =20*LOG(AY9) -> 35.166845
B10: Vo | C10: ='Power parameter'!B12 -> 11.934943 | E10: K | F10: =0.5*F2*C2*C3*C4/C7 -> 0.00014612212 | Q10: =R10/1000 -> 0.009 | R10: =1+R9 -> 9 | S10: =R10*6.28 -> 56.52 | T10: =1-S10*S10*I$2*I$2 -> 0.99999982 | U10: =S10*I$2/F$8 -> 0.00067516129 | V10: =ATAN2(T10,U10) -> 0.00067516131 | W10: =DEGREES(V10) -> 0.038683893 | X10: =SQRT(T10^2+U10^2) -> 1 | Y10: 1 | Z10: =S10*I$4 -> 0.2539247 | AA10: =ATAN2(Y10,Z10) -> 0.24866908 | AB10: =DEGREES(AA10) -> 14.247689 | AC10: =SQRT(Y10^2+Z10^2) -> 1.0317353 | AD10: 1 | AE10: =S10*I$5 -> 9.3258e-06 | AF10: =ATAN2(AD10,AE10) -> 9.3258e-06 | AG10: =DEGREES(AF10) -> 0.00053432898 | AH10: =SQRT(AD10^2+AE10^2) -> 1 | AI10: 1 | AJ10: =-1*S10*I$3 -> 0 | AK10: =ATAN2(AI10,AJ10) -> 0 | AL10: =DEGREES(AK10) -> 0 | AM10: =SQRT(AI10^2+AJ10^2) -> 1 | AN10: 1 | AO10: =S10*I$6 -> 0.00093258 | AP10: =ATAN2(AN10,AO10) -> 0.00093257973 | AQ10: =DEGREES(AP10) -> 0.053432883 | AR10: =SQRT(AN10^2+AO10^2) -> 1.0000004 | AS10: 1 | AT10: =S10*I$7 -> 9.3258e-08 | AU10: =ATAN2(AS10,AT10) -> 9.3258e-08 | AV10: =DEGREES(AU10) -> 5.3432898e-06 | AW10: =SQRT(AS10^2+AT10^2) -> 1 | AX10: =AQ10-W10-AB10 -> -14.23294 | AY10: =MAX(1E-25,F$12*AM10*AR10/X10/AC10) -> 56.959223 | AZ10: =20*LOG(AY10) -> 35.111281
B11: R | C11: =C6 -> 17.893468 | E11: KD | F11: =1+C6/F9/F2 -> 1.3143337 | Q11: =R11/1000 -> 0.01 | R11: =1+R10 -> 10 | S11: =R11*6.28 -> 62.8 | T11: =1-S11*S11*I$2*I$2 -> 0.99999977 | U11: =S11*I$2/F$8 -> 0.00075017921 | V11: =ATAN2(T11,U11) -> 0.00075017924 | W11: =DEGREES(V11) -> 0.042982104 | X11: =SQRT(T11^2+U11^2) -> 1.0000001 | Y11: 1 | Z11: =S11*I$4 -> 0.28213856 | AA11: =ATAN2(Y11,Z11) -> 0.27499069 | AB11: =DEGREES(AA11) -> 15.755806 | AC11: =SQRT(Y11^2+Z11^2) -> 1.0390391 | AD11: 1 | AE11: =S11*I$5 -> 1.0362e-05 | AF11: =ATAN2(AD11,AE11) -> 1.0362e-05 | AG11: =DEGREES(AF11) -> 0.00059369887 | AH11: =SQRT(AD11^2+AE11^2) -> 1 | AI11: 1 | AJ11: =-1*S11*I$3 -> 0 | AK11: =ATAN2(AI11,AJ11) -> 0 | AL11: =DEGREES(AK11) -> 0 | AM11: =SQRT(AI11^2+AJ11^2) -> 1 | AN11: 1 | AO11: =S11*I$6 -> 0.0010362 | AP11: =ATAN2(AN11,AO11) -> 0.0010361996 | AQ11: =DEGREES(AP11) -> 0.059369865 | AR11: =SQRT(AN11^2+AO11^2) -> 1.0000005 | AS11: 1 | AT11: =S11*I$7 -> 1.0362e-07 | AU11: =ATAN2(AS11,AT11) -> 1.0362e-07 | AV11: =DEGREES(AU11) -> 5.9369887e-06 | AW11: =SQRT(AS11^2+AT11^2) -> 1 | AX11: =AQ11-W11-AB11 -> -15.739418 | AY11: =MAX(1E-25,F$12*AM11*AR11/X11/AC11) -> 56.558844 | AZ11: =20*LOG(AY11) -> 35.05001
B12: Co_E | C12: ='Power parameter'!B21 -> 0.00033 | E12: Gdc | F12: =C6/F2/F11 -> 58.766819 | G12: =20*LOG(F12) -> 35.382644 | Q12: =R12/1000 -> 0.02 | R12: =10+R11 -> 20 | S12: =R12*6.28 -> 125.6 | T12: =1-S12*S12*I$2*I$2 -> 0.99999909 | U12: =S12*I$2/F$8 -> 0.0015003584 | V12: =ATAN2(T12,U12) -> 0.0015003587 | W12: =DEGREES(V12) -> 0.085964219 | X12: =SQRT(T12^2+U12^2) -> 1.0000002 | Y12: 1 | Z12: =S12*I$4 -> 0.56427712 | AA12: =ATAN2(Y12,Z12) -> 0.51373841 | AB12: =DEGREES(AA12) -> 29.435043 | AC12: =SQRT(Y12^2+Z12^2) -> 1.1482198 | AD12: 1 | AE12: =S12*I$5 -> 2.0724e-05 | AF12: =ATAN2(AD12,AE12) -> 2.0724e-05 | AG12: =DEGREES(AF12) -> 0.0011873977 | AH12: =SQRT(AD12^2+AE12^2) -> 1 | AI12: 1 | AJ12: =-1*S12*I$3 -> 0 | AK12: =ATAN2(AI12,AJ12) -> 0 | AL12: =DEGREES(AK12) -> 0 | AM12: =SQRT(AI12^2+AJ12^2) -> 1 | AN12: 1 | AO12: =S12*I$6 -> 0.0020724 | AP12: =ATAN2(AN12,AO12) -> 0.002072397 | AQ12: =DEGREES(AP12) -> 0.1187396 | AR12: =SQRT(AN12^2+AO12^2) -> 1.0000021 | AS12: 1 | AT12: =S12*I$7 -> 2.0724e-07 | AU12: =ATAN2(AS12,AT12) -> 2.0724e-07 | AV12: =DEGREES(AU12) -> 1.1873977e-05 | AW12: =SQRT(AS12^2+AT12^2) -> 1 | AX12: =AQ12-W12-AB12 -> -29.402267 | AY12: =MAX(1E-25,F$12*AM12*AR12/X12/AC12) -> 51.18091 | AZ12: =20*LOG(AY12) -> 34.18216
B13: Co_C | C13: =C12/100 -> 3.3e-06 | Q13: =R13/1000 -> 0.03 | R13: =10+R12 -> 30 | S13: =R13*6.28 -> 188.4 | T13: =1-S13*S13*I$2*I$2 -> 0.99999795 | U13: =S13*I$2/F$8 -> 0.0022505376 | V13: =ATAN2(T13,U13) -> 0.0022505384 | W13: =DEGREES(V13) -> 0.12894635 | X13: =SQRT(T13^2+U13^2) -> 1.0000005 | Y13: 1 | Z13: =S13*I$4 -> 0.84641568 | AA13: =ATAN2(Y13,Z13) -> 0.7024095 | AB13: =DEGREES(AA13) -> 40.2451 | AC13: =SQRT(Y13^2+Z13^2) -> 1.3101219 | AD13: 1 | AE13: =S13*I$5 -> 3.1086e-05 | AF13: =ATAN2(AD13,AE13) -> 3.1086e-05 | AG13: =DEGREES(AF13) -> 0.0017810966 | AH13: =SQRT(AD13^2+AE13^2) -> 1 | AI13: 1 | AJ13: =-1*S13*I$3 -> 0 | AK13: =ATAN2(AI13,AJ13) -> 0 | AL13: =DEGREES(AK13) -> 0 | AM13: =SQRT(AI13^2+AJ13^2) -> 1 | AN13: 1 | AO13: =S13*I$6 -> 0.0031086 | AP13: =ATAN2(AN13,AO13) -> 0.00310859 | AQ13: =DEGREES(AP13) -> 0.17810909 | AR13: =SQRT(AN13^2+AO13^2) -> 1.0000048 | AS13: 1 | AT13: =S13*I$7 -> 3.1086e-07 | AU13: =ATAN2(AS13,AT13) -> 3.1086e-07 | AV13: =DEGREES(AU13) -> 1.7810966e-05 | AW13: =SQRT(AS13^2+AT13^2) -> 1 | AX13: =AQ13-W13-AB13 -> -40.195937 | AY13: =MAX(1E-25,F$12*AM13*AR13/X13/AC13) -> 44.856187 | AZ13: =20*LOG(AY13) -> 33.036447
B14: Resr_E | C14: ='Design tool'!B39/1000 -> 0.05 | Q14: =R14/1000 -> 0.04 | R14: =10+R13 -> 40 | S14: =R14*6.28 -> 251.2 | T14: =1-S14*S14*I$2*I$2 -> 0.99999635 | U14: =S14*I$2/F$8 -> 0.0030007168 | V14: =ATAN2(T14,U14) -> 0.0030007188 | W14: =DEGREES(V14) -> 0.17192852 | X14: =SQRT(T14^2+U14^2) -> 1.0000008 | Y14: 1 | Z14: =S14*I$4 -> 1.1285542 | AA14: =ATAN2(Y14,Z14) -> 0.84571999 | AB14: =DEGREES(AA14) -> 48.456186 | AC14: =SQRT(Y14^2+Z14^2) -> 1.5078576 | AD14: 1 | AE14: =S14*I$5 -> 4.1448e-05 | AF14: =ATAN2(AD14,AE14) -> 4.1448e-05 | AG14: =DEGREES(AF14) -> 0.0023747955 | AH14: =SQRT(AD14^2+AE14^2) -> 1 | AI14: 1 | AJ14: =-1*S14*I$3 -> 0 | AK14: =ATAN2(AI14,AJ14) -> 0 | AL14: =DEGREES(AK14) -> 0 | AM14: =SQRT(AI14^2+AJ14^2) -> 1 | AN14: 1 | AO14: =S14*I$6 -> 0.0041448 | AP14: =ATAN2(AN14,AO14) -> 0.0041447763 | AQ14: =DEGREES(AP14) -> 0.23747819 | AR14: =SQRT(AN14^2+AO14^2) -> 1.0000086 | AS14: 1 | AT14: =S14*I$7 -> 4.1448e-07 | AU14: =ATAN2(AS14,AT14) -> 4.1448e-07 | AV14: =DEGREES(AU14) -> 2.3747955e-05 | AW14: =SQRT(AS14^2+AT14^2) -> 1 | AX14: =AQ14-W14-AB14 -> -48.390636 | AY14: =MAX(1E-25,F$12*AM14*AR14/X14/AC14) -> 38.97402 | AZ14: =20*LOG(AY14) -> 31.815504
B15: Resr_C | C15: =C14/100 -> 0.0005 | Q15: =R15/1000 -> 0.05 | R15: =10+R14 -> 50 | S15: =R15*6.28 -> 314 | T15: =1-S15*S15*I$2*I$2 -> 0.99999429 | U15: =S15*I$2/F$8 -> 0.003750896 | V15: =ATAN2(T15,U15) -> 0.0037508998 | W15: =DEGREES(V15) -> 0.21491073 | X15: =SQRT(T15^2+U15^2) -> 1.0000013 | Y15: 1 | Z15: =S15*I$4 -> 1.4106928 | AA15: =ATAN2(Y15,Z15) -> 0.95414108 | AB15: =DEGREES(AA15) -> 54.668257 | AC15: =SQRT(Y15^2+Z15^2) -> 1.7291773 | AD15: 1 | AE15: =S15*I$5 -> 5.181e-05 | AF15: =ATAN2(AD15,AE15) -> 5.181e-05 | AG15: =DEGREES(AF15) -> 0.0029684943 | AH15: =SQRT(AD15^2+AE15^2) -> 1 | AI15: 1 | AJ15: =-1*S15*I$3 -> 0 | AK15: =ATAN2(AI15,AJ15) -> 0 | AL15: =DEGREES(AK15) -> 0 | AM15: =SQRT(AI15^2+AJ15^2) -> 1 | AN15: 1 | AO15: =S15*I$6 -> 0.005181 | AP15: =ATAN2(AN15,AO15) -> 0.0051809536 | AQ15: =DEGREES(AP15) -> 0.29684678 | AR15: =SQRT(AN15^2+AO15^2) -> 1.0000134 | AS15: 1 | AT15: =S15*I$7 -> 5.181e-07 | AU15: =ATAN2(AS15,AT15) -> 5.181e-07 | AV15: =DEGREES(AU15) -> 2.9684943e-05 | AW15: =SQRT(AS15^2+AT15^2) -> 1 | AX15: =AQ15-W15-AB15 -> -54.586321 | AY15: =MAX(1E-25,F$12*AM15*AR15/X15/AC15) -> 33.985832 | AZ15: =20*LOG(AY15) -> 30.625958
B16: Co | C16: =C12 -> 0.00033 | Q16: =R16/1000 -> 0.06 | R16: =10+R15 -> 60 | S16: =R16*6.28 -> 376.8 | T16: =1-S16*S16*I$2*I$2 -> 0.99999178 | U16: =S16*I$2/F$8 -> 0.0045010752 | V16: =ATAN2(T16,U16) -> 0.0045010818 | W16: =DEGREES(V16) -> 0.25789299 | X16: =SQRT(T16^2+U16^2) -> 1.0000019 | Y16: 1 | Z16: =S16*I$4 -> 1.6928314 | AA16: =ATAN2(Y16,Z16) -> 1.0372236 | AB16: =DEGREES(AA16) -> 59.428536 | AC16: =SQRT(Y16^2+Z16^2) -> 1.9661328 | AD16: 1 | AE16: =S16*I$5 -> 6.2172e-05 | AF16: =ATAN2(AD16,AE16) -> 6.2172e-05 | AG16: =DEGREES(AF16) -> 0.0035621932 | AH16: =SQRT(AD16^2+AE16^2) -> 1 | AI16: 1 | AJ16: =-1*S16*I$3 -> 0 | AK16: =ATAN2(AI16,AJ16) -> 0 | AL16: =DEGREES(AK16) -> 0 | AM16: =SQRT(AI16^2+AJ16^2) -> 1 | AN16: 1 | AO16: =S16*I$6 -> 0.0062172 | AP16: =ATAN2(AN16,AO16) -> 0.0062171199 | AQ16: =DEGREES(AP16) -> 0.35621473 | AR16: =SQRT(AN16^2+AO16^2) -> 1.0000193 | AS16: 1 | AT16: =S16*I$7 -> 6.2172e-07 | AU16: =ATAN2(AS16,AT16) -> 6.2172e-07 | AV16: =DEGREES(AU16) -> 3.5621932e-05 | AW16: =SQRT(AS16^2+AT16^2) -> 1 | AX16: =AQ16-W16-AB16 -> -59.330215 | AY16: =MAX(1E-25,F$12*AM16*AR16/X16/AC16) -> 29.890069 | AZ16: =20*LOG(AY16) -> 29.510538
Q17: =R17/1000 -> 0.07 | R17: =10+R16 -> 70 | S17: =R17*6.28 -> 439.6 | T17: =1-S17*S17*I$2*I$2 -> 0.99998881 | U17: =S17*I$2/F$8 -> 0.0052512544 | V17: =ATAN2(T17,U17) -> 0.0052512649 | W17: =DEGREES(V17) -> 0.30087532 | X17: =SQRT(T17^2+U17^2) -> 1.0000026 | Y17: 1 | Z17: =S17*I$4 -> 1.9749699 | AA17: =ATAN2(Y17,Z17) -> 1.1020921 | AB17: =DEGREES(AA17) -> 63.145227 | AC17: =SQRT(Y17^2+Z17^2) -> 2.2137087 | AD17: 1 | AE17: =S17*I$5 -> 7.2534e-05 | AF17: =ATAN2(AD17,AE17) -> 7.2534e-05 | AG17: =DEGREES(AF17) -> 0.0041558921 | AH17: =SQRT(AD17^2+AE17^2) -> 1 | AI17: 1 | AJ17: =-1*S17*I$3 -> 0 | AK17: =ATAN2(AI17,AJ17) -> 0 | AL17: =DEGREES(AK17) -> 0 | AM17: =SQRT(AI17^2+AJ17^2) -> 1 | AN17: 1 | AO17: =S17*I$6 -> 0.0072534 | AP17: =ATAN2(AN17,AO17) -> 0.0072532728 | AQ17: =DEGREES(AP17) -> 0.41558192 | AR17: =SQRT(AN17^2+AO17^2) -> 1.0000263 | AS17: 1 | AT17: =S17*I$7 -> 7.2534e-07 | AU17: =ATAN2(AS17,AT17) -> 7.2534e-07 | AV17: =DEGREES(AU17) -> 4.1558921e-05 | AW17: =SQRT(AS17^2+AT17^2) -> 1 | AX17: =AQ17-W17-AB17 -> -63.03052 | AY17: =MAX(1E-25,F$12*AM17*AR17/X17/AC17) -> 26.547401 | AZ17: =20*LOG(AY17) -> 28.48044
Q18: =R18/1000 -> 0.08 | R18: =10+R17 -> 80 | S18: =R18*6.28 -> 502.4 | T18: =1-S18*S18*I$2*I$2 -> 0.99998539 | U18: =S18*I$2/F$8 -> 0.0060014337 | V18: =ATAN2(T18,U18) -> 0.0060014493 | W18: =DEGREES(V18) -> 0.34385772 | X18: =SQRT(T18^2+U18^2) -> 1.0000034 | Y18: 1 | Z18: =S18*I$4 -> 2.2571085 | AA18: =ATAN2(Y18,Z18) -> 1.1537414 | AB18: =DEGREES(AA18) -> 66.104515 | AC18: =SQRT(Y18^2+Z18^2) -> 2.4687119 | AD18: 1 | AE18: =S18*I$5 -> 8.2896e-05 | AF18: =ATAN2(AD18,AE18) -> 8.2896e-05 | AG18: =DEGREES(AF18) -> 0.0047495909 | AH18: =SQRT(AD18^2+AE18^2) -> 1 | AI18: 1 | AJ18: =-1*S18*I$3 -> 0 | AK18: =ATAN2(AI18,AJ18) -> 0 | AL18: =DEGREES(AK18) -> 0 | AM18: =SQRT(AI18^2+AJ18^2) -> 1 | AN18: 1 | AO18: =S18*I$6 -> 0.0082896 | AP18: =ATAN2(AN18,AO18) -> 0.0082894101 | AQ18: =DEGREES(AP18) -> 0.47494821 | AR18: =SQRT(AN18^2+AO18^2) -> 1.0000344 | AS18: 1 | AT18: =S18*I$7 -> 8.2896e-07 | AU18: =ATAN2(AS18,AT18) -> 8.2896e-07 | AV18: =DEGREES(AU18) -> 4.7495909e-05 | AW18: =SQRT(AS18^2+AT18^2) -> 1 | AX18: =AQ18-W18-AB18 -> -65.973425 | AY18: =MAX(1E-25,F$12*AM18*AR18/X18/AC18) -> 23.805385 | AZ18: =20*LOG(AY18) -> 27.533504
H19: =(0.5-C4)*F2*C2/C7 -> 0.003766047 | I19: =F2*C2/C7 -> 0.0081392266 | Q19: =R19/1000 -> 0.09 | R19: =10+R18 -> 90 | S19: =R19*6.28 -> 565.2 | T19: =1-S19*S19*I$2*I$2 -> 0.99998151 | U19: =S19*I$2/F$8 -> 0.0067516129 | V19: =ATAN2(T19,U19) -> 0.0067516351 | W19: =DEGREES(V19) -> 0.3868402 | X19: =SQRT(T19^2+U19^2) -> 1.0000043 | Y19: 1 | Z19: =S19*I$4 -> 2.539247 | AA19: =ATAN2(Y19,Z19) -> 1.195631 | AB19: =DEGREES(AA19) -> 68.50461 | AC19: =SQRT(Y19^2+Z19^2) -> 2.7290613 | AD19: 1 | AE19: =S19*I$5 -> 9.3258e-05 | AF19: =ATAN2(AD19,AE19) -> 9.3258e-05 | AG19: =DEGREES(AF19) -> 0.0053432898 | AH19: =SQRT(AD19^2+AE19^2) -> 1 | AI19: 1 | AJ19: =-1*S19*I$3 -> 0 | AK19: =ATAN2(AI19,AJ19) -> 0 | AL19: =DEGREES(AK19) -> 0 | AM19: =SQRT(AI19^2+AJ19^2) -> 1 | AN19: 1 | AO19: =S19*I$6 -> 0.0093258 | AP19: =ATAN2(AN19,AO19) -> 0.0093255297 | AQ19: =DEGREES(AP19) -> 0.53431349 | AR19: =SQRT(AN19^2+AO19^2) -> 1.0000435 | AS19: 1 | AT19: =S19*I$7 -> 9.3258e-07 | AU19: =ATAN2(AS19,AT19) -> 9.3258e-07 | AV19: =DEGREES(AU19) -> 5.3432898e-05 | AW19: =SQRT(AS19^2+AT19^2) -> 1 | AX19: =AQ19-W19-AB19 -> -68.357137 | AY19: =MAX(1E-25,F$12*AM19*AR19/X19/AC19) -> 21.534556 | AZ19: =20*LOG(AY19) -> 26.662718
Q20: =R20/1000 -> 0.1 | R20: =10+R19 -> 100 | S20: =R20*6.28 -> 628 | T20: =1-S20*S20*I$2*I$2 -> 0.99997717 | U20: =S20*I$2/F$8 -> 0.0075017921 | V20: =ATAN2(T20,U20) -> 0.0075018226 | W20: =DEGREES(V20) -> 0.42982277 | X20: =SQRT(T20^2+U20^2) -> 1.0000053 | Y20: 1 | Z20: =S20*I$4 -> 2.8213856 | AA20: =ATAN2(Y20,Z20) -> 1.2301753 | AB20: =DEGREES(AA20) -> 70.483852 | AC20: =SQRT(Y20^2+Z20^2) -> 2.9933621 | AD20: 1 | AE20: =S20*I$5 -> 0.00010362 | AF20: =ATAN2(AD20,AE20) -> 0.00010362 | AG20: =DEGREES(AF20) -> 0.0059369887 | AH20: =SQRT(AD20^2+AE20^2) -> 1 | AI20: 1 | AJ20: =-1*S20*I$3 -> 0 | AK20: =ATAN2(AI20,AJ20) -> 0 | AL20: =DEGREES(AK20) -> 0 | AM20: =SQRT(AI20^2+AJ20^2) -> 1 | AN20: 1 | AO20: =S20*I$6 -> 0.010362 | AP20: =ATAN2(AN20,AO20) -> 0.010361629 | AQ20: =DEGREES(AP20) -> 0.59367762 | AR20: =SQRT(AN20^2+AO20^2) -> 1.0000537 | AS20: 1 | AT20: =S20*I$7 -> 1.0362e-06 | AU20: =ATAN2(AS20,AT20) -> 1.0362e-06 | AV20: =DEGREES(AU20) -> 5.9369887e-05 | AW20: =SQRT(AS20^2+AT20^2) -> 1 | AX20: =AQ20-W20-AB20 -> -70.319997 | AY20: =MAX(1E-25,F$12*AM20*AR20/X20/AC20) -> 19.633329 | AZ20: =20*LOG(AY20) -> 25.859879
Q21: =R21/1000 -> 0.11 | R21: =10+R20 -> 110 | S21: =R21*6.28 -> 690.8 | T21: =1-S21*S21*I$2*I$2 -> 0.99997237 | U21: =S21*I$2/F$8 -> 0.0082519713 | V21: =ATAN2(T21,U21) -> 0.0082520119 | W21: =DEGREES(V21) -> 0.47280546 | X21: =SQRT(T21^2+U21^2) -> 1.0000064 | Y21: 1 | Z21: =S21*I$4 -> 3.1035242 | AA21: =ATAN2(Y21,Z21) -> 1.259086 | AB21: =DEGREES(AA21) -> 72.140315 | AC21: =SQRT(Y21^2+Z21^2) -> 3.2606536 | AD21: 1 | AE21: =S21*I$5 -> 0.000113982 | AF21: =ATAN2(AD21,AE21) -> 0.000113982 | AG21: =DEGREES(AF21) -> 0.0065306875 | AH21: =SQRT(AD21^2+AE21^2) -> 1 | AI21: 1 | AJ21: =-1*S21*I$3 -> 0 | AK21: =ATAN2(AI21,AJ21) -> 0 | AL21: =DEGREES(AK21) -> 0 | AM21: =SQRT(AI21^2+AJ21^2) -> 1 | AN21: 1 | AO21: =S21*I$6 -> 0.0113982 | AP21: =ATAN2(AN21,AO21) -> 0.011397706 | AQ21: =DEGREES(AP21) -> 0.65304047 | AR21: =SQRT(AN21^2+AO21^2) -> 1.000065 | AS21: 1 | AT21: =S21*I$7 -> 1.13982e-06 | AU21: =ATAN2(AS21,AT21) -> 1.13982e-06 | AV21: =DEGREES(AU21) -> 6.5306875e-05 | AW21: =SQRT(AS21^2+AT21^2) -> 1 | AX21: =AQ21-W21-AB21 -> -71.96008 | AY21: =MAX(1E-25,F$12*AM21*AR21/X21/AC21) -> 18.024073 | AZ21: =20*LOG(AY21) -> 25.117059
Q22: =R22/1000 -> 0.12 | R22: =10+R21 -> 120 | S22: =R22*6.28 -> 753.6 | T22: =1-S22*S22*I$2*I$2 -> 0.99996712 | U22: =S22*I$2/F$8 -> 0.0090021505 | V22: =ATAN2(T22,U22) -> 0.0090022033 | W22: =DEGREES(V22) -> 0.51578825 | X22: =SQRT(T22^2+U22^2) -> 1.0000076 | Y22: 1 | Z22: =S22*I$4 -> 3.3856627 | AA22: =ATAN2(Y22,Z22) -> 1.2835989 | AB22: =DEGREES(AA22) -> 73.544802 | AC22: =SQRT(Y22^2+Z22^2) -> 3.5302566 | AD22: 1 | AE22: =S22*I$5 -> 0.000124344 | AF22: =ATAN2(AD22,AE22) -> 0.000124344 | AG22: =DEGREES(AF22) -> 0.0071243864 | AH22: =SQRT(AD22^2+AE22^2) -> 1 | AI22: 1 | AJ22: =-1*S22*I$3 -> 0 | AK22: =ATAN2(AI22,AJ22) -> 0 | AL22: =DEGREES(AK22) -> 0 | AM22: =SQRT(AI22^2+AJ22^2) -> 1 | AN22: 1 | AO22: =S22*I$6 -> 0.0124344 | AP22: =ATAN2(AN22,AO22) -> 0.012433759 | AQ22: =DEGREES(AP22) -> 0.71240193 | AR22: =SQRT(AN22^2+AO22^2) -> 1.0000773 | AS22: 1 | AT22: =S22*I$7 -> 1.24344e-06 | AU22: =ATAN2(AS22,AT22) -> 1.24344e-06 | AV22: =DEGREES(AU22) -> 7.1243864e-05 | AW22: =SQRT(AS22^2+AT22^2) -> 1 | AX22: =AQ22-W22-AB22 -> -73.348188 | AY22: =MAX(1E-25,F$12*AM22*AR22/X22/AC22) -> 16.647773 | AZ22: =20*LOG(AY22) -> 24.427123
Q23: =R23/1000 -> 0.13 | R23: =10+R22 -> 130 | S23: =R23*6.28 -> 816.4 | T23: =1-S23*S23*I$2*I$2 -> 0.99996142 | U23: =S23*I$2/F$8 -> 0.0097523297 | V23: =ATAN2(T23,U23) -> 0.0097523968 | W23: =DEGREES(V23) -> 0.55877118 | X23: =SQRT(T23^2+U23^2) -> 1.000009 | Y23: 1 | Z23: =S23*I$4 -> 3.6678013 | AA23: =ATAN2(Y23,Z23) -> 1.3046228 | AB23: =DEGREES(AA23) -> 74.749381 | AC23: =SQRT(Y23^2+Z23^2) -> 3.8016794 | AD23: 1 | AE23: =S23*I$5 -> 0.000134706 | AF23: =ATAN2(AD23,AE23) -> 0.000134706 | AG23: =DEGREES(AF23) -> 0.0077180852 | AH23: =SQRT(AD23^2+AE23^2) -> 1 | AI23: 1 | AJ23: =-1*S23*I$3 -> 0 | AK23: =ATAN2(AI23,AJ23) -> 0 | AL23: =DEGREES(AK23) -> 0 | AM23: =SQRT(AI23^2+AJ23^2) -> 1 | AN23: 1 | AO23: =S23*I$6 -> 0.0134706 | AP23: =ATAN2(AN23,AO23) -> 0.013469785 | AQ23: =DEGREES(AP23) -> 0.77176185 | AR23: =SQRT(AN23^2+AO23^2) -> 1.0000907 | AS23: 1 | AT23: =S23*I$7 -> 1.34706e-06 | AU23: =ATAN2(AS23,AT23) -> 1.34706e-06 | AV23: =DEGREES(AU23) -> 7.7180853e-05 | AW23: =SQRT(AS23^2+AT23^2) -> 1 | AX23: =AQ23-W23-AB23 -> -74.53639 | AY23: =MAX(1E-25,F$12*AM23*AR23/X23/AC23) -> 15.459385 | AZ23: =20*LOG(AY23) -> 23.783844
Q24: =R24/1000 -> 0.14 | R24: =10+R23 -> 140 | S24: =R24*6.28 -> 879.2 | T24: =1-S24*S24*I$2*I$2 -> 0.99995525 | U24: =S24*I$2/F$8 -> 0.010502509 | V24: =ATAN2(T24,U24) -> 0.010502593 | W24: =DEGREES(V24) -> 0.60175424 | X24: =SQRT(T24^2+U24^2) -> 1.0000104 | Y24: 1 | Z24: =S24*I$4 -> 3.9499398 | AA24: =ATAN2(Y24,Z24) -> 1.3228379 | AB24: =DEGREES(AA24) -> 75.793026 | AC24: =SQRT(Y24^2+Z24^2) -> 4.0745582 | AD24: 1 | AE24: =S24*I$5 -> 0.000145068 | AF24: =ATAN2(AD24,AE24) -> 0.000145068 | AG24: =DEGREES(AF24) -> 0.0083117841 | AH24: =SQRT(AD24^2+AE24^2) -> 1 | AI24: 1 | AJ24: =-1*S24*I$3 -> 0 | AK24: =ATAN2(AI24,AJ24) -> 0 | AL24: =DEGREES(AK24) -> 0 | AM24: =SQRT(AI24^2+AJ24^2) -> 1 | AN24: 1 | AO24: =S24*I$6 -> 0.0145068 | AP24: =ATAN2(AN24,AO24) -> 0.014505782 | AQ24: =DEGREES(AP24) -> 0.83112012 | AR24: =SQRT(AN24^2+AO24^2) -> 1.0001052 | AS24: 1 | AT24: =S24*I$7 -> 1.45068e-06 | AU24: =ATAN2(AS24,AT24) -> 1.45068e-06 | AV24: =DEGREES(AU24) -> 8.3117841e-05 | AW24: =SQRT(AS24^2+AT24^2) -> 1 | AX24: =AQ24-W24-AB24 -> -75.56366 | AY24: =MAX(1E-25,F$12*AM24*AR24/X24/AC24) -> 14.424236 | AZ24: =20*LOG(AY24) -> 23.181857
Q25: =R25/1000 -> 0.15 | R25: =10+R24 -> 150 | S25: =R25*6.28 -> 942 | T25: =1-S25*S25*I$2*I$2 -> 0.99994863 | U25: =S25*I$2/F$8 -> 0.011252688 | V25: =ATAN2(T25,U25) -> 0.011252791 | W25: =DEGREES(V25) -> 0.64473744 | X25: =SQRT(T25^2+U25^2) -> 1.0000119 | Y25: 1 | Z25: =S25*I$4 -> 4.2320784 | AA25: =ATAN2(Y25,Z25) -> 1.3387617 | AB25: =DEGREES(AA25) -> 76.705397 | AC25: =SQRT(Y25^2+Z25^2) -> 4.348619 | AD25: 1 | AE25: =S25*I$5 -> 0.00015543 | AF25: =ATAN2(AD25,AE25) -> 0.00015543 | AG25: =DEGREES(AF25) -> 0.0089054829 | AH25: =SQRT(AD25^2+AE25^2) -> 1 | AI25: 1 | AJ25: =-1*S25*I$3 -> 0 | AK25: =ATAN2(AI25,AJ25) -> 0 | AL25: =DEGREES(AK25) -> 0 | AM25: =SQRT(AI25^2+AJ25^2) -> 1 | AN25: 1 | AO25: =S25*I$6 -> 0.015543 | AP25: =ATAN2(AN25,AO25) -> 0.015541749 | AQ25: =DEGREES(AP25) -> 0.8904766 | AR25: =SQRT(AN25^2+AO25^2) -> 1.0001208 | AS25: 1 | AT25: =S25*I$7 -> 1.5543e-06 | AU25: =ATAN2(AS25,AT25) -> 1.5543e-06 | AV25: =DEGREES(AU25) -> 8.905483e-05 | AW25: =SQRT(AS25^2+AT25^2) -> 1 | AX25: =AQ25-W25-AB25 -> -76.459658 | AY25: =MAX(1E-25,F$12*AM25*AR25/X25/AC25) -> 13.515375 | AZ25: =20*LOG(AY25) -> 22.616562
Q26: =R26/1000 -> 0.16 | R26: =10+R25 -> 160 | S26: =R26*6.28 -> 1004.8 | T26: =1-S26*S26*I$2*I$2 -> 0.99994155 | U26: =S26*I$2/F$8 -> 0.012002867 | V26: =ATAN2(T26,U26) -> 0.012002992 | W26: =DEGREES(V26) -> 0.68772081 | X26: =SQRT(T26^2+U26^2) -> 1.0000136 | Y26: 1 | Z26: =S26*I$4 -> 4.5142169 | AA26: =ATAN2(Y26,Z26) -> 1.3527944 | AB26: =DEGREES(AA26) -> 77.50941 | AC26: =SQRT(Y26^2+Z26^2) -> 4.6236517 | AD26: 1 | AE26: =S26*I$5 -> 0.000165792 | AF26: =ATAN2(AD26,AE26) -> 0.000165792 | AG26: =DEGREES(AF26) -> 0.0094991818 | AH26: =SQRT(AD26^2+AE26^2) -> 1 | AI26: 1 | AJ26: =-1*S26*I$3 -> 0 | AK26: =ATAN2(AI26,AJ26) -> 0 | AL26: =DEGREES(AK26) -> 0 | AM26: =SQRT(AI26^2+AJ26^2) -> 1 | AN26: 1 | AO26: =S26*I$6 -> 0.0165792 | AP26: =ATAN2(AN26,AO26) -> 0.016577681 | AQ26: =DEGREES(AP26) -> 0.94983117 | AR26: =SQRT(AN26^2+AO26^2) -> 1.0001374 | AS26: 1 | AT26: =S26*I$7 -> 1.65792e-06 | AU26: =ATAN2(AS26,AT26) -> 1.65792e-06 | AV26: =DEGREES(AU26) -> 9.4991819e-05 | AW26: =SQRT(AS26^2+AT26^2) -> 1 | AX26: =AQ26-W26-AB26 -> -77.2473 | AY26: =MAX(1E-25,F$12*AM26*AR26/X26/AC26) -> 12.711619 | AZ26: =20*LOG(AY26) -> 22.084017
Q27: =R27/1000 -> 0.17 | R27: =10+R26 -> 170 | S27: =R27*6.28 -> 1067.6 | T27: =1-S27*S27*I$2*I$2 -> 0.99993402 | U27: =S27*I$2/F$8 -> 0.012753047 | V27: =ATAN2(T27,U27) -> 0.012753197 | W27: =DEGREES(V27) -> 0.73070434 | X27: =SQRT(T27^2+U27^2) -> 1.0000153 | Y27: 1 | Z27: =S27*I$4 -> 4.7963555 | AA27: =ATAN2(Y27,Z27) -> 1.3652492 | AB27: =DEGREES(AA27) -> 78.223019 | AC27: =SQRT(Y27^2+Z27^2) -> 4.8994924 | AD27: 1 | AE27: =S27*I$5 -> 0.000176154 | AF27: =ATAN2(AD27,AE27) -> 0.000176154 | AG27: =DEGREES(AF27) -> 0.010092881 | AH27: =SQRT(AD27^2+AE27^2) -> 1 | AI27: 1 | AJ27: =-1*S27*I$3 -> 0 | AK27: =ATAN2(AI27,AJ27) -> 0 | AL27: =DEGREES(AK27) -> 0 | AM27: =SQRT(AI27^2+AJ27^2) -> 1 | AN27: 1 | AO27: =S27*I$6 -> 0.0176154 | AP27: =ATAN2(AN27,AO27) -> 0.017613578 | AQ27: =DEGREES(AP27) -> 1.0091837 | AR27: =SQRT(AN27^2+AO27^2) -> 1.0001551 | AS27: 1 | AT27: =S27*I$7 -> 1.76154e-06 | AU27: =ATAN2(AS27,AT27) -> 1.76154e-06 | AV27: =DEGREES(AU27) -> 0.00010092881 | AW27: =SQRT(AS27^2+AT27^2) -> 1 | AX27: =AQ27-W27-AB27 -> -77.944539 | AY27: =MAX(1E-25,F$12*AM27*AR27/X27/AC27) -> 11.996148 | AZ27: =20*LOG(AY27) -> 21.580836
Q28: =R28/1000 -> 0.18 | R28: =10+R27 -> 180 | S28: =R28*6.28 -> 1130.4 | T28: =1-S28*S28*I$2*I$2 -> 0.99992603 | U28: =S28*I$2/F$8 -> 0.013503226 | V28: =ATAN2(T28,U28) -> 0.013503404 | W28: =DEGREES(V28) -> 0.77368805 | X28: =SQRT(T28^2+U28^2) -> 1.0000172 | Y28: 1 | Z28: =S28*I$4 -> 5.0784941 | AA28: =ATAN2(Y28,Z28) -> 1.3763749 | AB28: =DEGREES(AA28) -> 78.860471 | AC28: =SQRT(Y28^2+Z28^2) -> 5.1760122 | AD28: 1 | AE28: =S28*I$5 -> 0.000186516 | AF28: =ATAN2(AD28,AE28) -> 0.000186516 | AG28: =DEGREES(AF28) -> 0.010686579 | AH28: =SQRT(AD28^2+AE28^2) -> 1 | AI28: 1 | AJ28: =-1*S28*I$3 -> 0 | AK28: =ATAN2(AI28,AJ28) -> 0 | AL28: =DEGREES(AK28) -> 0 | AM28: =SQRT(AI28^2+AJ28^2) -> 1 | AN28: 1 | AO28: =S28*I$6 -> 0.0186516 | AP28: =ATAN2(AN28,AO28) -> 0.018649438 | AQ28: =DEGREES(AP28) -> 1.0685341 | AR28: =SQRT(AN28^2+AO28^2) -> 1.0001739 | AS28: 1 | AT28: =S28*I$7 -> 1.86516e-06 | AU28: =ATAN2(AS28,AT28) -> 1.86516e-06 | AV28: =DEGREES(AU28) -> 0.0001068658 | AW28: =SQRT(AS28^2+AT28^2) -> 1 | AX28: =AQ28-W28-AB28 -> -78.565625 | AY28: =MAX(1E-25,F$12*AM28*AR28/X28/AC28) -> 11.355466 | AZ28: =20*LOG(AY28) -> 21.104099
Q29: =R29/1000 -> 0.19 | R29: =10+R28 -> 190 | S29: =R29*6.28 -> 1193.2 | T29: =1-S29*S29*I$2*I$2 -> 0.99991758 | U29: =S29*I$2/F$8 -> 0.014253405 | V29: =ATAN2(T29,U29) -> 0.014253614 | W29: =DEGREES(V29) -> 0.81667195 | X29: =SQRT(T29^2+U29^2) -> 1.0000192 | Y29: 1 | Z29: =S29*I$4 -> 5.3606326 | AA29: =ATAN2(Y29,Z29) -> 1.386371 | AB29: =DEGREES(AA29) -> 79.433205 | AC29: =SQRT(Y29^2+Z29^2) -> 5.4531076 | AD29: 1 | AE29: =S29*I$5 -> 0.000196878 | AF29: =ATAN2(AD29,AE29) -> 0.000196878 | AG29: =DEGREES(AF29) -> 0.011280278 | AH29: =SQRT(AD29^2+AE29^2) -> 1 | AI29: 1 | AJ29: =-1*S29*I$3 -> 0 | AK29: =ATAN2(AI29,AJ29) -> 0 | AL29: =DEGREES(AK29) -> 0 | AM29: =SQRT(AI29^2+AJ29^2) -> 1 | AN29: 1 | AO29: =S29*I$6 -> 0.0196878 | AP29: =ATAN2(AN29,AO29) -> 0.019685257 | AQ29: =DEGREES(AP29) -> 1.1278821 | AR29: =SQRT(AN29^2+AO29^2) -> 1.0001938 | AS29: 1 | AT29: =S29*I$7 -> 1.96878e-06 | AU29: =ATAN2(AS29,AT29) -> 1.96878e-06 | AV29: =DEGREES(AU29) -> 0.00011280278 | AW29: =SQRT(AS29^2+AT29^2) -> 1 | AX29: =AQ29-W29-AB29 -> -79.121995 | AY29: =MAX(1E-25,F$12*AM29*AR29/X29/AC29) -> 10.77864 | AZ29: =20*LOG(AY29) -> 20.651279
Q30: =R30/1000 -> 0.2 | R30: =10+R29 -> 200 | S30: =R30*6.28 -> 1256 | T30: =1-S30*S30*I$2*I$2 -> 0.99990867 | U30: =S30*I$2/F$8 -> 0.015003584 | V30: =ATAN2(T30,U30) -> 0.015003828 | W30: =DEGREES(V30) -> 0.85965605 | X30: =SQRT(T30^2+U30^2) -> 1.0000212 | Y30: 1 | Z30: =S30*I$4 -> 5.6427712 | AA30: =ATAN2(Y30,Z30) -> 1.3953995 | AB30: =DEGREES(AA30) -> 79.950501 | AC30: =SQRT(Y30^2+Z30^2) -> 5.7306951 | AD30: 1 | AE30: =S30*I$5 -> 0.00020724 | AF30: =ATAN2(AD30,AE30) -> 0.00020724 | AG30: =DEGREES(AF30) -> 0.011873977 | AH30: =SQRT(AD30^2+AE30^2) -> 1 | AI30: 1 | AJ30: =-1*S30*I$3 -> 0 | AK30: =ATAN2(AI30,AJ30) -> 0 | AL30: =DEGREES(AK30) -> 0 | AM30: =SQRT(AI30^2+AJ30^2) -> 1 | AN30: 1 | AO30: =S30*I$6 -> 0.020724 | AP30: =ATAN2(AN30,AO30) -> 0.020721034 | AQ30: =DEGREES(AP30) -> 1.1872278 | AR30: =SQRT(AN30^2+AO30^2) -> 1.0002147 | AS30: 1 | AT30: =S30*I$7 -> 2.0724e-06 | AU30: =ATAN2(AS30,AT30) -> 2.0724e-06 | AV30: =DEGREES(AU30) -> 0.00011873977 | AW30: =SQRT(AS30^2+AT30^2) -> 1 | AX30: =AQ30-W30-AB30 -> -79.62293 | AY30: =MAX(1E-25,F$12*AM30*AR30/X30/AC30) -> 10.256729 | AZ30: =20*LOG(AY30) -> 20.220178
Q31: =R31/1000 -> 0.21 | R31: =10+R30 -> 210 | S31: =R31*6.28 -> 1318.8 | T31: =1-S31*S31*I$2*I$2 -> 0.99989931 | U31: =S31*I$2/F$8 -> 0.015753763 | V31: =ATAN2(T31,U31) -> 0.015754046 | W31: =DEGREES(V31) -> 0.90264036 | X31: =SQRT(T31^2+U31^2) -> 1.0000234 | Y31: 1 | Z31: =S31*I$4 -> 5.9249097 | AA31: =ATAN2(Y31,Z31) -> 1.4035932 | AB31: =DEGREES(AA31) -> 80.419965 | AC31: =SQRT(Y31^2+Z31^2) -> 6.0087066 | AD31: 1 | AE31: =S31*I$5 -> 0.000217602 | AF31: =ATAN2(AD31,AE31) -> 0.000217602 | AG31: =DEGREES(AF31) -> 0.012467676 | AH31: =SQRT(AD31^2+AE31^2) -> 1 | AI31: 1 | AJ31: =-1*S31*I$3 -> 0 | AK31: =ATAN2(AI31,AJ31) -> 0 | AL31: =DEGREES(AK31) -> 0 | AM31: =SQRT(AI31^2+AJ31^2) -> 1 | AN31: 1 | AO31: =S31*I$6 -> 0.0217602 | AP31: =ATAN2(AN31,AO31) -> 0.021756766 | AQ31: =DEGREES(AP31) -> 1.2465709 | AR31: =SQRT(AN31^2+AO31^2) -> 1.0002367 | AS31: 1 | AT31: =S31*I$7 -> 2.17602e-06 | AU31: =ATAN2(AS31,AT31) -> 2.17602e-06 | AV31: =DEGREES(AU31) -> 0.00012467676 | AW31: =SQRT(AS31^2+AT31^2) -> 1 | AX31: =AQ31-W31-AB31 -> -80.076034 | AY31: =MAX(1E-25,F$12*AM31*AR31/X31/AC31) -> 9.7823639 | AZ31: =20*LOG(AY31) -> 19.808876
... Q110: =R110/1000 -> 1 | R110: =10+R109 -> 1000 | S110: =R110*6.28 -> 6280 | T110: =1-S110*S110*I$2*I$2 -> 0.99771687 | U110: =S110*I$2/F$8 -> 0.075017921 | V110: =ATAN2(T110,U110) -> 0.075048373 | W110: =DEGREES(V110) -> 4.299955 | X110: =SQRT(T110^2+U110^2) -> 1.0005332 | Y110: 1 | Z110: =S110*I$4 -> 28.213856 | AA110: =ATAN2(Y110,Z110) -> 1.5353676 | AB110: =DEGREES(AA110) -> 87.970082 | AC110: =SQRT(Y110^2+Z110^2) -> 28.231572 | AD110: 1 | AE110: =S110*I$5 -> 0.0010362 | AF110: =ATAN2(AD110,AE110) -> 0.0010361996 | AG110: =DEGREES(AF110) -> 0.059369865 | AH110: =SQRT(AD110^2+AE110^2) -> 1.0000005 | AI110: 1 | AJ110: =-1*S110*I$3 -> 0 | AK110: =ATAN2(AI110,AJ110) -> 0 | AL110: =DEGREES(AK110) -> 0 | AM110: =SQRT(AI110^2+AJ110^2) -> 1 | AN110: 1 | AO110: =S110*I$6 -> 0.10362 | AP110: =ATAN2(AN110,AO110) -> 0.10325151 | AQ110: =DEGREES(AP110) -> 5.9158758 | AR110: =SQRT(AN110^2+AO110^2) -> 1.0053542 | AS110: 1 | AT110: =S110*I$7 -> 1.0362e-05 | AU110: =ATAN2(AS110,AT110) -> 1.0362e-05 | AV110: =DEGREES(AU110) -> 0.00059369887 | AW110: =SQRT(AS110^2+AT110^2) -> 1 | AX110: =AQ110-W110-AB110 -> -86.354162 | AY110: =MAX(1E-25,F$12*AM110*AR110/X110/AC110) -> 2.0916294 | AZ110: =20*LOG(AY110) -> 6.4096946
Q111: =R111/1000 -> 1.1 | R111: =100+R110 -> 1100 | S111: =R111*6.28 -> 6908 | T111: =1-S111*S111*I$2*I$2 -> 0.99723741 | U111: =S111*I$2/F$8 -> 0.082519713 | V111: =ATAN2(T111,U111) -> 0.082560217 | W111: =DEGREES(V111) -> 4.730352 | X111: =SQRT(T111^2+U111^2) -> 1.0006458 | Y111: 1 | Z111: =S111*I$4 -> 31.035242 | AA111: =ATAN2(Y111,Z111) -> 1.538586 | AB111: =DEGREES(AA111) -> 88.154486 | AC111: =SQRT(Y111^2+Z111^2) -> 31.051348 | AD111: 1 | AE111: =S111*I$5 -> 0.00113982 | AF111: =ATAN2(AD111,AE111) -> 0.0011398195 | AG111: =DEGREES(AF111) -> 0.065306847 | AH111: =SQRT(AD111^2+AE111^2) -> 1.0000006 | AI111: 1 | AJ111: =-1*S111*I$3 -> 0 | AK111: =ATAN2(AI111,AJ111) -> 0 | AL111: =DEGREES(AK111) -> 0 | AM111: =SQRT(AI111^2+AJ111^2) -> 1 | AN111: 1 | AO111: =S111*I$6 -> 0.113982 | AP111: =ATAN2(AN111,AO111) -> 0.1134922 | AQ111: =DEGREES(AP111) -> 6.502624 | AR111: =SQRT(AN111^2+AO111^2) -> 1.006475 | AS111: 1 | AT111: =S111*I$7 -> 1.13982e-05 | AU111: =ATAN2(AS111,AT111) -> 1.13982e-05 | AV111: =DEGREES(AU111) -> 0.00065306875 | AW111: =SQRT(AS111^2+AT111^2) -> 1 | AX111: =AQ111-W111-AB111 -> -86.382214 | AY111: =MAX(1E-25,F$12*AM111*AR111/X111/AC111) -> 1.9035941 | AZ111: =20*LOG(AY111) -> 5.5914869
Q112: =R112/1000 -> 1.2 | R112: =100+R111 -> 1200 | S112: =R112*6.28 -> 7536 | T112: =1-S112*S112*I$2*I$2 -> 0.99671229 | U112: =S112*I$2/F$8 -> 0.090021505 | V112: =ATAN2(T112,U112) -> 0.090074052 | W112: =DEGREES(V112) -> 5.160863 | X112: =SQRT(T112^2+U112^2) -> 1.0007693 | Y112: 1 | Z112: =S112*I$4 -> 33.856627 | AA112: =ATAN2(Y112,Z112) -> 1.5412686 | AB112: =DEGREES(AA112) -> 88.308186 | AC112: =SQRT(Y112^2+Z112^2) -> 33.871392 | AD112: 1 | AE112: =S112*I$5 -> 0.00124344 | AF112: =ATAN2(AD112,AE112) -> 0.0012434394 | AG112: =DEGREES(AF112) -> 0.071243827 | AH112: =SQRT(AD112^2+AE112^2) -> 1.0000008 | AI112: 1 | AJ112: =-1*S112*I$3 -> 0 | AK112: =ATAN2(AI112,AJ112) -> 0 | AL112: =DEGREES(AK112) -> 0 | AM112: =SQRT(AI112^2+AJ112^2) -> 1 | AN112: 1 | AO112: =S112*I$6 -> 0.124344 | AP112: =ATAN2(AN112,AO112) -> 0.12370903 | AQ112: =DEGREES(AP112) -> 7.0880056 | AR112: =SQRT(AN112^2+AO112^2) -> 1.0077011 | AS112: 1 | AT112: =S112*I$7 -> 1.24344e-05 | AU112: =ATAN2(AS112,AT112) -> 1.24344e-05 | AV112: =DEGREES(AU112) -> 0.00071243864 | AW112: =SQRT(AS112^2+AT112^2) -> 1 | AX112: =AQ112-W112-AB112 -> -86.381043 | AY112: =MAX(1E-25,F$12*AM112*AR112/X112/AC112) -> 1.7470159 | AZ112: =20*LOG(AY112) -> 4.8459373
Q113: =R113/1000 -> 1.3 | R113: =100+R112 -> 1300 | S113: =R113*6.28 -> 8164 | T113: =1-S113*S113*I$2*I$2 -> 0.99614151 | U113: =S113*I$2/F$8 -> 0.097523297 | V113: =ATAN2(T113,U113) -> 0.097590052 | W113: =DEGREES(V113) -> 5.5914981 | X113: =SQRT(T113^2+U113^2) -> 1.0009039 | Y113: 1 | Z113: =S113*I$4 -> 36.678013 | AA113: =ATAN2(Y113,Z113) -> 1.5435388 | AB113: =DEGREES(AA113) -> 88.438258 | AC113: =SQRT(Y113^2+Z113^2) -> 36.691642 | AD113: 1 | AE113: =S113*I$5 -> 0.00134706 | AF113: =ATAN2(AD113,AE113) -> 0.0013470592 | AG113: =DEGREES(AF113) -> 0.077180806 | AH113: =SQRT(AD113^2+AE113^2) -> 1.0000009 | AI113: 1 | AJ113: =-1*S113*I$3 -> 0 | AK113: =ATAN2(AI113,AJ113) -> 0 | AL113: =DEGREES(AK113) -> 0 | AM113: =SQRT(AI113^2+AJ113^2) -> 1 | AN113: 1 | AO113: =S113*I$6 -> 0.134706 | AP113: =ATAN2(AN113,AO113) -> 0.13389998 | AQ113: =DEGREES(AP113) -> 7.6719037 | AR113: =SQRT(AN113^2+AO113^2) -> 1.0090321 | AS113: 1 | AT113: =S113*I$7 -> 1.34706e-05 | AU113: =ATAN2(AS113,AT113) -> 1.34706e-05 | AV113: =DEGREES(AU113) -> 0.00077180853 | AW113: =SQRT(AS113^2+AT113^2) -> 1 | AX113: =AQ113-W113-AB113 -> -86.357853 | AY113: =MAX(1E-25,F$12*AM113*AR113/X113/AC113) -> 1.614647 | AZ113: =20*LOG(AY113) -> 4.161552
Q114: =R114/1000 -> 1.4 | R114: =100+R113 -> 1400 | S114: =R114*6.28 -> 8792 | T114: =1-S114*S114*I$2*I$2 -> 0.99552506 | U114: =S114*I$2/F$8 -> 0.10502509 | V114: =ATAN2(T114,U114) -> 0.10510839 | W114: =DEGREES(V114) -> 6.0222673 | X114: =SQRT(T114^2+U114^2) -> 1.0010497 | Y114: 1 | Z114: =S114*I$4 -> 39.499398 | AA114: =ATAN2(Y114,Z114) -> 1.5454849 | AB114: =DEGREES(AA114) -> 88.549762 | AC114: =SQRT(Y114^2+Z114^2) -> 39.512055 | AD114: 1 | AE114: =S114*I$5 -> 0.00145068 | AF114: =ATAN2(AD114,AE114) -> 0.001450679 | AG114: =DEGREES(AF114) -> 0.083117783 | AH114: =SQRT(AD114^2+AE114^2) -> 1.0000011 | AI114: 1 | AJ114: =-1*S114*I$3 -> 0 | AK114: =ATAN2(AI114,AJ114) -> 0 | AL114: =DEGREES(AK114) -> 0 | AM114: =SQRT(AI114^2+AJ114^2) -> 1 | AN114: 1 | AO114: =S114*I$6 -> 0.145068 | AP114: =ATAN2(AN114,AO114) -> 0.14406302 | AQ114: =DEGREES(AP114) -> 8.2542031 | AR114: =SQRT(AN114^2+AO114^2) -> 1.0104676 | AS114: 1 | AT114: =S114*I$7 -> 1.45068e-05 | AU114: =ATAN2(AS114,AT114) -> 1.45068e-05 | AV114: =DEGREES(AU114) -> 0.00083117841 | AW114: =SQRT(AS114^2+AT114^2) -> 1 | AX114: =AQ114-W114-AB114 -> -86.317826 | AY114: =MAX(1E-25,F$12*AM114*AR114/X114/AC114) -> 1.5013064 | AZ114: =20*LOG(AY114) -> 3.5293866
Q115: =R115/1000 -> 1.5 | R115: =100+R114 -> 1500 | S115: =R115*6.28 -> 9420 | T115: =1-S115*S115*I$2*I$2 -> 0.99486296 | U115: =S115*I$2/F$8 -> 0.11252688 | V115: =ATAN2(T115,U115) -> 0.11262925 | W115: =DEGREES(V115) -> 6.4531804 | X115: =SQRT(T115^2+U115^2) -> 1.0012066 | Y115: 1 | Z115: =S115*I$4 -> 42.320784 | AA115: =ATAN2(Y115,Z115) -> 1.5471717 | AB115: =DEGREES(AA115) -> 88.646407 | AC115: =SQRT(Y115^2+Z115^2) -> 42.332597 | AD115: 1 | AE115: =S115*I$5 -> 0.0015543 | AF115: =ATAN2(AD115,AE115) -> 0.0015542987 | AG115: =DEGREES(AF115) -> 0.089054758 | AH115: =SQRT(AD115^2+AE115^2) -> 1.0000012 | AI115: 1 | AJ115: =-1*S115*I$3 -> 0 | AK115: =ATAN2(AI115,AJ115) -> 0 | AL115: =DEGREES(AK115) -> 0 | AM115: =SQRT(AI115^2+AJ115^2) -> 1 | AN115: 1 | AO115: =S115*I$6 -> 0.15543 | AP115: =ATAN2(AN115,AO115) -> 0.15419618 | AQ115: =DEGREES(AP115) -> 8.8347906 | AR115: =SQRT(AN115^2+AO115^2) -> 1.0120072 | AS115: 1 | AT115: =S115*I$7 -> 1.5543e-05 | AU115: =ATAN2(AS115,AT115) -> 1.5543e-05 | AV115: =DEGREES(AU115) -> 0.0008905483 | AW115: =SQRT(AS115^2+AT115^2) -> 1 | AX115: =AQ115-W115-AB115 -> -86.264797 | AY115: =MAX(1E-25,F$12*AM115*AR115/X115/AC115) -> 1.4031922 | AZ115: =20*LOG(AY115) -> 2.9423433
Q116: =R116/1000 -> 1.6 | R116: =100+R115 -> 1600 | S116: =R116*6.28 -> 10048 | T116: =1-S116*S116*I$2*I$2 -> 0.99415519 | U116: =S116*I$2/F$8 -> 0.12002867 | V116: =ATAN2(T116,U116) -> 0.12015278 | W116: =DEGREES(V116) -> 6.8842473 | X116: =SQRT(T116^2+U116^2) -> 1.0013748 | Y116: 1 | Z116: =S116*I$4 -> 45.142169 | AA116: =ATAN2(Y116,Z116) -> 1.5486477 | AB116: =DEGREES(AA116) -> 88.730978 | AC116: =SQRT(Y116^2+Z116^2) -> 45.153244 | AD116: 1 | AE116: =S116*I$5 -> 0.00165792 | AF116: =ATAN2(AD116,AE116) -> 0.0016579185 | AG116: =DEGREES(AF116) -> 0.094991732 | AH116: =SQRT(AD116^2+AE116^2) -> 1.0000014 | AI116: 1 | AJ116: =-1*S116*I$3 -> 0 | AK116: =ATAN2(AI116,AJ116) -> 0 | AL116: =DEGREES(AK116) -> 0 | AM116: =SQRT(AI116^2+AJ116^2) -> 1 | AN116: 1 | AO116: =S116*I$6 -> 0.165792 | AP116: =ATAN2(AN116,AO116) -> 0.16429753 | AQ116: =DEGREES(AP116) -> 9.413555 | AR116: =SQRT(AN116^2+AO116^2) -> 1.0136503 | AS116: 1 | AT116: =S116*I$7 -> 1.65792e-05 | AU116: =ATAN2(AS116,AT116) -> 1.65792e-05 | AV116: =DEGREES(AU116) -> 0.00094991819 | AW116: =SQRT(AS116^2+AT116^2) -> 1 | AX116: =AQ116-W116-AB116 -> -86.20167 | AY116: =MAX(1E-25,F$12*AM116*AR116/X116/AC116) -> 1.3174518 | AZ116: =20*LOG(AY116) -> 2.394695
Q117: =R117/1000 -> 1.7 | R117: =100+R116 -> 1700 | S117: =R117*6.28 -> 10676 | T117: =1-S117*S117*I$2*I$2 -> 0.99340175 | U117: =S117*I$2/F$8 -> 0.12753047 | V117: =ATAN2(T117,U117) -> 0.12767917 | W117: =DEGREES(V117) -> 7.3154776 | X117: =SQRT(T117^2+U117^2) -> 1.0015543 | Y117: 1 | Z117: =S117*I$4 -> 47.963555 | AA117: =ATAN2(Y117,Z117) -> 1.5499502 | AB117: =DEGREES(AA117) -> 88.805604 | AC117: =SQRT(Y117^2+Z117^2) -> 47.973979 | AD117: 1 | AE117: =S117*I$5 -> 0.00176154 | AF117: =ATAN2(AD117,AE117) -> 0.0017615382 | AG117: =DEGREES(AF117) -> 0.1009287 | AH117: =SQRT(AD117^2+AE117^2) -> 1.0000016 | AI117: 1 | AJ117: =-1*S117*I$3 -> 0 | AK117: =ATAN2(AI117,AJ117) -> 0 | AL117: =DEGREES(AK117) -> 0 | AM117: =SQRT(AI117^2+AJ117^2) -> 1 | AN117: 1 | AO117: =S117*I$6 -> 0.176154 | AP117: =ATAN2(AN117,AO117) -> 0.17436516 | AQ117: =DEGREES(AP117) -> 9.9903875 | AR117: =SQRT(AN117^2+AO117^2) -> 1.0153966 | AS117: 1 | AT117: =S117*I$7 -> 1.76154e-05 | AU117: =ATAN2(AS117,AT117) -> 1.76154e-05 | AV117: =DEGREES(AU117) -> 0.0010092881 | AW117: =SQRT(AS117^2+AT117^2) -> 1 | AX117: =AQ117-W117-AB117 -> -86.130694 | AY117: =MAX(1E-25,F$12*AM117*AR117/X117/AC117) -> 1.2419029 | AZ117: =20*LOG(AY117) -> 1.8817528
Q118: =R118/1000 -> 1.8 | R118: =100+R117 -> 1800 | S118: =R118*6.28 -> 11304 | T118: =1-S118*S118*I$2*I$2 -> 0.99260266 | U118: =S118*I$2/F$8 -> 0.13503226 | V118: =ATAN2(T118,U118) -> 0.13520858 | W118: =DEGREES(V118) -> 7.7468809 | X118: =SQRT(T118^2+U118^2) -> 1.0017453 | Y118: 1 | Z118: =S118*I$4 -> 50.784941 | AA118: =ATAN2(Y118,Z118) -> 1.551108 | AB118: =DEGREES(AA118) -> 88.871942 | AC118: =SQRT(Y118^2+Z118^2) -> 50.794785 | AD118: 1 | AE118: =S118*I$5 -> 0.00186516 | AF118: =ATAN2(AD118,AE118) -> 0.0018651578 | AG118: =DEGREES(AF118) -> 0.10686567 | AH118: =SQRT(AD118^2+AE118^2) -> 1.0000017 | AI118: 1 | AJ118: =-1*S118*I$3 -> 0 | AK118: =ATAN2(AI118,AJ118) -> 0 | AL118: =DEGREES(AK118) -> 0 | AM118: =SQRT(AI118^2+AJ118^2) -> 1 | AN118: 1 | AO118: =S118*I$6 -> 0.186516 | AP118: =ATAN2(AN118,AO118) -> 0.1843972 | AQ118: =DEGREES(AP118) -> 10.565181 | AR118: =SQRT(AN118^2+AO118^2) -> 1.0172454 | AS118: 1 | AT118: =S118*I$7 -> 1.86516e-05 | AU118: =ATAN2(AS118,AT118) -> 1.86516e-05 | AV118: =DEGREES(AU118) -> 0.001068658 | AW118: =SQRT(AS118^2+AT118^2) -> 1 | AX118: =AQ118-W118-AB118 -> -86.053641 | AY118: =MAX(1E-25,F$12*AM118*AR118/X118/AC118) -> 1.1748474 | AZ118: =20*LOG(AY118) -> 1.3996292
Q119: =R119/1000 -> 1.9 | R119: =100+R118 -> 1900 | S119: =R119*6.28 -> 11932 | T119: =1-S119*S119*I$2*I$2 -> 0.9917579 | U119: =S119*I$2/F$8 -> 0.14253405 | V119: =ATAN2(T119,U119) -> 0.14274117 | W119: =DEGREES(V119) -> 8.1784668 | X119: =SQRT(T119^2+U119^2) -> 1.0019479 | Y119: 1 | Z119: =S119*I$4 -> 53.606326 | AA119: =ATAN2(Y119,Z119) -> 1.552144 | AB119: =DEGREES(AA119) -> 88.931299 | AC119: =SQRT(Y119^2+Z119^2) -> 53.615653 | AD119: 1 | AE119: =S119*I$5 -> 0.00196878 | AF119: =ATAN2(AD119,AE119) -> 0.0019687775 | AG119: =DEGREES(AF119) -> 0.11280264 | AH119: =SQRT(AD119^2+AE119^2) -> 1.0000019 | AI119: 1 | AJ119: =-1*S119*I$3 -> 0 | AK119: =ATAN2(AI119,AJ119) -> 0 | AL119: =DEGREES(AK119) -> 0 | AM119: =SQRT(AI119^2+AJ119^2) -> 1 | AN119: 1 | AO119: =S119*I$6 -> 0.196878 | AP119: =ATAN2(AN119,AO119) -> 0.19439184 | AQ119: =DEGREES(AP119) -> 11.137832 | AR119: =SQRT(AN119^2+AO119^2) -> 1.0191962 | AS119: 1 | AT119: =S119*I$7 -> 1.96878e-05 | AU119: =ATAN2(AS119,AT119) -> 1.96878e-05 | AV119: =DEGREES(AU119) -> 0.0011280278 | AW119: =SQRT(AS119^2+AT119^2) -> 1 | AX119: =AQ119-W119-AB119 -> -85.971934 | AY119: =MAX(1E-25,F$12*AM119*AR119/X119/AC119) -> 1.1149445 | AZ119: =20*LOG(AY119) -> 0.9450647
Q120: =R120/1000 -> 2 | R120: =100+R119 -> 2000 | S120: =R120*6.28 -> 12560 | T120: =1-S120*S120*I$2*I$2 -> 0.99086748 | U120: =S120*I$2/F$8 -> 0.15003584 | V120: =ATAN2(T120,U120) -> 0.15027712 | W120: =DEGREES(V120) -> 8.6102445 | X120: =SQRT(T120^2+U120^2) -> 1.0021622 | Y120: 1 | Z120: =S120*I$4 -> 56.427712 | AA120: =ATAN2(Y120,Z120) -> 1.5530764 | AB120: =DEGREES(AA120) -> 88.984723 | AC120: =SQRT(Y120^2+Z120^2) -> 56.436572 | AD120: 1 | AE120: =S120*I$5 -> 0.0020724 | AF120: =ATAN2(AD120,AE120) -> 0.002072397 | AG120: =DEGREES(AF120) -> 0.1187396 | AH120: =SQRT(AD120^2+AE120^2) -> 1.0000021 | AI120: 1 | AJ120: =-1*S120*I$3 -> 0 | AK120: =ATAN2(AI120,AJ120) -> 0 | AL120: =DEGREES(AK120) -> 0 | AM120: =SQRT(AI120^2+AJ120^2) -> 1 | AN120: 1 | AO120: =S120*I$6 -> 0.20724 | AP120: =ATAN2(AN120,AO120) -> 0.20434731 | AQ120: =DEGREES(AP120) -> 11.708238 | AR120: =SQRT(AN120^2+AO120^2) -> 1.0212485 | AS120: 1 | AT120: =S120*I$7 -> 2.0724e-05 | AU120: =ATAN2(AS120,AT120) -> 2.0724e-05 | AV120: =DEGREES(AU120) -> 0.0011873977 | AW120: =SQRT(AS120^2+AT120^2) -> 1 | AX120: =AQ120-W120-AB120 -> -85.886729 | AY120: =MAX(1E-25,F$12*AM120*AR120/X120/AC120) -> 1.0611211 | AZ120: =20*LOG(AY120) -> 0.51529893
Q121: =R121/1000 -> 2.1 | R121: =100+R120 -> 2100 | S121: =R121*6.28 -> 13188 | T121: =1-S121*S121*I$2*I$2 -> 0.98993139 | U121: =S121*I$2/F$8 -> 0.15753763 | V121: =ATAN2(T121,U121) -> 0.15781657 | W121: =DEGREES(V121) -> 9.0422233 | X121: =SQRT(T121^2+U121^2) -> 1.0023883 | Y121: 1 | Z121: =S121*I$4 -> 59.249097 | AA121: =ATAN2(Y121,Z121) -> 1.55392 | AB121: =DEGREES(AA121) -> 89.03306 | AC121: =SQRT(Y121^2+Z121^2) -> 59.257536 | AD121: 1 | AE121: =S121*I$5 -> 0.00217602 | AF121: =ATAN2(AD121,AE121) -> 0.0021760166 | AG121: =DEGREES(AF121) -> 0.12467657 | AH121: =SQRT(AD121^2+AE121^2) -> 1.0000024 | AI121: 1 | AJ121: =-1*S121*I$3 -> 0 | AK121: =ATAN2(AI121,AJ121) -> 0 | AL121: =DEGREES(AK121) -> 0 | AM121: =SQRT(AI121^2+AJ121^2) -> 1 | AN121: 1 | AO121: =S121*I$6 -> 0.217602 | AP121: =ATAN2(AN121,AO121) -> 0.21426186 | AQ121: =DEGREES(AP121) -> 12.2763 | AR121: =SQRT(AN121^2+AO121^2) -> 1.0234015 | AS121: 1 | AT121: =S121*I$7 -> 2.17602e-05 | AU121: =ATAN2(AS121,AT121) -> 2.17602e-05 | AV121: =DEGREES(AU121) -> 0.0012467676 | AW121: =SQRT(AS121^2+AT121^2) -> 1 | AX121: =AQ121-W121-AB121 -> -85.798983 | AY121: =MAX(1E-25,F$12*AM121*AR121/X121/AC121) -> 1.0125085 | AZ121: =20*LOG(AY121) -> 0.10797329
Q122: =R122/1000 -> 2.2 | R122: =100+R121 -> 2200 | S122: =R122*6.28 -> 13816 | T122: =1-S122*S122*I$2*I$2 -> 0.98894965 | U122: =S122*I$2/F$8 -> 0.16503943 | V122: =ATAN2(T122,U122) -> 0.16535969 | W122: =DEGREES(V122) -> 9.4744123 | X122: =SQRT(T122^2+U122^2) -> 1.0026263 | Y122: 1 | Z122: =S122*I$4 -> 62.070483 | AA122: =ATAN2(Y122,Z122) -> 1.554687 | AB122: =DEGREES(AA122) -> 89.077004 | AC122: =SQRT(Y122^2+Z122^2) -> 62.078538 | AD122: 1 | AE122: =S122*I$5 -> 0.00227964 | AF122: =ATAN2(AD122,AE122) -> 0.0022796361 | AG122: =DEGREES(AF122) -> 0.13061352 | AH122: =SQRT(AD122^2+AE122^2) -> 1.0000026 | AI122: 1 | AJ122: =-1*S122*I$3 -> 0 | AK122: =ATAN2(AI122,AJ122) -> 0 | AL122: =DEGREES(AK122) -> 0 | AM122: =SQRT(AI122^2+AJ122^2) -> 1 | AN122: 1 | AO122: =S122*I$6 -> 0.227964 | AP122: =ATAN2(AN122,AO122) -> 0.22413382 | AQ122: =DEGREES(AP122) -> 12.841922 | AR122: =SQRT(AN122^2+AO122^2) -> 1.0256547 | AS122: 1 | AT122: =S122*I$7 -> 2.27964e-05 | AU122: =ATAN2(AS122,AT122) -> 2.27964e-05 | AV122: =DEGREES(AU122) -> 0.0013061375 | AW122: =SQRT(AS122^2+AT122^2) -> 1 | AX122: =AQ122-W122-AB122 -> -85.709494 | AY122: =MAX(1E-25,F$12*AM122*AR122/X122/AC122) -> 0.9683956 | AZ122: =20*LOG(AY122) -> -0.27894383
... Q200: =R200/1000 -> 10 | R200: =100+R199 -> 10000 | S200: =R200*6.28 -> 62800 | T200: =1-S200*S200*I$2*I$2 -> 0.77168695 | U200: =S200*I$2/F$8 -> 0.75017921 | V200: =ATAN2(T200,U200) -> 0.77126662 | W200: =DEGREES(V200) -> 44.190322 | X200: =SQRT(T200^2+U200^2) -> 1.0762293 | Y200: 1 | Z200: =S200*I$4 -> 282.13856 | AA200: =ATAN2(Y200,Z200) -> 1.567252 | AB200: =DEGREES(AA200) -> 89.796924 | AC200: =SQRT(Y200^2+Z200^2) -> 282.14033 | AD200: 1 | AE200: =S200*I$5 -> 0.010362 | AF200: =ATAN2(AD200,AE200) -> 0.010361629 | AG200: =DEGREES(AF200) -> 0.59367762 | AH200: =SQRT(AD200^2+AE200^2) -> 1.0000537 | AI200: 1 | AJ200: =-1*S200*I$3 -> 0 | AK200: =ATAN2(AI200,AJ200) -> 0 | AL200: =DEGREES(AK200) -> 0 | AM200: =SQRT(AI200^2+AJ200^2) -> 1 | AN200: 1 | AO200: =S200*I$6 -> 1.0362 | AP200: =ATAN2(AN200,AO200) -> 0.80317451 | AQ200: =DEGREES(AP200) -> 46.018509 | AR200: =SQRT(AN200^2+AO200^2) -> 1.4400383 | AS200: 1 | AT200: =S200*I$7 -> 0.00010362 | AU200: =ATAN2(AS200,AT200) -> 0.00010362 | AV200: =DEGREES(AU200) -> 0.0059369887 | AW200: =SQRT(AS200^2+AT200^2) -> 1 | AX200: =AQ200-W200-AB200 -> -87.968737 | AY200: =MAX(1E-25,F$12*AM200*AR200/X200/AC200) -> 0.27869953 | AZ200: =20*LOG(AY200) -> -11.097275
Q201: =R201/1000 -> 11 | R201: =1000+R200 -> 11000 | S201: =R201*6.28 -> 69080 | T201: =1-S201*S201*I$2*I$2 -> 0.72374121 | U201: =S201*I$2/F$8 -> 0.82519713 | V201: =ATAN2(T201,U201) -> 0.85080503 | W201: =DEGREES(V201) -> 48.747537 | X201: =SQRT(T201^2+U201^2) -> 1.0976118 | Y201: 1 | Z201: =S201*I$4 -> 310.35242 | AA201: =ATAN2(Y201,Z201) -> 1.5675742 | AB201: =DEGREES(AA201) -> 89.815385 | AC201: =SQRT(Y201^2+Z201^2) -> 310.35403 | AD201: 1 | AE201: =S201*I$5 -> 0.0113982 | AF201: =ATAN2(AD201,AE201) -> 0.011397706 | AG201: =DEGREES(AF201) -> 0.65304047 | AH201: =SQRT(AD201^2+AE201^2) -> 1.000065 | AI201: 1 | AJ201: =-1*S201*I$3 -> 0 | AK201: =ATAN2(AI201,AJ201) -> 0 | AL201: =DEGREES(AK201) -> 0 | AM201: =SQRT(AI201^2+AJ201^2) -> 1 | AN201: 1 | AO201: =S201*I$6 -> 1.13982 | AP201: =ATAN2(AN201,AO201) -> 0.85064735 | AQ201: =DEGREES(AP201) -> 48.738503 | AR201: =SQRT(AN201^2+AO201^2) -> 1.5163079 | AS201: 1 | AT201: =S201*I$7 -> 0.000113982 | AU201: =ATAN2(AS201,AT201) -> 0.000113982 | AV201: =DEGREES(AU201) -> 0.0065306875 | AW201: =SQRT(AS201^2+AT201^2) -> 1 | AX201: =AQ201-W201-AB201 -> -89.82442 | AY201: =MAX(1E-25,F$12*AM201*AR201/X201/AC201) -> 0.26158536 | AZ201: =20*LOG(AY201) -> -11.647731
Q202: =R202/1000 -> 12 | R202: =1000+R201 -> 12000 | S202: =R202*6.28 -> 75360 | T202: =1-S202*S202*I$2*I$2 -> 0.67122921 | U202: =S202*I$2/F$8 -> 0.90021505 | V202: =ATAN2(T202,U202) -> 0.93009656 | W202: =DEGREES(V202) -> 53.290608 | X202: =SQRT(T202^2+U202^2) -> 1.122914 | Y202: 1 | Z202: =S202*I$4 -> 338.56627 | AA202: =ATAN2(Y202,Z202) -> 1.5678427 | AB202: =DEGREES(AA202) -> 89.83077 | AC202: =SQRT(Y202^2+Z202^2) -> 338.56775 | AD202: 1 | AE202: =S202*I$5 -> 0.0124344 | AF202: =ATAN2(AD202,AE202) -> 0.012433759 | AG202: =DEGREES(AF202) -> 0.71240193 | AH202: =SQRT(AD202^2+AE202^2) -> 1.0000773 | AI202: 1 | AJ202: =-1*S202*I$3 -> 0 | AK202: =ATAN2(AI202,AJ202) -> 0 | AL202: =DEGREES(AK202) -> 0 | AM202: =SQRT(AI202^2+AJ202^2) -> 1 | AN202: 1 | AO202: =S202*I$6 -> 1.24344 | AP202: =ATAN2(AN202,AO202) -> 0.89348717 | AQ202: =DEGREES(AP202) -> 51.193044 | AR202: =SQRT(AN202^2+AO202^2) -> 1.5956638 | AS202: 1 | AT202: =S202*I$7 -> 0.000124344 | AU202: =ATAN2(AS202,AT202) -> 0.000124344 | AV202: =DEGREES(AU202) -> 0.0071243864 | AW202: =SQRT(AS202^2+AT202^2) -> 1 | AX202: =AQ202-W202-AB202 -> -91.928333 | AY202: =MAX(1E-25,F$12*AM202*AR202/X202/AC202) -> 0.24665022 | AZ202: =20*LOG(AY202) -> -12.15837
Q203: =R203/1000 -> 13 | R203: =1000+R202 -> 13000 | S203: =R203*6.28 -> 81640 | T203: =1-S203*S203*I$2*I$2 -> 0.61415094 | U203: =S203*I$2/F$8 -> 0.97523297 | V203: =ATAN2(T203,U203) -> 1.0087901 | W203: =DEGREES(V203) -> 57.799412 | X203: =SQRT(T203^2+U203^2) -> 1.1525019 | Y203: 1 | Z203: =S203*I$4 -> 366.78013 | AA203: =ATAN2(Y203,Z203) -> 1.5680699 | AB203: =DEGREES(AA203) -> 89.843788 | AC203: =SQRT(Y203^2+Z203^2) -> 366.78149 | AD203: 1 | AE203: =S203*I$5 -> 0.0134706 | AF203: =ATAN2(AD203,AE203) -> 0.013469785 | AG203: =DEGREES(AF203) -> 0.77176185 | AH203: =SQRT(AD203^2+AE203^2) -> 1.0000907 | AI203: 1 | AJ203: =-1*S203*I$3 -> 0 | AK203: =ATAN2(AI203,AJ203) -> 0 | AL203: =DEGREES(AK203) -> 0 | AM203: =SQRT(AI203^2+AJ203^2) -> 1 | AN203: 1 | AO203: =S203*I$6 -> 1.34706 | AP203: =ATAN2(AN203,AO203) -> 0.93220443 | AQ203: =DEGREES(AP203) -> 53.41138 | AR203: =SQRT(AN203^2+AO203^2) -> 1.6776682 | AS203: 1 | AT203: =S203*I$7 -> 0.000134706 | AU203: =ATAN2(AS203,AT203) -> 0.000134706 | AV203: =DEGREES(AU203) -> 0.0077180852 | AW203: =SQRT(AS203^2+AT203^2) -> 1 | AX203: =AQ203-W203-AB203 -> -94.23182 | AY203: =MAX(1E-25,F$12*AM203*AR203/X203/AC203) -> 0.23323256 | AZ203: =20*LOG(AY203) -> -12.644216
Q204: =R204/1000 -> 14 | R204: =1000+R203 -> 14000 | S204: =R204*6.28 -> 87920 | T204: =1-S204*S204*I$2*I$2 -> 0.55250642 | U204: =S204*I$2/F$8 -> 1.0502509 | V204: =ATAN2(T204,U204) -> 1.0865102 | W204: =DEGREES(V204) -> 62.252449 | X204: =SQRT(T204^2+U204^2) -> 1.1867141 | Y204: 1 | Z204: =S204*I$4 -> 394.99398 | AA204: =ATAN2(Y204,Z204) -> 1.5682646 | AB204: =DEGREES(AA204) -> 89.854945 | AC204: =SQRT(Y204^2+Z204^2) -> 394.99525 | AD204: 1 | AE204: =S204*I$5 -> 0.0145068 | AF204: =ATAN2(AD204,AE204) -> 0.014505782 | AG204: =DEGREES(AF204) -> 0.83112012 | AH204: =SQRT(AD204^2+AE204^2) -> 1.0001052 | AI204: 1 | AJ204: =-1*S204*I$3 -> 0 | AK204: =ATAN2(AI204,AJ204) -> 0 | AL204: =DEGREES(AK204) -> 0 | AM204: =SQRT(AI204^2+AJ204^2) -> 1 | AN204: 1 | AO204: =S204*I$6 -> 1.45068 | AP204: =ATAN2(AN204,AO204) -> 0.9672661 | AQ204: =DEGREES(AP204) -> 55.420265 | AR204: =SQRT(AN204^2+AO204^2) -> 1.7619513 | AS204: 1 | AT204: =S204*I$7 -> 0.000145068 | AU204: =ATAN2(AS204,AT204) -> 0.000145068 | AV204: =DEGREES(AU204) -> 0.0083117841 | AW204: =SQRT(AS204^2+AT204^2) -> 1 | AX204: =AQ204-W204-AB204 -> -96.687129 | AY204: =MAX(1E-25,F$12*AM204*AR204/X204/AC204) -> 0.22089614 | AZ204: =20*LOG(AY204) -> -13.116237
Q205: =R205/1000 -> 15 | R205: =1000+R204 -> 15000 | S205: =R205*6.28 -> 94200 | T205: =1-S205*S205*I$2*I$2 -> 0.48629563 | U205: =S205*I$2/F$8 -> 1.1252688 | V205: =ATAN2(T205,U205) -> 1.1628772 | W205: =DEGREES(V205) -> 66.627953 | X205: =SQRT(T205^2+U205^2) -> 1.2258521 | Y205: 1 | Z205: =S205*I$4 -> 423.20784 | AA205: =ATAN2(Y205,Z205) -> 1.5684334 | AB205: =DEGREES(AA205) -> 89.864616 | AC205: =SQRT(Y205^2+Z205^2) -> 423.20902 | AD205: 1 | AE205: =S205*I$5 -> 0.015543 | AF205: =ATAN2(AD205,AE205) -> 0.015541749 | AG205: =DEGREES(AF205) -> 0.8904766 | AH205: =SQRT(AD205^2+AE205^2) -> 1.0001208 | AI205: 1 | AJ205: =-1*S205*I$3 -> 0 | AK205: =ATAN2(AI205,AJ205) -> 0 | AL205: =DEGREES(AK205) -> 0 | AM205: =SQRT(AI205^2+AJ205^2) -> 1 | AN205: 1 | AO205: =S205*I$6 -> 1.5543 | AP205: =ATAN2(AN205,AO205) -> 0.99909149 | AQ205: =DEGREES(AP205) -> 57.243726 | AR205: =SQRT(AN205^2+AO205^2) -> 1.8482014 | AS205: 1 | AT205: =S205*I$7 -> 0.00015543 | AU205: =ATAN2(AS205,AT205) -> 0.00015543 | AV205: =DEGREES(AU205) -> 0.0089054829 | AW205: =SQRT(AS205^2+AT205^2) -> 1 | AX205: =AQ205-W205-AB205 -> -99.248843 | AY205: =MAX(1E-25,F$12*AM205*AR205/X205/AC205) -> 0.20935749 | AZ205: =20*LOG(AY205) -> -13.58223
Q206: =R206/1000 -> 16 | R206: =1000+R205 -> 16000 | S206: =R206*6.28 -> 100480 | T206: =1-S206*S206*I$2*I$2 -> 0.41551859 | U206: =S206*I$2/F$8 -> 1.2002867 | V206: =ATAN2(T206,U206) -> 1.2375262 | W206: =DEGREES(V206) -> 70.905028 | X206: =SQRT(T206^2+U206^2) -> 1.2701748 | Y206: 1 | Z206: =S206*I$4 -> 451.42169 | AA206: =ATAN2(Y206,Z206) -> 1.5685811 | AB206: =DEGREES(AA206) -> 89.873077 | AC206: =SQRT(Y206^2+Z206^2) -> 451.4228 | AD206: 1 | AE206: =S206*I$5 -> 0.0165792 | AF206: =ATAN2(AD206,AE206) -> 0.016577681 | AG206: =DEGREES(AF206) -> 0.94983117 | AH206: =SQRT(AD206^2+AE206^2) -> 1.0001374 | AI206: 1 | AJ206: =-1*S206*I$3 -> 0 | AK206: =ATAN2(AI206,AJ206) -> 0 | AL206: =DEGREES(AK206) -> 0 | AM206: =SQRT(AI206^2+AJ206^2) -> 1 | AN206: 1 | AO206: =S206*I$6 -> 1.65792 | AP206: =ATAN2(AN206,AO206) -> 1.0280526 | AQ206: =DEGREES(AP206) -> 58.903073 | AR206: =SQRT(AN206^2+AO206^2) -> 1.9361557 | AS206: 1 | AT206: =S206*I$7 -> 0.000165792 | AU206: =ATAN2(AS206,AT206) -> 0.000165792 | AV206: =DEGREES(AU206) -> 0.0094991818 | AW206: =SQRT(AS206^2+AT206^2) -> 1 | AX206: =AQ206-W206-AB206 -> -101.87503 | AY206: =MAX(1E-25,F$12*AM206*AR206/X206/AC206) -> 0.19843829 | AZ206: =20*LOG(AY206) -> -14.04749
Q207: =R207/1000 -> 17 | R207: =1000+R206 -> 17000 | S207: =R207*6.28 -> 106760 | T207: =1-S207*S207*I$2*I$2 -> 0.34017528 | U207: =S207*I$2/F$8 -> 1.2753047 | V207: =ATAN2(T207,U207) -> 1.3101251 | W207: =DEGREES(V207) -> 75.064638 | X207: =SQRT(T207^2+U207^2) -> 1.3198944 | Y207: 1 | Z207: =S207*I$4 -> 479.63555 | AA207: =ATAN2(Y207,Z207) -> 1.5687114 | AB207: =DEGREES(AA207) -> 89.880543 | AC207: =SQRT(Y207^2+Z207^2) -> 479.63659 | AD207: 1 | AE207: =S207*I$5 -> 0.0176154 | AF207: =ATAN2(AD207,AE207) -> 0.017613578 | AG207: =DEGREES(AF207) -> 1.0091837 | AH207: =SQRT(AD207^2+AE207^2) -> 1.0001551 | AI207: 1 | AJ207: =-1*S207*I$3 -> 0 | AK207: =ATAN2(AI207,AJ207) -> 0 | AL207: =DEGREES(AK207) -> 0 | AM207: =SQRT(AI207^2+AJ207^2) -> 1 | AN207: 1 | AO207: =S207*I$6 -> 1.76154 | AP207: =ATAN2(AN207,AO207) -> 1.0544768 | AQ207: =DEGREES(AP207) -> 60.417068 | AR207: =SQRT(AN207^2+AO207^2) -> 2.0255921 | AS207: 1 | AT207: =S207*I$7 -> 0.000176154 | AU207: =ATAN2(AS207,AT207) -> 0.000176154 | AV207: =DEGREES(AU207) -> 0.010092881 | AW207: =SQRT(AS207^2+AT207^2) -> 1 | AX207: =AQ207-W207-AB207 -> -104.52811 | AY207: =MAX(1E-25,F$12*AM207*AR207/X207/AC207) -> 0.1880324 | AZ207: =20*LOG(AY207) -> -14.515346
Q208: =R208/1000 -> 18 | R208: =1000+R207 -> 18000 | S208: =R208*6.28 -> 113040 | T208: =1-S208*S208*I$2*I$2 -> 0.26026571 | U208: =S208*I$2/F$8 -> 1.3503226 | V208: =ATAN2(T208,U208) -> 1.3803879 | W208: =DEGREES(V208) -> 79.090403 | X208: =SQRT(T208^2+U208^2) -> 1.3751761 | Y208: 1 | Z208: =S208*I$4 -> 507.84941 | AA208: =ATAN2(Y208,Z208) -> 1.5688272 | AB208: =DEGREES(AA208) -> 89.88718 | AC208: =SQRT(Y208^2+Z208^2) -> 507.85039 | AD208: 1 | AE208: =S208*I$5 -> 0.0186516 | AF208: =ATAN2(AD208,AE208) -> 0.018649438 | AG208: =DEGREES(AF208) -> 1.0685341 | AH208: =SQRT(AD208^2+AE208^2) -> 1.0001739 | AI208: 1 | AJ208: =-1*S208*I$3 -> 0 | AK208: =ATAN2(AI208,AJ208) -> 0 | AL208: =DEGREES(AK208) -> 0 | AM208: =SQRT(AI208^2+AJ208^2) -> 1 | AN208: 1 | AO208: =S208*I$6 -> 1.86516 | AP208: =ATAN2(AN208,AO208) -> 1.078651 | AQ208: =DEGREES(AP208) -> 61.802148 | AR208: =SQRT(AN208^2+AO208^2) -> 2.1163227 | AS208: 1 | AT208: =S208*I$7 -> 0.000186516 | AU208: =ATAN2(AS208,AT208) -> 0.000186516 | AV208: =DEGREES(AU208) -> 0.010686579 | AW208: =SQRT(AS208^2+AT208^2) -> 1 | AX208: =AQ208-W208-AB208 -> -107.17544 | AY208: =MAX(1E-25,F$12*AM208*AR208/X208/AC208) -> 0.17808198 | AZ208: =20*LOG(AY208) -> -14.987601
Q209: =R209/1000 -> 19 | R209: =1000+R208 -> 19000 | S209: =R209*6.28 -> 119320 | T209: =1-S209*S209*I$2*I$2 -> 0.17578988 | U209: =S209*I$2/F$8 -> 1.4253405 | V209: =ATAN2(T209,U209) -> 1.4480842 | W209: =DEGREES(V209) -> 82.96911 | X209: =SQRT(T209^2+U209^2) -> 1.4361398 | Y209: 1 | Z209: =S209*I$4 -> 536.06326 | AA209: =ATAN2(Y209,Z209) -> 1.5689309 | AB209: =DEGREES(AA209) -> 89.893118 | AC209: =SQRT(Y209^2+Z209^2) -> 536.0642 | AD209: 1 | AE209: =S209*I$5 -> 0.0196878 | AF209: =ATAN2(AD209,AE209) -> 0.019685257 | AG209: =DEGREES(AF209) -> 1.1278821 | AH209: =SQRT(AD209^2+AE209^2) -> 1.0001938 | AI209: 1 | AJ209: =-1*S209*I$3 -> 0 | AK209: =ATAN2(AI209,AJ209) -> 0 | AL209: =DEGREES(AK209) -> 0 | AM209: =SQRT(AI209^2+AJ209^2) -> 1 | AN209: 1 | AO209: =S209*I$6 -> 1.96878 | AP209: =ATAN2(AN209,AO209) -> 1.1008258 | AQ209: =DEGREES(AP209) -> 63.072675 | AR209: =SQRT(AN209^2+AO209^2) -> 2.2081881 | AS209: 1 | AT209: =S209*I$7 -> 0.000196878 | AU209: =ATAN2(AS209,AT209) -> 0.000196878 | AV209: =DEGREES(AU209) -> 0.011280278 | AW209: =SQRT(AS209^2+AT209^2) -> 1 | AX209: =AQ209-W209-AB209 -> -109.78955 | AY209: =MAX(1E-25,F$12*AM209*AR209/X209/AC209) -> 0.16856008 | AZ209: =20*LOG(AY209) -> -15.464906
Q210: =R210/1000 -> 20 | R210: =1000+R209 -> 20000 | S210: =R210*6.28 -> 125600 | T210: =1-S210*S210*I$2*I$2 -> 0.086747793 | U210: =S210*I$2/F$8 -> 1.5003584 | V210: =ATAN2(T210,U210) -> 1.5130426 | W210: =DEGREES(V210) -> 86.690954 | X210: =SQRT(T210^2+U210^2) -> 1.5028641 | Y210: 1 | Z210: =S210*I$4 -> 564.27712 | AA210: =ATAN2(Y210,Z210) -> 1.5690241 | AB210: =DEGREES(AA210) -> 89.898462 | AC210: =SQRT(Y210^2+Z210^2) -> 564.278 | AD210: 1 | AE210: =S210*I$5 -> 0.020724 | AF210: =ATAN2(AD210,AE210) -> 0.020721034 | AG210: =DEGREES(AF210) -> 1.1872278 | AH210: =SQRT(AD210^2+AE210^2) -> 1.0002147 | AI210: 1 | AJ210: =-1*S210*I$3 -> 0 | AK210: =ATAN2(AI210,AJ210) -> 0 | AL210: =DEGREES(AK210) -> 0 | AM210: =SQRT(AI210^2+AJ210^2) -> 1 | AN210: 1 | AO210: =S210*I$6 -> 2.0724 | AP210: =ATAN2(AN210,AO210) -> 1.1212203 | AQ210: =DEGREES(AP210) -> 64.241188 | AR210: =SQRT(AN210^2+AO210^2) -> 2.3010523 | AS210: 1 | AT210: =S210*I$7 -> 0.00020724 | AU210: =ATAN2(AS210,AT210) -> 0.00020724 | AV210: =DEGREES(AU210) -> 0.011873977 | AW210: =SQRT(AS210^2+AT210^2) -> 1 | AX210: =AQ210-W210-AB210 -> -112.34823 | AY210: =MAX(1E-25,F$12*AM210*AR210/X210/AC210) -> 0.15945783 | AZ210: =20*LOG(AY210) -> -15.947083
Q211: =R211/1000 -> 21 | R211: =1000+R210 -> 21000 | S211: =R211*6.28 -> 131880 | T211: =1-S211*S211*I$2*I$2 -> -0.0068605587 | U211: =S211*I$2/F$8 -> 1.5753763 | V211: =ATAN2(T211,U211) -> 1.5751512 | W211: =DEGREES(V211) -> 90.249514 | X211: =SQRT(T211^2+U211^2) -> 1.5753913 | Y211: 1 | Z211: =S211*I$4 -> 592.49097 | AA211: =ATAN2(Y211,Z211) -> 1.5691085 | AB211: =DEGREES(AA211) -> 89.903297 | AC211: =SQRT(Y211^2+Z211^2) -> 592.49182 | AD211: 1 | AE211: =S211*I$5 -> 0.0217602 | AF211: =ATAN2(AD211,AE211) -> 0.021756766 | AG211: =DEGREES(AF211) -> 1.2465709 | AH211: =SQRT(AD211^2+AE211^2) -> 1.0002367 | AI211: 1 | AJ211: =-1*S211*I$3 -> 0 | AK211: =ATAN2(AI211,AJ211) -> 0 | AL211: =DEGREES(AK211) -> 0 | AM211: =SQRT(AI211^2+AJ211^2) -> 1 | AN211: 1 | AO211: =S211*I$6 -> 2.17602 | AP211: =ATAN2(AN211,AO211) -> 1.1400253 | AQ211: =DEGREES(AP211) -> 65.318636 | AR211: =SQRT(AN211^2+AO211^2) -> 2.3947992 | AS211: 1 | AT211: =S211*I$7 -> 0.000217602 | AU211: =ATAN2(AS211,AT211) -> 0.000217602 | AV211: =DEGREES(AU211) -> 0.012467676 | AW211: =SQRT(AS211^2+AT211^2) -> 1 | AX211: =AQ211-W211-AB211 -> -114.83417 | AY211: =MAX(1E-25,F$12*AM211*AR211/X211/AC211) -> 0.1507754 | AZ211: =20*LOG(AY211) -> -16.43339
Q212: =R212/1000 -> 22 | R212: =1000+R211 -> 22000 | S212: =R212*6.28 -> 138160 | T212: =1-S212*S212*I$2*I$2 -> -0.10503517 | U212: =S212*I$2/F$8 -> 1.6503943 | V212: =ATAN2(T212,U212) -> 1.6343531 | W212: =DEGREES(V212) -> 93.641534 | X212: =SQRT(T212^2+U212^2) -> 1.6537332 | Y212: 1 | Z212: =S212*I$4 -> 620.70483 | AA212: =ATAN2(Y212,Z212) -> 1.5691853 | AB212: =DEGREES(AA212) -> 89.907692 | AC212: =SQRT(Y212^2+Z212^2) -> 620.70564 | AD212: 1 | AE212: =S212*I$5 -> 0.0227964 | AF212: =ATAN2(AD212,AE212) -> 0.022792452 | AG212: =DEGREES(AF212) -> 1.3059113 | AH212: =SQRT(AD212^2+AE212^2) -> 1.0002598 | AI212: 1 | AJ212: =-1*S212*I$3 -> 0 | AK212: =ATAN2(AI212,AJ212) -> 0 | AL212: =DEGREES(AK212) -> 0 | AM212: =SQRT(AI212^2+AJ212^2) -> 1 | AN212: 1 | AO212: =S212*I$6 -> 2.27964 | AP212: =ATAN2(AN212,AO212) -> 1.1574078 | AQ212: =DEGREES(AP212) -> 66.314584 | AR212: =SQRT(AN212^2+AO212^2) -> 2.4893289 | AS212: 1 | AT212: =S212*I$7 -> 0.000227964 | AU212: =ATAN2(AS212,AT212) -> 0.000227964 | AV212: =DEGREES(AU212) -> 0.013061375 | AW212: =SQRT(AS212^2+AT212^2) -> 1 | AX212: =AQ212-W212-AB212 -> -117.23464 | AY212: =MAX(1E-25,F$12*AM212*AR212/X212/AC212) -> 0.1425159 | AZ212: =20*LOG(AY212) -> -16.922733
... Q290: =R290/1000 -> 100 | R290: =1000+R289 -> 100000 | S290: =R290*6.28 -> 628000 | T290: =1-S290*S290*I$2*I$2 -> -21.831305 | U290: =S290*I$2/F$8 -> 7.5017921 | V290: =ATAN2(T290,U290) -> 2.810608 | W290: =DEGREES(V290) -> 161.03597 | X290: =SQRT(T290^2+U290^2) -> 23.084254 | Y290: 1 | Z290: =S290*I$4 -> 2821.3856 | AA290: =ATAN2(Y290,Z290) -> 1.5704419 | AB290: =DEGREES(AA290) -> 89.979692 | AC290: =SQRT(Y290^2+Z290^2) -> 2821.3858 | AD290: 1 | AE290: =S290*I$5 -> 0.10362 | AF290: =ATAN2(AD290,AE290) -> 0.10325151 | AG290: =DEGREES(AF290) -> 5.9158758 | AH290: =SQRT(AD290^2+AE290^2) -> 1.0053542 | AI290: 1 | AJ290: =-1*S290*I$3 -> 0 | AK290: =ATAN2(AI290,AJ290) -> 0 | AL290: =DEGREES(AK290) -> 0 | AM290: =SQRT(AI290^2+AJ290^2) -> 1 | AN290: 1 | AO290: =S290*I$6 -> 10.362 | AP290: =ATAN2(AN290,AO290) -> 1.4745878 | AQ290: =DEGREES(AP290) -> 84.487658 | AR290: =SQRT(AN290^2+AO290^2) -> 10.410141 | AS290: 1 | AT290: =S290*I$7 -> 0.0010362 | AU290: =ATAN2(AS290,AT290) -> 0.0010361996 | AV290: =DEGREES(AU290) -> 0.059369865 | AW290: =SQRT(AS290^2+AT290^2) -> 1.0000005 | AX290: =AQ290-W290-AB290 -> -166.52801 | AY290: =MAX(1E-25,F$12*AM290*AR290/X290/AC290) -> 0.0093931337 | AZ290: =20*LOG(AY290) -> -40.54379
Q291: =R291/1000 -> 110 | R291: =10000+R290 -> 110000 | S291: =R291*6.28 -> 690800 | T291: =1-S291*S291*I$2*I$2 -> -26.625879 | U291: =S291*I$2/F$8 -> 8.2519713 | V291: =ATAN2(T291,U291) -> 2.8410573 | W291: =DEGREES(V291) -> 162.78059 | X291: =SQRT(T291^2+U291^2) -> 27.875302 | Y291: 1 | Z291: =S291*I$4 -> 3103.5242 | AA291: =ATAN2(Y291,Z291) -> 1.5704741 | AB291: =DEGREES(AA291) -> 89.981538 | AC291: =SQRT(Y291^2+Z291^2) -> 3103.5243 | AD291: 1 | AE291: =S291*I$5 -> 0.113982 | AF291: =ATAN2(AD291,AE291) -> 0.1134922 | AG291: =DEGREES(AF291) -> 6.502624 | AH291: =SQRT(AD291^2+AE291^2) -> 1.006475 | AI291: 1 | AJ291: =-1*S291*I$3 -> 0 | AK291: =ATAN2(AI291,AJ291) -> 0 | AL291: =DEGREES(AK291) -> 0 | AM291: =SQRT(AI291^2+AJ291^2) -> 1 | AN291: 1 | AO291: =S291*I$6 -> 11.3982 | AP291: =ATAN2(AN291,AO291) -> 1.4832872 | AQ291: =DEGREES(AP291) -> 84.986099 | AR291: =SQRT(AN291^2+AO291^2) -> 11.441982 | AS291: 1 | AT291: =S291*I$7 -> 0.00113982 | AU291: =ATAN2(AS291,AT291) -> 0.0011398195 | AV291: =DEGREES(AU291) -> 0.065306847 | AW291: =SQRT(AS291^2+AT291^2) -> 1.0000006 | AX291: =AQ291-W291-AB291 -> -167.77603 | AY291: =MAX(1E-25,F$12*AM291*AR291/X291/AC291) -> 0.0077724641 | AZ291: =20*LOG(AY291) -> -42.188825
Q292: =R292/1000 -> 120 | R292: =10000+R291 -> 120000 | S292: =R292*6.28 -> 753600 | T292: =1-S292*S292*I$2*I$2 -> -31.877079 | U292: =S292*I$2/F$8 -> 9.0021505 | V292: =ATAN2(T292,U292) -> 2.866358 | W292: =DEGREES(V292) -> 164.23022 | X292: =SQRT(T292^2+U292^2) -> 33.123812 | Y292: 1 | Z292: =S292*I$4 -> 3385.6627 | AA292: =ATAN2(Y292,Z292) -> 1.570501 | AB292: =DEGREES(AA292) -> 89.983077 | AC292: =SQRT(Y292^2+Z292^2) -> 3385.6629 | AD292: 1 | AE292: =S292*I$5 -> 0.124344 | AF292: =ATAN2(AD292,AE292) -> 0.12370903 | AG292: =DEGREES(AF292) -> 7.0880056 | AH292: =SQRT(AD292^2+AE292^2) -> 1.0077011 | AI292: 1 | AJ292: =-1*S292*I$3 -> 0 | AK292: =ATAN2(AI292,AJ292) -> 0 | AL292: =DEGREES(AK292) -> 0 | AM292: =SQRT(AI292^2+AJ292^2) -> 1 | AN292: 1 | AO292: =S292*I$6 -> 12.4344 | AP292: =ATAN2(AN292,AO292) -> 1.490547 | AQ292: =DEGREES(AP292) -> 85.402051 | AR292: =SQRT(AN292^2+AO292^2) -> 12.474546 | AS292: 1 | AT292: =S292*I$7 -> 0.00124344 | AU292: =ATAN2(AS292,AT292) -> 0.0012434394 | AV292: =DEGREES(AU292) -> 0.071243827 | AW292: =SQRT(AS292^2+AT292^2) -> 1.0000008 | AX292: =AQ292-W292-AB292 -> -168.81124 | AY292: =MAX(1E-25,F$12*AM292*AR292/X292/AC292) -> 0.0065369163 | AZ292: =20*LOG(AY292) -> -43.692542
Q293: =R293/1000 -> 130 | R293: =10000+R292 -> 130000 | S293: =R293*6.28 -> 816400 | T293: =1-S293*S293*I$2*I$2 -> -37.584906 | U293: =S293*I$2/F$8 -> 9.7523297 | V293: =ATAN2(T293,U293) -> 2.8877168 | W293: =DEGREES(V293) -> 165.45398 | X293: =SQRT(T293^2+U293^2) -> 38.829539 | Y293: 1 | Z293: =S293*I$4 -> 3667.8013 | AA293: =ATAN2(Y293,Z293) -> 1.5705237 | AB293: =DEGREES(AA293) -> 89.984379 | AC293: =SQRT(Y293^2+Z293^2) -> 3667.8014 | AD293: 1 | AE293: =S293*I$5 -> 0.134706 | AF293: =ATAN2(AD293,AE293) -> 0.13389998 | AG293: =DEGREES(AF293) -> 7.6719037 | AH293: =SQRT(AD293^2+AE293^2) -> 1.0090321 | AI293: 1 | AJ293: =-1*S293*I$3 -> 0 | AK293: =ATAN2(AI293,AJ293) -> 0 | AL293: =DEGREES(AK293) -> 0 | AM293: =SQRT(AI293^2+AJ293^2) -> 1 | AN293: 1 | AO293: =S293*I$6 -> 13.4706 | AP293: =ATAN2(AN293,AO293) -> 1.4966965 | AQ293: =DEGREES(AP293) -> 85.754393 | AR293: =SQRT(AN293^2+AO293^2) -> 13.507667 | AS293: 1 | AT293: =S293*I$7 -> 0.00134706 | AU293: =ATAN2(AS293,AT293) -> 0.0013470592 | AV293: =DEGREES(AU293) -> 0.077180806 | AW293: =SQRT(AS293^2+AT293^2) -> 1.0000009 | AX293: =AQ293-W293-AB293 -> -169.68397 | AY293: =MAX(1E-25,F$12*AM293*AR293/X293/AC293) -> 0.0055737115 | AZ293: =20*LOG(AY293) -> -45.07711
Q294: =R294/1000 -> 140 | R294: =10000+R293 -> 140000 | S294: =R294*6.28 -> 879200 | T294: =1-S294*S294*I$2*I$2 -> -43.749358 | U294: =S294*I$2/F$8 -> 10.502509 | V294: =ATAN2(T294,U294) -> 2.9059901 | W294: =DEGREES(V294) -> 166.50097 | X294: =SQRT(T294^2+U294^2) -> 44.992322 | Y294: 1 | Z294: =S294*I$4 -> 3949.9398 | AA294: =ATAN2(Y294,Z294) -> 1.5705432 | AB294: =DEGREES(AA294) -> 89.985495 | AC294: =SQRT(Y294^2+Z294^2) -> 3949.94 | AD294: 1 | AE294: =S294*I$5 -> 0.145068 | AF294: =ATAN2(AD294,AE294) -> 0.14406302 | AG294: =DEGREES(AF294) -> 8.2542031 | AH294: =SQRT(AD294^2+AE294^2) -> 1.0104676 | AI294: 1 | AJ294: =-1*S294*I$3 -> 0 | AK294: =ATAN2(AI294,AJ294) -> 0 | AL294: =DEGREES(AK294) -> 0 | AM294: =SQRT(AI294^2+AJ294^2) -> 1 | AN294: 1 | AO294: =S294*I$6 -> 14.5068 | AP294: =ATAN2(AN294,AO294) -> 1.501972 | AQ294: =DEGREES(AP294) -> 86.056657 | AR294: =SQRT(AN294^2+AO294^2) -> 14.541226 | AS294: 1 | AT294: =S294*I$7 -> 0.00145068 | AU294: =ATAN2(AS294,AT294) -> 0.001450679 | AV294: =DEGREES(AU294) -> 0.083117783 | AW294: =SQRT(AS294^2+AT294^2) -> 1.0000011 | AX294: =AQ294-W294-AB294 -> -170.42981 | AY294: =MAX(1E-25,F$12*AM294*AR294/X294/AC294) -> 0.0048084411 | AZ294: =20*LOG(AY294) -> -46.359914
Q295: =R295/1000 -> 150 | R295: =10000+R294 -> 150000 | S295: =R295*6.28 -> 942000 | T295: =1-S295*S295*I$2*I$2 -> -50.370437 | U295: =S295*I$2/F$8 -> 11.252688 | V295: =ATAN2(T295,U295) -> 2.9218029 | W295: =DEGREES(V295) -> 167.40698 | X295: =SQRT(T295^2+U295^2) -> 51.612052 | Y295: 1 | Z295: =S295*I$4 -> 4232.0784 | AA295: =ATAN2(Y295,Z295) -> 1.57056 | AB295: =DEGREES(AA295) -> 89.986462 | AC295: =SQRT(Y295^2+Z295^2) -> 4232.0785 | AD295: 1 | AE295: =S295*I$5 -> 0.15543 | AF295: =ATAN2(AD295,AE295) -> 0.15419618 | AG295: =DEGREES(AF295) -> 8.8347906 | AH295: =SQRT(AD295^2+AE295^2) -> 1.0120072 | AI295: 1 | AJ295: =-1*S295*I$3 -> 0 | AK295: =ATAN2(AI295,AJ295) -> 0 | AL295: =DEGREES(AK295) -> 0 | AM295: =SQRT(AI295^2+AJ295^2) -> 1 | AN295: 1 | AO295: =S295*I$6 -> 15.543 | AP295: =ATAN2(AN295,AO295) -> 1.5065472 | AQ295: =DEGREES(AP295) -> 86.318798 | AR295: =SQRT(AN295^2+AO295^2) -> 15.575136 | AS295: 1 | AT295: =S295*I$7 -> 0.0015543 | AU295: =ATAN2(AS295,AT295) -> 0.0015542987 | AV295: =DEGREES(AU295) -> 0.089054758 | AW295: =SQRT(AS295^2+AT295^2) -> 1.0000012 | AX295: =AQ295-W295-AB295 -> -171.07464 | AY295: =MAX(1E-25,F$12*AM295*AR295/X295/AC295) -> 0.0041904357 | AZ295: =20*LOG(AY295) -> -47.554816
Q296: =R296/1000 -> 160 | R296: =10000+R295 -> 160000 | S296: =R296*6.28 -> 1004800 | T296: =1-S296*S296*I$2*I$2 -> -57.448141 | U296: =S296*I$2/F$8 -> 12.002867 | V296: =ATAN2(T296,U296) -> 2.9356217 | W296: =DEGREES(V296) -> 168.19873 | X296: =SQRT(T296^2+U296^2) -> 58.688651 | Y296: 1 | Z296: =S296*I$4 -> 4514.2169 | AA296: =ATAN2(Y296,Z296) -> 1.5705748 | AB296: =DEGREES(AA296) -> 89.987308 | AC296: =SQRT(Y296^2+Z296^2) -> 4514.2171 | AD296: 1 | AE296: =S296*I$5 -> 0.165792 | AF296: =ATAN2(AD296,AE296) -> 0.16429753 | AG296: =DEGREES(AF296) -> 9.413555 | AH296: =SQRT(AD296^2+AE296^2) -> 1.0136503 | AI296: 1 | AJ296: =-1*S296*I$3 -> 0 | AK296: =ATAN2(AI296,AJ296) -> 0 | AL296: =DEGREES(AK296) -> 0 | AM296: =SQRT(AI296^2+AJ296^2) -> 1 | AN296: 1 | AO296: =S296*I$6 -> 16.5792 | AP296: =ATAN2(AN296,AO296) -> 1.5105528 | AQ296: =DEGREES(AP296) -> 86.548299 | AR296: =SQRT(AN296^2+AO296^2) -> 16.609331 | AS296: 1 | AT296: =S296*I$7 -> 0.00165792 | AU296: =ATAN2(AS296,AT296) -> 0.0016579185 | AV296: =DEGREES(AU296) -> 0.094991732 | AW296: =SQRT(AS296^2+AT296^2) -> 1.0000014 | AX296: =AQ296-W296-AB296 -> -171.63774 | AY296: =MAX(1E-25,F$12*AM296*AR296/X296/AC296) -> 0.0036842387 | AZ296: =20*LOG(AY296) -> -48.673045
Q297: =R297/1000 -> 170 | R297: =10000+R296 -> 170000 | S297: =R297*6.28 -> 1067600 | T297: =1-S297*S297*I$2*I$2 -> -64.982472 | U297: =S297*I$2/F$8 -> 12.753047 | V297: =ATAN2(T297,U297) -> 2.9478019 | W297: =DEGREES(V297) -> 168.89661 | X297: =SQRT(T297^2+U297^2) -> 66.222065 | Y297: 1 | Z297: =S297*I$4 -> 4796.3555 | AA297: =ATAN2(Y297,Z297) -> 1.5705878 | AB297: =DEGREES(AA297) -> 89.988054 | AC297: =SQRT(Y297^2+Z297^2) -> 4796.3556 | AD297: 1 | AE297: =S297*I$5 -> 0.176154 | AF297: =ATAN2(AD297,AE297) -> 0.17436516 | AG297: =DEGREES(AF297) -> 9.9903875 | AH297: =SQRT(AD297^2+AE297^2) -> 1.0153966 | AI297: 1 | AJ297: =-1*S297*I$3 -> 0 | AK297: =ATAN2(AI297,AJ297) -> 0 | AL297: =DEGREES(AK297) -> 0 | AM297: =SQRT(AI297^2+AJ297^2) -> 1 | AN297: 1 | AO297: =S297*I$6 -> 17.6154 | AP297: =ATAN2(AN297,AO297) -> 1.5140887 | AQ297: =DEGREES(AP297) -> 86.750891 | AR297: =SQRT(AN297^2+AO297^2) -> 17.643761 | AS297: 1 | AT297: =S297*I$7 -> 0.00176154 | AU297: =ATAN2(AS297,AT297) -> 0.0017615382 | AV297: =DEGREES(AU297) -> 0.1009287 | AW297: =SQRT(AS297^2+AT297^2) -> 1.0000016 | AX297: =AQ297-W297-AB297 -> -172.13377 | AY297: =MAX(1E-25,F$12*AM297*AR297/X297/AC297) -> 0.0032644443 | AZ297: =20*LOG(AY297) -> -49.723815
Q298: =R298/1000 -> 180 | R298: =10000+R297 -> 180000 | S298: =R298*6.28 -> 1130400 | T298: =1-S298*S298*I$2*I$2 -> -72.973429 | U298: =S298*I$2/F$8 -> 13.503226 | V298: =ATAN2(T298,U298) -> 2.9586193 | W298: =DEGREES(V298) -> 169.5164 | X298: =SQRT(T298^2+U298^2) -> 74.212252 | Y298: 1 | Z298: =S298*I$4 -> 5078.4941 | AA298: =ATAN2(Y298,Z298) -> 1.5705994 | AB298: =DEGREES(AA298) -> 89.988718 | AC298: =SQRT(Y298^2+Z298^2) -> 5078.4942 | AD298: 1 | AE298: =S298*I$5 -> 0.186516 | AF298: =ATAN2(AD298,AE298) -> 0.1843972 | AG298: =DEGREES(AF298) -> 10.565181 | AH298: =SQRT(AD298^2+AE298^2) -> 1.0172454 | AI298: 1 | AJ298: =-1*S298*I$3 -> 0 | AK298: =ATAN2(AI298,AJ298) -> 0 | AL298: =DEGREES(AK298) -> 0 | AM298: =SQRT(AI298^2+AJ298^2) -> 1 | AN298: 1 | AO298: =S298*I$6 -> 18.6516 | AP298: =ATAN2(AN298,AO298) -> 1.5172329 | AQ298: =DEGREES(AP298) -> 86.931042 | AR298: =SQRT(AN298^2+AO298^2) -> 18.678388 | AS298: 1 | AT298: =S298*I$7 -> 0.00186516 | AU298: =ATAN2(AS298,AT298) -> 0.0018651578 | AV298: =DEGREES(AU298) -> 0.10686567 | AW298: =SQRT(AS298^2+AT298^2) -> 1.0000017 | AX298: =AQ298-W298-AB298 -> -172.57407 | AY298: =MAX(1E-25,F$12*AM298*AR298/X298/AC298) -> 0.002912467 | AZ298: =20*LOG(AY298) -> -50.71478
Q299: =R299/1000 -> 190 | R299: =10000+R298 -> 190000 | S299: =R299*6.28 -> 1193200 | T299: =1-S299*S299*I$2*I$2 -> -81.421012 | U299: =S299*I$2/F$8 -> 14.253405 | V299: =ATAN2(T299,U299) -> 2.9682906 | W299: =DEGREES(V299) -> 170.07053 | X299: =SQRT(T299^2+U299^2) -> 82.659184 | Y299: 1 | Z299: =S299*I$4 -> 5360.6326 | AA299: =ATAN2(Y299,Z299) -> 1.5706098 | AB299: =DEGREES(AA299) -> 89.989312 | AC299: =SQRT(Y299^2+Z299^2) -> 5360.6327 | AD299: 1 | AE299: =S299*I$5 -> 0.196878 | AF299: =ATAN2(AD299,AE299) -> 0.19439184 | AG299: =DEGREES(AF299) -> 11.137832 | AH299: =SQRT(AD299^2+AE299^2) -> 1.0191962 | AI299: 1 | AJ299: =-1*S299*I$3 -> 0 | AK299: =ATAN2(AI299,AJ299) -> 0 | AL299: =DEGREES(AK299) -> 0 | AM299: =SQRT(AI299^2+AJ299^2) -> 1 | AN299: 1 | AO299: =S299*I$6 -> 19.6878 | AP299: =ATAN2(AN299,AO299) -> 1.5200471 | AQ299: =DEGREES(AP299) -> 87.092281 | AR299: =SQRT(AN299^2+AO299^2) -> 19.71318 | AS299: 1 | AT299: =S299*I$7 -> 0.00196878 | AU299: =ATAN2(AS299,AT299) -> 0.0019687775 | AV299: =DEGREES(AU299) -> 0.11280264 | AW299: =SQRT(AS299^2+AT299^2) -> 1.0000019 | AX299: =AQ299-W299-AB299 -> -172.96756 | AY299: =MAX(1E-25,F$12*AM299*AR299/X299/AC299) -> 0.0026144582 | AZ299: =20*LOG(AY299) -> -51.652366

Sheet LOOP GAIN FOR AMP
D1: original circuit | E1: this page circuit | F1: Basic Value | I1: Calculated Value | N1: f(KHz) | O1: f | P1: ω | Q1: /1+R2*R1*(C2+C3)/(R2+R1)S/ | R1: ARC | S1: Deg | T1: /1+C1*D*(R1+R2)S/ | U1: ARC | V1: Deg | W1: 1+R1*C3*S | X1: ARC | Y1: Deg | Z1: ωn_R | AA1: ωn_I | AB1: /ωn/ | AC1: ARC | AD1: DEG | AE1: Total Gain | AF1: DB | AG1: DEG
D2: Rf1 | E2: R1 | F2: ='Power parameter'!E4 -> 396000 | H2: R2/(R2+R1) | I2: =F3/(F2+F3) -> 0.19967664 | N2: 0.001 | O2: 1 | P2: =O2*6.28 -> 6.28 | Q2: =SQRT(1+(I$3*P2)^2) -> 1.000001 | R2: =ATAN2(1,I$3*P2) -> 0.0014301259 | S2: =DEGREES(R2) -> 0.081940179 | T2: =SQRT(1+(I$5*P2)^2) -> 1.0000168 | U2: =ATAN2(1,I$5*P2) -> 0.0057946185 | V2: =DEGREES(U2) -> 0.33200718 | W2: =SQRT(1+(I$4*P2)^2) -> 1.0000014 | X2: =ATAN2(1,I$4*P2) -> 0.0016910768 | Y2: =DEGREES(X2) -> 0.096891563 | Z2: =1-I$7*P2*P2 -> 1 | AA2: =I$6*P2 -> 6.0457767 | AB2: =SQRT(Z2^2+AA2^2) -> 6.1279211 | AC2: =ATAN2(Z2,AA2) -> 1.4068757 | AD2: =DEGREES(AC2) -> 80.608042 | AE2: =F$9*W2/Q2/T2 -> 0.19222621 | AF2: =20*LOG(AE2) -> -14.323748 | AG2: =180+Y2-S2-V2 -> 179.68294
D3: Rf2 | E3: R2 | F3: ='Power parameter'!E5 -> 98800 | H3: R2*R1*(C2+C3)/(R2+R1) | I3: =F3*F2*(F7+F8)/(F2+F3) -> 0.00022772721 | J3: =1/6.28/I3 -> 699.23866 | N3: 0.002 | O3: 2 | P3: =O3*6.28 -> 12.56 | Q3: =SQRT(1+(I$3*P3)^2) -> 1.0000041 | R3: =ATAN2(1,I$3*P3) -> 0.002860246 | S3: =DEGREES(R3) -> 0.16388002 | T3: =SQRT(1+(I$5*P3)^2) -> 1.0000672 | U3: =ATAN2(1,I$5*P3) -> 0.011588848 | V3: =DEGREES(U3) -> 0.66399207 | W3: =SQRT(1+(I$4*P3)^2) -> 1.0000057 | X3: =ATAN2(1,I$4*P3) -> 0.0033821439 | Y3: =DEGREES(X3) -> 0.19378257 | Z3: =1-I$7*P3*P3 -> 1 | AA3: =I$6*P3 -> 12.091553 | AB3: =SQRT(Z3^2+AA3^2) -> 12.132834 | AC3: =ATAN2(Z3,AA3) -> 1.4882818 | AD3: =DEGREES(AC3) -> 85.272263 | AE3: =F$9*W3/Q3/T3 -> 0.19221676 | AF3: =20*LOG(AE3) -> -14.324175 | AG3: =180+Y3-S3-V3 -> 179.36591
D4: R2 | E4: R3 | H4: R1*C3 | I4: =F2*F8 -> 0.00026928 | J4: =1/6.28/I4 -> 591.33864 | N4: 0.003 | O4: 3 | P4: =O4*6.28 -> 18.84 | Q4: =SQRT(1+(I$3*P4)^2) -> 1.0000092 | R4: =ATAN2(1,I$3*P4) -> 0.0042903543 | S4: =DEGREES(R4) -> 0.2458192 | T4: =SQRT(1+(I$5*P4)^2) -> 1.0001511 | U4: =ATAN2(1,I$5*P4) -> 0.017382299 | V4: =DEGREES(U4) -> 0.99593238 | W4: =SQRT(1+(I$4*P4)^2) -> 1.0000129 | X4: =ATAN2(1,I$4*P4) -> 0.0050731917 | Y4: =DEGREES(X4) -> 0.29067247 | Z4: =1-I$7*P4*P4 -> 1 | AA4: =I$6*P4 -> 18.13733 | AB4: =SQRT(Z4^2+AA4^2) -> 18.164877 | AC4: =ATAN2(Z4,AA4) -> 1.5157172 | AD4: =DEGREES(AC4) -> 86.844198 | AE4: =F$9*W4/Q4/T4 -> 0.19220102 | AF4: =20*LOG(AE4) -> -14.324886 | AG4: =180+Y4-S4-V4 -> 179.04892
D5: NULL | E5: R4 | H5: C1*D*(R1+R2) | I5: =F6*F10*(F2+F3) -> 0.00092272027 | J5: =1/6.28/I5 -> 172.57198 | N5: 0.004 | O5: 4 | P5: =O5*6.28 -> 25.12 | Q5: =SQRT(1+(I$3*P5)^2) -> 1.0000164 | R5: =ATAN2(1,I$3*P5) -> 0.0057204451 | S5: =DEGREES(R5) -> 0.32775736 | T5: =SQRT(1+(I$5*P5)^2) -> 1.0002686 | U5: =ATAN2(1,I$5*P5) -> 0.023174584 | V5: =DEGREES(U5) -> 1.3278058 | W5: =SQRT(1+(I$4*P5)^2) -> 1.0000229 | X5: =ATAN2(1,I$4*P5) -> 0.0067642104 | Y5: =DEGREES(X5) -> 0.38756071 | Z5: =1-I$7*P5*P5 -> 1 | AA5: =I$6*P5 -> 24.183107 | AB5: =SQRT(Z5^2+AA5^2) -> 24.203774 | AC5: =ATAN2(Z5,AA5) -> 1.5294687 | AD5: =DEGREES(AC5) -> 87.632101 | AE5: =F$9*W5/Q5/T5 -> 0.19217899 | AF5: =20*LOG(AE5) -> -14.325882 | AG5: =180+Y5-S5-V5 -> 178.732
D6: C1 | E6: C1 | F6: ='Design tool'!B66*0.000000001/2 -> 5e-08 | H6: 1-D | I6: =1-F10 -> 0.9627033 | N6: 0.005 | O6: 5 | P6: =O6*6.28 -> 31.4 | Q6: =SQRT(1+(I$3*P6)^2) -> 1.0000256 | R6: =ATAN2(1,I$3*P6) -> 0.0071505126 | S6: =DEGREES(R6) -> 0.40969419 | T6: =SQRT(1+(I$5*P6)^2) -> 1.0004196 | U6: =ATAN2(1,I$5*P6) -> 0.028965313 | V6: =DEGREES(U6) -> 1.6595902 | W6: =SQRT(1+(I$4*P6)^2) -> 1.0000357 | X6: =ATAN2(1,I$4*P6) -> 0.0084551905 | Y6: =DEGREES(X6) -> 0.48444673 | Z6: =1-I$7*P6*P6 -> 1 | AA6: =I$6*P6 -> 30.228884 | AB6: =SQRT(Z6^2+AA6^2) -> 30.24542 | AC6: =ATAN2(Z6,AA6) -> 1.5377274 | AD6: =DEGREES(AC6) -> 88.105293 | AE6: =F$9*W6/Q6/T6 -> 0.19215068 | AF6: =20*LOG(AE6) -> -14.327161 | AG6: =180+Y6-S6-V6 -> 178.41516
D7: CFB2 | E7: C2 | F7: ='Design tool'!B67*0.000000000001 -> 2.2e-09 | N7: 0.006 | O7: 6 | P7: =O7*6.28 -> 37.68 | Q7: =SQRT(1+(I$3*P7)^2) -> 1.0000368 | R7: =ATAN2(1,I$3*P7) -> 0.0085805507 | S7: =DEGREES(R7) -> 0.49162934 | T7: =SQRT(1+(I$5*P7)^2) -> 1.0006042 | U7: =ATAN2(1,I$5*P7) -> 0.034754101 | V7: =DEGREES(U7) -> 1.9912633 | W7: =SQRT(1+(I$4*P7)^2) -> 1.0000515 | X7: =ATAN2(1,I$4*P7) -> 0.010146122 | Y7: =DEGREES(X7) -> 0.58132998 | Z7: =1-I$7*P7*P7 -> 1 | AA7: =I$6*P7 -> 36.27466 | AB7: =SQRT(Z7^2+AA7^2) -> 36.288442 | AC7: =ATAN2(Z7,AA7) -> 1.5432359 | AD7: =DEGREES(AC7) -> 88.420901 | AE7: =F$9*W7/Q7/T7 -> 0.19211609 | AF7: =20*LOG(AE7) -> -14.328725 | AG7: =180+Y7-S7-V7 -> 178.09844
D8: C2 | E8: C3 | F8: ='Design tool'!B69*0.000000000001 -> 6.8e-10 | N8: 0.007 | O8: 7 | P8: =O8*6.28 -> 43.96 | Q8: =SQRT(1+(I$3*P8)^2) -> 1.0000501 | R8: =ATAN2(1,I$3*P8) -> 0.010010554 | S8: =DEGREES(R8) -> 0.57356248 | T8: =SQRT(1+(I$5*P8)^2) -> 1.0008223 | U8: =ATAN2(1,I$5*P8) -> 0.040540559 | V8: =DEGREES(U8) -> 2.3228029 | W8: =SQRT(1+(I$4*P8)^2) -> 1.0000701 | X8: =ATAN2(1,I$4*P8) -> 0.011836996 | Y8: =DEGREES(X8) -> 0.67820991 | Z8: =1-I$7*P8*P8 -> 1 | AA8: =I$6*P8 -> 42.320437 | AB8: =SQRT(Z8^2+AA8^2) -> 42.33225 | AC8: =ATAN2(Z8,AA8) -> 1.5471715 | AD8: =DEGREES(AC8) -> 88.646396 | AE8: =F$9*W8/Q8/T8 -> 0.19207524 | AF8: =20*LOG(AE8) -> -14.330572 | AG8: =180+Y8-S8-V8 -> 177.78184
E9: Gea | F9: =I2*I6 -> 0.19222936 | N9: 0.008 | O9: 8 | P9: =O9*6.28 -> 50.24 | Q9: =SQRT(1+(I$3*P9)^2) -> 1.0000654 | R9: =ATAN2(1,I$3*P9) -> 0.011440516 | S9: =DEGREES(R9) -> 0.65549328 | T9: =SQRT(1+(I$5*P9)^2) -> 1.0010739 | U9: =ATAN2(1,I$5*P9) -> 0.046324302 | V9: =DEGREES(U9) -> 2.654187 | W9: =SQRT(1+(I$4*P9)^2) -> 1.0000915 | X9: =ATAN2(1,I$4*P9) -> 0.013527802 | Y9: =DEGREES(X9) -> 0.77508596 | Z9: =1-I$7*P9*P9 -> 1 | AA9: =I$6*P9 -> 48.366214 | AB9: =SQRT(Z9^2+AA9^2) -> 48.376551 | AC9: =ATAN2(Z9,AA9) -> 1.5501237 | AD9: =DEGREES(AC9) -> 88.815545 | AE9: =F$9*W9/Q9/T9 -> 0.19202814 | AF9: =20*LOG(AE9) -> -14.332702 | AG9: =180+Y9-S9-V9 -> 177.46541
D10: D | E10: D | F10: ='Power parameter'!H9 -> 0.037296697 | N10: 0.009 | O10: 9 | P10: =O10*6.28 -> 56.52 | Q10: =SQRT(1+(I$3*P10)^2) -> 1.0000828 | R10: =ATAN2(1,I$3*P10) -> 0.012870431 | S10: =DEGREES(R10) -> 0.73742139 | T10: =SQRT(1+(I$5*P10)^2) -> 1.001359 | U10: =ATAN2(1,I$5*P10) -> 0.052104945 | V10: =DEGREES(U10) -> 2.9853934 | W10: =SQRT(1+(I$4*P10)^2) -> 1.0001158 | X10: =ATAN2(1,I$4*P10) -> 0.015218531 | Y10: =DEGREES(X10) -> 0.87195757 | Z10: =1-I$7*P10*P10 -> 1 | AA10: =I$6*P10 -> 54.411991 | AB10: =SQRT(Z10^2+AA10^2) -> 54.421179 | AC10: =ATAN2(Z10,AA10) -> 1.5524201 | AD10: =DEGREES(AC10) -> 88.947119 | AE10: =F$9*W10/Q10/T10 -> 0.1919748 | AF10: =20*LOG(AE10) -> -14.335115 | AG10: =180+Y10-S10-V10 -> 177.14914
N11: 0.01 | O11: 10 | P11: =O11*6.28 -> 62.8 | Q11: =SQRT(1+(I$3*P11)^2) -> 1.0001023 | R11: =ATAN2(1,I$3*P11) -> 0.014300294 | S11: =DEGREES(R11) -> 0.81934649 | T11: =SQRT(1+(I$5*P11)^2) -> 1.0016775 | U11: =ATAN2(1,I$5*P11) -> 0.057882105 | V11: =DEGREES(U11) -> 3.3164003 | W11: =SQRT(1+(I$4*P11)^2) -> 1.000143 | X11: =ATAN2(1,I$4*P11) -> 0.016909172 | Y11: =DEGREES(X11) -> 0.96882421 | Z11: =1-I$7*P11*P11 -> 1 | AA11: =I$6*P11 -> 60.457767 | AB11: =SQRT(Z11^2+AA11^2) -> 60.466037 | AC11: =ATAN2(Z11,AA11) -> 1.5542574 | AD11: =DEGREES(AC11) -> 89.052387 | AE11: =F$9*W11/Q11/T11 -> 0.19191524 | AF11: =20*LOG(AE11) -> -14.337811 | AG11: =180+Y11-S11-V11 -> 176.83308
N12: 0.02 | O12: 20 | P12: =O12*6.28 -> 125.6 | Q12: =SQRT(1+(I$3*P12)^2) -> 1.000409 | R12: =ATAN2(1,I$3*P12) -> 0.028594742 | S12: =DEGREES(R12) -> 1.638358 | T12: =SQRT(1+(I$5*P12)^2) -> 1.0066933 | U12: =ATAN2(1,I$5*P12) -> 0.11537894 | V12: =DEGREES(U12) -> 6.6107263 | W12: =SQRT(1+(I$4*P12)^2) -> 1.0005718 | X12: =ATAN2(1,I$4*P12) -> 0.033808681 | Y12: =DEGREES(X12) -> 1.9370947 | Z12: =1-I$7*P12*P12 -> 1 | AA12: =I$6*P12 -> 120.91553 | AB12: =SQRT(Z12^2+AA12^2) -> 120.91967 | AC12: =ATAN2(Z12,AA12) -> 1.5625263 | AD12: =DEGREES(AC12) -> 89.526161 | AE12: =F$9*W12/Q12/T12 -> 0.19098235 | AF12: =20*LOG(AE12) -> -14.380135 | AG12: =180+Y12-S12-V12 -> 173.68801
N13: 0.03 | O13: 30 | P13: =O13*6.28 -> 188.4 | Q13: =SQRT(1+(I$3*P13)^2) -> 1.0009199 | R13: =ATAN2(1,I$3*P13) -> 0.042877511 | S13: =DEGREES(R13) -> 2.4567004 | T13: =SQRT(1+(I$5*P13)^2) -> 1.0149978 | U13: =ATAN2(1,I$5*P13) -> 0.1721204 | V13: =DEGREES(U13) -> 9.8617725 | W13: =SQRT(1+(I$4*P13)^2) -> 1.0012861 | X13: =ATAN2(1,I$4*P13) -> 0.050688895 | Y13: =DEGREES(X13) -> 2.9042597 | Z13: =1-I$7*P13*P13 -> 1 | AA13: =I$6*P13 -> 181.3733 | AB13: =SQRT(Z13^2+AA13^2) -> 181.37606 | AC13: =ATAN2(Z13,AA13) -> 1.5652829 | AD13: =DEGREES(AC13) -> 89.684103 | AE13: =F$9*W13/Q13/T13 -> 0.18945822 | AF13: =20*LOG(AE13) -> -14.449731 | AG13: =180+Y13-S13-V13 -> 170.58579
N14: 0.04 | O14: 40 | P14: =O14*6.28 -> 251.2 | Q14: =SQRT(1+(I$3*P14)^2) -> 1.0016349 | R14: =ATAN2(1,I$3*P14) -> 0.057142798 | S14: =DEGREES(R14) -> 3.2740412 | T14: =SQRT(1+(I$5*P14)^2) -> 1.0265113 | U14: =ATAN2(1,I$5*P14) -> 0.22776526 | V14: =DEGREES(U14) -> 13.049988 | W14: =SQRT(1+(I$4*P14)^2) -> 1.0022852 | X14: =ATAN2(1,I$4*P14) -> 0.067540249 | Y14: =DEGREES(X14) -> 3.8697712 | Z14: =1-I$7*P14*P14 -> 1 | AA14: =I$6*P14 -> 241.83107 | AB14: =SQRT(Z14^2+AA14^2) -> 241.83314 | AC14: =ATAN2(Z14,AA14) -> 1.5666612 | AD14: =DEGREES(AC14) -> 89.763077 | AE14: =F$9*W14/Q14/T14 -> 0.18738632 | AF14: =20*LOG(AE14) -> -14.545243 | AG14: =180+Y14-S14-V14 -> 167.54574
N15: 0.05 | O15: 50 | P15: =O15*6.28 -> 314 | Q15: =SQRT(1+(I$3*P15)^2) -> 1.0025533 | R15: =ATAN2(1,I$3*P15) -> 0.071384842 | S15: =DEGREES(R15) -> 4.0900502 | T15: =SQRT(1+(I$5*P15)^2) -> 1.0411272 | U15: =ATAN2(1,I$5*P15) -> 0.28201219 | V15: =DEGREES(U15) -> 16.158108 | W15: =SQRT(1+(I$4*P15)^2) -> 1.0035683 | X15: =ATAN2(1,I$4*P15) -> 0.084353278 | Y15: =DEGREES(X15) -> 4.8330868 | Z15: =1-I$7*P15*P15 -> 1 | AA15: =I$6*P15 -> 302.28884 | AB15: =SQRT(Z15^2+AA15^2) -> 302.29049 | AC15: =ATAN2(Z15,AA15) -> 1.5674882 | AD15: =DEGREES(AC15) -> 89.810461 | AE15: =F$9*W15/Q15/T15 -> 0.18482273 | AF15: =20*LOG(AE15) -> -14.664892 | AG15: =180+Y15-S15-V15 -> 164.58493
N16: 0.06 | O16: 60 | P16: =O16*6.28 -> 376.8 | Q16: =SQRT(1+(I$3*P16)^2) -> 1.0036747 | R16: =ATAN2(1,I$3*P16) -> 0.08559794 | S16: =DEGREES(R16) -> 4.9044007 | T16: =SQRT(1+(I$5*P16)^2) -> 1.0587172 | U16: =ATAN2(1,I$5*P16) -> 0.3346074 | V16: =DEGREES(U16) -> 19.171592 | W16: =SQRT(1+(I$4*P16)^2) -> 1.0051344 | X16: =ATAN2(1,I$4*P16) -> 0.10111864 | Y16: =DEGREES(X16) -> 5.7936715 | Z16: =1-I$7*P16*P16 -> 1 | AA16: =I$6*P16 -> 362.7466 | AB16: =SQRT(Z16^2+AA16^2) -> 362.74798 | AC16: =ATAN2(Z16,AA16) -> 1.5680396 | AD16: =DEGREES(AC16) -> 89.842051 | AE16: =F$9*W16/Q16/T16 -> 0.18183224 | AF16: =20*LOG(AE16) -> -14.806582 | AG16: =180+Y16-S16-V16 -> 161.71768
N17: 0.07 | O17: 70 | P17: =O17*6.28 -> 439.6 | Q17: =SQRT(1+(I$3*P17)^2) -> 1.0049984 | R17: =ATAN2(1,I$3*P17) -> 0.099776455 | S17: =DEGREES(R17) -> 5.7167698 | T17: =SQRT(1+(I$5*P17)^2) -> 1.0791357 | U17: =ATAN2(1,I$5*P17) -> 0.38534852 | V17: =DEGREES(U17) -> 22.078844 | W17: =SQRT(1+(I$4*P17)^2) -> 1.006982 | X17: =ATAN2(1,I$4*P17) -> 0.11782717 | Y17: =DEGREES(X17) -> 6.7509995 | Z17: =1-I$7*P17*P17 -> 1 | AA17: =I$6*P17 -> 423.20437 | AB17: =SQRT(Z17^2+AA17^2) -> 423.20555 | AC17: =ATAN2(Z17,AA17) -> 1.5684334 | AD17: =DEGREES(AC17) -> 89.864615 | AE17: =F$9*W17/Q17/T17 -> 0.17848428 | AF17: =20*LOG(AE17) -> -14.968 | AG17: =180+Y17-S17-V17 -> 158.95539
N18: 0.08 | O18: 80 | P18: =O18*6.28 -> 502.4 | Q18: =SQRT(1+(I$3*P18)^2) -> 1.0065236 | R18: =ATAN2(1,I$3*P18) -> 0.11391484 | S18: =DEGREES(R18) -> 6.5268394 | T18: =SQRT(1+(I$5*P18)^2) -> 1.1022257 | U18: =ATAN2(1,I$5*P18) -> 0.4340851 | V18: =DEGREES(U18) -> 24.871244 | W18: =SQRT(1+(I$4*P18)^2) -> 1.0091097 | X18: =ATAN2(1,I$4*P18) -> 0.13446987 | Y18: =DEGREES(X18) -> 7.7045558 | Z18: =1-I$7*P18*P18 -> 1 | AA18: =I$6*P18 -> 483.66214 | AB18: =SQRT(Z18^2+AA18^2) -> 483.66317 | AC18: =ATAN2(Z18,AA18) -> 1.5687288 | AD18: =DEGREES(AC18) -> 89.881538 | AE18: =F$9*W18/Q18/T18 -> 0.17484919 | AF18: =20*LOG(AE18) -> -15.146728 | AG18: =180+Y18-S18-V18 -> 156.30647
N19: 0.09 | O19: 90 | P19: =O19*6.28 -> 565.2 | Q19: =SQRT(1+(I$3*P19)^2) -> 1.0082493 | R19: =ATAN2(1,I$3*P19) -> 0.12800763 | S19: =DEGREES(R19) -> 7.334297 | T19: =SQRT(1+(I$5*P19)^2) -> 1.127823 | U19: =ATAN2(1,I$5*P19) -> 0.4807162 | V19: =DEGREES(U19) -> 27.543009 | W19: =SQRT(1+(I$4*P19)^2) -> 1.0115157 | X19: =ATAN2(1,I$4*P19) -> 0.15103796 | Y19: =DEGREES(X19) -> 8.6538378 | Z19: =1-I$7*P19*P19 -> 1 | AA19: =I$6*P19 -> 544.11991 | AB19: =SQRT(Z19^2+AA19^2) -> 544.12083 | AC19: =ATAN2(Z19,AA19) -> 1.5689585 | AD19: =DEGREES(AC19) -> 89.8947 | AE19: =F$9*W19/Q19/T19 -> 0.17099502 | AF19: =20*LOG(AE19) -> -15.340331 | AG19: =180+Y19-S19-V19 -> 153.77653
N20: 0.1 | O20: 100 | P20: =O20*6.28 -> 628 | Q20: =SQRT(1+(I$3*P20)^2) -> 1.0101746 | R20: =ATAN2(1,I$3*P20) -> 0.14204949 | S20: =DEGREES(R20) -> 8.138836 | T20: =SQRT(1+(I$5*P20)^2) -> 1.155761 | U20: =ATAN2(1,I$5*P20) -> 0.52518587 | V20: =DEGREES(U20) -> 30.090934 | W20: =SQRT(1+(I$4*P20)^2) -> 1.0141979 | X20: =ATAN2(1,I$4*P20) -> 0.16752293 | Y20: =DEGREES(X20) -> 9.5983568 | Z20: =1-I$7*P20*P20 -> 1 | AA20: =I$6*P20 -> 604.57767 | AB20: =SQRT(Z20^2+AA20^2) -> 604.5785 | AC20: =ATAN2(Z20,AA20) -> 1.5691423 | AD20: =DEGREES(AC20) -> 89.90523 | AE20: =F$9*W20/Q20/T20 -> 0.1669852 | AF20: =20*LOG(AE20) -> -15.546441 | AG20: =180+Y20-S20-V20 -> 151.36859
N21: 0.11 | O21: 110 | P21: =O21*6.28 -> 690.8 | Q21: =SQRT(1+(I$3*P21)^2) -> 1.0122982 | R21: =ATAN2(1,I$3*P21) -> 0.15603517 | S21: =DEGREES(R21) -> 8.9401569 | T21: =SQRT(1+(I$5*P21)^2) -> 1.1858744 | U21: =ATAN2(1,I$5*P21) -> 0.5674773 | V21: =DEGREES(U21) -> 32.514054 | W21: =SQRT(1+(I$4*P21)^2) -> 1.0171543 | X21: =ATAN2(1,I$4*P21) -> 0.1839165 | Y21: =DEGREES(X21) -> 10.537639 | Z21: =1-I$7*P21*P21 -> 1 | AA21: =I$6*P21 -> 665.03544 | AB21: =SQRT(Z21^2+AA21^2) -> 665.03619 | AC21: =ATAN2(Z21,AA21) -> 1.5692926 | AD21: =DEGREES(AC21) -> 89.913846 | AE21: =F$9*W21/Q21/T21 -> 0.16287686 | AF21: =20*LOG(AE21) -> -15.762812 | AG21: =180+Y21-S21-V21 -> 149.08343
N22: 0.12 | O22: 120 | P22: =O22*6.28 -> 753.6 | Q22: =SQRT(1+(I$3*P22)^2) -> 1.014619 | R22: =ATAN2(1,I$3*P22) -> 0.16995959 | S22: =DEGREES(R22) -> 9.7379674 | T22: =SQRT(1+(I$5*P22)^2) -> 1.2180018 | U22: =ATAN2(1,I$5*P22) -> 0.60760642 | V22: =DEGREES(U22) -> 34.813284 | W22: =SQRT(1+(I$4*P22)^2) -> 1.0203825 | X22: =ATAN2(1,I$4*P22) -> 0.2002107 | Y22: =DEGREES(X22) -> 11.471228 | Z22: =1-I$7*P22*P22 -> 1 | AA22: =I$6*P22 -> 725.49321 | AB22: =SQRT(Z22^2+AA22^2) -> 725.4939 | AC22: =ATAN2(Z22,AA22) -> 1.569418 | AD22: =DEGREES(AC22) -> 89.921025 | AE22: =F$9*W22/Q22/T22 -> 0.15872004 | AF22: =20*LOG(AE22) -> -15.987365 | AG22: =180+Y22-S22-V22 -> 146.91998
... N299: 190 | O299: 190000 | P299: =O299*6.28 -> 1193200 | Q299: =SQRT(1+(I$3*P299)^2) -> 271.72595 | R299: =ATAN2(1,I$3*P299) -> 1.5671161 | S299: =DEGREES(R299) -> 89.789141 | T299: =SQRT(1+(I$5*P299)^2) -> 1100.9903 | U299: =ATAN2(1,I$5*P299) -> 1.5698881 | V299: =DEGREES(U299) -> 89.94796 | W299: =SQRT(1+(I$4*P299)^2) -> 321.30645 | X299: =ATAN2(1,I$4*P299) -> 1.567684 | Y299: =DEGREES(X299) -> 89.821678 | Z299: =1-I$7*P299*P299 -> 1 | AA299: =I$6*P299 -> 1148697.6 | AB299: =SQRT(Z299^2+AA299^2) -> 1148697.6 | AC299: =ATAN2(Z299,AA299) -> 1.5707955 | AD299: =DEGREES(AC299) -> 89.99995 | AE299: =F$9*W299/Q299/T299 -> 0.0002064546 | AF299: =20*LOG(AE299) -> -73.703509 | AG299: =180+Y299-S299-V299 -> 90.084578

Sheet LOOP GAIN FOR TOTAL
B1: f(KHz) | C1: DB of BOOST | D1: DEG of BOOST | F1: DB of BUCK | G1: DEG of BUCK | I1: DB of AMP | J1: DEG of AMP | O1: Total Gain | P1: Total PM | Q1: ABS of GAIN | R1: ABS of PM | AA1: Total Gain | AB1: Total PM | AC1: PS Gain | AD1: PS PM | AE1: COMP Gain | AF1: COMP PM | AG1: 0 dB
B2: 0.001 | F2: ='LOOP GAIN FOR BUCK'!AZ2 -> 35.379188 | G2: ='LOOP GAIN FOR BUCK'!AX2 -> -1.6144674 | I2: ='LOOP GAIN FOR AMP'!AF2 -> -14.323748 | J2: ='LOOP GAIN FOR AMP'!AG2 -> 179.68294 | O2: =I2+F2 -> 21.05544 | P2: =G2+J2 -> 178.06848 | Q2: =ABS(O2) -> 21.05544 | R2: =ABS(P2) -> 178.06848 | AA2: =O2*Z$18 -> 0 | AB2: =P2*Z$19 -> 0 | AC2: =(C2*Z$15+F2*Z$16)*Z$20 -> 0 | AD2: =(D2*Z$15+G2*Z$16)*Z$21 -> 0 | AE2: =I2*Z$22 -> 0 | AF2: =J2*Z$23 -> 0 | AG2: 0
B3: 0.002 | F3: ='LOOP GAIN FOR BUCK'!AZ3 -> 35.368838 | G3: ='LOOP GAIN FOR BUCK'!AX3 -> -3.2263673 | I3: ='LOOP GAIN FOR AMP'!AF3 -> -14.324175 | J3: ='LOOP GAIN FOR AMP'!AG3 -> 179.36591 | O3: =I3+F3 -> 21.044663 | P3: =G3+J3 -> 176.13954 | Q3: =ABS(O3) -> 21.044663 | R3: =ABS(P3) -> 176.13954 | AA3: =O3*Z$18 -> 0 | AB3: =P3*Z$19 -> 0 | AC3: =(C3*Z$15+F3*Z$16)*Z$20 -> 0 | AD3: =(D3*Z$15+G3*Z$16)*Z$21 -> 0 | AE3: =I3*Z$22 -> 0 | AF3: =J3*Z$23 -> 0 | AG3: 0
B4: 0.003 | F4: ='LOOP GAIN FOR BUCK'!AZ4 -> 35.351641 | G4: ='LOOP GAIN FOR BUCK'!AX4 -> -4.8331566 | I4: ='LOOP GAIN FOR AMP'!AF4 -> -14.324886 | J4: ='LOOP GAIN FOR AMP'!AG4 -> 179.04892 | O4: =I4+F4 -> 21.026755 | P4: =G4+J4 -> 174.21576 | Q4: =ABS(O4) -> 21.026755 | R4: =ABS(P4) -> 174.21576 | AA4: =O4*Z$18 -> 0 | AB4: =P4*Z$19 -> 0 | AC4: =(C4*Z$15+F4*Z$16)*Z$20 -> 0 | AD4: =(D4*Z$15+G4*Z$16)*Z$21 -> 0 | AE4: =I4*Z$22 -> 0 | AF4: =J4*Z$23 -> 0 | AG4: 0
B5: 0.004 | F5: ='LOOP GAIN FOR BUCK'!AZ5 -> 35.32768 | G5: ='LOOP GAIN FOR BUCK'!AX5 -> -6.4323406 | I5: ='LOOP GAIN FOR AMP'!AF5 -> -14.325882 | J5: ='LOOP GAIN FOR AMP'!AG5 -> 178.732 | O5: =I5+F5 -> 21.001799 | P5: =G5+J5 -> 172.29966 | Q5: =ABS(O5) -> 21.001799 | R5: =ABS(P5) -> 172.29966 | Y5: look up 0db value | Z5: =MIN('LOOP GAIN FOR TOTAL'!Q1:Q299) -> 0.14193409 | AA5: =O5*Z$18 -> 0 | AB5: =P5*Z$19 -> 0 | AC5: =(C5*Z$15+F5*Z$16)*Z$20 -> 0 | AD5: =(D5*Z$15+G5*Z$16)*Z$21 -> 0 | AE5: =I5*Z$22 -> 0 | AF5: =J5*Z$23 -> 0 | AG5: 0
B6: 0.005 | F6: ='LOOP GAIN FOR BUCK'!AZ6 -> 35.297067 | G6: ='LOOP GAIN FOR BUCK'!AX6 -> -8.0214952 | I6: ='LOOP GAIN FOR AMP'!AF6 -> -14.327161 | J6: ='LOOP GAIN FOR AMP'!AG6 -> 178.41516 | O6: =I6+F6 -> 20.969905 | P6: =G6+J6 -> 170.39367 | Q6: =ABS(O6) -> 20.969905 | R6: =ABS(P6) -> 170.39367 | Y6: row of 0db | Z6: =MATCH(Z5,'LOOP GAIN FOR TOTAL'!Q1:Q299,0) -> 34 | AA6: =O6*Z$18 -> 0 | AB6: =P6*Z$19 -> 0 | AC6: =(C6*Z$15+F6*Z$16)*Z$20 -> 0 | AD6: =(D6*Z$15+G6*Z$16)*Z$21 -> 0 | AE6: =I6*Z$22 -> 0 | AF6: =J6*Z$23 -> 0 | AG6: 0
B7: 0.006 | F7: ='LOOP GAIN FOR BUCK'!AZ7 -> 35.25994 | G7: ='LOOP GAIN FOR BUCK'!AX7 -> -9.5982883 | I7: ='LOOP GAIN FOR AMP'!AF7 -> -14.328725 | J7: ='LOOP GAIN FOR AMP'!AG7 -> 178.09844 | O7: =I7+F7 -> 20.931215 | P7: =G7+J7 -> 168.50015 | Q7: =ABS(O7) -> 20.931215 | R7: =ABS(P7) -> 168.50015 | Y7: 0 db frequency | Z7: =INDIRECT("B"&'LOOP GAIN FOR TOTAL'!Z6) -> 0.24 | AA7: =O7*Z$18 -> 0 | AB7: =P7*Z$19 -> 0 | AC7: =(C7*Z$15+F7*Z$16)*Z$20 -> 0 | AD7: =(D7*Z$15+G7*Z$16)*Z$21 -> 0 | AE7: =I7*Z$22 -> 0 | AF7: =J7*Z$23 -> 0 | AG7: 0
B8: 0.007 | F8: ='LOOP GAIN FOR BUCK'!AZ8 -> 35.216469 | G8: ='LOOP GAIN FOR BUCK'!AX8 -> -11.160499 | I8: ='LOOP GAIN FOR AMP'!AF8 -> -14.330572 | J8: ='LOOP GAIN FOR AMP'!AG8 -> 177.78184 | O8: =I8+F8 -> 20.885897 | P8: =G8+J8 -> 166.62135 | Q8: =ABS(O8) -> 20.885897 | R8: =ABS(P8) -> 166.62135 | Y8: PM | Z8: =INDIRECT("P"&Z6) -> 47.658245 | AA8: =O8*Z$18 -> 0 | AB8: =P8*Z$19 -> 0 | AC8: =(C8*Z$15+F8*Z$16)*Z$20 -> 0 | AD8: =(D8*Z$15+G8*Z$16)*Z$21 -> 0 | AE8: =I8*Z$22 -> 0 | AF8: =J8*Z$23 -> 0 | AG8: 0
B9: 0.008 | F9: ='LOOP GAIN FOR BUCK'!AZ9 -> 35.166845 | G9: ='LOOP GAIN FOR BUCK'!AX9 -> -12.706033 | I9: ='LOOP GAIN FOR AMP'!AF9 -> -14.332702 | J9: ='LOOP GAIN FOR AMP'!AG9 -> 177.46541 | O9: =I9+F9 -> 20.834143 | P9: =G9+J9 -> 164.75937 | Q9: =ABS(O9) -> 20.834143 | R9: =ABS(P9) -> 164.75937 | AA9: =O9*Z$18 -> 0 | AB9: =P9*Z$19 -> 0 | AC9: =(C9*Z$15+F9*Z$16)*Z$20 -> 0 | AD9: =(D9*Z$15+G9*Z$16)*Z$21 -> 0 | AE9: =I9*Z$22 -> 0 | AF9: =J9*Z$23 -> 0 | AG9: 0
B10: 0.009 | F10: ='LOOP GAIN FOR BUCK'!AZ10 -> 35.111281 | G10: ='LOOP GAIN FOR BUCK'!AX10 -> -14.23294 | I10: ='LOOP GAIN FOR AMP'!AF10 -> -14.335115 | J10: ='LOOP GAIN FOR AMP'!AG10 -> 177.14914 | O10: =I10+F10 -> 20.776166 | P10: =G10+J10 -> 162.9162 | Q10: =ABS(O10) -> 20.776166 | R10: =ABS(P10) -> 162.9162 | Y10: look up 0deg value | Z10: =MIN(R1:R299) -> 0.5907239 | AA10: =O10*Z$18 -> 0 | AB10: =P10*Z$19 -> 0 | AC10: =(C10*Z$15+F10*Z$16)*Z$20 -> 0 | AD10: =(D10*Z$15+G10*Z$16)*Z$21 -> 0 | AE10: =I10*Z$22 -> 0 | AF10: =J10*Z$23 -> 0 | AG10: 0
B11: 0.01 | F11: ='LOOP GAIN FOR BUCK'!AZ11 -> 35.05001 | G11: ='LOOP GAIN FOR BUCK'!AX11 -> -15.739418 | I11: ='LOOP GAIN FOR AMP'!AF11 -> -14.337811 | J11: ='LOOP GAIN FOR AMP'!AG11 -> 176.83308 | O11: =I11+F11 -> 20.7122 | P11: =G11+J11 -> 161.09366 | Q11: =ABS(O11) -> 20.7122 | R11: =ABS(P11) -> 161.09366 | Y11: row of 0deg | Z11: =MATCH(Z10,R1:R299,0) -> 202 | AA11: =O11*Z$18 -> 0 | AB11: =P11*Z$19 -> 0 | AC11: =(C11*Z$15+F11*Z$16)*Z$20 -> 0 | AD11: =(D11*Z$15+G11*Z$16)*Z$21 -> 0 | AE11: =I11*Z$22 -> 0 | AF11: =J11*Z$23 -> 0 | AG11: 0
B12: 0.02 | F12: ='LOOP GAIN FOR BUCK'!AZ12 -> 34.18216 | G12: ='LOOP GAIN FOR BUCK'!AX12 -> -29.402267 | I12: ='LOOP GAIN FOR AMP'!AF12 -> -14.380135 | J12: ='LOOP GAIN FOR AMP'!AG12 -> 173.68801 | O12: =I12+F12 -> 19.802025 | P12: =G12+J12 -> 144.28574 | Q12: =ABS(O12) -> 19.802025 | R12: =ABS(P12) -> 144.28574 | Y12: GM | Z12: =INDIRECT("o"&Z11) -> -61.875497 | AA12: =O12*Z$18 -> 0 | AB12: =P12*Z$19 -> 0 | AC12: =(C12*Z$15+F12*Z$16)*Z$20 -> 0 | AD12: =(D12*Z$15+G12*Z$16)*Z$21 -> 0 | AE12: =I12*Z$22 -> 0 | AF12: =J12*Z$23 -> 0 | AG12: 0
B13: 0.03 | F13: ='LOOP GAIN FOR BUCK'!AZ13 -> 33.036447 | G13: ='LOOP GAIN FOR BUCK'!AX13 -> -40.195937 | I13: ='LOOP GAIN FOR AMP'!AF13 -> -14.449731 | J13: ='LOOP GAIN FOR AMP'!AG13 -> 170.58579 | O13: =I13+F13 -> 18.586716 | P13: =G13+J13 -> 130.38985 | Q13: =ABS(O13) -> 18.586716 | R13: =ABS(P13) -> 130.38985 | AA13: =O13*Z$18 -> 0 | AB13: =P13*Z$19 -> 0 | AC13: =(C13*Z$15+F13*Z$16)*Z$20 -> 0 | AD13: =(D13*Z$15+G13*Z$16)*Z$21 -> 0 | AE13: =I13*Z$22 -> 0 | AF13: =J13*Z$23 -> 0 | AG13: 0
B14: 0.04 | F14: ='LOOP GAIN FOR BUCK'!AZ14 -> 31.815504 | G14: ='LOOP GAIN FOR BUCK'!AX14 -> -48.390636 | I14: ='LOOP GAIN FOR AMP'!AF14 -> -14.545243 | J14: ='LOOP GAIN FOR AMP'!AG14 -> 167.54574 | O14: =I14+F14 -> 17.270262 | P14: =G14+J14 -> 119.15511 | Q14: =ABS(O14) -> 17.270262 | R14: =ABS(P14) -> 119.15511 | AA14: =O14*Z$18 -> 0 | AB14: =P14*Z$19 -> 0 | AC14: =(C14*Z$15+F14*Z$16)*Z$20 -> 0 | AD14: =(D14*Z$15+G14*Z$16)*Z$21 -> 0 | AE14: =I14*Z$22 -> 0 | AF14: =J14*Z$23 -> 0 | AG14: 0
B15: 0.05 | F15: ='LOOP GAIN FOR BUCK'!AZ15 -> 30.625958 | G15: ='LOOP GAIN FOR BUCK'!AX15 -> -54.586321 | I15: ='LOOP GAIN FOR AMP'!AF15 -> -14.664892 | J15: ='LOOP GAIN FOR AMP'!AG15 -> 164.58493 | O15: =I15+F15 -> 15.961066 | P15: =G15+J15 -> 109.99861 | Q15: =ABS(O15) -> 15.961066 | R15: =ABS(P15) -> 109.99861 | AA15: =O15*Z$18 -> 0 | AB15: =P15*Z$19 -> 0 | AC15: =(C15*Z$15+F15*Z$16)*Z$20 -> 0 | AD15: =(D15*Z$15+G15*Z$16)*Z$21 -> 0 | AE15: =I15*Z$22 -> 0 | AF15: =J15*Z$23 -> 0 | AG15: 0
B16: 0.06 | F16: ='LOOP GAIN FOR BUCK'!AZ16 -> 29.510538 | G16: ='LOOP GAIN FOR BUCK'!AX16 -> -59.330215 | I16: ='LOOP GAIN FOR AMP'!AF16 -> -14.806582 | J16: ='LOOP GAIN FOR AMP'!AG16 -> 161.71768 | O16: =I16+F16 -> 14.703956 | P16: =G16+J16 -> 102.38746 | Q16: =ABS(O16) -> 14.703956 | R16: =ABS(P16) -> 102.38746 | AA16: =O16*Z$18 -> 0 | AB16: =P16*Z$19 -> 0 | AC16: =(C16*Z$15+F16*Z$16)*Z$20 -> 0 | AD16: =(D16*Z$15+G16*Z$16)*Z$21 -> 0 | AE16: =I16*Z$22 -> 0 | AF16: =J16*Z$23 -> 0 | AG16: 0
B17: 0.07 | F17: ='LOOP GAIN FOR BUCK'!AZ17 -> 28.48044 | G17: ='LOOP GAIN FOR BUCK'!AX17 -> -63.03052 | I17: ='LOOP GAIN FOR AMP'!AF17 -> -14.968 | J17: ='LOOP GAIN FOR AMP'!AG17 -> 158.95539 | O17: =I17+F17 -> 13.51244 | P17: =G17+J17 -> 95.924865 | Q17: =ABS(O17) -> 13.51244 | R17: =ABS(P17) -> 95.924865 | AA17: =O17*Z$18 -> 0 | AB17: =P17*Z$19 -> 0 | AC17: =(C17*Z$15+F17*Z$16)*Z$20 -> 0 | AD17: =(D17*Z$15+G17*Z$16)*Z$21 -> 0 | AE17: =I17*Z$22 -> 0 | AF17: =J17*Z$23 -> 0 | AG17: 0
B18: 0.08 | F18: ='LOOP GAIN FOR BUCK'!AZ18 -> 27.533504 | G18: ='LOOP GAIN FOR BUCK'!AX18 -> -65.973425 | I18: ='LOOP GAIN FOR AMP'!AF18 -> -15.146728 | J18: ='LOOP GAIN FOR AMP'!AG18 -> 156.30647 | O18: =I18+F18 -> 12.386777 | P18: =G18+J18 -> 90.333047 | Q18: =ABS(O18) -> 12.386777 | R18: =ABS(P18) -> 90.333047 | AA18: =O18*Z$18 -> 0 | AB18: =P18*Z$19 -> 0 | AC18: =(C18*Z$15+F18*Z$16)*Z$20 -> 0 | AD18: =(D18*Z$15+G18*Z$16)*Z$21 -> 0 | AE18: =I18*Z$22 -> 0 | AF18: =J18*Z$23 -> 0 | AG18: 0
B19: 0.09 | F19: ='LOOP GAIN FOR BUCK'!AZ19 -> 26.662718 | G19: ='LOOP GAIN FOR BUCK'!AX19 -> -68.357137 | I19: ='LOOP GAIN FOR AMP'!AF19 -> -15.340331 | J19: ='LOOP GAIN FOR AMP'!AG19 -> 153.77653 | O19: =I19+F19 -> 11.322388 | P19: =G19+J19 -> 85.419395 | Q19: =ABS(O19) -> 11.322388 | R19: =ABS(P19) -> 85.419395 | AA19: =O19*Z$18 -> 0 | AB19: =P19*Z$19 -> 0 | AC19: =(C19*Z$15+F19*Z$16)*Z$20 -> 0 | AD19: =(D19*Z$15+G19*Z$16)*Z$21 -> 0 | AE19: =I19*Z$22 -> 0 | AF19: =J19*Z$23 -> 0 | AG19: 0
B20: 0.1 | F20: ='LOOP GAIN FOR BUCK'!AZ20 -> 25.859879 | G20: ='LOOP GAIN FOR BUCK'!AX20 -> -70.319997 | I20: ='LOOP GAIN FOR AMP'!AF20 -> -15.546441 | J20: ='LOOP GAIN FOR AMP'!AG20 -> 151.36859 | O20: =I20+F20 -> 10.313438 | P20: =G20+J20 -> 81.04859 | Q20: =ABS(O20) -> 10.313438 | R20: =ABS(P20) -> 81.04859 | AA20: =O20*Z$18 -> 0 | AB20: =P20*Z$19 -> 0 | AC20: =(C20*Z$15+F20*Z$16)*Z$20 -> 0 | AD20: =(D20*Z$15+G20*Z$16)*Z$21 -> 0 | AE20: =I20*Z$22 -> 0 | AF20: =J20*Z$23 -> 0 | AG20: 0
B21: 0.11 | F21: ='LOOP GAIN FOR BUCK'!AZ21 -> 25.117059 | G21: ='LOOP GAIN FOR BUCK'!AX21 -> -71.96008 | I21: ='LOOP GAIN FOR AMP'!AF21 -> -15.762812 | J21: ='LOOP GAIN FOR AMP'!AG21 -> 149.08343 | O21: =I21+F21 -> 9.3542468 | P21: =G21+J21 -> 77.123348 | Q21: =ABS(O21) -> 9.3542468 | R21: =ABS(P21) -> 77.123348 | AA21: =O21*Z$18 -> 0 | AB21: =P21*Z$19 -> 0 | AC21: =(C21*Z$15+F21*Z$16)*Z$20 -> 0 | AD21: =(D21*Z$15+G21*Z$16)*Z$21 -> 0 | AE21: =I21*Z$22 -> 0 | AF21: =J21*Z$23 -> 0 | AG21: 0
B22: 0.12 | F22: ='LOOP GAIN FOR BUCK'!AZ22 -> 24.427123 | G22: ='LOOP GAIN FOR BUCK'!AX22 -> -73.348188 | I22: ='LOOP GAIN FOR AMP'!AF22 -> -15.987365 | J22: ='LOOP GAIN FOR AMP'!AG22 -> 146.91998 | O22: =I22+F22 -> 8.4397586 | P22: =G22+J22 -> 73.571789 | Q22: =ABS(O22) -> 8.4397586 | R22: =ABS(P22) -> 73.571789 | AA22: =O22*Z$18 -> 0 | AB22: =P22*Z$19 -> 0 | AC22: =(C22*Z$15+F22*Z$16)*Z$20 -> 0 | AD22: =(D22*Z$15+G22*Z$16)*Z$21 -> 0 | AE22: =I22*Z$22 -> 0 | AF22: =J22*Z$23 -> 0 | AG22: 0
B23: 0.13 | F23: ='LOOP GAIN FOR BUCK'!AZ23 -> 23.783844 | G23: ='LOOP GAIN FOR BUCK'!AX23 -> -74.53639 | I23: ='LOOP GAIN FOR AMP'!AF23 -> -16.218208 | J23: ='LOOP GAIN FOR AMP'!AG23 -> 144.87566 | O23: =I23+F23 -> 7.5656357 | P23: =G23+J23 -> 70.339274 | Q23: =ABS(O23) -> 7.5656357 | R23: =ABS(P23) -> 70.339274 | AA23: =O23*Z$18 -> 0 | AB23: =P23*Z$19 -> 0 | AC23: =(C23*Z$15+F23*Z$16)*Z$20 -> 0 | AD23: =(D23*Z$15+G23*Z$16)*Z$21 -> 0 | AE23: =I23*Z$22 -> 0 | AF23: =J23*Z$23 -> 0 | AG23: 0
B24: 0.14 | F24: ='LOOP GAIN FOR BUCK'!AZ24 -> 23.181857 | G24: ='LOOP GAIN FOR BUCK'!AX24 -> -75.56366 | I24: ='LOOP GAIN FOR AMP'!AF24 -> -16.453655 | J24: ='LOOP GAIN FOR AMP'!AG24 -> 142.94677 | O24: =I24+F24 -> 6.7282018 | P24: =G24+J24 -> 67.38311 | Q24: =ABS(O24) -> 6.7282018 | R24: =ABS(P24) -> 67.38311 | AA24: =O24*Z$18 -> 0 | AB24: =P24*Z$19 -> 0 | AC24: =(C24*Z$15+F24*Z$16)*Z$20 -> 0 | AD24: =(D24*Z$15+G24*Z$16)*Z$21 -> 0 | AE24: =I24*Z$22 -> 0 | AF24: =J24*Z$23 -> 0 | AG24: 0
... B299: 190 | F299: ='LOOP GAIN FOR BUCK'!AZ299 -> -51.652366 | G299: ='LOOP GAIN FOR BUCK'!AX299 -> -172.96756 | I299: ='LOOP GAIN FOR AMP'!AF299 -> -73.703509 | J299: ='LOOP GAIN FOR AMP'!AG299 -> 90.084578 | O299: =I299+F299 -> -125.35587 | P299: =G299+J299 -> -82.882979 | Q299: =ABS(O299) -> 125.35587 | R299: =ABS(P299) -> 82.882979 | AA299: =O299*Z$18 -> 0 | AB299: =P299*Z$19 -> 0 | AC299: =(C299*Z$15+F299*Z$16)*Z$20 -> 0 | AD299: =(D299*Z$15+G299*Z$16)*Z$21 -> 0 | AE299: =I299*Z$22 -> 0 | AF299: =J299*Z$23 -> 0 | AG299: 0
