Workbook
Name Matrix: #REF!

Sheet Calculation
C1: Procedure
C2: 1 | D2: Default starting point
D3: Default R-curve as set in the GUI | I3: SpO2 (DUT) used = | J3: -28.149 | K3: R^2 + | L3: -10.293 | M3: R + | N3: 107.36
C6: 2 | D6: Run the test procedure - enter measured SP02 values in the yellow field
D7: Obtain the new DUT R-curve | J7: Preset | K7: Measured | M7: Calculated
J8: SpO2 WhaleTeq | K8: SpO2 DUT | M8: R DUT
J11: 100 | K11: 98 | M11: =(-L$3-SQRT(L$3*L$3-4*(N$3-K11)*J$3))/(2*J$3) -> 0.42210182 | P11: Measured SP02 values
J12: 95 | K12: 94 | M12: =(-L$3-SQRT(L$3*L$3-4*(N$3-K12)*J$3))/(2*J$3) -> 0.52994159
J13: 90 | K13: 87 | M13: =(-L$3-SQRT(L$3*L$3-4*(N$3-K13)*J$3))/(2*J$3) -> 0.68706644
J14: 85 | K14: 83 | M14: =(-L$3-SQRT(L$3*L$3-4*(N$3-K14)*J$3))/(2*J$3) -> 0.76523154
J15: 80 | K15: 78 | M15: =(-L$3-SQRT(L$3*L$3-4*(N$3-K15)*J$3))/(2*J$3) -> 0.85468952
J16: 75 | K16: 74 | M16: =(-L$3-SQRT(L$3*L$3-4*(N$3-K16)*J$3))/(2*J$3) -> 0.92104845
J17: 68 | K17: 65 | M17: =(-L$3-SQRT(L$3*L$3-4*(N$3-K17)*J$3))/(2*J$3) -> 1.057442
C19: 3 | D19: Use new R-Curve values before running the validation test
D20: Type in the reference and measured SpO2 values | I20: SpO2 (DUT) new = | J20: =INDEX(LINEST($J11:$J17,$M11:$M17^{1,2}),1,1) -> -25.325903 | K20: R^2 + | L20: =INDEX(LINEST($J11:$J17,$M11:$M17^{1,2}),1,2) -> -13.432401 | M20: R + | N20: =INDEX(LINEST($J11:$J17,$M11:$M17^{1,2}),1,3) -> 110.00959 | P20: New R-Curve Values
J22: Preset | K22: Measured | M22: deviation | N22: Pass/Fail | P22: Fail
J23: SpO2 WhaleTeq | K23: SpO2 DUT | M23: in % | N23: < 3.5% | P23: Pass
J26: 100 | K26: =N$20+L$20*M11+J$20*M11*M11 -> 99.827433 | M26: =(J26-K26)/J26 -> 0.0017256726 | N26: =IF( (J26-K26)/J26 > 0.035, P$22, IF( (J26-K26)/J26 < -0.035, P$22,P$23)) -> Pass | P26: Corrected Calculated SP02 values
J27: 95 | K27: =N$20+L$20*M12+J$20*M12*M12 -> 95.778723 | M27: =(J27-K27)/J27 -> -0.0081970802 | N27: =IF( (J27-K27)/J27 > 0.035, P$22, IF( (J27-K27)/J27 < -0.035, P$22,P$23)) -> Pass
J28: 90 | K28: =N$20+L$20*M13+J$20*M13*M13 -> 88.825284 | M28: =(J28-K28)/J28 -> 0.013052404 | N28: =IF( (J28-K28)/J28 > 0.035, P$22, IF( (J28-K28)/J28 < -0.035, P$22,P$23)) -> Pass
J29: 85 | K29: =N$20+L$20*M14+J$20*M14*M14 -> 84.900367 | M29: =(J29-K29)/J29 -> 0.0011721499 | N29: =IF( (J29-K29)/J29 > 0.035, P$22, IF( (J29-K29)/J29 < -0.035, P$22,P$23)) -> Pass
J30: 80 | K30: =N$20+L$20*M15+J$20*M15*M15 -> 80.028632 | M30: =(J30-K30)/J30 -> -0.00035789475 | N30: =IF( (J30-K30)/J30 > 0.035, P$22, IF( (J30-K30)/J30 < -0.035, P$22,P$23)) -> Pass
J31: 75 | K31: =N$20+L$20*M16+J$20*M16*M16 -> 76.152967 | M31: =(J31-K31)/J31 -> -0.015372893 | N31: =IF( (J31-K31)/J31 > 0.035, P$22, IF( (J31-K31)/J31 < -0.035, P$22,P$23)) -> Pass
J32: 68 | K32: =N$20+L$20*M17+J$20*M17*M17 -> 67.486595 | M32: =(J32-K32)/J32 -> 0.0075500707 | N32: =IF( (J32-K32)/J32 > 0.035, P$22, IF( (J32-K32)/J32 < -0.035, P$22,P$23)) -> Pass
C36: 4 | D36: Run the validation procedure - enter measured SP02 values in the yellow field
D37: Obtain the new DUT R curve
J38: Set of Measured | K38: Measured | M38: deviation | N38: Pass/Fail
J39: SpO2 reference | K39: SpO2 DUT | M39: in % | N39: < 3.5%
J42: 100 | K42: 97 | M42: =(J42-K42)/J42 -> 0.03 | N42: =IF( (J42-K42)/J42 > 0.035, P$22, IF( (J42-K42)/J42 < -0.035, P$22,P$23)) -> Pass | P42: Measured SP02 values
J43: 95 | K43: 95 | M43: =(J43-K43)/J43 -> 0 | N43: =IF( (J43-K43)/J43 > 0.035, P$22, IF( (J43-K43)/J43 < -0.035, P$22,P$23)) -> Pass
J44: 90 | K44: 92 | M44: =(J44-K44)/J44 -> -0.022222222 | N44: =IF( (J44-K44)/J44 > 0.035, P$22, IF( (J44-K44)/J44 < -0.035, P$22,P$23)) -> Pass
J45: 85 | K45: 83 | M45: =(J45-K45)/J45 -> 0.023529412 | N45: =IF( (J45-K45)/J45 > 0.035, P$22, IF( (J45-K45)/J45 < -0.035, P$22,P$23)) -> Pass
J46: 80 | K46: 78 | M46: =(J46-K46)/J46 -> 0.025 | N46: =IF( (J46-K46)/J46 > 0.035, P$22, IF( (J46-K46)/J46 < -0.035, P$22,P$23)) -> Pass
J47: 75 | K47: 74 | M47: =(J47-K47)/J47 -> 0.013333333 | N47: =IF( (J47-K47)/J47 > 0.035, P$22, IF( (J47-K47)/J47 < -0.035, P$22,P$23)) -> Pass
J48: 68 | K48: 66 | M48: =(J48-K48)/J48 -> 0.029411765 | N48: =IF( (J48-K48)/J48 > 0.035, P$22, IF( (J48-K48)/J48 < -0.035, P$22,P$23)) -> Pass
K51: THEN HUMAN SUBJECT TESTING NEW TAB.
D57: Explanation of calculations
E58: 1 | F58: Use the DUT measured SpO2 values
E59: 2 | F59: Use the R curve of the DUT
E60: 3 | F60: Calculate the R values the DUT determined
...

Sheet Report
E7: 6024 Silver Creek Valley Road
E8: San Jose, CA 95138
E11: Date | F11: Jan. 27, 2021
F15: Test report
E18: Within the limitations of the equipement and procedure used to obtain the SpO2 reference
E19: and DUT SpO2 values below (OB1203SD-RL-EVK evaluation board, WhaleTeq AECG100
E20: tester, PPG-2R 940 test head, WhaleTeq to DUT light cone), the results indicate that the
E21: DUT most liekly will pass human subject testing.
F24: Set of Measured | G24: Measured | I24: deviation
F25: SpO2 reference | G25: SpO2 DUT | I25: in %
I26: Pass/Fail
I27: < 3.5%
F29: =Calculation!J42 -> 100 | G29: =Calculation!K42 -> 97 | I29: =(F29-G29)/F29 -> 0.03
F30: =Calculation!J43 -> 95 | G30: =Calculation!K43 -> 95 | I30: =(F30-G30)/F30 -> 0
F31: =Calculation!J44 -> 90 | G31: =Calculation!K44 -> 92 | I31: =(F31-G31)/F31 -> -0.022222222
F32: =Calculation!J45 -> 85 | G32: =Calculation!K45 -> 83 | I32: =(F32-G32)/F32 -> 0.023529412
F33: =Calculation!J46 -> 80 | G33: =Calculation!K46 -> 78 | I33: =(F33-G33)/F33 -> 0.025
F34: =Calculation!J47 -> 75 | G34: =Calculation!K47 -> 74 | I34: =(F34-G34)/F34 -> 0.013333333
F35: =Calculation!J48 -> 68 | G35: =Calculation!K48 -> 66 | I35: =(F35-G35)/F35 -> 0.029411765
F38: _________________________
F39: Name
