Workbook

Sheet Read me
A1: This is the unlocked file, please do not send this file to customer.
A10: Please Choose the Language / 请选择语言
A12: =CHOOSE(Language!B1,Language!C2,Language!D2,Language!E2) -> HIP2211/10 Design Calculations
A13: =CHOOSE(Language!B1,Language!C3,Language!D3,Language!E3) -> Renesas Electronics
A14: =CHOOSE(Language!B1,Language!C4,Language!D4,Language!E4) -> REV 1.0.0
A15: =CHOOSE(Language!B1,Language!C5,Language!D5,Language!E5) -> 44223
A16: =CHOOSE(Language!B1,Language!C6,Language!D6,Language!E6) -> WELCOME
A17: =CHOOSE(Language!B1,Language!C7,Language!D7,Language!E7) -> Readme: This design program provide the customer to calcuuate the Gate source and sink current, OCP trigger point, power loss and junction temperature calculation.
A18: =CHOOSE(Language!B1,Language!C8,Language!D8,Language!E8) -> User can input the values in these colored cells.
A19: =CHOOSE(Language!B1,Language!C9,Language!D9,Language!E9) -> The values in these colored cells are calculation results.
A20: =CHOOSE(Language!B1,Language!C10,Language!D10,Language!E10) -> Value alarm, please check the values in these color cells.
A21: =CHOOSE(Language!B1,Language!C11,Language!D11,Language!E11) -> Disclaimer: Renesas provides this design program to help our field application engineers and customers select power stage components and design compensation network. However, components variation, temperature change and PCB layout could significantly affect IC performance. It remains the customers' responsibility to verify the actual circuit performance empirically.

Sheet Language
A1: Language code | B1: 1 | C1: English(code=1) | D1: Chinese(code=2) | E1: Back up (code=3)
C2: HIP2211/10 Design Calculations | D2: HIP2211/10 设计工具
C3: Renesas Electronics | D3: 瑞萨
C4: REV 1.0.0 | D4: 版本 1.0.0
C5: 44223 | D5: 2021年1月27日
C6: WELCOME | D6: 欢迎使用
C7: Readme: This design program provide the customer to calcuuate the Gate source and sink current, OCP trigger point, power loss and junction temperature calculation. | D7: 说明：此工具提供客户门级驱动能力配置，过流保护阈值设定，损耗计算和结温计算
C8: User can input the values in these colored cells. | D8: 用户可以在此颜色单元格中直接输入参数（带滚动条的需要使用滚动条）
C9: The values in these colored cells are calculation results. | D9: 此单元格中参数为计算结果，用户无法直接输入修改
C10: Value alarm, please check the values in these color cells. | D10: 参数报警，请仔细确认该颜色单元格内参数
C11: Disclaimer: Renesas provides this design program to help our field application engineers and customers select power stage components and design compensation network. However, components variation, temperature change and PCB layout could significantly affect IC performance. It remains the customers' responsibility to verify the actual circuit performance empirically. | D11: 声明：瑞萨电子为内部工程师和客户提供强有力的设计工具来简化应用设计。但是由于外围器件的离散性，温度特性以及PCB布线等问题无法量化计算。所以该结果仅供参考，用户应以实际测试为准。
C14: HIP2211/10 Design Calculations | D14: HIP2211/10 设计工具
C15: RENESAS CONFIDENTIAL, FOR RENESAS ENGINEER AND RENESAS CUSTOMER USE ONLY | D15: 内部保密，仅供瑞萨公司内部员工和客户使用
C16: DRIVER BASIC CONFIGURATION | D16: 驱动器配置
C17: DRIVER BASIC CONFIGURATION RESULT | D17: 驱动器配置结果
C18: Driver Part # | D18: 驱动器编号
C19: VDD supply voltage | D19: VDD输入电压
... C43: Maximum High Side (HS) NMOS FET Gate Charge | D43: 最大上管QGS

Sheet configuration
A1: =CHOOSE(Language!B1,Language!C14,Language!D14,Language!E14) -> HIP2211/10 Design Calculations
A2: =CHOOSE(Language!B1,Language!C15,Language!D15,Language!E15) -> RENESAS CONFIDENTIAL, FOR RENESAS ENGINEER AND RENESAS CUSTOMER USE ONLY
A4: =CHOOSE(Language!B1,Language!C16,Language!D16,Language!E16) -> DRIVER BASIC CONFIGURATION
A5: =CHOOSE(Language!B1,Language!C18,Language!D18,Language!E18) -> Driver Part # | B5: HIP2210 | D5: =CHOOSE(Language!B1,Language!C43,Language!D43,Language!E43) -> Maximum High Side (HS) NMOS FET Gate Charge | E5: 150 | F5: nC
A6: =CHOOSE(Language!B1,Language!C19,Language!D19,Language!E19) -> VDD supply voltage | B6: 10 | C6: V | D6: =CHOOSE(Language!B1,Language!C20,Language!D20,Language!E20) -> Maximum allowable boot voltage dip | E6: 0.5 | F6: V
A7: =CHOOSE(Language!B1,Language!C21,Language!D21,Language!E21) -> High Side (HS) NMOS FET Gate Charge | B7: 100 | C7: nC | D7: =CHOOSE(Language!B1,Language!C22,Language!D22,Language!E221) -> Low Side (LS) NMOS FET Gate Charge | E7: 100 | F7: nC
A8: =CHOOSE(Language!B1,Language!C25,Language!D25,Language!E25) -> Switching Frequency | B8: 500 | C8: KHz | D8: =CHOOSE(Language!B1,Language!C26,Language!D26,Language!E26) -> Maximum HS FET gate-source leackage current | E8: 100 | F8: nA
A9: =CHOOSE(Language!B1,Language!C27,Language!D27,Language!E27) -> HS gate-source discharge resistor (Rpdh) | C9: kΩ | D9: =CHOOSE(Language!B1,Language!C39,Language!D27,Language!E39) -> LS gate-source discharge resistor (Rpdl) | F9: kΩ
A10: =CHOOSE(Language!B1,Language!C35,Language!D27,Language!E35) -> Dutycycle | B10: 50 | C10: % | D10: =CHOOSE(Language!B1,Language!C28,Language!D28,Language!E28) -> Ambient temperature | E10: 25 | F10: °C
A11: =CHOOSE(Language!B1,Language!C40,Language!D27,Language!E40) -> HS gate resistor (Rgh) | B11: 0 | C11: Ω | D11: =CHOOSE(Language!B1,Language!C41,Language!D27,Language!E41) -> LS gate resistor (Rgl) | E11: 0 | F11: Ω
A12: =CHOOSE(Language!B1,Language!C42,Language!D27,Language!E42) -> Dead time resistor RDT (HIP2210 only) | B12: 10 | C12: kΩ
A15: =CHOOSE(Language!B1,Language!C17,Language!D17,Language!E17) -> DRIVER BASIC CONFIGURATION RESULT
A16: =CHOOSE(Language!B$1,Language!C38,Language!D34,Language!E38) -> Boot capacitor value | B16: ='configuration calculation'!B16 -> 300.70153 | C16: nF | D16: =CHOOSE(Language!B1,Language!C30,Language!D30,Language!E30) -> Driver power loss | E16: ='configuration calculation'!E16 -> 0.98753282 | F16: W
A17: =CHOOSE(Language!B$1,Language!C34,Language!D34,Language!E34) -> Driver junction temperature (SOIC) | B17: ='configuration calculation'!B17 -> 125.72835 | C17: °C | D17: =CHOOSE(Language!B$1,Language!C36,Language!D34,Language!E36) -> Driver junction temperature (DFN) | E17: ='configuration calculation'!E17 -> 64.501313 | F17: °C
D20: Power loss:
E22: IC quiescent
E23: boot diode dissipation
E25: high side gate power
E28: low side gate power
E32: HO pull down resistor loss
E34: LO pull down resistor loss

Sheet configuration calculation
A1: =CHOOSE(Language!B1,Language!C14,Language!D14,Language!E14) -> HIP2211/10 Design Calculations
A2: =CHOOSE(Language!B1,Language!C15,Language!D15,Language!E15) -> RENESAS CONFIDENTIAL, FOR RENESAS ENGINEER AND RENESAS CUSTOMER USE ONLY
A4: =CHOOSE(Language!B1,Language!C16,Language!D16,Language!E16) -> DRIVER BASIC CONFIGURATION
A5: =CHOOSE(Language!B1,Language!C18,Language!D18,Language!E18) -> Driver Part # | B5: =configuration!B5 -> HIP2210 | D5: =CHOOSE(Language!B1,Language!C43,Language!D43,Language!E43) -> Maximum High Side (HS) NMOS FET Gate Charge | E5: =configuration!E5 -> 150 | F5: nC
A6: =CHOOSE(Language!B1,Language!C19,Language!D19,Language!E19) -> VDD supply voltage | B6: =configuration!B6 -> 10 | C6: V | D6: =CHOOSE(Language!B1,Language!C20,Language!D20,Language!E20) -> Maximum allowable boot voltage dip | E6: =configuration!E6 -> 0.5 | F6: V
A7: =CHOOSE(Language!B1,Language!C21,Language!D21,Language!E21) -> High Side (HS) NMOS FET Gate Charge | B7: =configuration!B7 -> 100 | C7: nC | D7: =CHOOSE(Language!B1,Language!C22,Language!D22,Language!E221) -> Low Side (LS) NMOS FET Gate Charge | E7: =configuration!E7 -> 100 | F7: nC
A8: =CHOOSE(Language!B1,Language!C25,Language!D25,Language!E25) -> Switching Frequency | B8: =configuration!B8 -> 500 | C8: KHz | D8: =CHOOSE(Language!B1,Language!C26,Language!D26,Language!E26) -> Maximum HS FET gate-source leackage current | E8: =configuration!E8 -> 100 | F8: nA
A9: =CHOOSE(Language!B1,Language!C27,Language!D27,Language!E27) -> HS gate-source discharge resistor (Rpdh) | B9: =configuration!B9 -> 0 | C9: kΩ | D9: =CHOOSE(Language!B1,Language!C39,Language!D27,Language!E39) -> LS gate-source discharge resistor (Rpdl) | E9: =configuration!E9 -> 0 | F9: kΩ
A10: =CHOOSE(Language!B1,Language!C35,Language!D27,Language!E35) -> Dutycycle | B10: =configuration!B10 -> 50 | C10: % | D10: =CHOOSE(Language!B1,Language!C28,Language!D28,Language!E28) -> Ambient temperature | E10: =configuration!E10 -> 25 | F10: °C
A11: =CHOOSE(Language!B1,Language!C40,Language!D27,Language!E40) -> HS gate resistor (Rgh) | B11: =configuration!B11 -> 0 | C11: Ω | D11: =CHOOSE(Language!B1,Language!C41,Language!D21,Language!E41) -> LS gate resistor (Rgl) | E11: =configuration!E11 -> 0 | F11: Ω
A12: =CHOOSE(Language!B1,Language!C42,Language!D27,Language!E42) -> Dead time resistor RDT (HIP2210 only) | B12: =configuration!B12 -> 10 | C12: kΩ
A13: 10
A15: =CHOOSE(Language!B1,Language!C17,Language!D17,Language!E17) -> DRIVER BASIC CONFIGURATION RESULT
A16: =CHOOSE(Language!B$1,Language!C38,Language!D34,Language!E38) -> Boot capacitor value | B16: =(E5/1000000000+(E8/1000000000+E23+B25/E21)/(B8*1000)*B10/100)/E6*1000000000 -> 300.70153 | C16: nF | D16: =CHOOSE(Language!B1,Language!C30,Language!D30,Language!E30) -> Driver power loss | E16: =B6*E20+1/2*B7/1000000000*(0.7+1/2*B7/1000000000*F25)+1/2*B7/1000000000*B8*1000*B25*D26/(D26+B11)+1/2*B7/1000000000*B8*1000*B25*D27/(D27+B11)+1/2*E7/1000000000*B8*1000*B6*D26/(D26+E11)+1/2*E7/1000000000*B8*1000*B6*D27/(D27+E11)+B25*B25/E21*B10/100+B6*B6/E22*(1-B10/100) -> 0.98753282 | F16: W
A17: =CHOOSE(Language!B$1,Language!C34,Language!D34,Language!E34) -> Driver junction temperature (SOIC) | B17: =E16*B22+E10 -> 125.72835 | C17: C | D17: =CHOOSE(Language!B$1,Language!C36,Language!D34,Language!E36) -> Driver junction temperature (DFN) | E17: =E16*B23+E10 -> 64.501313 | F17: C
A20: HIP2211 | B20: =0.00000245301*B8+0.000493001 -> 0.001719506 | C20: A | D20: IDDq | E20: =IF(B5="HIP2211",B20,B21) -> 0.002207954 | F20: A
A21: HIP2210 | B21: =0.00000219496*B8+0.001110474-1.2/10000+1.2/(B12*1000) -> 0.002207954 | C21: A | D21: HS Rpd | E21: =IF(B9=0,B26,B26*B9*1000/(B26+B9*1000)) -> 450000 | F21: Ω
A22: θja (SOIC) | B22: 102 | C22: C/W | D22: LS Rpd | E22: =IF(E9=0,B27,B27*E9*1000/(B27+E9*1000)) -> 140000 | F22: Ω
A23: θja (DFN) | B23: 40 | C23: C/W | D23: IHBq | E23: 0.00033 | F23: A
A25: Boot voltage and HS driver bias voltage | B25: =B6-0.7 -> 9.3 | C25: Boot quiescent current | D25: 0.00033 | E25: dynamic resistance of boot diode | F25: 0.5 | G25: ohm
A26: Internal HO pull down resistance | B26: 450000 | C26: HO/LO driver Sourcing Rdson | D26: 1.6 | E26: HO pull down equivalent | F26: =B9*1000*B26/(B9*1000+B26) -> 0
A27: internal LO pull down resistance | B27: 140000 | C27: HO/LO driver sinking Rdson | D27: 1 | E27: LO pull down equivalent | F27: =E9*1000*B27/(E9*1000+B27) -> 0
A30: Freq (kHz) | B30: HIP2210 IDDq (A) | C30: HIP2211 IDDq (A)
A31: 10 | B31: 0.001134 | C31: 0.00052
A32: 50 | B32: 0.00122 | C32: 0.000623
A33: 100 | B33: 0.001329 | C33: 0.000732
A34: 500 | B34: 0.002207 | C34: 0.001712
A35: 1000 | B35: 0.003306 | C35: 0.00295
A38: HIP2210 IDDq | B38: Coefficients
A39: Intercept | B39: 0.0011104743
A40: X Variable 1 | B40: 2.194957e-06
A42: HIP2211 IDDq | B42: Coefficients
A43: Intercept | B43: 0.00049300141
A44: X Variable 1 | B44: 2.4530078e-06
