Workbook

Sheet Efficiency
A1: Input Data Into Green Cells; Some cells are drop down menus | G1: Gray cells are not to be changed. They represent switching loss of ISL70005.
A2: Inductor | B2: XAL6060 - 15uH | D2: # of phases | E2: 1
A3: High Side FET | B3: High Side FET, 3V, max | D3: # of high side FETs | E3: 1
A4: Low Side FET | B4: Low Side FET, 3V, typ | D4: # of low side FETs | E4: 1
A5: PVIN | B5: 3 | C5: V | D5: Input Voltage | F5: tr-H | G5: 10 | H5: ns | I5: High Side FET Rise time
A6: VOUT | B6: 1.5 | C6: V | D6: Output Voltage | F6: tf-H | G6: 10 | H6: ns | I6: High Side FET Fall time
A7: Duty | B7: =B6/B5*100 -> 50 | C7: % | D7: Calculated Duty Cycle | F7: tr-L | G7: 10 | H7: ns | I7: Low Side FET Rise time
A8: Fsw | B8: 100 | C8: kHz | D8: Switching Frequency | F8: tr-L | G8: 10 | H8: ns | I8: Low Side FET Fall time
A9: Ton | B9: =B7/100/(B8*1000)*1000000000 -> 5000 | C9: ns | D9: Buck On Time | F9: Coss-H | G9: 0 | H9: pF | I9: Coss loss modeled in Iq
A10: Toff | B10: =(1-B7/100)/(B8*1000)*1000000000 -> 5000 | C10: ns | D10: Buck Off Time | F10: Coss-L | G10: 0 | H10: pF | I10: Coss loss modeled in Iq
A11: L | B11: =VLOOKUP(Efficiency!B2, Components!C5:E10, 2,0) -> 15 | C11: uH | D11: Power Inductor | F11: Vsd-L | G11: 1.5 | H11: V | I11: Low Side FET Source-Drain Voltage
A12: Rdson_up | B12: =VLOOKUP(B3,Components!C20:H27,3,0)/E3 -> 122.5 | C12: mΩ | D12: Total High Side Rdson | F12: tdt_H | G12: 10 | H12: ns | I12: High to Low dead time
A13: Rdson_down | B13: =VLOOKUP(B4, Components!C20:H27,3,0)/E4 -> 45 | C13: mΩ | D13: Total Low Side Rdson | F13: tdt_L | G13: 10 | H13: ns | I13: Low to High dead time
A14: L_dcr | B14: =VLOOKUP(B2,Components!C5:E10,3,0) -> 40 | C14: mΩ | D14: Inductor DCR | F14: Qg_H | G14: 0 | H14: nC | I14: FET Gate Charge modeled in Iq
A15: L_ac | B15: =VLOOKUP(B2,Components!C5:J10,8,0) -> 3.1448 | C15: mW | D15: AC Core Loss | F15: Qg_L | G15: 0 | H15: nC | I15: FET Gate Charge modeled in Iq
A16: Rsense | B16: 0 | C16: mΩ | D16: Sense Resistor | F16: Vgs | G16: =B5 -> 3 | H16: V | I16: FET Gate Voltage
A17: Iout_max | B17: 3 | C17: A | D17: Max Load Current | F17: Cout ESR | G17: 30 | H17: mΩ | I17: Output capacitor total ESR
A18: I_delta_on | B18: =(B5-B6)/(B11*0.000001)*B9*0.000000001 -> 0.5 | C18: A | D18: Inductor Up Ramp | F18: Cin ESR | G18: 30 | H18: mΩ | I18: Input capacitor total ESR
A19: I_delta_off | B19: =B6/(B11*0.000001)*B10*0.000000001 -> 0.5 | C19: A | D19: Inductor Down Ramp | F19: V_dc_ctrl | G19: =B5 -> 3 | H19: V | I19: IC Supply Voltage
A20: Ipk_pk/Iout | B20: =B18/(B17/E2)*100 -> 16.666667 | C20: % | D20: Inductor Ripple to Max Current Ratio | F20: I_dc_ctrl | G20: =IF(G19=3, VLOOKUP(B8,'Operating Current'!B13:D22,2,0), IF(G19=5.5, VLOOKUP(B8,'Operating Current'!B13:F22,4,0))) -> 6 | H20: mA | I20: IC Operating Current
A22: Factor | B22: Iout Avg (A) | C22: Iout (A) RMS | D22: High Side FET Pd (W) | E22: Low Side FET Pd (W) | F22: Rsense Pd (W) | G22: L_DCR + AC Pd (W) | H22: High Side FET Switch Pd (W) | I22: Low Side FET Switch Pd (W) | J22: FET Coss Switch Pd (W) | K22: Dead Time Pd (W) | L22: Gate Charge Pd (W) | M22: Cap ESR Pd (W) | N22: Total Pd (W) | O22: Pout (W) | P22: Efficiency (%) | Q22: Iout Avg (A) | R22: Ctrl/Drv Bias Pd (W) | S22: Conduction Pd (W) | T22: Switching Pd (W) | U22: Ctrl/Drv Bias Pd (%) | V22: Conduction Pd (%) | W22: Switching Pd (%) | X22: Peak Eff (%) | Y22: Iout @ Peak Eff (A)
A23: 0 | B23: =$B$17/$E$2*A23/100 -> 0 | C23: =(B23^2 + $B$18^2/12)^0.5 -> 0.14433757 | D23: =(C23/$E$2)^2*$B$12/1000*$B$7/100*$E$2 -> 0.0012760417 | E23: =(C23/$E$2)^2*$B$13/1000*(1-$B$7/100)*$E$2 -> 0.00046875 | F23: =(C23/$E$2)^2*($B$16/1000)*$E$2 -> 0 | G23: =(C23/$E$2)^2*($B$14/1000)*$E$2 + $B$15/1000*$E$2 -> 0.0039781333 | H23: =0.5*$B$5*C23/$E$2*($G$5+$G$6)*$E$2*0.000000001*$B$8*1000 -> 0.0004330127 | I23: =0.5*$G$11*C23/$E$2*($G$7+$G$8)*$E$2*0.000000001*$B$8*1000 -> 0.00021650635 | J23: =0.5*($G$9+$G$10)*$E$2*0.000000000001*($B$5)^2*$B$8*1000 -> 0 | K23: =$G$11*C23/$E$2*($G$12+$G$13)*$E$2*0.000000001*$B$8*1000 -> 0.0004330127 | L23: =($G$14+$G$15)*$E$2*0.000000001*$G$16*$B$8*1000 -> 0 | M23: =($B$18/(2*3^0.5))^2*$G$17/1000+(C23*(($B$5-$B$6)*$B$6)^0.5/$B$5)^2*$G$18/1000 -> 0.00078125 | N23: =SUM(D23:M23,R23) -> 0.016586707 | O23: =$B$6*B23 -> 0 | P23: =O23/(N23+O23)*100 -> 0 | Q23: =$B$17/$E$2*A23/100 -> 0 | R23: =$G$19*$G$20/1000*$E$2/2 -> 0.009 | S23: =D23+E23+F23+G23+M23 -> 0.006504175 | T23: =SUM(H23:L23) -> 0.0010825318 | U23: =R23/N23*100 -> 54.260319 | V23: =S23/N23*100 -> 39.213179 | W23: =T23/N23*100 -> 6.526502 | X23: =MAX(P23:P73) -> 93.84399 | Y23: =VLOOKUP(X23,P23:Q73,2,0) -> 0.36
A24: =A23+2*$E$2 -> 2 | B24: =$B$17/$E$2*A24/100 -> 0.06 | C24: =(B24^2 + $B$18^2/12)^0.5 -> 0.15631165 | D24: =(C24/$E$2)^2*$B$12/1000*$B$7/100*$E$2 -> 0.0014965417 | E24: =(C24/$E$2)^2*$B$13/1000*(1-$B$7/100)*$E$2 -> 0.00054975 | F24: =(C24/$E$2)^2*($B$16/1000)*$E$2 -> 0 | G24: =(C24/$E$2)^2*($B$14/1000)*$E$2 + $B$15/1000*$E$2 -> 0.0041221333 | H24: =0.5*$B$5*C24/$E$2*($G$5+$G$6)*$E$2*0.000000001*$B$8*1000 -> 0.00046893496 | I24: =0.5*$G$11*C24/$E$2*($G$7+$G$8)*$E$2*0.000000001*$B$8*1000 -> 0.00023446748 | J24: =0.5*($G$9+$G$10)*$E$2*0.000000000001*($B$5)^2*$B$8*1000 -> 0 | K24: =$G$11*C24/$E$2*($G$12+$G$13)*$E$2*0.000000001*$B$8*1000 -> 0.00046893496 | L24: =($G$14+$G$15)*$E$2*0.000000001*$G$16*$B$8*1000 -> 0 | M24: =($B$18/(2*3^0.5))^2*$G$17/1000+(C24*(($B$5-$B$6)*$B$6)^0.5/$B$5)^2*$G$18/1000 -> 0.00080825 | N24: =SUM(D24:M24,R24) -> 0.017149012 | O24: =$B$6*B24 -> 0.09 | P24: =O24/(N24+O24)*100 -> 83.995175 | Q24: =$B$17/$E$2*A24/100 -> 0.06 | R24: =$G$19*$G$20/1000*$E$2/2 -> 0.009 | S24: =D24+E24+F24+G24+M24 -> 0.006976675 | T24: =SUM(H24:L24) -> 0.0011723374 | U24: =R24/N24*100 -> 52.481156 | V24: =S24/N24*100 -> 40.682663 | W24: =T24/N24*100 -> 6.8361803
A25: =A24+2*$E$2 -> 4 | B25: =$B$17/$E$2*A25/100 -> 0.12 | C25: =(B25^2 + $B$18^2/12)^0.5 -> 0.18770544 | D25: =(C25/$E$2)^2*$B$12/1000*$B$7/100*$E$2 -> 0.0021580417 | E25: =(C25/$E$2)^2*$B$13/1000*(1-$B$7/100)*$E$2 -> 0.00079275 | F25: =(C25/$E$2)^2*($B$16/1000)*$E$2 -> 0 | G25: =(C25/$E$2)^2*($B$14/1000)*$E$2 + $B$15/1000*$E$2 -> 0.0045541333 | H25: =0.5*$B$5*C25/$E$2*($G$5+$G$6)*$E$2*0.000000001*$B$8*1000 -> 0.00056311633 | I25: =0.5*$G$11*C25/$E$2*($G$7+$G$8)*$E$2*0.000000001*$B$8*1000 -> 0.00028155816 | J25: =0.5*($G$9+$G$10)*$E$2*0.000000000001*($B$5)^2*$B$8*1000 -> 0 | K25: =$G$11*C25/$E$2*($G$12+$G$13)*$E$2*0.000000001*$B$8*1000 -> 0.00056311633 | L25: =($G$14+$G$15)*$E$2*0.000000001*$G$16*$B$8*1000 -> 0 | M25: =($B$18/(2*3^0.5))^2*$G$17/1000+(C25*(($B$5-$B$6)*$B$6)^0.5/$B$5)^2*$G$18/1000 -> 0.00088925 | N25: =SUM(D25:M25,R25) -> 0.018801966 | O25: =$B$6*B25 -> 0.18 | P25: =O25/(N25+O25)*100 -> 90.542364 | Q25: =$B$17/$E$2*A25/100 -> 0.12 | R25: =$G$19*$G$20/1000*$E$2/2 -> 0.009 | S25: =D25+E25+F25+G25+M25 -> 0.008394175 | T25: =SUM(H25:L25) -> 0.0014077908 | U25: =R25/N25*100 -> 47.867335 | V25: =S25/N25*100 -> 44.645199 | W25: =T25/N25*100 -> 7.4874661
A26: =A25+2*$E$2 -> 6 | B26: =$B$17/$E$2*A26/100 -> 0.18 | C26: =(B26^2 + $B$18^2/12)^0.5 -> 0.2307235 | D26: =(C26/$E$2)^2*$B$12/1000*$B$7/100*$E$2 -> 0.0032605417 | E26: =(C26/$E$2)^2*$B$13/1000*(1-$B$7/100)*$E$2 -> 0.00119775 | F26: =(C26/$E$2)^2*($B$16/1000)*$E$2 -> 0 | G26: =(C26/$E$2)^2*($B$14/1000)*$E$2 + $B$15/1000*$E$2 -> 0.0052741333 | H26: =0.5*$B$5*C26/$E$2*($G$5+$G$6)*$E$2*0.000000001*$B$8*1000 -> 0.0006921705 | I26: =0.5*$G$11*C26/$E$2*($G$7+$G$8)*$E$2*0.000000001*$B$8*1000 -> 0.00034608525 | J26: =0.5*($G$9+$G$10)*$E$2*0.000000000001*($B$5)^2*$B$8*1000 -> 0 | K26: =$G$11*C26/$E$2*($G$12+$G$13)*$E$2*0.000000001*$B$8*1000 -> 0.0006921705 | L26: =($G$14+$G$15)*$E$2*0.000000001*$G$16*$B$8*1000 -> 0 | M26: =($B$18/(2*3^0.5))^2*$G$17/1000+(C26*(($B$5-$B$6)*$B$6)^0.5/$B$5)^2*$G$18/1000 -> 0.00102425 | N26: =SUM(D26:M26,R26) -> 0.021487101 | O26: =$B$6*B26 -> 0.27 | P26: =O26/(N26+O26)*100 -> 92.628456 | Q26: =$B$17/$E$2*A26/100 -> 0.18 | R26: =$G$19*$G$20/1000*$E$2/2 -> 0.009 | S26: =D26+E26+F26+G26+M26 -> 0.010756675 | T26: =SUM(H26:L26) -> 0.0017304262 | U26: =R26/N26*100 -> 41.885594 | V26: =S26/N26*100 -> 50.06108 | W26: =T26/N26*100 -> 8.0533257
A27: =A26+2*$E$2 -> 8 | B27: =$B$17/$E$2*A27/100 -> 0.24 | C27: =(B27^2 + $B$18^2/12)^0.5 -> 0.28005952 | D27: =(C27/$E$2)^2*$B$12/1000*$B$7/100*$E$2 -> 0.0048040417 | E27: =(C27/$E$2)^2*$B$13/1000*(1-$B$7/100)*$E$2 -> 0.00176475 | F27: =(C27/$E$2)^2*($B$16/1000)*$E$2 -> 0 | G27: =(C27/$E$2)^2*($B$14/1000)*$E$2 + $B$15/1000*$E$2 -> 0.0062821333 | H27: =0.5*$B$5*C27/$E$2*($G$5+$G$6)*$E$2*0.000000001*$B$8*1000 -> 0.00084017855 | I27: =0.5*$G$11*C27/$E$2*($G$7+$G$8)*$E$2*0.000000001*$B$8*1000 -> 0.00042008928 | J27: =0.5*($G$9+$G$10)*$E$2*0.000000000001*($B$5)^2*$B$8*1000 -> 0 | K27: =$G$11*C27/$E$2*($G$12+$G$13)*$E$2*0.000000001*$B$8*1000 -> 0.00084017855 | L27: =($G$14+$G$15)*$E$2*0.000000001*$G$16*$B$8*1000 -> 0 | M27: =($B$18/(2*3^0.5))^2*$G$17/1000+(C27*(($B$5-$B$6)*$B$6)^0.5/$B$5)^2*$G$18/1000 -> 0.00121325 | N27: =SUM(D27:M27,R27) -> 0.025164621 | O27: =$B$6*B27 -> 0.36 | P27: =O27/(N27+O27)*100 -> 93.466528 | Q27: =$B$17/$E$2*A27/100 -> 0.24 | R27: =$G$19*$G$20/1000*$E$2/2 -> 0.009 | S27: =D27+E27+F27+G27+M27 -> 0.014064175 | T27: =SUM(H27:L27) -> 0.0021004464 | U27: =R27/N27*100 -> 35.764496 | V27: =S27/N27*100 -> 55.888681 | W27: =T27/N27*100 -> 8.3468229
A28: =A27+2*$E$2 -> 10 | B28: =$B$17/$E$2*A28/100 -> 0.3 | C28: =(B28^2 + $B$18^2/12)^0.5 -> 0.33291641 | D28: =(C28/$E$2)^2*$B$12/1000*$B$7/100*$E$2 -> 0.0067885417 | E28: =(C28/$E$2)^2*$B$13/1000*(1-$B$7/100)*$E$2 -> 0.00249375 | F28: =(C28/$E$2)^2*($B$16/1000)*$E$2 -> 0 | G28: =(C28/$E$2)^2*($B$14/1000)*$E$2 + $B$15/1000*$E$2 -> 0.0075781333 | H28: =0.5*$B$5*C28/$E$2*($G$5+$G$6)*$E$2*0.000000001*$B$8*1000 -> 0.00099874922 | I28: =0.5*$G$11*C28/$E$2*($G$7+$G$8)*$E$2*0.000000001*$B$8*1000 -> 0.00049937461 | J28: =0.5*($G$9+$G$10)*$E$2*0.000000000001*($B$5)^2*$B$8*1000 -> 0 | K28: =$G$11*C28/$E$2*($G$12+$G$13)*$E$2*0.000000001*$B$8*1000 -> 0.00099874922 | L28: =($G$14+$G$15)*$E$2*0.000000001*$G$16*$B$8*1000 -> 0 | M28: =($B$18/(2*3^0.5))^2*$G$17/1000+(C28*(($B$5-$B$6)*$B$6)^0.5/$B$5)^2*$G$18/1000 -> 0.00145625 | N28: =SUM(D28:M28,R28) -> 0.029813548 | O28: =$B$6*B28 -> 0.45 | P28: =O28/(N28+O28)*100 -> 93.786431 | Q28: =$B$17/$E$2*A28/100 -> 0.3 | R28: =$G$19*$G$20/1000*$E$2/2 -> 0.009 | S28: =D28+E28+F28+G28+M28 -> 0.018316675 | T28: =SUM(H28:L28) -> 0.002496873 | U28: =R28/N28*100 -> 30.187618 | V28: =S28/N28*100 -> 61.437421 | W28: =T28/N28*100 -> 8.3749611
A29: =A28+2*$E$2 -> 12 | B29: =$B$17/$E$2*A29/100 -> 0.36 | C29: =(B29^2 + $B$18^2/12)^0.5 -> 0.38785736 | D29: =(C29/$E$2)^2*$B$12/1000*$B$7/100*$E$2 -> 0.0092140417 | E29: =(C29/$E$2)^2*$B$13/1000*(1-$B$7/100)*$E$2 -> 0.00338475 | F29: =(C29/$E$2)^2*($B$16/1000)*$E$2 -> 0 | G29: =(C29/$E$2)^2*($B$14/1000)*$E$2 + $B$15/1000*$E$2 -> 0.0091621333 | H29: =0.5*$B$5*C29/$E$2*($G$5+$G$6)*$E$2*0.000000001*$B$8*1000 -> 0.0011635721 | I29: =0.5*$G$11*C29/$E$2*($G$7+$G$8)*$E$2*0.000000001*$B$8*1000 -> 0.00058178604 | J29: =0.5*($G$9+$G$10)*$E$2*0.000000000001*($B$5)^2*$B$8*1000 -> 0 | K29: =$G$11*C29/$E$2*($G$12+$G$13)*$E$2*0.000000001*$B$8*1000 -> 0.0011635721 | L29: =($G$14+$G$15)*$E$2*0.000000001*$G$16*$B$8*1000 -> 0 | M29: =($B$18/(2*3^0.5))^2*$G$17/1000+(C29*(($B$5-$B$6)*$B$6)^0.5/$B$5)^2*$G$18/1000 -> 0.00175325 | N29: =SUM(D29:M29,R29) -> 0.035423105 | O29: =$B$6*B29 -> 0.54 | P29: =O29/(N29+O29)*100 -> 93.84399 | Q29: =$B$17/$E$2*A29/100 -> 0.36 | R29: =$G$19*$G$20/1000*$E$2/2 -> 0.009 | S29: =D29+E29+F29+G29+M29 -> 0.023514175 | T29: =SUM(H29:L29) -> 0.0029089302 | U29: =R29/N29*100 -> 25.407146 | V29: =S29/N29*100 -> 66.380897 | W29: =T29/N29*100 -> 8.2119571
A30: =A29+2*$E$2 -> 14 | B30: =$B$17/$E$2*A30/100 -> 0.42 | C30: =(B30^2 + $B$18^2/12)^0.5 -> 0.4441096 | D30: =(C30/$E$2)^2*$B$12/1000*$B$7/100*$E$2 -> 0.012080542 | E30: =(C30/$E$2)^2*$B$13/1000*(1-$B$7/100)*$E$2 -> 0.00443775 | F30: =(C30/$E$2)^2*($B$16/1000)*$E$2 -> 0 | G30: =(C30/$E$2)^2*($B$14/1000)*$E$2 + $B$15/1000*$E$2 -> 0.011034133 | H30: =0.5*$B$5*C30/$E$2*($G$5+$G$6)*$E$2*0.000000001*$B$8*1000 -> 0.0013323288 | I30: =0.5*$G$11*C30/$E$2*($G$7+$G$8)*$E$2*0.000000001*$B$8*1000 -> 0.00066616439 | J30: =0.5*($G$9+$G$10)*$E$2*0.000000000001*($B$5)^2*$B$8*1000 -> 0 | K30: =$G$11*C30/$E$2*($G$12+$G$13)*$E$2*0.000000001*$B$8*1000 -> 0.0013323288 | L30: =($G$14+$G$15)*$E$2*0.000000001*$G$16*$B$8*1000 -> 0 | M30: =($B$18/(2*3^0.5))^2*$G$17/1000+(C30*(($B$5-$B$6)*$B$6)^0.5/$B$5)^2*$G$18/1000 -> 0.00210425 | N30: =SUM(D30:M30,R30) -> 0.041987497 | O30: =$B$6*B30 -> 0.63 | P30: =O30/(N30+O30)*100 -> 93.751744 | Q30: =$B$17/$E$2*A30/100 -> 0.42 | R30: =$G$19*$G$20/1000*$E$2/2 -> 0.009 | S30: =D30+E30+F30+G30+M30 -> 0.029656675 | T30: =SUM(H30:L30) -> 0.003330822 | U30: =R30/N30*100 -> 21.434952 | V30: =S30/N30*100 -> 70.632158 | W30: =T30/N30*100 -> 7.9328901
A31: =A30+2*$E$2 -> 16 | B31: =$B$17/$E$2*A31/100 -> 0.48 | C31: =(B31^2 + $B$18^2/12)^0.5 -> 0.50123182 | D31: =(C31/$E$2)^2*$B$12/1000*$B$7/100*$E$2 -> 0.015388042 | E31: =(C31/$E$2)^2*$B$13/1000*(1-$B$7/100)*$E$2 -> 0.00565275 | F31: =(C31/$E$2)^2*($B$16/1000)*$E$2 -> 0 | G31: =(C31/$E$2)^2*($B$14/1000)*$E$2 + $B$15/1000*$E$2 -> 0.013194133 | H31: =0.5*$B$5*C31/$E$2*($G$5+$G$6)*$E$2*0.000000001*$B$8*1000 -> 0.0015036954 | I31: =0.5*$G$11*C31/$E$2*($G$7+$G$8)*$E$2*0.000000001*$B$8*1000 -> 0.00075184772 | J31: =0.5*($G$9+$G$10)*$E$2*0.000000000001*($B$5)^2*$B$8*1000 -> 0 | K31: =$G$11*C31/$E$2*($G$12+$G$13)*$E$2*0.000000001*$B$8*1000 -> 0.0015036954 | L31: =($G$14+$G$15)*$E$2*0.000000001*$G$16*$B$8*1000 -> 0 | M31: =($B$18/(2*3^0.5))^2*$G$17/1000+(C31*(($B$5-$B$6)*$B$6)^0.5/$B$5)^2*$G$18/1000 -> 0.00250925 | N31: =SUM(D31:M31,R31) -> 0.049503414 | O31: =$B$6*B31 -> 0.72 | P31: =O31/(N31+O31)*100 -> 93.566836 | Q31: =$B$17/$E$2*A31/100 -> 0.48 | R31: =$G$19*$G$20/1000*$E$2/2 -> 0.009 | S31: =D31+E31+F31+G31+M31 -> 0.036744175 | T31: =SUM(H31:L31) -> 0.0037592386 | U31: =R31/N31*100 -> 18.180564 | V31: =S31/N31*100 -> 74.225538 | W31: =T31/N31*100 -> 7.5938978
A32: =A31+2*$E$2 -> 18 | B32: =$B$17/$E$2*A32/100 -> 0.54 | C32: =(B32^2 + $B$18^2/12)^0.5 -> 0.55895736 | D32: =(C32/$E$2)^2*$B$12/1000*$B$7/100*$E$2 -> 0.019136542 | E32: =(C32/$E$2)^2*$B$13/1000*(1-$B$7/100)*$E$2 -> 0.00702975 | F32: =(C32/$E$2)^2*($B$16/1000)*$E$2 -> 0 | G32: =(C32/$E$2)^2*($B$14/1000)*$E$2 + $B$15/1000*$E$2 -> 0.015642133 | H32: =0.5*$B$5*C32/$E$2*($G$5+$G$6)*$E$2*0.000000001*$B$8*1000 -> 0.0016768721 | I32: =0.5*$G$11*C32/$E$2*($G$7+$G$8)*$E$2*0.000000001*$B$8*1000 -> 0.00083843604 | J32: =0.5*($G$9+$G$10)*$E$2*0.000000000001*($B$5)^2*$B$8*1000 -> 0 | K32: =$G$11*C32/$E$2*($G$12+$G$13)*$E$2*0.000000001*$B$8*1000 -> 0.0016768721 | L32: =($G$14+$G$15)*$E$2*0.000000001*$G$16*$B$8*1000 -> 0 | M32: =($B$18/(2*3^0.5))^2*$G$17/1000+(C32*(($B$5-$B$6)*$B$6)^0.5/$B$5)^2*$G$18/1000 -> 0.00296825 | N32: =SUM(D32:M32,R32) -> 0.057968855 | O32: =$B$6*B32 -> 0.81 | P32: =O32/(N32+O32)*100 -> 93.321321 | Q32: =$B$17/$E$2*A32/100 -> 0.54 | R32: =$G$19*$G$20/1000*$E$2/2 -> 0.009 | S32: =D32+E32+F32+G32+M32 -> 0.044776675 | T32: =SUM(H32:L32) -> 0.0041921802 | U32: =R32/N32*100 -> 15.525578 | V32: =S32/N32*100 -> 77.242641 | W32: =T32/N32*100 -> 7.2317802
A33: =A32+2*$E$2 -> 20 | B33: =$B$17/$E$2*A33/100 -> 0.6 | C33: =(B33^2 + $B$18^2/12)^0.5 -> 0.61711695 | D33: =(C33/$E$2)^2*$B$12/1000*$B$7/100*$E$2 -> 0.023326042 | E33: =(C33/$E$2)^2*$B$13/1000*(1-$B$7/100)*$E$2 -> 0.00856875 | F33: =(C33/$E$2)^2*($B$16/1000)*$E$2 -> 0 | G33: =(C33/$E$2)^2*($B$14/1000)*$E$2 + $B$15/1000*$E$2 -> 0.018378133 | H33: =0.5*$B$5*C33/$E$2*($G$5+$G$6)*$E$2*0.000000001*$B$8*1000 -> 0.0018513509 | I33: =0.5*$G$11*C33/$E$2*($G$7+$G$8)*$E$2*0.000000001*$B$8*1000 -> 0.00092567543 | J33: =0.5*($G$9+$G$10)*$E$2*0.000000000001*($B$5)^2*$B$8*1000 -> 0 | K33: =$G$11*C33/$E$2*($G$12+$G$13)*$E$2*0.000000001*$B$8*1000 -> 0.0018513509 | L33: =($G$14+$G$15)*$E$2*0.000000001*$G$16*$B$8*1000 -> 0 | M33: =($B$18/(2*3^0.5))^2*$G$17/1000+(C33*(($B$5-$B$6)*$B$6)^0.5/$B$5)^2*$G$18/1000 -> 0.00348125 | N33: =SUM(D33:M33,R33) -> 0.067382552 | O33: =$B$6*B33 -> 0.9 | P33: =O33/(N33+O33)*100 -> 93.03455 | Q33: =$B$17/$E$2*A33/100 -> 0.6 | R33: =$G$19*$G$20/1000*$E$2/2 -> 0.009 | S33: =D33+E33+F33+G33+M33 -> 0.053754175 | T33: =SUM(H33:L33) -> 0.0046283771 | U33: =R33/N33*100 -> 13.356573 | V33: =S33/N33*100 -> 79.77462 | W33: =T33/N33*100 -> 6.8688065
A34: =A33+2*$E$2 -> 22 | B34: =$B$17/$E$2*A34/100 -> 0.66 | C34: =(B34^2 + $B$18^2/12)^0.5 -> 0.6755985 | D34: =(C34/$E$2)^2*$B$12/1000*$B$7/100*$E$2 -> 0.027956542 | E34: =(C34/$E$2)^2*$B$13/1000*(1-$B$7/100)*$E$2 -> 0.01026975 | F34: =(C34/$E$2)^2*($B$16/1000)*$E$2 -> 0 | G34: =(C34/$E$2)^2*($B$14/1000)*$E$2 + $B$15/1000*$E$2 -> 0.021402133 | H34: =0.5*$B$5*C34/$E$2*($G$5+$G$6)*$E$2*0.000000001*$B$8*1000 -> 0.0020267955 | I34: =0.5*$G$11*C34/$E$2*($G$7+$G$8)*$E$2*0.000000001*$B$8*1000 -> 0.0010133978 | J34: =0.5*($G$9+$G$10)*$E$2*0.000000000001*($B$5)^2*$B$8*1000 -> 0 | K34: =$G$11*C34/$E$2*($G$12+$G$13)*$E$2*0.000000001*$B$8*1000 -> 0.0020267955 | L34: =($G$14+$G$15)*$E$2*0.000000001*$G$16*$B$8*1000 -> 0 | M34: =($B$18/(2*3^0.5))^2*$G$17/1000+(C34*(($B$5-$B$6)*$B$6)^0.5/$B$5)^2*$G$18/1000 -> 0.00404825 | N34: =SUM(D34:M34,R34) -> 0.077743664 | O34: =$B$6*B34 -> 0.99 | P34: =O34/(N34+O34)*100 -> 92.718883 | Q34: =$B$17/$E$2*A34/100 -> 0.66 | R34: =$G$19*$G$20/1000*$E$2/2 -> 0.009 | S34: =D34+E34+F34+G34+M34 -> 0.063676675 | T34: =SUM(H34:L34) -> 0.0050669888 | U34: =R34/N34*100 -> 11.576506 | V34: =S34/N34*100 -> 81.905935 | W34: =T34/N34*100 -> 6.5175585
A35: =A34+2*$E$2 -> 24 | B35: =$B$17/$E$2*A35/100 -> 0.72 | C35: =(B35^2 + $B$18^2/12)^0.5 -> 0.73432509 | D35: =(C35/$E$2)^2*$B$12/1000*$B$7/100*$E$2 -> 0.033028042 | E35: =(C35/$E$2)^2*$B$13/1000*(1-$B$7/100)*$E$2 -> 0.01213275 | F35: =(C35/$E$2)^2*($B$16/1000)*$E$2 -> 0 | G35: =(C35/$E$2)^2*($B$14/1000)*$E$2 + $B$15/1000*$E$2 -> 0.024714133 | H35: =0.5*$B$5*C35/$E$2*($G$5+$G$6)*$E$2*0.000000001*$B$8*1000 -> 0.0022029753 | I35: =0.5*$G$11*C35/$E$2*($G$7+$G$8)*$E$2*0.000000001*$B$8*1000 -> 0.0011014876 | J35: =0.5*($G$9+$G$10)*$E$2*0.000000000001*($B$5)^2*$B$8*1000 -> 0 | K35: =$G$11*C35/$E$2*($G$12+$G$13)*$E$2*0.000000001*$B$8*1000 -> 0.0022029753 | L35: =($G$14+$G$15)*$E$2*0.000000001*$G$16*$B$8*1000 -> 0 | M35: =($B$18/(2*3^0.5))^2*$G$17/1000+(C35*(($B$5-$B$6)*$B$6)^0.5/$B$5)^2*$G$18/1000 -> 0.00466925 | N35: =SUM(D35:M35,R35) -> 0.089051613 | O35: =$B$6*B35 -> 1.08 | P35: =O35/(N35+O35)*100 -> 92.382576 | Q35: =$B$17/$E$2*A35/100 -> 0.72 | R35: =$G$19*$G$20/1000*$E$2/2 -> 0.009 | S35: =D35+E35+F35+G35+M35 -> 0.074544175 | T35: =SUM(H35:L35) -> 0.0055074382 | U35: =R35/N35*100 -> 10.106499 | V35: =S35/N35*100 -> 83.708955 | W35: =T35/N35*100 -> 6.1845462
... A73: =A72+2*$E$2 -> 100 | B73: =$B$17/$E$2*A73/100 -> 3 | C73: =(B73^2 + $B$18^2/12)^0.5 -> 3.0034702 | D73: =(C73/$E$2)^2*$B$12/1000*$B$7/100*$E$2 -> 0.55252604 | E73: =(C73/$E$2)^2*$B$13/1000*(1-$B$7/100)*$E$2 -> 0.20296875 | F73: =(C73/$E$2)^2*($B$16/1000)*$E$2 -> 0 | G73: =(C73/$E$2)^2*($B$14/1000)*$E$2 + $B$15/1000*$E$2 -> 0.36397813 | H73: =0.5*$B$5*C73/$E$2*($G$5+$G$6)*$E$2*0.000000001*$B$8*1000 -> 0.0090104106 | I73: =0.5*$G$11*C73/$E$2*($G$7+$G$8)*$E$2*0.000000001*$B$8*1000 -> 0.0045052053 | J73: =0.5*($G$9+$G$10)*$E$2*0.000000000001*($B$5)^2*$B$8*1000 -> 0 | K73: =$G$11*C73/$E$2*($G$12+$G$13)*$E$2*0.000000001*$B$8*1000 -> 0.0090104106 | L73: =($G$14+$G$15)*$E$2*0.000000001*$G$16*$B$8*1000 -> 0 | M73: =($B$18/(2*3^0.5))^2*$G$17/1000+(C73*(($B$5-$B$6)*$B$6)^0.5/$B$5)^2*$G$18/1000 -> 0.06828125 | N73: =SUM(D73:M73,R73) -> 1.2192802 | O73: =$B$6*B73 -> 4.5 | P73: =O73/(N73+O73)*100 -> 78.68123 | Q73: =$B$17/$E$2*A73/100 -> 3 | R73: =$G$19*$G$20/1000*$E$2/2 -> 0.009 | S73: =D73+E73+F73+G73+M73 -> 1.1877542 | T73: =SUM(H73:L73) -> 0.022526027 | U73: =R73/N73*100 -> 0.73814042 | V73: =S73/N73*100 -> 97.414374 | W73: =T73/N73*100 -> 1.8474856

Sheet Reference
C3: Rohm App Note Efficiency Calculation of Buck Converter

Sheet Components
B3: Inductors
B4: Manufacturer | C4: P/N | D4: Value (uH) | E4: L_DCR (mΩ) | F4: L_ac 300kHz core loss (mW) | G4: L_ac 500kHz core loss (mW) | H4: L_ac 800kHz core loss (mW) | I4: L_ac 1MHz core loss (mW) | J4: Estimate core loss (mW) *Note | M4: Freq (kHz) | N4: XFL4020 - 2.2uH | O4: XAL4030 - 4.7uH | P4: XAL6060 - 15uH | Q4: SLR1070 - 0.12uH | R4: XAL1010 - 0.68uH | S4: SLC1480 - 0.32uH
A5: Used in 1MHz DS Curves | B5: Coilcraft | C5: XFL4020 - 2.2uH | D5: 2.2 | E5: 22 | F5: 7 | G5: 15 | H5: 26 | I5: 33 | J5: =-0.000005*(Efficiency!B8)^2+0.0436*(Efficiency!B8)-5.6 -> -1.29 | M5: 300 | N5: 7 | O5: 8 | P5: 13
A6: Used in 5000kHz DS Curves | B6: Coilcraft | C6: XAL4030 - 4.7uH | D6: 4.7 | E6: 40.1 | F6: 8 | G6: 13 | H6: 19 | I6: 23 | J6: =-0.000005*(Efficiency!B8)^2+0.0277*(Efficiency!B8)+0.2155 -> 2.9355 | M6: 500 | N6: 15 | O6: 13 | P6: 22
A7: Used in 100kHz DS Curves | B7: Coilcraft | C7: XAL6060 - 15uH | D7: 15 | E7: 40 | F7: 13 | G7: 22 | H7: 21 | I7: 20 | J7: =-0.00005*(Efficiency!B8)^2+0.073*(Efficiency!B8)-3.6552 -> 3.1448 | M7: 800 | N7: 26 | O7: 19 | P7: 21
B8: Coilcraft | C8: Reserved | D8: TBD | J8: =0.0001*(Efficiency!B8)^2-0.0317*(Efficiency!B8)-2.724 -> -4.894 | M8: 1000 | N8: 33 | O8: 23 | P8: 20
B9: Coilcraft | C9: Reserved | D9: TBD | J9: =0.0002*(Efficiency!B8)^2-0.0366*(Efficiency!B8)-2.3966 -> -4.0566
B10: Coilcraft | C10: Reserved | D10: TBD | J10: =0.0007*(Efficiency!B8)^2+1.2817*(Efficiency!B8)+41.888 -> 177.058
B12: *Note: Core loss data for Coilcraft inductors are taken from Coilcraft website calculator for 25Arms and 30% ripple
B13: *Note: Estimated AC core loss is estimated by using polynomial curve fit of Coilcraft website calculator data
B18: GaN FETs
B19: Manufacturer | C19: P/N | D19: Vds (V) | E19: Rdson (mΩ) | F19: Coss (pF) | G19: Vsd (V) | H19: Qg (nC)
B20: Intersil | C20: High Side FET, 3V, typ | E20: =160/2 -> 80
B21: Intersil | C21: High Side FET, 3V, max | E21: =245/2 -> 122.5
B22: Intersil | C22: High Side FET, 5.5V, typ | E22: =130/2 -> 65
B23: Intersil | C23: High Side FET, 5.5V, max | E23: =210/2 -> 105
B24: Intersil | C24: Low Side FET, 3V, typ | E24: =90/2 -> 45
B25: Intersil | C25: Low Side FET, 3V, max | E25: =160/2 -> 80
B26: Intersil | C26: Low Side FET, 5.5V, typ | E26: =85/2 -> 42.5
B27: Intersil | C27: Low Side FET, 5.5V, max | E27: =150/2 -> 75

Sheet Operating Current
A1: This tab contains the ISL70005 Buck only, operating current as a function of VIN voltage and Fsw switching frequency.
C3: VIN | E3: VIN
C4: 3 | E4: 5.5 | I4: Datasheet spec
B5: Fsw | C5: I_VIN (typ) | D5: I_VIN (max) | E5: I_VIN (typ) | F5: I_VIN (max) | I5: Bench Data
B6: 100 | C6: =E6*0.6 -> 6 | D6: =C6*1.5 -> 9 | E6: 10 | F6: 15 | I6: Calculated based on 1.5x typ
B7: 1000 | C7: 15 | D7: =C7*1.5 -> 22.5 | E7: 25 | F7: =E7*1.5 -> 37.5 | I7: Calculated based on bench ratio and 1.5x typ
I8: Linearly extrapolated from 100kHz and 1000kHz data
C10: VIN | E10: VIN
C11: 3 | E11: 5.5
B12: Fsw | C12: I_VIN (typ) | D12: I_VIN (max) | E12: I_VIN (typ) | F12: I_VIN (max)
B13: 100 | C13: =E13*0.6 -> 6 | D13: =C13*1.5 -> 9 | E13: 10 | F13: 15
B14: =B13+100 -> 200 | C14: =0.01*B14+5 -> 7 | D14: =C14*1.5 -> 10.5 | E14: =0.0167*B14+8.333 -> 11.673 | F14: =E14*1.5 -> 17.5095
B15: =B14+100 -> 300 | C15: =0.01*B15+5 -> 8 | D15: =C15*1.5 -> 12 | E15: =0.0167*B15+8.333 -> 13.343 | F15: =E15*1.5 -> 20.0145
B16: =B15+100 -> 400 | C16: =0.01*B16+5 -> 9 | D16: =C16*1.5 -> 13.5 | E16: =0.0167*B16+8.333 -> 15.013 | F16: =E16*1.5 -> 22.5195
B17: =B16+100 -> 500 | C17: =0.01*B17+5 -> 10 | D17: =C17*1.5 -> 15 | E17: =0.0167*B17+8.333 -> 16.683 | F17: =E17*1.5 -> 25.0245
B18: =B17+100 -> 600 | C18: =0.01*B18+5 -> 11 | D18: =C18*1.5 -> 16.5 | E18: =0.0167*B18+8.333 -> 18.353 | F18: =E18*1.5 -> 27.5295
B19: =B18+100 -> 700 | C19: =0.01*B19+5 -> 12 | D19: =C19*1.5 -> 18 | E19: =0.0167*B19+8.333 -> 20.023 | F19: =E19*1.5 -> 30.0345
B20: =B19+100 -> 800 | C20: =0.01*B20+5 -> 13 | D20: =C20*1.5 -> 19.5 | E20: =0.0167*B20+8.333 -> 21.693 | F20: =E20*1.5 -> 32.5395
B21: =B20+100 -> 900 | C21: =0.01*B21+5 -> 14 | D21: =C21*1.5 -> 21 | E21: =0.0167*B21+8.333 -> 23.363 | F21: =E21*1.5 -> 35.0445
B22: 1000 | C22: 15 | D22: =C22*1.5 -> 22.5 | E22: 25 | F22: =E22*1.5 -> 37.5

Sheet Rev History
B2: Revision | C2: Date | D2: Notes
B3: 0.1 | C3: 45488 | D3: Initial Version
