Workbook

Sheet Reference
C3: Rohm App Note Efficiency Calculation of Buck Converter

Sheet Efficiency
A1: Input Data Into Green Cells; Some cells are drop down menus | G1: Gray cells are not to be changed. They represent switching loss of ISL73006.
A2: Inductor | B2: XEL5050 - 15uH | D2: # of phases | E2: 1
D3: # of high side FETs | E3: 1
D4: # of low side FETs | E4: 1
A5: PVIN | B5: 12 | C5: V | D5: Input Voltage | F5: tr-H | G5: 10 | H5: ns | I5: High Side FET Rise time
A6: VOUT | B6: 3.3 | C6: V | D6: Output Voltage | F6: tf-H | G6: 10 | H6: ns | I6: High Side FET Fall time
A7: Duty | B7: =B6/B5*100 -> 27.5 | C7: % | D7: Calculated Duty Cycle | F7: tr-L | G7: 10 | H7: ns | I7: Low Side FET Rise time
A8: Fsw | B8: 500 | C8: kHz | D8: Switching Frequency | F8: tr-L | G8: 10 | H8: ns | I8: Low Side FET Fall time
A9: Ton | B9: =B7/100/(B8*1000)*1000000000 -> 550 | C9: ns | D9: Buck On Time | F9: Coss-H | G9: 0 | H9: pF | I9: Coss loss modeled in Idc_ctrl cell G20
A10: Toff | B10: =(1-B7/100)/(B8*1000)*1000000000 -> 1450 | C10: ns | D10: Buck Off Time | F10: Coss-L | G10: 0 | H10: pF | I10: Coss loss modeled in Idc_ctrl cell G20
A11: L | B11: =VLOOKUP(Efficiency!B2, Components!C5:E10, 2,0) -> 15 | C11: uH | D11: Power Inductor | F11: Vsd-L | G11: 1 | H11: V | I11: Low Side FET Source-Drain Voltage
A12: Rdson_up | B12: =IF(B5>3.3,305, 370) -> 305 | C12: mΩ | D12: Total High Side Rdson | F12: tdt_H | G12: 20 | H12: ns | I12: High to Low dead time
A13: Rdson_down | B13: =IF(B5>3.3,178,203) -> 178 | C13: mΩ | D13: Total Low Side Rdson | F13: tdt_L | G13: 20 | H13: ns | I13: Low to High dead time
A14: L_dcr | B14: =VLOOKUP(B2,Components!C5:E10,3,0) -> 69.7 | C14: mΩ | D14: Inductor DCR | F14: Qg_H | G14: 0 | H14: nC | I14: FET Qg modeled in Idc_ctrl cell G20
A15: L_ac | B15: =VLOOKUP(B2,Components!C5:J10,8,0) -> 21.631 | C15: mW | D15: AC Core Loss | F15: Qg_L | G15: 0 | H15: nC | I15: FET Qg modeled in Idc_ctrl cell G20
D16: Sense Resistor | F16: Vgs | G16: =IF(B5>5, 5, B5) -> 5 | H16: V | I16: FET Gate Voltage
A17: Iout_max | B17: 1 | C17: A | D17: Max Load Current | F17: Cout ESR | G17: 5 | H17: mΩ | I17: Output capacitor total ESR
A18: I_delta_on | B18: =(B5-B6)/(B11*0.000001)*B9*0.000000001 -> 0.319 | C18: A | D18: Inductor Up Ramp | F18: Cin ESR | G18: 5 | H18: mΩ | I18: Input capacitor total ESR
A19: I_delta_off | B19: =B6/(B11*0.000001)*B10*0.000000001 -> 0.319 | C19: A | D19: Inductor Down Ramp | F19: V_dc_ctrl | G19: =B5 -> 12 | H19: V | I19: IC Supply Voltage
A20: Ipk_pk/Iout | B20: =B18/(B17/E2)*100 -> 31.9 | C20: % | D20: Inductor Ripple to Max Current Ratio | F20: I_dc_ctrl | G20: =IF(G19<12, VLOOKUP(B8,'Operating Current'!B13:E27,2,0), IF(G19<18, VLOOKUP(B8,'Operating Current'!B13:E27,3,0), IF(G19=18, VLOOKUP(B8,'Operating Current'!B13:E27,4,0)))) -> 8.3 | H20: mA | I20: IC Operating Current
A22: Factor | B22: Iout Avg (A) | C22: Iout (A) RMS | D22: High Side FET Pd (W) | E22: Low Side FET Pd (W) | F22: Rsense Pd (W) | G22: L_DCR + AC Pd (W) | H22: High Side FET Switch Pd (W) | I22: Low Side FET Switch Pd (W) | J22: FET Coss Switch Pd (W) | K22: Dead Time Pd (W) | L22: Gate Charge Pd (W) | M22: Cap ESR Pd (W) | N22: Ctrl/Drv Bias Pd (W) | O22: Total Pd (W) | P22: Pout (W) | Q22: Efficiency (%) | R22: Iout Avg (A) | S22: Conduction Pd (W) | T22: Switching Pd (W) | U22: Ctrl/Drv Bias Pd (%) | V22: Conduction Pd (%) | W22: Switching Pd (%) | X22: Peak Eff (%) | Y22: Iout @ Peak Eff (A)
A23: 0 | B23: =$B$17/$E$2*A23/100 -> 0 | C23: =(B23^2 + $B$18^2/12)^0.5 -> 0.092087368 | D23: =(C23/$E$2)^2*$B$12/1000*$B$7/100*$E$2 -> 0.00071126699 | E23: =(C23/$E$2)^2*$B$13/1000*(1-$B$7/100)*$E$2 -> 0.0010943548 | F23: =(C23/$E$2)^2*($B$16/1000)*$E$2 -> 0 | G23: =(C23/$E$2)^2*($B$14/1000)*$E$2 + $B$15/1000*$E$2 -> 0.022222062 | H23: =0.5*$B$5*C23/$E$2*($G$5+$G$6)*$E$2*0.000000001*$B$8*1000 -> 0.0055252421 | I23: =0.5*$G$11*C23/$E$2*($G$7+$G$8)*$E$2*0.000000001*$B$8*1000 -> 0.00046043684 | J23: =0.5*($G$9+$G$10)*$E$2*0.000000000001*($B$5)^2*$B$8*1000 -> 0 | K23: =$G$11*C23/$E$2*($G$12+$G$13)*$E$2*0.000000001*$B$8*1000 -> 0.0018417474 | L23: =($G$14+$G$15)*$E$2*0.000000001*$G$16*$B$8*1000 -> 0 | M23: =($B$18/(2*3^0.5))^2*$G$17/1000+(C23*(($B$5-$B$6)*$B$6)^0.5/$B$5)^2*$G$18/1000 -> 5.0854e-05 | N23: =$G$19*$G$20/1000*$E$2/2 -> 0.0498 | O23: =SUM(D23:M23,N23) -> 0.081705964 | P23: =$B$6*B23 -> 0 | Q23: =P23/(O23+P23)*100 -> 0 | R23: =$B$17/$E$2*A23/100 -> 0 | S23: =D23+E23+F23+G23+M23 -> 0.024078538 | T23: =SUM(H23:L23) -> 0.0078274263 | U23: =N23/O23*100 -> 60.950263 | V23: =S23/O23*100 -> 29.469743 | W23: =T23/O23*100 -> 9.5799938 | X23: =MAX(Q23:Q73) -> 89.77442 | Y23: =VLOOKUP(X23,Q23:R73,2,0) -> 0.52
A24: =A23+2*$E$2 -> 2 | B24: =$B$17/$E$2*A24/100 -> 0.02 | C24: =(B24^2 + $B$18^2/12)^0.5 -> 0.094234194 | D24: =(C24/$E$2)^2*$B$12/1000*$B$7/100*$E$2 -> 0.00074481699 | E24: =(C24/$E$2)^2*$B$13/1000*(1-$B$7/100)*$E$2 -> 0.0011459748 | F24: =(C24/$E$2)^2*($B$16/1000)*$E$2 -> 0 | G24: =(C24/$E$2)^2*($B$14/1000)*$E$2 + $B$15/1000*$E$2 -> 0.022249942 | H24: =0.5*$B$5*C24/$E$2*($G$5+$G$6)*$E$2*0.000000001*$B$8*1000 -> 0.0056540516 | I24: =0.5*$G$11*C24/$E$2*($G$7+$G$8)*$E$2*0.000000001*$B$8*1000 -> 0.00047117097 | J24: =0.5*($G$9+$G$10)*$E$2*0.000000000001*($B$5)^2*$B$8*1000 -> 0 | K24: =$G$11*C24/$E$2*($G$12+$G$13)*$E$2*0.000000001*$B$8*1000 -> 0.0018846839 | L24: =($G$14+$G$15)*$E$2*0.000000001*$G$16*$B$8*1000 -> 0 | M24: =($B$18/(2*3^0.5))^2*$G$17/1000+(C24*(($B$5-$B$6)*$B$6)^0.5/$B$5)^2*$G$18/1000 -> 5.125275e-05 | N24: =$G$19*$G$20/1000*$E$2/2 -> 0.0498 | O24: =SUM(D24:M24,N24) -> 0.082001893 | P24: =$B$6*B24 -> 0.066 | Q24: =P24/(O24+P24)*100 -> 44.594024 | R24: =$B$17/$E$2*A24/100 -> 0.02 | S24: =D24+E24+F24+G24+M24 -> 0.024191986 | T24: =SUM(H24:L24) -> 0.0080099065 | U24: =N24/O24*100 -> 60.730305 | V24: =S24/O24*100 -> 29.501741 | W24: =T24/O24*100 -> 9.7679532
A25: =A24+2*$E$2 -> 4 | B25: =$B$17/$E$2*A25/100 -> 0.04 | C25: =(B25^2 + $B$18^2/12)^0.5 -> 0.10039962 | D25: =(C25/$E$2)^2*$B$12/1000*$B$7/100*$E$2 -> 0.00084546699 | E25: =(C25/$E$2)^2*$B$13/1000*(1-$B$7/100)*$E$2 -> 0.0013008348 | F25: =(C25/$E$2)^2*($B$16/1000)*$E$2 -> 0 | G25: =(C25/$E$2)^2*($B$14/1000)*$E$2 + $B$15/1000*$E$2 -> 0.022333582 | H25: =0.5*$B$5*C25/$E$2*($G$5+$G$6)*$E$2*0.000000001*$B$8*1000 -> 0.0060239771 | I25: =0.5*$G$11*C25/$E$2*($G$7+$G$8)*$E$2*0.000000001*$B$8*1000 -> 0.00050199809 | J25: =0.5*($G$9+$G$10)*$E$2*0.000000000001*($B$5)^2*$B$8*1000 -> 0 | K25: =$G$11*C25/$E$2*($G$12+$G$13)*$E$2*0.000000001*$B$8*1000 -> 0.0020079924 | L25: =($G$14+$G$15)*$E$2*0.000000001*$G$16*$B$8*1000 -> 0 | M25: =($B$18/(2*3^0.5))^2*$G$17/1000+(C25*(($B$5-$B$6)*$B$6)^0.5/$B$5)^2*$G$18/1000 -> 5.2449e-05 | N25: =$G$19*$G$20/1000*$E$2/2 -> 0.0498 | O25: =SUM(D25:M25,N25) -> 0.0828663 | P25: =$B$6*B25 -> 0.132 | Q25: =P25/(O25+P25)*100 -> 61.433552 | R25: =$B$17/$E$2*A25/100 -> 0.04 | S25: =D25+E25+F25+G25+M25 -> 0.024532333 | T25: =SUM(H25:L25) -> 0.0085339675 | U25: =N25/O25*100 -> 60.096806 | V25: =S25/O25*100 -> 29.604716 | W25: =T25/O25*100 -> 10.298478
A26: =A25+2*$E$2 -> 6 | B26: =$B$17/$E$2*A26/100 -> 0.06 | C26: =(B26^2 + $B$18^2/12)^0.5 -> 0.10990943 | D26: =(C26/$E$2)^2*$B$12/1000*$B$7/100*$E$2 -> 0.001013217 | E26: =(C26/$E$2)^2*$B$13/1000*(1-$B$7/100)*$E$2 -> 0.0015589348 | F26: =(C26/$E$2)^2*($B$16/1000)*$E$2 -> 0 | G26: =(C26/$E$2)^2*($B$14/1000)*$E$2 + $B$15/1000*$E$2 -> 0.022472982 | H26: =0.5*$B$5*C26/$E$2*($G$5+$G$6)*$E$2*0.000000001*$B$8*1000 -> 0.0065945659 | I26: =0.5*$G$11*C26/$E$2*($G$7+$G$8)*$E$2*0.000000001*$B$8*1000 -> 0.00054954716 | J26: =0.5*($G$9+$G$10)*$E$2*0.000000000001*($B$5)^2*$B$8*1000 -> 0 | K26: =$G$11*C26/$E$2*($G$12+$G$13)*$E$2*0.000000001*$B$8*1000 -> 0.0021981886 | L26: =($G$14+$G$15)*$E$2*0.000000001*$G$16*$B$8*1000 -> 0 | M26: =($B$18/(2*3^0.5))^2*$G$17/1000+(C26*(($B$5-$B$6)*$B$6)^0.5/$B$5)^2*$G$18/1000 -> 5.444275e-05 | N26: =$G$19*$G$20/1000*$E$2/2 -> 0.0498 | O26: =SUM(D26:M26,N26) -> 0.084241878 | P26: =$B$6*B26 -> 0.198 | Q26: =P26/(O26+P26)*100 -> 70.152594 | R26: =$B$17/$E$2*A26/100 -> 0.06 | S26: =D26+E26+F26+G26+M26 -> 0.025099576 | T26: =SUM(H26:L26) -> 0.0093423018 | U26: =N26/O26*100 -> 59.115491 | V26: =S26/O26*100 -> 29.794654 | W26: =T26/O26*100 -> 11.089855
A27: =A26+2*$E$2 -> 8 | B27: =$B$17/$E$2*A27/100 -> 0.08 | C27: =(B27^2 + $B$18^2/12)^0.5 -> 0.12198395 | D27: =(C27/$E$2)^2*$B$12/1000*$B$7/100*$E$2 -> 0.001248067 | E27: =(C27/$E$2)^2*$B$13/1000*(1-$B$7/100)*$E$2 -> 0.0019202748 | F27: =(C27/$E$2)^2*($B$16/1000)*$E$2 -> 0 | G27: =(C27/$E$2)^2*($B$14/1000)*$E$2 + $B$15/1000*$E$2 -> 0.022668142 | H27: =0.5*$B$5*C27/$E$2*($G$5+$G$6)*$E$2*0.000000001*$B$8*1000 -> 0.0073190368 | I27: =0.5*$G$11*C27/$E$2*($G$7+$G$8)*$E$2*0.000000001*$B$8*1000 -> 0.00060991974 | J27: =0.5*($G$9+$G$10)*$E$2*0.000000000001*($B$5)^2*$B$8*1000 -> 0 | K27: =$G$11*C27/$E$2*($G$12+$G$13)*$E$2*0.000000001*$B$8*1000 -> 0.0024396789 | L27: =($G$14+$G$15)*$E$2*0.000000001*$G$16*$B$8*1000 -> 0 | M27: =($B$18/(2*3^0.5))^2*$G$17/1000+(C27*(($B$5-$B$6)*$B$6)^0.5/$B$5)^2*$G$18/1000 -> 5.7234e-05 | N27: =$G$19*$G$20/1000*$E$2/2 -> 0.0498 | O27: =SUM(D27:M27,N27) -> 0.086062353 | P27: =$B$6*B27 -> 0.264 | Q27: =P27/(O27+P27)*100 -> 75.415136 | R27: =$B$17/$E$2*A27/100 -> 0.08 | S27: =D27+E27+F27+G27+M27 -> 0.025893718 | T27: =SUM(H27:L27) -> 0.010368635 | U27: =N27/O27*100 -> 57.865023 | V27: =S27/O27*100 -> 30.08716 | W27: =T27/O27*100 -> 12.047818
A28: =A27+2*$E$2 -> 10 | B28: =$B$17/$E$2*A28/100 -> 0.1 | C28: =(B28^2 + $B$18^2/12)^0.5 -> 0.13594147 | D28: =(C28/$E$2)^2*$B$12/1000*$B$7/100*$E$2 -> 0.001550017 | E28: =(C28/$E$2)^2*$B$13/1000*(1-$B$7/100)*$E$2 -> 0.0023848548 | F28: =(C28/$E$2)^2*($B$16/1000)*$E$2 -> 0 | G28: =(C28/$E$2)^2*($B$14/1000)*$E$2 + $B$15/1000*$E$2 -> 0.022919062 | H28: =0.5*$B$5*C28/$E$2*($G$5+$G$6)*$E$2*0.000000001*$B$8*1000 -> 0.0081564882 | I28: =0.5*$G$11*C28/$E$2*($G$7+$G$8)*$E$2*0.000000001*$B$8*1000 -> 0.00067970735 | J28: =0.5*($G$9+$G$10)*$E$2*0.000000000001*($B$5)^2*$B$8*1000 -> 0 | K28: =$G$11*C28/$E$2*($G$12+$G$13)*$E$2*0.000000001*$B$8*1000 -> 0.0027188294 | L28: =($G$14+$G$15)*$E$2*0.000000001*$G$16*$B$8*1000 -> 0 | M28: =($B$18/(2*3^0.5))^2*$G$17/1000+(C28*(($B$5-$B$6)*$B$6)^0.5/$B$5)^2*$G$18/1000 -> 6.082275e-05 | N28: =$G$19*$G$20/1000*$E$2/2 -> 0.0498 | O28: =SUM(D28:M28,N28) -> 0.088269781 | P28: =$B$6*B28 -> 0.33 | Q28: =P28/(O28+P28)*100 -> 78.896448 | R28: =$B$17/$E$2*A28/100 -> 0.1 | S28: =D28+E28+F28+G28+M28 -> 0.026914756 | T28: =SUM(H28:L28) -> 0.011555025 | U28: =N28/O28*100 -> 56.417949 | V28: =S28/O28*100 -> 30.491473 | W28: =T28/O28*100 -> 13.090578
A29: =A28+2*$E$2 -> 12 | B29: =$B$17/$E$2*A29/100 -> 0.12 | C29: =(B29^2 + $B$18^2/12)^0.5 -> 0.15126164 | D29: =(C29/$E$2)^2*$B$12/1000*$B$7/100*$E$2 -> 0.001919067 | E29: =(C29/$E$2)^2*$B$13/1000*(1-$B$7/100)*$E$2 -> 0.0029526748 | F29: =(C29/$E$2)^2*($B$16/1000)*$E$2 -> 0 | G29: =(C29/$E$2)^2*($B$14/1000)*$E$2 + $B$15/1000*$E$2 -> 0.023225742 | H29: =0.5*$B$5*C29/$E$2*($G$5+$G$6)*$E$2*0.000000001*$B$8*1000 -> 0.0090756983 | I29: =0.5*$G$11*C29/$E$2*($G$7+$G$8)*$E$2*0.000000001*$B$8*1000 -> 0.00075630819 | J29: =0.5*($G$9+$G$10)*$E$2*0.000000000001*($B$5)^2*$B$8*1000 -> 0 | K29: =$G$11*C29/$E$2*($G$12+$G$13)*$E$2*0.000000001*$B$8*1000 -> 0.0030252328 | L29: =($G$14+$G$15)*$E$2*0.000000001*$G$16*$B$8*1000 -> 0 | M29: =($B$18/(2*3^0.5))^2*$G$17/1000+(C29*(($B$5-$B$6)*$B$6)^0.5/$B$5)^2*$G$18/1000 -> 6.5209e-05 | N29: =$G$19*$G$20/1000*$E$2/2 -> 0.0498 | O29: =SUM(D29:M29,N29) -> 0.090819932 | P29: =$B$6*B29 -> 0.396 | Q29: =P29/(O29+P29)*100 -> 81.344245 | R29: =$B$17/$E$2*A29/100 -> 0.12 | S29: =D29+E29+F29+G29+M29 -> 0.028162693 | T29: =SUM(H29:L29) -> 0.012857239 | U29: =N29/O29*100 -> 54.833778 | V29: =S29/O29*100 -> 31.009374 | W29: =T29/O29*100 -> 14.156848
A30: =A29+2*$E$2 -> 14 | B30: =$B$17/$E$2*A30/100 -> 0.14 | C30: =(B30^2 + $B$18^2/12)^0.5 -> 0.16757113 | D30: =(C30/$E$2)^2*$B$12/1000*$B$7/100*$E$2 -> 0.002355217 | E30: =(C30/$E$2)^2*$B$13/1000*(1-$B$7/100)*$E$2 -> 0.0036237348 | F30: =(C30/$E$2)^2*($B$16/1000)*$E$2 -> 0 | G30: =(C30/$E$2)^2*($B$14/1000)*$E$2 + $B$15/1000*$E$2 -> 0.023588182 | H30: =0.5*$B$5*C30/$E$2*($G$5+$G$6)*$E$2*0.000000001*$B$8*1000 -> 0.010054268 | I30: =0.5*$G$11*C30/$E$2*($G$7+$G$8)*$E$2*0.000000001*$B$8*1000 -> 0.00083785565 | J30: =0.5*($G$9+$G$10)*$E$2*0.000000000001*($B$5)^2*$B$8*1000 -> 0 | K30: =$G$11*C30/$E$2*($G$12+$G$13)*$E$2*0.000000001*$B$8*1000 -> 0.0033514226 | L30: =($G$14+$G$15)*$E$2*0.000000001*$G$16*$B$8*1000 -> 0 | M30: =($B$18/(2*3^0.5))^2*$G$17/1000+(C30*(($B$5-$B$6)*$B$6)^0.5/$B$5)^2*$G$18/1000 -> 7.039275e-05 | N30: =$G$19*$G$20/1000*$E$2/2 -> 0.0498 | O30: =SUM(D30:M30,N30) -> 0.093681072 | P30: =$B$6*B30 -> 0.462 | Q30: =P30/(O30+P30)*100 -> 83.141216 | R30: =$B$17/$E$2*A30/100 -> 0.14 | S30: =D30+E30+F30+G30+M30 -> 0.029637526 | T30: =SUM(H30:L30) -> 0.014243546 | U30: =N30/O30*100 -> 53.159084 | V30: =S30/O30*100 -> 31.636622 | W30: =T30/O30*100 -> 15.204294
A31: =A30+2*$E$2 -> 16 | B31: =$B$17/$E$2*A31/100 -> 0.16 | C31: =(B31^2 + $B$18^2/12)^0.5 -> 0.18460792 | D31: =(C31/$E$2)^2*$B$12/1000*$B$7/100*$E$2 -> 0.002858467 | E31: =(C31/$E$2)^2*$B$13/1000*(1-$B$7/100)*$E$2 -> 0.0043980348 | F31: =(C31/$E$2)^2*($B$16/1000)*$E$2 -> 0 | G31: =(C31/$E$2)^2*($B$14/1000)*$E$2 + $B$15/1000*$E$2 -> 0.024006382 | H31: =0.5*$B$5*C31/$E$2*($G$5+$G$6)*$E$2*0.000000001*$B$8*1000 -> 0.011076475 | I31: =0.5*$G$11*C31/$E$2*($G$7+$G$8)*$E$2*0.000000001*$B$8*1000 -> 0.00092303959 | J31: =0.5*($G$9+$G$10)*$E$2*0.000000000001*($B$5)^2*$B$8*1000 -> 0 | K31: =$G$11*C31/$E$2*($G$12+$G$13)*$E$2*0.000000001*$B$8*1000 -> 0.0036921584 | L31: =($G$14+$G$15)*$E$2*0.000000001*$G$16*$B$8*1000 -> 0 | M31: =($B$18/(2*3^0.5))^2*$G$17/1000+(C31*(($B$5-$B$6)*$B$6)^0.5/$B$5)^2*$G$18/1000 -> 7.6374e-05 | N31: =$G$19*$G$20/1000*$E$2/2 -> 0.0498 | O31: =SUM(D31:M31,N31) -> 0.096830931 | P31: =$B$6*B31 -> 0.528 | Q31: =P31/(O31+P31)*100 -> 84.502859 | R31: =$B$17/$E$2*A31/100 -> 0.16 | S31: =D31+E31+F31+G31+M31 -> 0.031339258 | T31: =SUM(H31:L31) -> 0.015691673 | U31: =N31/O31*100 -> 51.429848 | V31: =S31/O31*100 -> 32.364924 | W31: =T31/O31*100 -> 16.205228
A32: =A31+2*$E$2 -> 18 | B32: =$B$17/$E$2*A32/100 -> 0.18 | C32: =(B32^2 + $B$18^2/12)^0.5 -> 0.20218824 | D32: =(C32/$E$2)^2*$B$12/1000*$B$7/100*$E$2 -> 0.003428817 | E32: =(C32/$E$2)^2*$B$13/1000*(1-$B$7/100)*$E$2 -> 0.0052755748 | F32: =(C32/$E$2)^2*($B$16/1000)*$E$2 -> 0 | G32: =(C32/$E$2)^2*($B$14/1000)*$E$2 + $B$15/1000*$E$2 -> 0.024480342 | H32: =0.5*$B$5*C32/$E$2*($G$5+$G$6)*$E$2*0.000000001*$B$8*1000 -> 0.012131294 | I32: =0.5*$G$11*C32/$E$2*($G$7+$G$8)*$E$2*0.000000001*$B$8*1000 -> 0.0010109412 | J32: =0.5*($G$9+$G$10)*$E$2*0.000000000001*($B$5)^2*$B$8*1000 -> 0 | K32: =$G$11*C32/$E$2*($G$12+$G$13)*$E$2*0.000000001*$B$8*1000 -> 0.0040437647 | L32: =($G$14+$G$15)*$E$2*0.000000001*$G$16*$B$8*1000 -> 0 | M32: =($B$18/(2*3^0.5))^2*$G$17/1000+(C32*(($B$5-$B$6)*$B$6)^0.5/$B$5)^2*$G$18/1000 -> 8.315275e-05 | N32: =$G$19*$G$20/1000*$E$2/2 -> 0.0498 | O32: =SUM(D32:M32,N32) -> 0.10025389 | P32: =$B$6*B32 -> 0.594 | Q32: =P32/(O32+P32)*100 -> 85.559478 | R32: =$B$17/$E$2*A32/100 -> 0.18 | S32: =D32+E32+F32+G32+M32 -> 0.033267886 | T32: =SUM(H32:L32) -> 0.017186 | U32: =N32/O32*100 -> 49.673885 | V32: =S32/O32*100 -> 33.183638 | W32: =T32/O32*100 -> 17.142478
A33: =A32+2*$E$2 -> 20 | B33: =$B$17/$E$2*A33/100 -> 0.2 | C33: =(B33^2 + $B$18^2/12)^0.5 -> 0.22018193 | D33: =(C33/$E$2)^2*$B$12/1000*$B$7/100*$E$2 -> 0.004066267 | E33: =(C33/$E$2)^2*$B$13/1000*(1-$B$7/100)*$E$2 -> 0.0062563548 | F33: =(C33/$E$2)^2*($B$16/1000)*$E$2 -> 0 | G33: =(C33/$E$2)^2*($B$14/1000)*$E$2 + $B$15/1000*$E$2 -> 0.025010062 | H33: =0.5*$B$5*C33/$E$2*($G$5+$G$6)*$E$2*0.000000001*$B$8*1000 -> 0.013210916 | I33: =0.5*$G$11*C33/$E$2*($G$7+$G$8)*$E$2*0.000000001*$B$8*1000 -> 0.0011009097 | J33: =0.5*($G$9+$G$10)*$E$2*0.000000000001*($B$5)^2*$B$8*1000 -> 0 | K33: =$G$11*C33/$E$2*($G$12+$G$13)*$E$2*0.000000001*$B$8*1000 -> 0.0044036386 | L33: =($G$14+$G$15)*$E$2*0.000000001*$G$16*$B$8*1000 -> 0 | M33: =($B$18/(2*3^0.5))^2*$G$17/1000+(C33*(($B$5-$B$6)*$B$6)^0.5/$B$5)^2*$G$18/1000 -> 9.0729e-05 | N33: =$G$19*$G$20/1000*$E$2/2 -> 0.0498 | O33: =SUM(D33:M33,N33) -> 0.10393888 | P33: =$B$6*B33 -> 0.66 | Q33: =P33/(O33+P33)*100 -> 86.394346 | R33: =$B$17/$E$2*A33/100 -> 0.2 | S33: =D33+E33+F33+G33+M33 -> 0.035423413 | T33: =SUM(H33:L33) -> 0.018715464 | U33: =N33/O33*100 -> 47.912775 | V33: =S33/O33*100 -> 34.081004 | W33: =T33/O33*100 -> 18.006221
A34: =A33+2*$E$2 -> 22 | B34: =$B$17/$E$2*A34/100 -> 0.22 | C34: =(B34^2 + $B$18^2/12)^0.5 -> 0.23849546 | D34: =(C34/$E$2)^2*$B$12/1000*$B$7/100*$E$2 -> 0.004770817 | E34: =(C34/$E$2)^2*$B$13/1000*(1-$B$7/100)*$E$2 -> 0.0073403748 | F34: =(C34/$E$2)^2*($B$16/1000)*$E$2 -> 0 | G34: =(C34/$E$2)^2*($B$14/1000)*$E$2 + $B$15/1000*$E$2 -> 0.025595542 | H34: =0.5*$B$5*C34/$E$2*($G$5+$G$6)*$E$2*0.000000001*$B$8*1000 -> 0.014309727 | I34: =0.5*$G$11*C34/$E$2*($G$7+$G$8)*$E$2*0.000000001*$B$8*1000 -> 0.0011924773 | J34: =0.5*($G$9+$G$10)*$E$2*0.000000000001*($B$5)^2*$B$8*1000 -> 0 | K34: =$G$11*C34/$E$2*($G$12+$G$13)*$E$2*0.000000001*$B$8*1000 -> 0.0047699092 | L34: =($G$14+$G$15)*$E$2*0.000000001*$G$16*$B$8*1000 -> 0 | M34: =($B$18/(2*3^0.5))^2*$G$17/1000+(C34*(($B$5-$B$6)*$B$6)^0.5/$B$5)^2*$G$18/1000 -> 9.910275e-05 | N34: =$G$19*$G$20/1000*$E$2/2 -> 0.0498 | O34: =SUM(D34:M34,N34) -> 0.10787795 | P34: =$B$6*B34 -> 0.726 | Q34: =P34/(O34+P34)*100 -> 87.063101 | R34: =$B$17/$E$2*A34/100 -> 0.22 | S34: =D34+E34+F34+G34+M34 -> 0.037805836 | T34: =SUM(H34:L34) -> 0.020272114 | U34: =N34/O34*100 -> 46.16328 | V34: =S34/O34*100 -> 35.045008 | W34: =T34/O34*100 -> 18.791712
A35: =A34+2*$E$2 -> 24 | B35: =$B$17/$E$2*A35/100 -> 0.24 | C35: =(B35^2 + $B$18^2/12)^0.5 -> 0.25706047 | D35: =(C35/$E$2)^2*$B$12/1000*$B$7/100*$E$2 -> 0.005542467 | E35: =(C35/$E$2)^2*$B$13/1000*(1-$B$7/100)*$E$2 -> 0.0085276348 | F35: =(C35/$E$2)^2*($B$16/1000)*$E$2 -> 0 | G35: =(C35/$E$2)^2*($B$14/1000)*$E$2 + $B$15/1000*$E$2 -> 0.026236782 | H35: =0.5*$B$5*C35/$E$2*($G$5+$G$6)*$E$2*0.000000001*$B$8*1000 -> 0.015423628 | I35: =0.5*$G$11*C35/$E$2*($G$7+$G$8)*$E$2*0.000000001*$B$8*1000 -> 0.0012853023 | J35: =0.5*($G$9+$G$10)*$E$2*0.000000000001*($B$5)^2*$B$8*1000 -> 0 | K35: =$G$11*C35/$E$2*($G$12+$G$13)*$E$2*0.000000001*$B$8*1000 -> 0.0051412093 | L35: =($G$14+$G$15)*$E$2*0.000000001*$G$16*$B$8*1000 -> 0 | M35: =($B$18/(2*3^0.5))^2*$G$17/1000+(C35*(($B$5-$B$6)*$B$6)^0.5/$B$5)^2*$G$18/1000 -> 0.000108274 | N35: =$G$19*$G$20/1000*$E$2/2 -> 0.0498 | O35: =SUM(D35:M35,N35) -> 0.1120653 | P35: =$B$6*B35 -> 0.792 | Q35: =P35/(O35+P35)*100 -> 87.604292 | R35: =$B$17/$E$2*A35/100 -> 0.24 | S35: =D35+E35+F35+G35+M35 -> 0.040415158 | T35: =SUM(H35:L35) -> 0.02185014 | U35: =N35/O35*100 -> 44.438378 | V35: =S35/O35*100 -> 36.063936 | W35: =T35/O35*100 -> 19.497686
... A73: =A72+2*$E$2 -> 100 | B73: =$B$17/$E$2*A73/100 -> 1 | C73: =(B73^2 + $B$18^2/12)^0.5 -> 1.0042311 | D73: =(C73/$E$2)^2*$B$12/1000*$B$7/100*$E$2 -> 0.084586267 | E73: =(C73/$E$2)^2*$B$13/1000*(1-$B$7/100)*$E$2 -> 0.13014435 | F73: =(C73/$E$2)^2*($B$16/1000)*$E$2 -> 0 | G73: =(C73/$E$2)^2*($B$14/1000)*$E$2 + $B$15/1000*$E$2 -> 0.091922062 | H73: =0.5*$B$5*C73/$E$2*($G$5+$G$6)*$E$2*0.000000001*$B$8*1000 -> 0.060253865 | I73: =0.5*$G$11*C73/$E$2*($G$7+$G$8)*$E$2*0.000000001*$B$8*1000 -> 0.0050211555 | J73: =0.5*($G$9+$G$10)*$E$2*0.000000000001*($B$5)^2*$B$8*1000 -> 0 | K73: =$G$11*C73/$E$2*($G$12+$G$13)*$E$2*0.000000001*$B$8*1000 -> 0.020084622 | L73: =($G$14+$G$15)*$E$2*0.000000001*$G$16*$B$8*1000 -> 0 | M73: =($B$18/(2*3^0.5))^2*$G$17/1000+(C73*(($B$5-$B$6)*$B$6)^0.5/$B$5)^2*$G$18/1000 -> 0.001047729 | N73: =$G$19*$G$20/1000*$E$2/2 -> 0.0498 | O73: =SUM(D73:M73,N73) -> 0.44286006 | P73: =$B$6*B73 -> 3.3 | Q73: =P73/(O73+P73)*100 -> 88.16787 | R73: =$B$17/$E$2*A73/100 -> 1 | S73: =D73+E73+F73+G73+M73 -> 0.30770041 | T73: =SUM(H73:L73) -> 0.085359643 | U73: =N73/O73*100 -> 11.245087 | V73: =S73/O73*100 -> 69.480281 | W73: =T73/O73*100 -> 19.274631

Sheet Components
B3: Inductors
B4: Manufacturer | C4: P/N | D4: Value (uH) | E4: L_DCR (mΩ) | F4: L_ac 300kHz core loss (mW) | G4: L_ac 500kHz core loss (mW) | H4: L_ac 800kHz core loss (mW) | I4: L_ac 1MHz core loss (mW) | J4: Estimate core loss (mW) *Note | M4: Freq (kHz) | N4: XGL4020 - 0.82uH | O4: XEL5050 - 4.7uH | P4: XEL5050 - 5.6uH | Q4: XEL5050 -6.8uH | R4: XEL5050 - 15uH
B5: *Coilcraft | C5: XGL4020 - 0.82uH | D5: 0.82 | E5: 7.7 | F5: 8 | G5: 15 | H5: 25 | I5: 31 | J5: =-0.000005*(Efficiency!B8)^2+0.0394*(Efficiency!B8)-3.4052 -> 15.0448 | M5: 300 | N5: 8 | O5: 20 | P5: 22 | Q5: 12 | R5: 16
B6: *Coilcraft | C6: XEL5050 - 4.7uH | D6: 4.7 | E6: 19.6 | F6: 20 | G6: 33 | H6: 38 | I6: 42 | J6: =-0.00004*(Efficiency!B8)^2+0.0876*(Efficiency!B8)-1.44 -> 32.36 | M6: 500 | N6: 15 | O6: 33 | P6: 36 | Q6: 14 | R6: 19
B7: *Coilcraft | C7: XEL5050 - 5.6uH | D7: 5.6 | E7: 22.6 | F7: =P5 -> 22 | G7: =P6 -> 36 | H7: =P7 -> 47 | I7: =P8 -> 54 | J7: =-0.00003*(Efficiency!B8)^2+0.09*(Efficiency!B8)-1.3017 -> 36.1983 | M7: 800 | N7: 25 | O7: 38 | P7: 47 | Q7: 16 | R7: 33
B8: **Coilcraft | C8: XEL5050 - 6.8uH | D8: 6.8 | E8: 26.8 | F8: 108 | G8: 150 | H8: 220 | I8: 267 | J8: =0.0083*(Efficiency!B8)+9.6207 -> 13.7707 | M8: 1000 | N8: 31 | O8: 42 | P8: 54 | Q8: 18 | R8: 41
B9: **Coilcraft | C9: XEL5050 - 15uH | D9: 15 | E9: 69.7 | F9: 16 | G9: 19 | H9: 33 | I9: 41 | J9: =0.00003*(Efficiency!B8)^2+0.0049*(Efficiency!B8)+11.681 -> 21.631
B10: Coilcraft
B12: *Note: Core loss data for Coilcraft inductors are taken from Coilcraft website calculator for 2Arms and 30% ripple
B13: **Note: Core loss data for Coilcraft inductors are taken from Coilcraft website calculator for 1Arms and 30% ripple
B14: *Note: Estimated AC core loss is estimated by using polynomial curve fit of Coilcraft website calculator data

Sheet Operating Current
C5: I_VIN (mA)
B6: Fsw (kHz) | C6: PVIN=3V | D6: PVIN=12V | E6: PVIN=18V
B7: 300
B8: 500 | C8: 4.1 | D8: 8.3 | E8: 9.8
B9: 1000
C11: I_VIN (mA)
C12: PVIN=3V | D12: PVIN=12V | E12: PVIN=18V
B13: 300
B14: 350
B15: 400
B16: 450
B17: 500 | C17: 4.1 | D17: 8.3 | E17: 9.8
B18: 550
B19: 600
B20: 650
B21: 700
B22: 750
B23: 800
B24: 850
B25: 900
B26: 950
B27: 1000

Sheet Rev History
B2: Revision | C2: Date | D2: Notes
B3: 0.1 | C3: 45513 | D3: Initial Version
