Workbook
Name CCOMP_MIN: #REF!
Name CDROOP: #REF!
Name COUT_MIN: #REF!
Name COUT_QTY: #REF!
Name COUT_ZERO: #REF!
Name CPOLE_MIN: #REF!
Name ESR_EQUIV: #REF!
Name Fstart: #REF!
Name ft: #REF!
Name Loop_Gain_Totalpoints: #REF!
Name RCOMP: #REF!
Name RDROOP: #REF!
Name Ripple_percent: #REF!
Name RSEN: #REF!
Name RSLOPE: #REF!
Name Step: #REF!

Sheet Main
E2: These cells are inputs
E3: These cells are the output
E4: These cells are the copied from the COUT/CIN Design tabs for convenience
E5: These cells have an error
B6: ISL73007 Design Tool. Revision: | C6: =MAX('Revision History'!C4:C14) -> 1.3
G7: External COMP | H7: Internal COMP
B8: Input Voltage (VIN) | C8: 12 | D8: V | F8: Output Load Step (ISTEP) | G8: 2 | H8: =0.5*'DS Parameters'!D3 -> 1.5 | I8: A | K8: This tool uses nominal design targets to calculate the schematic component values. The numbers produced by this tool are a starting point for design with the expectation that the values will be adjusted to meet the final application requirements. It is the responsibility of the consumer to make sure that the values produced by this tool meets the requirements of their given application. Software License Agreement The software supplied herewith by Renesas Electronics America Inc. (the "Company") is intended and supplied to you, the Company's customer, for use solely and exclusively on Renesas' Intersil family of products. The software is owned by the Company and/or its supplier, and is protected under applicable copyright laws. All rights are reserved. Any use in violation of the foregoing restrictions may subject the user to criminal sanctions under applicable laws, as well as to civil liability for the breach of the terms and conditions of this license. THIS SOFTWARE IS PROVIDED IN AN "AS IS" CONDITION. NO WARRANTIES, WHETHER EXPRESS, IMPLIED OR STATUTORY, INCLUDING, BUT NOT LIMITED TO, IMPLIED WARRANTIES OF MERCHANTABILITY AND FITNESS FOR A PARTICULAR PURPOSE APPLY TO THIS SOFTWARE. THE COMPANY SHALL NOT, IN ANY CIRCUMSTANCES, BE LIABLE FOR SPECIAL, INCIDENTAL OR CONSEQUENTIAL DAMAGES, FOR ANY REASON WHATSOEVER.
B9: Output Voltage (VOUT) | C9: 3.3 | D9: V | F9: Load Step Rise/Fall Time (tSTEP) | G9: 100 | I9: ns
B10: Max Load Current (IOUT(MAX)) | C10: 3 | D10: A | F10: Allowed ΔVOUT During Load Transient (tranpercent) | G10: 2 | H10: 2 | I10: %
B11: Switching Frequency (fSW) (300kHz to 1MHz, 500kHz default) | C11: 500 | D11: kHz | F11: Allowed ΔVOUT During Load Transient (∆VOUT) | G11: =G10*C24/100 -> 0.066545455 | H11: =H10*C24/100 -> 0.066545455 | I11: V
B12: Target Duty Cycle (d) | C12: =100*C9/C8 -> 27.5 | D12: %
B13: Typical ON Time | C13: =(C12*0.01/C11)*1000000 -> 550 | D13: ns
B14: Typical OFF Time | C14: =((1-(C12*0.01))/C11)*1000000 -> 1450 | D14: ns
B16: Use External Clock on SYNC-I (fOSC-15%)? (not available in CDFP) | C16: No | G16: External COMP | H16: Internal COMP
B17: Frequency Select Resistor (RFS) | C17: =IF(C16="Yes",'DS Parameters'!C37,'DS Parameters'!C34) -> 100 | D17: kΩ | F17: Calculated Compensation Resistor (RCOMP) | G17: =G8/(0.01*G10*'DS Parameters'!D2*'DS Parameters'!D6/1000*'DS Parameters'!D7*1000) -> 15.04755 | I17: kΩ
B18: Recommended Bottom Feedback Resistor (see datasheet for SYNC explanation) | C18: =IF(C16="Yes",0.2,2) -> 2 | D18: kΩ | F18: Selected Compensation Resistor (RCOMP) | G18: 14 | I18: kΩ
B19: Actual Bottom Feedback Resistor (R2) (recommend 0.1%) | C19: 2.2 | D19: kΩ | F19: Target Unity Gain Frequency (fT = fsw/10) | G19: =C11/10 -> 50 | I19: kHz
B20: Recommended Top Feedback Resistor | C20: =(Main!C9-'DS Parameters'!D2)/('DS Parameters'!D2/C19) -> 9.9 | D20: kΩ | F20: Minimum COUT (COUT(MIN)) | G20: ='DS Parameters'!D2*'DS Parameters'!D6*'DS Parameters'!D7*G18*1000/(2*PI()*G19*C24) -> 89.006958 | H20: =1000*'DS Parameters'!D2*'DS Parameters'!D5*'DS Parameters'!D7/(2*PI()*Main!G19*Main!C24) -> 82.656207 | I20: µF
B21: Top Feedback Resistor (R1) (recommend 0.1%) | C21: 10 | D21: kΩ | F21: Target COUT Impedance (ZTARGET) | G21: =((C24*G10*0.01)/G8)*1000 -> 33.272727 | I21: mΩ
F22: Output Capacitance (COUT) - USE COUT DESIGN TAB | G22: ='COUT Network Design'!C43 -> 144 | I22: µF
B23: Lower FB resistor should be ≤220Ω when using SYNC | C23: =IF(AND((C16="Yes"),(C19>0.22)),"FB too high","OK") -> OK
B24: Calculated Output Voltage (VOUT) | C24: ='DS Parameters'!D2*(1+(Main!C21/C19)) -> 3.3272727 | D24: V | F24: Calculated Unity Gain Frequency (fT = fsw/10) | G24: =1000000*'DS Parameters'!D2/Main!C24*Main!G18/(2*PI())/Main!G22/(1000/'DS Parameters'!D7) -> 33.483417 | H24: =1000*'DS Parameters'!D2*'DS Parameters'!D5*'DS Parameters'!D7/(2*PI()*G22*Main!C24) -> 28.700072 | I24: kHz
F25: Target Compensation Zero Frequency (fZ = fT/10) | G25: =G24/10 -> 3.3483417 | H25: 5 (fixed) | I25: kHz
B26: Minimum Inductor based on maximum slope comp (LMIN) | C26: =C24*C17/'DS Parameters'!D8 -> 2.0538721 | D26: uH | F26: Recommended Compensation Capacitor (CCOMP(MIN)) | G26: =1000/(2*PI()*G25*G18) -> 3.3951763 | I26: nF
B27: Maximum Inductor (LMAX) | C27: =4*C26 -> 8.2154882 | D27: uH | F27: Compensation Capacitor (CCOMP) | G27: 3.9 | I27: nF
B29: Target Ripple Current (ΔIL) | C29: 33 | D29: % | F29: Bulk Capacitor ESR Equivalent (ESRTOTAL) | G29: ='COUT Network Design'!C14 -> 30 | I29: mΩ
B30: Inductor Value based on ripple (LREC) | C30: =1000000*(C8-C24)*0.01*C12/(C29*0.01*C10*C11*1000) -> 4.8181818 | D30: uH
F31: Bulk Output COUT ESR Zero Frequency (fZ) | G31: =1000000/(2*PI()*G22*G29) -> 36.841422 | I31: kHz
B32: Selected Inductor Value (LSEL) | C32: 4.7 | D32: uH | F32: Minimum Pole Capacitor (CP(MIN)) | G32: =1000000/(2*PI()*G31*G18) -> 308.57143 | I32: pF
B33: Estimated Inductor Ripple current (IRIPPLE) | C33: =10*(C8-C24)*C12/(C11*C32) -> 1.0148936 | D33: A
B34: Estimated Inductor Ripple ratio (IRIPPLE/IOUT(MAX)) | C34: =100*C33/C10 -> 33.829787 | D34: % | F34: VOUT Soft-Start Time (tSS) | G34: =(IF(C11>500,_xlfn.FORECAST.LINEAR(C11,'DS Parameters'!D25:D26,'DS Parameters'!C25:C26),_xlfn.FORECAST.LINEAR(C11,'DS Parameters'!D24:D25,'DS Parameters'!C24:C25)))/C11 -> 4.5 | I34: ms
B35: Recommended Slope Resistor (RSLOPE) | C35: ='DS Parameters'!D9*C17*C24/C32 -> 43.891683 | D35: kΩ | F35: In-rush Current (IRUSH) | G35: =(G22*(0.000001)*C24*C12*0.01)/(G34/1000) -> 0.02928 | I35: A
B36: Actual RSLOPE must be between 25kΩ and 100kΩ. | C36: =IF(AND(C35<=100,C35>=25),"RSLOPE OK","RSLOPE Out of Range") -> RSLOPE OK | F36: Total starting time (EN to PGOOD) | G36: =G34+(IF(C11>500,_xlfn.FORECAST.LINEAR(C11,'DS Parameters'!D28:D29,'DS Parameters'!C28:C29),_xlfn.FORECAST.LINEAR(C11,'DS Parameters'!D27:D28,'DS Parameters'!C27:C28)))/C11 -> 7.4 | I36: ms
B37: Actual (RSLOPE) (set to "100" if using SLOPE = VCC) | C37: 44.2 | D37: kΩ
F38: Input Capacitor RMS Current (ICINrms) | G38: ='CIN Network Design'!C18 -> 1.3483247 | I38: A
F40: Recommended VCC Capacitor | G40: 3.9 | I40: µF

Sheet DS Parameters
B2: Internal Voltage Reference (VREF) | D2: 0.6 | E2: V | F2: Typical
B3: Maximum load current (IMAX) | D3: 3 | E3: A
B5: Internal Error Amplifier Proportional gain (AEAP) | D5: 12
B6: External Error Amplifier Transconductance (gm(EA)ext) | D6: 0.923 | E6: mA/V | F6: Typical
B7: PWM modulator transconductance | D7: 12 | E7: A/V | F7: Typical
B8: Max Slope Comp numerator | D8: 162 | E8: V/ns | F8: Typical
B9: RSLOPE constant | D9: 0.62 | F9: Typical
B10: Minimum Controllable ON-Time () | D10: 260 | E10: ns | F10: Absolute Max
B11: Minimum Controllable OFF-Time () | D11: 210 | E11: ns | F11: Absolute Max
F12: Typical
B13: VOUT rise time 300kHz (from Figure 34. ENABLE to LX and VOUT to PGOOD Turn-On 300kHz) | C13: 300kHz | D13: 8 | E13: ms | F13: Typical
B14: Total startup time (EN to PGOOD) 300kHz (from DS Specification Power Good Rising Delay tSSPGdlyr) | C14: 300kHz | D14: 12.5 | E14: ms | F14: Typical
B15: VOUT rise time 500kHz (from Figure 33. ENABLE to LX and VOUT to PGOOD Turn-On 500kHz) | C15: 500kHz | D15: 4.5 | E15: ms | F15: Typical
B16: Total startup time (EN to PGOOD) 500kHz (from DS Specification Power Good Rising Delay tSSPGdlyr) | C16: 500kHz | D16: 7.4 | E16: ms | F16: Typical
B17: VOUT rise time 1MHz (from Figure 35. ENABLE to LX and VOUT to PGOOD Turn-On 1000kHz) | C17: 1MHz | D17: 2.5 | E17: ms | F17: Typical
B18: Total startup time (EN to PGOOD) 1MHz (from DS Specification Power Good Rising Delay tSSPGdlyr) | C18: 1MHz | D18: 4 | E18: ms | F18: Typical
B23: Supporting equations
B24: SS extrapolation: VOUT rise time (for inrush calculation) | C24: 300 | D24: =D13*C24 -> 2400 | E24: cycles
C25: 500 | D25: =D15*C25 -> 2250 | E25: cycles
C26: 1000 | D26: =D17*C26 -> 2500 | E26: cycles
B27: SS interpolation: Extra EN to PGOOD time (for PGOOD delay) | C27: 300 | D27: =(D14-D13)*C27 -> 1350 | E27: cycles
C28: 500 | D28: =(D16-D15)*C28 -> 1450 | E28: cycles
C29: 1000 | D29: =(D18-D17)*C29 -> 1500 | E29: cycles
B33: Switching Frequency (fSW) (300kHz to 1MHz, 500kHz default) | C33: =Main!C11 -> 500 | D33: kHz
B34: Frequency Select Resistor (RFS) if not using sync | C34: =IF(C33=1000,42.7,IF(C33=500,100,IF(C33=300,174,(57356/C33)-14.53))) -> 100 | D34: kΩ
B36: fosc if using sync | C36: =C33*0.85 -> 425 | D36: kHz
B37: Frequency Select Resistor (RFS) if using sync | C37: =IF(C36=1000,42.7,IF(C36=500,100,IF(C36=300,174,(57356/C36)-14.53))) -> 120.42529 | D37: kΩ

Sheet COUT Network Design
G2: These cells are inputs
B3: Target Output Impedance (ZTARGET) | C3: =Main!G21 -> 33.272727 | D3: mΩ | G3: These cells are the output
B4: Crossover Frequency (fT) | C4: =Main!G19 -> 50 | D4: kHz | G4: These cells are automatically copied from the Main tab for convenience
B5: Minimum COUT EXT COMP (COUT(MIN)) | C5: =Main!G20 -> 89.006958 | D5: µF
B6: Minimum COUT INT COMP (COUT(MIN)) | C6: =Main!H20 -> 82.656207 | D6: µF | O6: FREQ (Hz) | P6: Z(TOTAL) | Q6: Z(TARGET) | S6: XC(BULK) (Ω) | T6: XL(BULK) (Ω) | U6: R(BULK) (Ω) | V6: Z(BULK) | X6: XC(MF1) (Ω) | Y6: XL(MF1) (Ω) | Z6: R(MF1) (Ω) | AA6: Z(MF1) | AC6: XC(HF) (Ω) | AD6: XL(HF) (mΩ) | AE6: R(HF) (Ω) | AF6: Z(HF) | AH6: fC | AI6: y-value
B7: Load Step Rise/Fall Time (tSTEP) | C7: =Main!G9 -> 100 | D7: ns | O7: 1 | P7: {=_xlfn.IFS( AND($C$20="No",$C$33="Yes"), 1/((1/V7)+(1/AF7)), AND($C$20="Yes",$C$33="No"), 1/((1/V7)+(1/AA7)), AND($C$20="No",$C$33="No"), 1/((1/V7)), AND($C$20="Yes",$C$33="Yes"), 1/((1/V7)+(1/AA7)+(1/AF7)))} -> 1105.2427 | Q7: =$C$3/1000 -> 0.033272727 | S7: =1/(2*PI()*$O7*$C$12*$C$9*0.000001) -> 1591.5494 | T7: =2*PI()*$O7*((0.000000001*$C$11)/$C$12) -> 1.4451326e-08 | U7: =(0.001*$C$10)/$C$12 -> 0.03 | V7: =SQRT(U7^(2)+ABS(S7-T7)^(2)) -> 1591.5494 | X7: =1/(2*PI()*$O7*$C$24*$C$21*0.000001) -> 3617.1578 | Y7: =2*PI()*$O7*((0.000000001*$C$23)/$C$24) -> 2.0420352e-09 | Z7: =(0.001*$C$22)/$C$24 -> 0.001 | AA7: =IF($C$20="Yes", SQRT(Z7^(2)+ABS(X7-Y7)^(2)), 0) -> 0 | AC7: =1/(2*PI()*$O7*$C$37*$C$34*0.000001) -> 3617.1578 | AD7: =2*PI()*$O7*((0.000000001*$C$36)/$C$37) -> 2.0420352e-09 | AE7: =(0.001*$C$35)/$C$37 -> 0.001 | AF7: =IF($C$33="Yes", SQRT(AE7^(2)+ABS(AC7-AD7)^(2)), 0) -> 3617.1578 | AH7: =C4*1000 -> 50000 | AI7: 1e-05
O8: 2 | P8: {=_xlfn.IFS( AND($C$20="No",$C$33="Yes"), 1/((1/V8)+(1/AF8)), AND($C$20="Yes",$C$33="No"), 1/((1/V8)+(1/AA8)), AND($C$20="No",$C$33="No"), 1/((1/V8)), AND($C$20="Yes",$C$33="Yes"), 1/((1/V8)+(1/AA8)+(1/AF8)))} -> 552.62133 | Q8: =$C$3/1000 -> 0.033272727 | S8: =1/(2*PI()*$O8*$C$12*$C$9*0.000001) -> 795.77472 | T8: =2*PI()*$O8*((0.000000001*$C$11)/$C$12) -> 2.8902652e-08 | U8: =(0.001*$C$10)/$C$12 -> 0.03 | V8: =SQRT(U8^(2)+ABS(S8-T8)^(2)) -> 795.77472 | X8: =1/(2*PI()*$O8*$C$24*$C$21*0.000001) -> 1808.5789 | Y8: =2*PI()*$O8*((0.000000001*$C$23)/$C$24) -> 4.0840704e-09 | Z8: =(0.001*$C$22)/$C$24 -> 0.001 | AA8: =IF($C$20="Yes", SQRT(Z8^(2)+ABS(X8-Y8)^(2)), 0) -> 0 | AC8: =1/(2*PI()*$O8*$C$37*$C$34*0.000001) -> 1808.5789 | AD8: =2*PI()*$O8*((0.000000001*$C$36)/$C$37) -> 4.0840704e-09 | AE8: =(0.001*$C$35)/$C$37 -> 0.001 | AF8: =IF($C$33="Yes", SQRT(AE8^(2)+ABS(AC8-AD8)^(2)), 0) -> 1808.5789
B9: Bulk Output Capacitor Value (COUT(BULK)) | C9: 100 | D9: µF | O9: 3 | P9: {=_xlfn.IFS( AND($C$20="No",$C$33="Yes"), 1/((1/V9)+(1/AF9)), AND($C$20="Yes",$C$33="No"), 1/((1/V9)+(1/AA9)), AND($C$20="No",$C$33="No"), 1/((1/V9)), AND($C$20="Yes",$C$33="Yes"), 1/((1/V9)+(1/AA9)+(1/AF9)))} -> 368.41422 | Q9: =$C$3/1000 -> 0.033272727 | S9: =1/(2*PI()*$O9*$C$12*$C$9*0.000001) -> 530.51648 | T9: =2*PI()*$O9*((0.000000001*$C$11)/$C$12) -> 4.3353979e-08 | U9: =(0.001*$C$10)/$C$12 -> 0.03 | V9: =SQRT(U9^(2)+ABS(S9-T9)^(2)) -> 530.51648 | X9: =1/(2*PI()*$O9*$C$24*$C$21*0.000001) -> 1205.7193 | Y9: =2*PI()*$O9*((0.000000001*$C$23)/$C$24) -> 6.1261057e-09 | Z9: =(0.001*$C$22)/$C$24 -> 0.001 | AA9: =IF($C$20="Yes", SQRT(Z9^(2)+ABS(X9-Y9)^(2)), 0) -> 0 | AC9: =1/(2*PI()*$O9*$C$37*$C$34*0.000001) -> 1205.7193 | AD9: =2*PI()*$O9*((0.000000001*$C$36)/$C$37) -> 6.1261057e-09 | AE9: =(0.001*$C$35)/$C$37 -> 0.001 | AF9: =IF($C$33="Yes", SQRT(AE9^(2)+ABS(AC9-AD9)^(2)), 0) -> 1205.7193 | AH9: fSTEP | AI9: y-value
B10: Bulk Output Capacitor ESR | C10: 30 | D10: mΩ | O10: 4 | P10: {=_xlfn.IFS( AND($C$20="No",$C$33="Yes"), 1/((1/V10)+(1/AF10)), AND($C$20="Yes",$C$33="No"), 1/((1/V10)+(1/AA10)), AND($C$20="No",$C$33="No"), 1/((1/V10)), AND($C$20="Yes",$C$33="Yes"), 1/((1/V10)+(1/AA10)+(1/AF10)))} -> 276.31067 | Q10: =$C$3/1000 -> 0.033272727 | S10: =1/(2*PI()*$O10*$C$12*$C$9*0.000001) -> 397.88736 | T10: =2*PI()*$O10*((0.000000001*$C$11)/$C$12) -> 5.7805305e-08 | U10: =(0.001*$C$10)/$C$12 -> 0.03 | V10: =SQRT(U10^(2)+ABS(S10-T10)^(2)) -> 397.88736 | X10: =1/(2*PI()*$O10*$C$24*$C$21*0.000001) -> 904.28945 | Y10: =2*PI()*$O10*((0.000000001*$C$23)/$C$24) -> 8.1681409e-09 | Z10: =(0.001*$C$22)/$C$24 -> 0.001 | AA10: =IF($C$20="Yes", SQRT(Z10^(2)+ABS(X10-Y10)^(2)), 0) -> 0 | AC10: =1/(2*PI()*$O10*$C$37*$C$34*0.000001) -> 904.28945 | AD10: =2*PI()*$O10*((0.000000001*$C$36)/$C$37) -> 8.1681409e-09 | AE10: =(0.001*$C$35)/$C$37 -> 0.001 | AF10: =IF($C$33="Yes", SQRT(AE10^(2)+ABS(AC10-AD10)^(2)), 0) -> 904.28945 | AH10: =0.35/(C7*0.000000001) -> 3500000 | AI10: 1e-05
B11: Bulk Output Capacitor ESL | C11: 2.3 | D11: nH | O11: 5 | P11: {=_xlfn.IFS( AND($C$20="No",$C$33="Yes"), 1/((1/V11)+(1/AF11)), AND($C$20="Yes",$C$33="No"), 1/((1/V11)+(1/AA11)), AND($C$20="No",$C$33="No"), 1/((1/V11)), AND($C$20="Yes",$C$33="Yes"), 1/((1/V11)+(1/AA11)+(1/AF11)))} -> 221.04853 | Q11: =$C$3/1000 -> 0.033272727 | S11: =1/(2*PI()*$O11*$C$12*$C$9*0.000001) -> 318.30989 | T11: =2*PI()*$O11*((0.000000001*$C$11)/$C$12) -> 7.2256631e-08 | U11: =(0.001*$C$10)/$C$12 -> 0.03 | V11: =SQRT(U11^(2)+ABS(S11-T11)^(2)) -> 318.30989 | X11: =1/(2*PI()*$O11*$C$24*$C$21*0.000001) -> 723.43156 | Y11: =2*PI()*$O11*((0.000000001*$C$23)/$C$24) -> 1.0210176e-08 | Z11: =(0.001*$C$22)/$C$24 -> 0.001 | AA11: =IF($C$20="Yes", SQRT(Z11^(2)+ABS(X11-Y11)^(2)), 0) -> 0 | AC11: =1/(2*PI()*$O11*$C$37*$C$34*0.000001) -> 723.43156 | AD11: =2*PI()*$O11*((0.000000001*$C$36)/$C$37) -> 1.0210176e-08 | AE11: =(0.001*$C$35)/$C$37 -> 0.001 | AF11: =IF($C$33="Yes", SQRT(AE11^(2)+ABS(AC11-AD11)^(2)), 0) -> 723.43156
B12: Quantity | C12: 1 | O12: 6 | P12: {=_xlfn.IFS( AND($C$20="No",$C$33="Yes"), 1/((1/V12)+(1/AF12)), AND($C$20="Yes",$C$33="No"), 1/((1/V12)+(1/AA12)), AND($C$20="No",$C$33="No"), 1/((1/V12)), AND($C$20="Yes",$C$33="Yes"), 1/((1/V12)+(1/AA12)+(1/AF12)))} -> 184.20711 | Q12: =$C$3/1000 -> 0.033272727 | S12: =1/(2*PI()*$O12*$C$12*$C$9*0.000001) -> 265.25824 | T12: =2*PI()*$O12*((0.000000001*$C$11)/$C$12) -> 8.6707957e-08 | U12: =(0.001*$C$10)/$C$12 -> 0.03 | V12: =SQRT(U12^(2)+ABS(S12-T12)^(2)) -> 265.25824 | X12: =1/(2*PI()*$O12*$C$24*$C$21*0.000001) -> 602.85963 | Y12: =2*PI()*$O12*((0.000000001*$C$23)/$C$24) -> 1.2252211e-08 | Z12: =(0.001*$C$22)/$C$24 -> 0.001 | AA12: =IF($C$20="Yes", SQRT(Z12^(2)+ABS(X12-Y12)^(2)), 0) -> 0 | AC12: =1/(2*PI()*$O12*$C$37*$C$34*0.000001) -> 602.85963 | AD12: =2*PI()*$O12*((0.000000001*$C$36)/$C$37) -> 1.2252211e-08 | AE12: =(0.001*$C$35)/$C$37 -> 0.001 | AF12: =IF($C$33="Yes", SQRT(AE12^(2)+ABS(AC12-AD12)^(2)), 0) -> 602.85963
B13: Total Bulk COUT (COUT(TOTAL-BULK)) | C13: =C12*C9 -> 100 | D13: µF | O13: 7 | P13: {=_xlfn.IFS( AND($C$20="No",$C$33="Yes"), 1/((1/V13)+(1/AF13)), AND($C$20="Yes",$C$33="No"), 1/((1/V13)+(1/AA13)), AND($C$20="No",$C$33="No"), 1/((1/V13)), AND($C$20="Yes",$C$33="Yes"), 1/((1/V13)+(1/AA13)+(1/AF13)))} -> 157.89181 | Q13: =$C$3/1000 -> 0.033272727 | S13: =1/(2*PI()*$O13*$C$12*$C$9*0.000001) -> 227.3642 | T13: =2*PI()*$O13*((0.000000001*$C$11)/$C$12) -> 1.0115928e-07 | U13: =(0.001*$C$10)/$C$12 -> 0.03 | V13: =SQRT(U13^(2)+ABS(S13-T13)^(2)) -> 227.36421 | X13: =1/(2*PI()*$O13*$C$24*$C$21*0.000001) -> 516.73683 | Y13: =2*PI()*$O13*((0.000000001*$C$23)/$C$24) -> 1.4294247e-08 | Z13: =(0.001*$C$22)/$C$24 -> 0.001 | AA13: =IF($C$20="Yes", SQRT(Z13^(2)+ABS(X13-Y13)^(2)), 0) -> 0 | AC13: =1/(2*PI()*$O13*$C$37*$C$34*0.000001) -> 516.73683 | AD13: =2*PI()*$O13*((0.000000001*$C$36)/$C$37) -> 1.4294247e-08 | AE13: =(0.001*$C$35)/$C$37 -> 0.001 | AF13: =IF($C$33="Yes", SQRT(AE13^(2)+ABS(AC13-AD13)^(2)), 0) -> 516.73683
B14: Total Bulk COUT ESR | C14: =C10/C12 -> 30 | D14: mΩ | O14: 8 | P14: {=_xlfn.IFS( AND($C$20="No",$C$33="Yes"), 1/((1/V14)+(1/AF14)), AND($C$20="Yes",$C$33="No"), 1/((1/V14)+(1/AA14)), AND($C$20="No",$C$33="No"), 1/((1/V14)), AND($C$20="Yes",$C$33="Yes"), 1/((1/V14)+(1/AA14)+(1/AF14)))} -> 138.15533 | Q14: =$C$3/1000 -> 0.033272727 | S14: =1/(2*PI()*$O14*$C$12*$C$9*0.000001) -> 198.94368 | T14: =2*PI()*$O14*((0.000000001*$C$11)/$C$12) -> 1.1561061e-07 | U14: =(0.001*$C$10)/$C$12 -> 0.03 | V14: =SQRT(U14^(2)+ABS(S14-T14)^(2)) -> 198.94368 | X14: =1/(2*PI()*$O14*$C$24*$C$21*0.000001) -> 452.14472 | Y14: =2*PI()*$O14*((0.000000001*$C$23)/$C$24) -> 1.6336282e-08 | Z14: =(0.001*$C$22)/$C$24 -> 0.001 | AA14: =IF($C$20="Yes", SQRT(Z14^(2)+ABS(X14-Y14)^(2)), 0) -> 0 | AC14: =1/(2*PI()*$O14*$C$37*$C$34*0.000001) -> 452.14472 | AD14: =2*PI()*$O14*((0.000000001*$C$36)/$C$37) -> 1.6336282e-08 | AE14: =(0.001*$C$35)/$C$37 -> 0.001 | AF14: =IF($C$33="Yes", SQRT(AE14^(2)+ABS(AC14-AD14)^(2)), 0) -> 452.14472
B15: Bulk Capacitor Resonance | C15: =(1/(2*PI()*(SQRT(C9*0.000001*C11*0.000000001))))*0.000001 -> 0.331861 | D15: MHz | O15: 9 | P15: {=_xlfn.IFS( AND($C$20="No",$C$33="Yes"), 1/((1/V15)+(1/AF15)), AND($C$20="Yes",$C$33="No"), 1/((1/V15)+(1/AA15)), AND($C$20="No",$C$33="No"), 1/((1/V15)), AND($C$20="Yes",$C$33="Yes"), 1/((1/V15)+(1/AA15)+(1/AF15)))} -> 122.80474 | Q15: =$C$3/1000 -> 0.033272727 | S15: =1/(2*PI()*$O15*$C$12*$C$9*0.000001) -> 176.83883 | T15: =2*PI()*$O15*((0.000000001*$C$11)/$C$12) -> 1.3006194e-07 | U15: =(0.001*$C$10)/$C$12 -> 0.03 | V15: =SQRT(U15^(2)+ABS(S15-T15)^(2)) -> 176.83883 | X15: =1/(2*PI()*$O15*$C$24*$C$21*0.000001) -> 401.90642 | Y15: =2*PI()*$O15*((0.000000001*$C$23)/$C$24) -> 1.8378317e-08 | Z15: =(0.001*$C$22)/$C$24 -> 0.001 | AA15: =IF($C$20="Yes", SQRT(Z15^(2)+ABS(X15-Y15)^(2)), 0) -> 0 | AC15: =1/(2*PI()*$O15*$C$37*$C$34*0.000001) -> 401.90642 | AD15: =2*PI()*$O15*((0.000000001*$C$36)/$C$37) -> 1.8378317e-08 | AE15: =(0.001*$C$35)/$C$37 -> 0.001 | AF15: =IF($C$33="Yes", SQRT(AE15^(2)+ABS(AC15-AD15)^(2)), 0) -> 401.90642
O16: 10 | P16: {=_xlfn.IFS( AND($C$20="No",$C$33="Yes"), 1/((1/V16)+(1/AF16)), AND($C$20="Yes",$C$33="No"), 1/((1/V16)+(1/AA16)), AND($C$20="No",$C$33="No"), 1/((1/V16)), AND($C$20="Yes",$C$33="Yes"), 1/((1/V16)+(1/AA16)+(1/AF16)))} -> 110.52427 | Q16: =$C$3/1000 -> 0.033272727 | S16: =1/(2*PI()*$O16*$C$12*$C$9*0.000001) -> 159.15494 | T16: =2*PI()*$O16*((0.000000001*$C$11)/$C$12) -> 1.4451326e-07 | U16: =(0.001*$C$10)/$C$12 -> 0.03 | V16: =SQRT(U16^(2)+ABS(S16-T16)^(2)) -> 159.15495 | X16: =1/(2*PI()*$O16*$C$24*$C$21*0.000001) -> 361.71578 | Y16: =2*PI()*$O16*((0.000000001*$C$23)/$C$24) -> 2.0420352e-08 | Z16: =(0.001*$C$22)/$C$24 -> 0.001 | AA16: =IF($C$20="Yes", SQRT(Z16^(2)+ABS(X16-Y16)^(2)), 0) -> 0 | AC16: =1/(2*PI()*$O16*$C$37*$C$34*0.000001) -> 361.71578 | AD16: =2*PI()*$O16*((0.000000001*$C$36)/$C$37) -> 2.0420352e-08 | AE16: =(0.001*$C$35)/$C$37 -> 0.001 | AF16: =IF($C$33="Yes", SQRT(AE16^(2)+ABS(AC16-AD16)^(2)), 0) -> 361.71578
O17: 20 | P17: {=_xlfn.IFS( AND($C$20="No",$C$33="Yes"), 1/((1/V17)+(1/AF17)), AND($C$20="Yes",$C$33="No"), 1/((1/V17)+(1/AA17)), AND($C$20="No",$C$33="No"), 1/((1/V17)), AND($C$20="Yes",$C$33="Yes"), 1/((1/V17)+(1/AA17)+(1/AF17)))} -> 55.262136 | Q17: =$C$3/1000 -> 0.033272727 | S17: =1/(2*PI()*$O17*$C$12*$C$9*0.000001) -> 79.577472 | T17: =2*PI()*$O17*((0.000000001*$C$11)/$C$12) -> 2.8902652e-07 | U17: =(0.001*$C$10)/$C$12 -> 0.03 | V17: =SQRT(U17^(2)+ABS(S17-T17)^(2)) -> 79.577477 | X17: =1/(2*PI()*$O17*$C$24*$C$21*0.000001) -> 180.85789 | Y17: =2*PI()*$O17*((0.000000001*$C$23)/$C$24) -> 4.0840704e-08 | Z17: =(0.001*$C$22)/$C$24 -> 0.001 | AA17: =IF($C$20="Yes", SQRT(Z17^(2)+ABS(X17-Y17)^(2)), 0) -> 0 | AC17: =1/(2*PI()*$O17*$C$37*$C$34*0.000001) -> 180.85789 | AD17: =2*PI()*$O17*((0.000000001*$C$36)/$C$37) -> 4.0840704e-08 | AE17: =(0.001*$C$35)/$C$37 -> 0.001 | AF17: =IF($C$33="Yes", SQRT(AE17^(2)+ABS(AC17-AD17)^(2)), 0) -> 180.85789
O18: 30 | P18: {=_xlfn.IFS( AND($C$20="No",$C$33="Yes"), 1/((1/V18)+(1/AF18)), AND($C$20="Yes",$C$33="No"), 1/((1/V18)+(1/AA18)), AND($C$20="No",$C$33="No"), 1/((1/V18)), AND($C$20="Yes",$C$33="Yes"), 1/((1/V18)+(1/AA18)+(1/AF18)))} -> 36.841426 | Q18: =$C$3/1000 -> 0.033272727 | S18: =1/(2*PI()*$O18*$C$12*$C$9*0.000001) -> 53.051648 | T18: =2*PI()*$O18*((0.000000001*$C$11)/$C$12) -> 4.3353979e-07 | U18: =(0.001*$C$10)/$C$12 -> 0.03 | V18: =SQRT(U18^(2)+ABS(S18-T18)^(2)) -> 53.051656 | X18: =1/(2*PI()*$O18*$C$24*$C$21*0.000001) -> 120.57193 | Y18: =2*PI()*$O18*((0.000000001*$C$23)/$C$24) -> 6.1261057e-08 | Z18: =(0.001*$C$22)/$C$24 -> 0.001 | AA18: =IF($C$20="Yes", SQRT(Z18^(2)+ABS(X18-Y18)^(2)), 0) -> 0 | AC18: =1/(2*PI()*$O18*$C$37*$C$34*0.000001) -> 120.57193 | AD18: =2*PI()*$O18*((0.000000001*$C$36)/$C$37) -> 6.1261057e-08 | AE18: =(0.001*$C$35)/$C$37 -> 0.001 | AF18: =IF($C$33="Yes", SQRT(AE18^(2)+ABS(AC18-AD18)^(2)), 0) -> 120.57193
O19: 40 | P19: {=_xlfn.IFS( AND($C$20="No",$C$33="Yes"), 1/((1/V19)+(1/AF19)), AND($C$20="Yes",$C$33="No"), 1/((1/V19)+(1/AA19)), AND($C$20="No",$C$33="No"), 1/((1/V19)), AND($C$20="Yes",$C$33="Yes"), 1/((1/V19)+(1/AA19)+(1/AF19)))} -> 27.631072 | Q19: =$C$3/1000 -> 0.033272727 | S19: =1/(2*PI()*$O19*$C$12*$C$9*0.000001) -> 39.788736 | T19: =2*PI()*$O19*((0.000000001*$C$11)/$C$12) -> 5.7805305e-07 | U19: =(0.001*$C$10)/$C$12 -> 0.03 | V19: =SQRT(U19^(2)+ABS(S19-T19)^(2)) -> 39.788747 | X19: =1/(2*PI()*$O19*$C$24*$C$21*0.000001) -> 90.428945 | Y19: =2*PI()*$O19*((0.000000001*$C$23)/$C$24) -> 8.1681409e-08 | Z19: =(0.001*$C$22)/$C$24 -> 0.001 | AA19: =IF($C$20="Yes", SQRT(Z19^(2)+ABS(X19-Y19)^(2)), 0) -> 0 | AC19: =1/(2*PI()*$O19*$C$37*$C$34*0.000001) -> 90.428945 | AD19: =2*PI()*$O19*((0.000000001*$C$36)/$C$37) -> 8.1681409e-08 | AE19: =(0.001*$C$35)/$C$37 -> 0.001 | AF19: =IF($C$33="Yes", SQRT(AE19^(2)+ABS(AC19-AD19)^(2)), 0) -> 90.428945
B20: Use Mid Frequency COUT(MF1)? | C20: No | O20: 50 | P20: {=_xlfn.IFS( AND($C$20="No",$C$33="Yes"), 1/((1/V20)+(1/AF20)), AND($C$20="Yes",$C$33="No"), 1/((1/V20)+(1/AA20)), AND($C$20="No",$C$33="No"), 1/((1/V20)), AND($C$20="Yes",$C$33="Yes"), 1/((1/V20)+(1/AA20)+(1/AF20)))} -> 22.10486 | Q20: =$C$3/1000 -> 0.033272727 | S20: =1/(2*PI()*$O20*$C$12*$C$9*0.000001) -> 31.830989 | T20: =2*PI()*$O20*((0.000000001*$C$11)/$C$12) -> 7.2256631e-07 | U20: =(0.001*$C$10)/$C$12 -> 0.03 | V20: =SQRT(U20^(2)+ABS(S20-T20)^(2)) -> 31.831002 | X20: =1/(2*PI()*$O20*$C$24*$C$21*0.000001) -> 72.343156 | Y20: =2*PI()*$O20*((0.000000001*$C$23)/$C$24) -> 1.0210176e-07 | Z20: =(0.001*$C$22)/$C$24 -> 0.001 | AA20: =IF($C$20="Yes", SQRT(Z20^(2)+ABS(X20-Y20)^(2)), 0) -> 0 | AC20: =1/(2*PI()*$O20*$C$37*$C$34*0.000001) -> 72.343156 | AD20: =2*PI()*$O20*((0.000000001*$C$36)/$C$37) -> 1.0210176e-07 | AE20: =(0.001*$C$35)/$C$37 -> 0.001 | AF20: =IF($C$33="Yes", SQRT(AE20^(2)+ABS(AC20-AD20)^(2)), 0) -> 72.343156
B21: MF 1 Capacitor Value (COUT(MF1)) | C21: 22 | D21: µF | O21: 60 | P21: {=_xlfn.IFS( AND($C$20="No",$C$33="Yes"), 1/((1/V21)+(1/AF21)), AND($C$20="Yes",$C$33="No"), 1/((1/V21)+(1/AA21)), AND($C$20="No",$C$33="No"), 1/((1/V21)), AND($C$20="Yes",$C$33="Yes"), 1/((1/V21)+(1/AA21)+(1/AF21)))} -> 18.420719 | Q21: =$C$3/1000 -> 0.033272727 | S21: =1/(2*PI()*$O21*$C$12*$C$9*0.000001) -> 26.525824 | T21: =2*PI()*$O21*((0.000000001*$C$11)/$C$12) -> 8.6707957e-07 | U21: =(0.001*$C$10)/$C$12 -> 0.03 | V21: =SQRT(U21^(2)+ABS(S21-T21)^(2)) -> 26.52584 | X21: =1/(2*PI()*$O21*$C$24*$C$21*0.000001) -> 60.285963 | Y21: =2*PI()*$O21*((0.000000001*$C$23)/$C$24) -> 1.2252211e-07 | Z21: =(0.001*$C$22)/$C$24 -> 0.001 | AA21: =IF($C$20="Yes", SQRT(Z21^(2)+ABS(X21-Y21)^(2)), 0) -> 0 | AC21: =1/(2*PI()*$O21*$C$37*$C$34*0.000001) -> 60.285963 | AD21: =2*PI()*$O21*((0.000000001*$C$36)/$C$37) -> 1.2252211e-07 | AE21: =(0.001*$C$35)/$C$37 -> 0.001 | AF21: =IF($C$33="Yes", SQRT(AE21^(2)+ABS(AC21-AD21)^(2)), 0) -> 60.285963
B22: MF 1 Capacitor ESR | C22: 2 | D22: mΩ | O22: 70 | P22: {=_xlfn.IFS( AND($C$20="No",$C$33="Yes"), 1/((1/V22)+(1/AF22)), AND($C$20="Yes",$C$33="No"), 1/((1/V22)+(1/AA22)), AND($C$20="No",$C$33="No"), 1/((1/V22)), AND($C$20="Yes",$C$33="Yes"), 1/((1/V22)+(1/AA22)+(1/AF22)))} -> 15.78919 | Q22: =$C$3/1000 -> 0.033272727 | S22: =1/(2*PI()*$O22*$C$12*$C$9*0.000001) -> 22.73642 | T22: =2*PI()*$O22*((0.000000001*$C$11)/$C$12) -> 1.0115928e-06 | U22: =(0.001*$C$10)/$C$12 -> 0.03 | V22: =SQRT(U22^(2)+ABS(S22-T22)^(2)) -> 22.736439 | X22: =1/(2*PI()*$O22*$C$24*$C$21*0.000001) -> 51.673683 | Y22: =2*PI()*$O22*((0.000000001*$C$23)/$C$24) -> 1.4294247e-07 | Z22: =(0.001*$C$22)/$C$24 -> 0.001 | AA22: =IF($C$20="Yes", SQRT(Z22^(2)+ABS(X22-Y22)^(2)), 0) -> 0 | AC22: =1/(2*PI()*$O22*$C$37*$C$34*0.000001) -> 51.673683 | AD22: =2*PI()*$O22*((0.000000001*$C$36)/$C$37) -> 1.4294247e-07 | AE22: =(0.001*$C$35)/$C$37 -> 0.001 | AF22: =IF($C$33="Yes", SQRT(AE22^(2)+ABS(AC22-AD22)^(2)), 0) -> 51.673683
B23: MF 1 Capacitor ESL | C23: 0.65 | D23: nH | O23: 80 | P23: {=_xlfn.IFS( AND($C$20="No",$C$33="Yes"), 1/((1/V23)+(1/AF23)), AND($C$20="Yes",$C$33="No"), 1/((1/V23)+(1/AA23)), AND($C$20="No",$C$33="No"), 1/((1/V23)), AND($C$20="Yes",$C$33="Yes"), 1/((1/V23)+(1/AA23)+(1/AF23)))} -> 13.815544 | Q23: =$C$3/1000 -> 0.033272727 | S23: =1/(2*PI()*$O23*$C$12*$C$9*0.000001) -> 19.894368 | T23: =2*PI()*$O23*((0.000000001*$C$11)/$C$12) -> 1.1561061e-06 | U23: =(0.001*$C$10)/$C$12 -> 0.03 | V23: =SQRT(U23^(2)+ABS(S23-T23)^(2)) -> 19.894389 | X23: =1/(2*PI()*$O23*$C$24*$C$21*0.000001) -> 45.214472 | Y23: =2*PI()*$O23*((0.000000001*$C$23)/$C$24) -> 1.6336282e-07 | Z23: =(0.001*$C$22)/$C$24 -> 0.001 | AA23: =IF($C$20="Yes", SQRT(Z23^(2)+ABS(X23-Y23)^(2)), 0) -> 0 | AC23: =1/(2*PI()*$O23*$C$37*$C$34*0.000001) -> 45.214472 | AD23: =2*PI()*$O23*((0.000000001*$C$36)/$C$37) -> 1.6336282e-07 | AE23: =(0.001*$C$35)/$C$37 -> 0.001 | AF23: =IF($C$33="Yes", SQRT(AE23^(2)+ABS(AC23-AD23)^(2)), 0) -> 45.214472
B24: Quantity | C24: 2 | O24: 90 | P24: {=_xlfn.IFS( AND($C$20="No",$C$33="Yes"), 1/((1/V24)+(1/AF24)), AND($C$20="Yes",$C$33="No"), 1/((1/V24)+(1/AA24)), AND($C$20="No",$C$33="No"), 1/((1/V24)), AND($C$20="Yes",$C$33="Yes"), 1/((1/V24)+(1/AA24)+(1/AF24)))} -> 12.280486 | Q24: =$C$3/1000 -> 0.033272727 | S24: =1/(2*PI()*$O24*$C$12*$C$9*0.000001) -> 17.683883 | T24: =2*PI()*$O24*((0.000000001*$C$11)/$C$12) -> 1.3006194e-06 | U24: =(0.001*$C$10)/$C$12 -> 0.03 | V24: =SQRT(U24^(2)+ABS(S24-T24)^(2)) -> 17.683907 | X24: =1/(2*PI()*$O24*$C$24*$C$21*0.000001) -> 40.190642 | Y24: =2*PI()*$O24*((0.000000001*$C$23)/$C$24) -> 1.8378317e-07 | Z24: =(0.001*$C$22)/$C$24 -> 0.001 | AA24: =IF($C$20="Yes", SQRT(Z24^(2)+ABS(X24-Y24)^(2)), 0) -> 0 | AC24: =1/(2*PI()*$O24*$C$37*$C$34*0.000001) -> 40.190642 | AD24: =2*PI()*$O24*((0.000000001*$C$36)/$C$37) -> 1.8378317e-07 | AE24: =(0.001*$C$35)/$C$37 -> 0.001 | AF24: =IF($C$33="Yes", SQRT(AE24^(2)+ABS(AC24-AD24)^(2)), 0) -> 40.190642
B25: Total MF 1 Capacitance | C25: =C24*C21 -> 44 | D25: µF | O25: 100 | P25: {=_xlfn.IFS( AND($C$20="No",$C$33="Yes"), 1/((1/V25)+(1/AF25)), AND($C$20="Yes",$C$33="No"), 1/((1/V25)+(1/AA25)), AND($C$20="No",$C$33="No"), 1/((1/V25)), AND($C$20="Yes",$C$33="Yes"), 1/((1/V25)+(1/AA25)+(1/AF25)))} -> 11.05244 | Q25: =$C$3/1000 -> 0.033272727 | S25: =1/(2*PI()*$O25*$C$12*$C$9*0.000001) -> 15.915494 | T25: =2*PI()*$O25*((0.000000001*$C$11)/$C$12) -> 1.4451326e-06 | U25: =(0.001*$C$10)/$C$12 -> 0.03 | V25: =SQRT(U25^(2)+ABS(S25-T25)^(2)) -> 15.915521 | X25: =1/(2*PI()*$O25*$C$24*$C$21*0.000001) -> 36.171578 | Y25: =2*PI()*$O25*((0.000000001*$C$23)/$C$24) -> 2.0420352e-07 | Z25: =(0.001*$C$22)/$C$24 -> 0.001 | AA25: =IF($C$20="Yes", SQRT(Z25^(2)+ABS(X25-Y25)^(2)), 0) -> 0 | AC25: =1/(2*PI()*$O25*$C$37*$C$34*0.000001) -> 36.171578 | AD25: =2*PI()*$O25*((0.000000001*$C$36)/$C$37) -> 2.0420352e-07 | AE25: =(0.001*$C$35)/$C$37 -> 0.001 | AF25: =IF($C$33="Yes", SQRT(AE25^(2)+ABS(AC25-AD25)^(2)), 0) -> 36.171578
B26: Total MF 1 Capacitance ESR | C26: =C22/C24 -> 1 | D26: mΩ | O26: 200 | P26: {=_xlfn.IFS( AND($C$20="No",$C$33="Yes"), 1/((1/V26)+(1/AF26)), AND($C$20="Yes",$C$33="No"), 1/((1/V26)+(1/AA26)), AND($C$20="No",$C$33="No"), 1/((1/V26)), AND($C$20="Yes",$C$33="Yes"), 1/((1/V26)+(1/AA26)+(1/AF26)))} -> 5.5262391 | Q26: =$C$3/1000 -> 0.033272727 | S26: =1/(2*PI()*$O26*$C$12*$C$9*0.000001) -> 7.9577472 | T26: =2*PI()*$O26*((0.000000001*$C$11)/$C$12) -> 2.8902652e-06 | U26: =(0.001*$C$10)/$C$12 -> 0.03 | V26: =SQRT(U26^(2)+ABS(S26-T26)^(2)) -> 7.9578008 | X26: =1/(2*PI()*$O26*$C$24*$C$21*0.000001) -> 18.085789 | Y26: =2*PI()*$O26*((0.000000001*$C$23)/$C$24) -> 4.0840704e-07 | Z26: =(0.001*$C$22)/$C$24 -> 0.001 | AA26: =IF($C$20="Yes", SQRT(Z26^(2)+ABS(X26-Y26)^(2)), 0) -> 0 | AC26: =1/(2*PI()*$O26*$C$37*$C$34*0.000001) -> 18.085789 | AD26: =2*PI()*$O26*((0.000000001*$C$36)/$C$37) -> 4.0840704e-07 | AE26: =(0.001*$C$35)/$C$37 -> 0.001 | AF26: =IF($C$33="Yes", SQRT(AE26^(2)+ABS(AC26-AD26)^(2)), 0) -> 18.085789
B27: Total MF 1 Capacitance ESL | C27: =C23/C24 -> 0.325 | D27: nH | O27: 300 | P27: {=_xlfn.IFS( AND($C$20="No",$C$33="Yes"), 1/((1/V27)+(1/AF27)), AND($C$20="Yes",$C$33="No"), 1/((1/V27)+(1/AA27)), AND($C$20="No",$C$33="No"), 1/((1/V27)), AND($C$20="Yes",$C$33="Yes"), 1/((1/V27)+(1/AA27)+(1/AF27)))} -> 3.684181 | Q27: =$C$3/1000 -> 0.033272727 | S27: =1/(2*PI()*$O27*$C$12*$C$9*0.000001) -> 5.3051648 | T27: =2*PI()*$O27*((0.000000001*$C$11)/$C$12) -> 4.3353979e-06 | U27: =(0.001*$C$10)/$C$12 -> 0.03 | V27: =SQRT(U27^(2)+ABS(S27-T27)^(2)) -> 5.3052453 | X27: =1/(2*PI()*$O27*$C$24*$C$21*0.000001) -> 12.057193 | Y27: =2*PI()*$O27*((0.000000001*$C$23)/$C$24) -> 6.1261057e-07 | Z27: =(0.001*$C$22)/$C$24 -> 0.001 | AA27: =IF($C$20="Yes", SQRT(Z27^(2)+ABS(X27-Y27)^(2)), 0) -> 0 | AC27: =1/(2*PI()*$O27*$C$37*$C$34*0.000001) -> 12.057193 | AD27: =2*PI()*$O27*((0.000000001*$C$36)/$C$37) -> 6.1261057e-07 | AE27: =(0.001*$C$35)/$C$37 -> 0.001 | AF27: =IF($C$33="Yes", SQRT(AE27^(2)+ABS(AC27-AD27)^(2)), 0) -> 12.057192
B28: MF 1 Capacitor Resonance | C28: =(1/(2*PI()*(SQRT(C21*0.000001*C23*0.000000001))))*0.000001 -> 1.3309205 | D28: MHz | I28: Bulk | J28: MF | K28: HF | L28: Total | O28: 400 | P28: {=_xlfn.IFS( AND($C$20="No",$C$33="Yes"), 1/((1/V28)+(1/AF28)), AND($C$20="Yes",$C$33="No"), 1/((1/V28)+(1/AA28)), AND($C$20="No",$C$33="No"), 1/((1/V28)), AND($C$20="Yes",$C$33="Yes"), 1/((1/V28)+(1/AA28)+(1/AF28)))} -> 2.7631583 | Q28: =$C$3/1000 -> 0.033272727 | S28: =1/(2*PI()*$O28*$C$12*$C$9*0.000001) -> 3.9788736 | T28: =2*PI()*$O28*((0.000000001*$C$11)/$C$12) -> 5.7805305e-06 | U28: =(0.001*$C$10)/$C$12 -> 0.03 | V28: =SQRT(U28^(2)+ABS(S28-T28)^(2)) -> 3.9789809 | X28: =1/(2*PI()*$O28*$C$24*$C$21*0.000001) -> 9.0428945 | Y28: =2*PI()*$O28*((0.000000001*$C$23)/$C$24) -> 8.1681409e-07 | Z28: =(0.001*$C$22)/$C$24 -> 0.001 | AA28: =IF($C$20="Yes", SQRT(Z28^(2)+ABS(X28-Y28)^(2)), 0) -> 0 | AC28: =1/(2*PI()*$O28*$C$37*$C$34*0.000001) -> 9.0428945 | AD28: =2*PI()*$O28*((0.000000001*$C$36)/$C$37) -> 8.1681409e-07 | AE28: =(0.001*$C$35)/$C$37 -> 0.001 | AF28: =IF($C$33="Yes", SQRT(AE28^(2)+ABS(AC28-AD28)^(2)), 0) -> 9.0428937
H29: COUT (µF) | I29: =C9 -> 100 | J29: =IF($C$20="Yes", C21, 0) -> 0 | K29: =IF($C$33="Yes", C34, 0) -> 22 | L29: =I29*$I$32+J29*$J$32+K29*$K$32 -> 144 | O29: 500 | P29: {=_xlfn.IFS( AND($C$20="No",$C$33="Yes"), 1/((1/V29)+(1/AF29)), AND($C$20="Yes",$C$33="No"), 1/((1/V29)+(1/AA29)), AND($C$20="No",$C$33="No"), 1/((1/V29)), AND($C$20="Yes",$C$33="Yes"), 1/((1/V29)+(1/AA29)+(1/AF29)))} -> 2.2105499 | Q29: =$C$3/1000 -> 0.033272727 | S29: =1/(2*PI()*$O29*$C$12*$C$9*0.000001) -> 3.1830989 | T29: =2*PI()*$O29*((0.000000001*$C$11)/$C$12) -> 7.2256631e-06 | U29: =(0.001*$C$10)/$C$12 -> 0.03 | V29: =SQRT(U29^(2)+ABS(S29-T29)^(2)) -> 3.183233 | X29: =1/(2*PI()*$O29*$C$24*$C$21*0.000001) -> 7.2343156 | Y29: =2*PI()*$O29*((0.000000001*$C$23)/$C$24) -> 1.0210176e-06 | Z29: =(0.001*$C$22)/$C$24 -> 0.001 | AA29: =IF($C$20="Yes", SQRT(Z29^(2)+ABS(X29-Y29)^(2)), 0) -> 0 | AC29: =1/(2*PI()*$O29*$C$37*$C$34*0.000001) -> 7.2343156 | AD29: =2*PI()*$O29*((0.000000001*$C$36)/$C$37) -> 1.0210176e-06 | AE29: =(0.001*$C$35)/$C$37 -> 0.001 | AF29: =IF($C$33="Yes", SQRT(AE29^(2)+ABS(AC29-AD29)^(2)), 0) -> 7.2343146
H30: ESR (mΩ) | I30: =C10 -> 30 | J30: =IF($C$20="Yes", C22, 0) -> 0 | K30: =IF($C$33="Yes", C35, 0) -> 2 | O30: 600 | P30: {=_xlfn.IFS( AND($C$20="No",$C$33="Yes"), 1/((1/V30)+(1/AF30)), AND($C$20="Yes",$C$33="No"), 1/((1/V30)+(1/AA30)), AND($C$20="No",$C$33="No"), 1/((1/V30)), AND($C$20="Yes",$C$33="Yes"), 1/((1/V30)+(1/AA30)+(1/AF30)))} -> 1.8421486 | Q30: =$C$3/1000 -> 0.033272727 | S30: =1/(2*PI()*$O30*$C$12*$C$9*0.000001) -> 2.6525824 | T30: =2*PI()*$O30*((0.000000001*$C$11)/$C$12) -> 8.6707957e-06 | U30: =(0.001*$C$10)/$C$12 -> 0.03 | V30: =SQRT(U30^(2)+ABS(S30-T30)^(2)) -> 2.6527434 | X30: =1/(2*PI()*$O30*$C$24*$C$21*0.000001) -> 6.0285963 | Y30: =2*PI()*$O30*((0.000000001*$C$23)/$C$24) -> 1.2252211e-06 | Z30: =(0.001*$C$22)/$C$24 -> 0.001 | AA30: =IF($C$20="Yes", SQRT(Z30^(2)+ABS(X30-Y30)^(2)), 0) -> 0 | AC30: =1/(2*PI()*$O30*$C$37*$C$34*0.000001) -> 6.0285963 | AD30: =2*PI()*$O30*((0.000000001*$C$36)/$C$37) -> 1.2252211e-06 | AE30: =(0.001*$C$35)/$C$37 -> 0.001 | AF30: =IF($C$33="Yes", SQRT(AE30^(2)+ABS(AC30-AD30)^(2)), 0) -> 6.0285952
H31: ESL (nH) | I31: =C11 -> 2.3 | J31: =IF($C$20="Yes", C23, 0) -> 0 | K31: =IF($C$33="Yes", C36, 0) -> 0.65 | O31: 700 | P31: {=_xlfn.IFS( AND($C$20="No",$C$33="Yes"), 1/((1/V31)+(1/AF31)), AND($C$20="Yes",$C$33="No"), 1/((1/V31)+(1/AA31)), AND($C$20="No",$C$33="No"), 1/((1/V31)), AND($C$20="Yes",$C$33="Yes"), 1/((1/V31)+(1/AA31)+(1/AF31)))} -> 1.5790085 | Q31: =$C$3/1000 -> 0.033272727 | S31: =1/(2*PI()*$O31*$C$12*$C$9*0.000001) -> 2.273642 | T31: =2*PI()*$O31*((0.000000001*$C$11)/$C$12) -> 1.0115928e-05 | U31: =(0.001*$C$10)/$C$12 -> 0.03 | V31: =SQRT(U31^(2)+ABS(S31-T31)^(2)) -> 2.2738298 | X31: =1/(2*PI()*$O31*$C$24*$C$21*0.000001) -> 5.1673683 | Y31: =2*PI()*$O31*((0.000000001*$C$23)/$C$24) -> 1.4294247e-06 | Z31: =(0.001*$C$22)/$C$24 -> 0.001 | AA31: =IF($C$20="Yes", SQRT(Z31^(2)+ABS(X31-Y31)^(2)), 0) -> 0 | AC31: =1/(2*PI()*$O31*$C$37*$C$34*0.000001) -> 5.1673683 | AD31: =2*PI()*$O31*((0.000000001*$C$36)/$C$37) -> 1.4294247e-06 | AE31: =(0.001*$C$35)/$C$37 -> 0.001 | AF31: =IF($C$33="Yes", SQRT(AE31^(2)+ABS(AC31-AD31)^(2)), 0) -> 5.1673669
H32: Total Quantity | I32: =C12 -> 1 | J32: =IF($C$20="Yes", C24, 0) -> 0 | K32: =IF($C$33="Yes", C37, 0) -> 2 | L32: =SUM(I32:K32) -> 3 | O32: 800 | P32: {=_xlfn.IFS( AND($C$20="No",$C$33="Yes"), 1/((1/V32)+(1/AF32)), AND($C$20="Yes",$C$33="No"), 1/((1/V32)+(1/AA32)), AND($C$20="No",$C$33="No"), 1/((1/V32)), AND($C$20="Yes",$C$33="Yes"), 1/((1/V32)+(1/AA32)+(1/AF32)))} -> 1.3816567 | Q32: =$C$3/1000 -> 0.033272727 | S32: =1/(2*PI()*$O32*$C$12*$C$9*0.000001) -> 1.9894368 | T32: =2*PI()*$O32*((0.000000001*$C$11)/$C$12) -> 1.1561061e-05 | U32: =(0.001*$C$10)/$C$12 -> 0.03 | V32: =SQRT(U32^(2)+ABS(S32-T32)^(2)) -> 1.9896514 | X32: =1/(2*PI()*$O32*$C$24*$C$21*0.000001) -> 4.5214472 | Y32: =2*PI()*$O32*((0.000000001*$C$23)/$C$24) -> 1.6336282e-06 | Z32: =(0.001*$C$22)/$C$24 -> 0.001 | AA32: =IF($C$20="Yes", SQRT(Z32^(2)+ABS(X32-Y32)^(2)), 0) -> 0 | AC32: =1/(2*PI()*$O32*$C$37*$C$34*0.000001) -> 4.5214472 | AD32: =2*PI()*$O32*((0.000000001*$C$36)/$C$37) -> 1.6336282e-06 | AE32: =(0.001*$C$35)/$C$37 -> 0.001 | AF32: =IF($C$33="Yes", SQRT(AE32^(2)+ABS(AC32-AD32)^(2)), 0) -> 4.5214457
B33: Use High Frequency COUT(HF)? | C33: Yes | O33: 900 | P33: {=_xlfn.IFS( AND($C$20="No",$C$33="Yes"), 1/((1/V33)+(1/AF33)), AND($C$20="Yes",$C$33="No"), 1/((1/V33)+(1/AA33)), AND($C$20="No",$C$33="No"), 1/((1/V33)), AND($C$20="Yes",$C$33="Yes"), 1/((1/V33)+(1/AA33)+(1/AF33)))} -> 1.2281637 | Q33: =$C$3/1000 -> 0.033272727 | S33: =1/(2*PI()*$O33*$C$12*$C$9*0.000001) -> 1.7683883 | T33: =2*PI()*$O33*((0.000000001*$C$11)/$C$12) -> 1.3006194e-05 | U33: =(0.001*$C$10)/$C$12 -> 0.03 | V33: =SQRT(U33^(2)+ABS(S33-T33)^(2)) -> 1.7686297 | X33: =1/(2*PI()*$O33*$C$24*$C$21*0.000001) -> 4.0190642 | Y33: =2*PI()*$O33*((0.000000001*$C$23)/$C$24) -> 1.8378317e-06 | Z33: =(0.001*$C$22)/$C$24 -> 0.001 | AA33: =IF($C$20="Yes", SQRT(Z33^(2)+ABS(X33-Y33)^(2)), 0) -> 0 | AC33: =1/(2*PI()*$O33*$C$37*$C$34*0.000001) -> 4.0190642 | AD33: =2*PI()*$O33*((0.000000001*$C$36)/$C$37) -> 1.8378317e-06 | AE33: =(0.001*$C$35)/$C$37 -> 0.001 | AF33: =IF($C$33="Yes", SQRT(AE33^(2)+ABS(AC33-AD33)^(2)), 0) -> 4.0190625
B34: HF Capacitor Value (COUT(HF)) | C34: 22 | D34: µF | O34: 1000 | P34: {=_xlfn.IFS( AND($C$20="No",$C$33="Yes"), 1/((1/V34)+(1/AF34)), AND($C$20="Yes",$C$33="No"), 1/((1/V34)+(1/AA34)), AND($C$20="No",$C$33="No"), 1/((1/V34)), AND($C$20="Yes",$C$33="Yes"), 1/((1/V34)+(1/AA34)+(1/AF34)))} -> 1.1053718 | Q34: =$C$3/1000 -> 0.033272727 | S34: =1/(2*PI()*$O34*$C$12*$C$9*0.000001) -> 1.5915494 | T34: =2*PI()*$O34*((0.000000001*$C$11)/$C$12) -> 1.4451326e-05 | U34: =(0.001*$C$10)/$C$12 -> 0.03 | V34: =SQRT(U34^(2)+ABS(S34-T34)^(2)) -> 1.5918177 | X34: =1/(2*PI()*$O34*$C$24*$C$21*0.000001) -> 3.6171578 | Y34: =2*PI()*$O34*((0.000000001*$C$23)/$C$24) -> 2.0420352e-06 | Z34: =(0.001*$C$22)/$C$24 -> 0.001 | AA34: =IF($C$20="Yes", SQRT(Z34^(2)+ABS(X34-Y34)^(2)), 0) -> 0 | AC34: =1/(2*PI()*$O34*$C$37*$C$34*0.000001) -> 3.6171578 | AD34: =2*PI()*$O34*((0.000000001*$C$36)/$C$37) -> 2.0420352e-06 | AE34: =(0.001*$C$35)/$C$37 -> 0.001 | AF34: =IF($C$33="Yes", SQRT(AE34^(2)+ABS(AC34-AD34)^(2)), 0) -> 3.6171559
B35: HF Capacitor ESR | C35: 2 | D35: mΩ | I35: Example Bulk Capacitors | O35: 2000 | P35: {=_xlfn.IFS( AND($C$20="No",$C$33="Yes"), 1/((1/V35)+(1/AF35)), AND($C$20="Yes",$C$33="No"), 1/((1/V35)+(1/AA35)), AND($C$20="No",$C$33="No"), 1/((1/V35)), AND($C$20="Yes",$C$33="Yes"), 1/((1/V35)+(1/AA35)+(1/AF35)))} -> 0.5528796 | Q35: =$C$3/1000 -> 0.033272727 | S35: =1/(2*PI()*$O35*$C$12*$C$9*0.000001) -> 0.79577472 | T35: =2*PI()*$O35*((0.000000001*$C$11)/$C$12) -> 2.8902652e-05 | U35: =(0.001*$C$10)/$C$12 -> 0.03 | V35: =SQRT(U35^(2)+ABS(S35-T35)^(2)) -> 0.79631112 | X35: =1/(2*PI()*$O35*$C$24*$C$21*0.000001) -> 1.8085789 | Y35: =2*PI()*$O35*((0.000000001*$C$23)/$C$24) -> 4.0840704e-06 | Z35: =(0.001*$C$22)/$C$24 -> 0.001 | AA35: =IF($C$20="Yes", SQRT(Z35^(2)+ABS(X35-Y35)^(2)), 0) -> 0 | AC35: =1/(2*PI()*$O35*$C$37*$C$34*0.000001) -> 1.8085789 | AD35: =2*PI()*$O35*((0.000000001*$C$36)/$C$37) -> 4.0840704e-06 | AE35: =(0.001*$C$35)/$C$37 -> 0.001 | AF35: =IF($C$33="Yes", SQRT(AE35^(2)+ABS(AC35-AD35)^(2)), 0) -> 1.8085751
B36: HF Capacitor ESL | C36: 0.65 | D36: nH | H36: MFR PN | I36: T540D476M016AH(1)20 | J36: T541X476M035AH6510 | K36: TES E 476 * 025 | L36: T521X107M025ATE030 | O36: 3000 | P36: {=_xlfn.IFS( AND($C$20="No",$C$33="Yes"), 1/((1/V36)+(1/AF36)), AND($C$20="Yes",$C$33="No"), 1/((1/V36)+(1/AA36)), AND($C$20="No",$C$33="No"), 1/((1/V36)), AND($C$20="Yes",$C$33="Yes"), 1/((1/V36)+(1/AA36)+(1/AF36)))} -> 0.36880137 | Q36: =$C$3/1000 -> 0.033272727 | S36: =1/(2*PI()*$O36*$C$12*$C$9*0.000001) -> 0.53051648 | T36: =2*PI()*$O36*((0.000000001*$C$11)/$C$12) -> 4.3353979e-05 | U36: =(0.001*$C$10)/$C$12 -> 0.03 | V36: =SQRT(U36^(2)+ABS(S36-T36)^(2)) -> 0.53132075 | X36: =1/(2*PI()*$O36*$C$24*$C$21*0.000001) -> 1.2057193 | Y36: =2*PI()*$O36*((0.000000001*$C$23)/$C$24) -> 6.1261057e-06 | Z36: =(0.001*$C$22)/$C$24 -> 0.001 | AA36: =IF($C$20="Yes", SQRT(Z36^(2)+ABS(X36-Y36)^(2)), 0) -> 0 | AC36: =1/(2*PI()*$O36*$C$37*$C$34*0.000001) -> 1.2057193 | AD36: =2*PI()*$O36*((0.000000001*$C$36)/$C$37) -> 6.1261057e-06 | AE36: =(0.001*$C$35)/$C$37 -> 0.001 | AF36: =IF($C$33="Yes", SQRT(AE36^(2)+ABS(AC36-AD36)^(2)), 0) -> 1.2057136
B37: HF Capacitor Quantity | C37: 2 | H37: CAP (µF) | I37: 47 | J37: 47 | K37: 47 | L37: 100 | O37: 4000 | P37: {=_xlfn.IFS( AND($C$20="No",$C$33="Yes"), 1/((1/V37)+(1/AF37)), AND($C$20="Yes",$C$33="No"), 1/((1/V37)+(1/AA37)), AND($C$20="No",$C$33="No"), 1/((1/V37)), AND($C$20="Yes",$C$33="Yes"), 1/((1/V37)+(1/AA37)+(1/AF37)))} -> 0.27682637 | Q37: =$C$3/1000 -> 0.033272727 | S37: =1/(2*PI()*$O37*$C$12*$C$9*0.000001) -> 0.39788736 | T37: =2*PI()*$O37*((0.000000001*$C$11)/$C$12) -> 5.7805305e-05 | U37: =(0.001*$C$10)/$C$12 -> 0.03 | V37: =SQRT(U37^(2)+ABS(S37-T37)^(2)) -> 0.39895909 | X37: =1/(2*PI()*$O37*$C$24*$C$21*0.000001) -> 0.90428945 | Y37: =2*PI()*$O37*((0.000000001*$C$23)/$C$24) -> 8.1681409e-06 | Z37: =(0.001*$C$22)/$C$24 -> 0.001 | AA37: =IF($C$20="Yes", SQRT(Z37^(2)+ABS(X37-Y37)^(2)), 0) -> 0 | AC37: =1/(2*PI()*$O37*$C$37*$C$34*0.000001) -> 0.90428945 | AD37: =2*PI()*$O37*((0.000000001*$C$36)/$C$37) -> 8.1681409e-06 | AE37: =(0.001*$C$35)/$C$37 -> 0.001 | AF37: =IF($C$33="Yes", SQRT(AE37^(2)+ABS(AC37-AD37)^(2)), 0) -> 0.90428183
B38: Total HF Capacitance | C38: =C37*C34 -> 44 | D38: µF | H38: ESR (mΩ) | I38: 35 | J38: 60 | K38: 65 | L38: 30 | O38: 5000 | P38: {=_xlfn.IFS( AND($C$20="No",$C$33="Yes"), 1/((1/V38)+(1/AF38)), AND($C$20="Yes",$C$33="No"), 1/((1/V38)+(1/AA38)), AND($C$20="No",$C$33="No"), 1/((1/V38)), AND($C$20="Yes",$C$33="Yes"), 1/((1/V38)+(1/AA38)+(1/AF38)))} -> 0.22169238 | Q38: =$C$3/1000 -> 0.033272727 | S38: =1/(2*PI()*$O38*$C$12*$C$9*0.000001) -> 0.31830989 | T38: =2*PI()*$O38*((0.000000001*$C$11)/$C$12) -> 7.2256631e-05 | U38: =(0.001*$C$10)/$C$12 -> 0.03 | V38: =SQRT(U38^(2)+ABS(S38-T38)^(2)) -> 0.31964854 | X38: =1/(2*PI()*$O38*$C$24*$C$21*0.000001) -> 0.72343156 | Y38: =2*PI()*$O38*((0.000000001*$C$23)/$C$24) -> 1.0210176e-05 | Z38: =(0.001*$C$22)/$C$24 -> 0.001 | AA38: =IF($C$20="Yes", SQRT(Z38^(2)+ABS(X38-Y38)^(2)), 0) -> 0 | AC38: =1/(2*PI()*$O38*$C$37*$C$34*0.000001) -> 0.72343156 | AD38: =2*PI()*$O38*((0.000000001*$C$36)/$C$37) -> 1.0210176e-05 | AE38: =(0.001*$C$35)/$C$37 -> 0.001 | AF38: =IF($C$33="Yes", SQRT(AE38^(2)+ABS(AC38-AD38)^(2)), 0) -> 0.72342204
B39: Total HF Capacitance ESR | C39: =C35/C37 -> 1 | D39: mΩ | H39: ESL (nH) | I39: 1.5 | J39: 2.35 | L39: 2.3 | O39: 6000 | P39: {=_xlfn.IFS( AND($C$20="No",$C$33="Yes"), 1/((1/V39)+(1/AF39)), AND($C$20="Yes",$C$33="No"), 1/((1/V39)+(1/AA39)), AND($C$20="No",$C$33="No"), 1/((1/V39)), AND($C$20="Yes",$C$33="Yes"), 1/((1/V39)+(1/AA39)+(1/AF39)))} -> 0.18497858 | Q39: =$C$3/1000 -> 0.033272727 | S39: =1/(2*PI()*$O39*$C$12*$C$9*0.000001) -> 0.26525824 | T39: =2*PI()*$O39*((0.000000001*$C$11)/$C$12) -> 8.6707957e-05 | U39: =(0.001*$C$10)/$C$12 -> 0.03 | V39: =SQRT(U39^(2)+ABS(S39-T39)^(2)) -> 0.26686315 | X39: =1/(2*PI()*$O39*$C$24*$C$21*0.000001) -> 0.60285963 | Y39: =2*PI()*$O39*((0.000000001*$C$23)/$C$24) -> 1.2252211e-05 | Z39: =(0.001*$C$22)/$C$24 -> 0.001 | AA39: =IF($C$20="Yes", SQRT(Z39^(2)+ABS(X39-Y39)^(2)), 0) -> 0 | AC39: =1/(2*PI()*$O39*$C$37*$C$34*0.000001) -> 0.60285963 | AD39: =2*PI()*$O39*((0.000000001*$C$36)/$C$37) -> 1.2252211e-05 | AE39: =(0.001*$C$35)/$C$37 -> 0.001 | AF39: =IF($C$33="Yes", SQRT(AE39^(2)+ABS(AC39-AD39)^(2)), 0) -> 0.60284821
B40: Total HF Capacitance ESL | C40: =C36/C37 -> 0.325 | D40: nH | H40: Volt Rating (V) | I40: 16 | J40: 35 | K40: 25 | L40: 25 | O40: 7000 | P40: {=_xlfn.IFS( AND($C$20="No",$C$33="Yes"), 1/((1/V40)+(1/AF40)), AND($C$20="Yes",$C$33="No"), 1/((1/V40)+(1/AA40)), AND($C$20="No",$C$33="No"), 1/((1/V40)), AND($C$20="Yes",$C$33="Yes"), 1/((1/V40)+(1/AA40)+(1/AF40)))} -> 0.15879028 | Q40: =$C$3/1000 -> 0.033272727 | S40: =1/(2*PI()*$O40*$C$12*$C$9*0.000001) -> 0.2273642 | T40: =2*PI()*$O40*((0.000000001*$C$11)/$C$12) -> 0.00010115928 | U40: =(0.001*$C$10)/$C$12 -> 0.03 | V40: =SQRT(U40^(2)+ABS(S40-T40)^(2)) -> 0.22923458 | X40: =1/(2*PI()*$O40*$C$24*$C$21*0.000001) -> 0.51673683 | Y40: =2*PI()*$O40*((0.000000001*$C$23)/$C$24) -> 1.4294247e-05 | Z40: =(0.001*$C$22)/$C$24 -> 0.001 | AA40: =IF($C$20="Yes", SQRT(Z40^(2)+ABS(X40-Y40)^(2)), 0) -> 0 | AC40: =1/(2*PI()*$O40*$C$37*$C$34*0.000001) -> 0.51673683 | AD40: =2*PI()*$O40*((0.000000001*$C$36)/$C$37) -> 1.4294247e-05 | AE40: =(0.001*$C$35)/$C$37 -> 0.001 | AF40: =IF($C$33="Yes", SQRT(AE40^(2)+ABS(AC40-AD40)^(2)), 0) -> 0.5167235
B41: HF Capacitor Resonance | C41: =(1/(2*PI()*(SQRT(C34*0.000001*C36*0.000000001))))*0.000001 -> 1.3309205 | D41: MHz | H41: RMS Voltage @ 85C (V) | K41: 0.119 | O41: 8000 | P41: {=_xlfn.IFS( AND($C$20="No",$C$33="Yes"), 1/((1/V41)+(1/AF41)), AND($C$20="Yes",$C$33="No"), 1/((1/V41)+(1/AA41)), AND($C$20="No",$C$33="No"), 1/((1/V41)), AND($C$20="Yes",$C$33="Yes"), 1/((1/V41)+(1/AA41)+(1/AF41)))} -> 0.13918009 | Q41: =$C$3/1000 -> 0.033272727 | S41: =1/(2*PI()*$O41*$C$12*$C$9*0.000001) -> 0.19894368 | T41: =2*PI()*$O41*((0.000000001*$C$11)/$C$12) -> 0.00011561061 | U41: =(0.001*$C$10)/$C$12 -> 0.03 | V41: =SQRT(U41^(2)+ABS(S41-T41)^(2)) -> 0.20107859 | X41: =1/(2*PI()*$O41*$C$24*$C$21*0.000001) -> 0.45214472 | Y41: =2*PI()*$O41*((0.000000001*$C$23)/$C$24) -> 1.6336282e-05 | Z41: =(0.001*$C$22)/$C$24 -> 0.001 | AA41: =IF($C$20="Yes", SQRT(Z41^(2)+ABS(X41-Y41)^(2)), 0) -> 0 | AC41: =1/(2*PI()*$O41*$C$37*$C$34*0.000001) -> 0.45214472 | AD41: =2*PI()*$O41*((0.000000001*$C$36)/$C$37) -> 1.6336282e-05 | AE41: =(0.001*$C$35)/$C$37 -> 0.001 | AF41: =IF($C$33="Yes", SQRT(AE41^(2)+ABS(AC41-AD41)^(2)), 0) -> 0.45212949
...

Sheet CIN Network Design
E1: These cells are inputs
E2: These cells are the output
E3: These cells are automatically copied from the Main tab for convenience
B5: Target Max RMS Input Ripple Voltage (ΔVIN(RIPPLE, MAX)) | C5: 0.075 | D5: V | R5: FREQ (Hz) | S5: ZTOTAL (Ω) | T5: Z(TARGET) | V5: XC(BULK) (Ω) | W5: XL(BULK) (Ω) | X5: R(BULK) (Ω) | Y5: Z(BULK) (Ω) | AA5: XC1 (Ω) | AB5: XESL1 (Ω) | AC5: ESR1 (Ω) | AD5: Z1 (Ω) | AF5: XC2 (Ω) | AG5: XESL2 (Ω) | AH5: ESR2 (Ω) | AI5: Z2 (Ω) | AK5: fSW | AL5: y-value
B6: Target Max ΔVIN due to Load Step (ΔVIN(STEP, MAX)) | C6: 0.1 | D6: V | R6: 1 | S6: {=_xlfn.IFS(AND($C$34="Yes", $C$44="Yes"),1/((1/Y6)+(1/AD6)+(1/AI6)), AND($C$34="Yes", $C$44="No"), 1/((1/Y6)+(1/AD6)), AND($C$34="No", $C$44="Yes"), 1/((1/Y6)+(1/AI6)), AND($C$34="No", $C$44="No"), 1/(1/Y6))} -> 3617.1578 | T6: =$C$19/1000 -> 0.055624585 | V6: =1/(2*PI()*$R6*$C$25*$C$22*0.000001) -> 3617.1578 | W6: =2*PI()*$R6*((0.000000001*$C$24)/$C$25) -> 2.0420352e-09 | X6: =(0.001*$C$23)/$C$25 -> 0.001 | Y6: =SQRT(X6^(2)+ABS(V6-W6)^(2)) -> 3617.1578 | AA6: =1/(2*PI()*$R6*$C$38*$C$35*0.000001) -> 795774.72 | AB6: =2*PI()*$R6*((0.000000001*$C$37)/$C$38) -> 1.2566371e-09 | AC6: =(0.001*$C$36)/$C$38 -> 0.006 | AD6: =IF($C$34="Yes", SQRT(AC6^(2)+ABS(AA6-AB6)^(2)), 0) -> 0 | AF6: =1/(2*PI()*$R6*$C$48*$C$45*0.000001) -> 1591549.4 | AG6: =2*PI()*$R6*((0.000000001*$C$47)/$C$48) -> 3.1415927e-09 | AH6: =(0.001*$C$46)/$C$48 -> 0.0001 | AI6: =IF($C$44="Yes", SQRT(AH6^(2)+ABS(AF6-AG6)^(2)), 0) -> 0 | AK6: =C12*1000 -> 500000 | AL6: 1e-05
B7: Input Voltage (VIN) | C7: =Main!C8 -> 12 | D7: V | R7: 2 | S7: {=_xlfn.IFS(AND($C$34="Yes", $C$44="Yes"),1/((1/Y7)+(1/AD7)+(1/AI7)), AND($C$34="Yes", $C$44="No"), 1/((1/Y7)+(1/AD7)), AND($C$34="No", $C$44="Yes"), 1/((1/Y7)+(1/AI7)), AND($C$34="No", $C$44="No"), 1/(1/Y7))} -> 1808.5789 | T7: =$C$19/1000 -> 0.055624585 | V7: =1/(2*PI()*$R7*$C$25*$C$22*0.000001) -> 1808.5789 | W7: =2*PI()*$R7*((0.000000001*$C$24)/$C$25) -> 4.0840704e-09 | X7: =(0.001*$C$23)/$C$25 -> 0.001 | Y7: =SQRT(X7^(2)+ABS(V7-W7)^(2)) -> 1808.5789 | AA7: =1/(2*PI()*$R7*$C$38*$C$35*0.000001) -> 397887.36 | AB7: =2*PI()*$R7*((0.000000001*$C$37)/$C$38) -> 2.5132741e-09 | AC7: =(0.001*$C$36)/$C$38 -> 0.006 | AD7: =IF($C$34="Yes", SQRT(AC7^(2)+ABS(AA7-AB7)^(2)), 0) -> 0 | AF7: =1/(2*PI()*$R7*$C$48*$C$45*0.000001) -> 795774.72 | AG7: =2*PI()*$R7*((0.000000001*$C$47)/$C$48) -> 6.2831853e-09 | AH7: =(0.001*$C$46)/$C$48 -> 0.0001 | AI7: =IF($C$44="Yes", SQRT(AH7^(2)+ABS(AF7-AG7)^(2)), 0) -> 0
B8: Calculated Output Voltage (VOUT) | C8: =Main!C24 -> 3.3272727 | D8: V | R8: 3 | S8: {=_xlfn.IFS(AND($C$34="Yes", $C$44="Yes"),1/((1/Y8)+(1/AD8)+(1/AI8)), AND($C$34="Yes", $C$44="No"), 1/((1/Y8)+(1/AD8)), AND($C$34="No", $C$44="Yes"), 1/((1/Y8)+(1/AI8)), AND($C$34="No", $C$44="No"), 1/(1/Y8))} -> 1205.7193 | T8: =$C$19/1000 -> 0.055624585 | V8: =1/(2*PI()*$R8*$C$25*$C$22*0.000001) -> 1205.7193 | W8: =2*PI()*$R8*((0.000000001*$C$24)/$C$25) -> 6.1261057e-09 | X8: =(0.001*$C$23)/$C$25 -> 0.001 | Y8: =SQRT(X8^(2)+ABS(V8-W8)^(2)) -> 1205.7193 | AA8: =1/(2*PI()*$R8*$C$38*$C$35*0.000001) -> 265258.24 | AB8: =2*PI()*$R8*((0.000000001*$C$37)/$C$38) -> 3.7699112e-09 | AC8: =(0.001*$C$36)/$C$38 -> 0.006 | AD8: =IF($C$34="Yes", SQRT(AC8^(2)+ABS(AA8-AB8)^(2)), 0) -> 0 | AF8: =1/(2*PI()*$R8*$C$48*$C$45*0.000001) -> 530516.48 | AG8: =2*PI()*$R8*((0.000000001*$C$47)/$C$48) -> 9.424778e-09 | AH8: =(0.001*$C$46)/$C$48 -> 0.0001 | AI8: =IF($C$44="Yes", SQRT(AH8^(2)+ABS(AF8-AG8)^(2)), 0) -> 0
B9: Selected Inductor Value (LSEL) | C9: =Main!C32 -> 4.7 | D9: uH | R9: 4 | S9: {=_xlfn.IFS(AND($C$34="Yes", $C$44="Yes"),1/((1/Y9)+(1/AD9)+(1/AI9)), AND($C$34="Yes", $C$44="No"), 1/((1/Y9)+(1/AD9)), AND($C$34="No", $C$44="Yes"), 1/((1/Y9)+(1/AI9)), AND($C$34="No", $C$44="No"), 1/(1/Y9))} -> 904.28945 | T9: =$C$19/1000 -> 0.055624585 | V9: =1/(2*PI()*$R9*$C$25*$C$22*0.000001) -> 904.28945 | W9: =2*PI()*$R9*((0.000000001*$C$24)/$C$25) -> 8.1681409e-09 | X9: =(0.001*$C$23)/$C$25 -> 0.001 | Y9: =SQRT(X9^(2)+ABS(V9-W9)^(2)) -> 904.28945 | AA9: =1/(2*PI()*$R9*$C$38*$C$35*0.000001) -> 198943.68 | AB9: =2*PI()*$R9*((0.000000001*$C$37)/$C$38) -> 5.0265482e-09 | AC9: =(0.001*$C$36)/$C$38 -> 0.006 | AD9: =IF($C$34="Yes", SQRT(AC9^(2)+ABS(AA9-AB9)^(2)), 0) -> 0 | AF9: =1/(2*PI()*$R9*$C$48*$C$45*0.000001) -> 397887.36 | AG9: =2*PI()*$R9*((0.000000001*$C$47)/$C$48) -> 1.2566371e-08 | AH9: =(0.001*$C$46)/$C$48 -> 0.0001 | AI9: =IF($C$44="Yes", SQRT(AH9^(2)+ABS(AF9-AG9)^(2)), 0) -> 0
B10: Max Load Current (IOUT(MAX)) | C10: =Main!C10 -> 3 | D10: A | R10: 5 | S10: {=_xlfn.IFS(AND($C$34="Yes", $C$44="Yes"),1/((1/Y10)+(1/AD10)+(1/AI10)), AND($C$34="Yes", $C$44="No"), 1/((1/Y10)+(1/AD10)), AND($C$34="No", $C$44="Yes"), 1/((1/Y10)+(1/AI10)), AND($C$34="No", $C$44="No"), 1/(1/Y10))} -> 723.43156 | T10: =$C$19/1000 -> 0.055624585 | V10: =1/(2*PI()*$R10*$C$25*$C$22*0.000001) -> 723.43156 | W10: =2*PI()*$R10*((0.000000001*$C$24)/$C$25) -> 1.0210176e-08 | X10: =(0.001*$C$23)/$C$25 -> 0.001 | Y10: =SQRT(X10^(2)+ABS(V10-W10)^(2)) -> 723.43156 | AA10: =1/(2*PI()*$R10*$C$38*$C$35*0.000001) -> 159154.94 | AB10: =2*PI()*$R10*((0.000000001*$C$37)/$C$38) -> 6.2831853e-09 | AC10: =(0.001*$C$36)/$C$38 -> 0.006 | AD10: =IF($C$34="Yes", SQRT(AC10^(2)+ABS(AA10-AB10)^(2)), 0) -> 0 | AF10: =1/(2*PI()*$R10*$C$48*$C$45*0.000001) -> 318309.89 | AG10: =2*PI()*$R10*((0.000000001*$C$47)/$C$48) -> 1.5707963e-08 | AH10: =(0.001*$C$46)/$C$48 -> 0.0001 | AI10: =IF($C$44="Yes", SQRT(AH10^(2)+ABS(AF10-AG10)^(2)), 0) -> 0
B11: Output Load Step (ISTEP) | C11: =Main!G8 -> 2 | D11: A | R11: 6 | S11: {=_xlfn.IFS(AND($C$34="Yes", $C$44="Yes"),1/((1/Y11)+(1/AD11)+(1/AI11)), AND($C$34="Yes", $C$44="No"), 1/((1/Y11)+(1/AD11)), AND($C$34="No", $C$44="Yes"), 1/((1/Y11)+(1/AI11)), AND($C$34="No", $C$44="No"), 1/(1/Y11))} -> 602.85963 | T11: =$C$19/1000 -> 0.055624585 | V11: =1/(2*PI()*$R11*$C$25*$C$22*0.000001) -> 602.85963 | W11: =2*PI()*$R11*((0.000000001*$C$24)/$C$25) -> 1.2252211e-08 | X11: =(0.001*$C$23)/$C$25 -> 0.001 | Y11: =SQRT(X11^(2)+ABS(V11-W11)^(2)) -> 602.85963 | AA11: =1/(2*PI()*$R11*$C$38*$C$35*0.000001) -> 132629.12 | AB11: =2*PI()*$R11*((0.000000001*$C$37)/$C$38) -> 7.5398224e-09 | AC11: =(0.001*$C$36)/$C$38 -> 0.006 | AD11: =IF($C$34="Yes", SQRT(AC11^(2)+ABS(AA11-AB11)^(2)), 0) -> 0 | AF11: =1/(2*PI()*$R11*$C$48*$C$45*0.000001) -> 265258.24 | AG11: =2*PI()*$R11*((0.000000001*$C$47)/$C$48) -> 1.8849556e-08 | AH11: =(0.001*$C$46)/$C$48 -> 0.0001 | AI11: =IF($C$44="Yes", SQRT(AH11^(2)+ABS(AF11-AG11)^(2)), 0) -> 0
B12: Switching Frequency (fSW) | C12: =Main!C11 -> 500 | D12: kHz | R12: 7 | S12: {=_xlfn.IFS(AND($C$34="Yes", $C$44="Yes"),1/((1/Y12)+(1/AD12)+(1/AI12)), AND($C$34="Yes", $C$44="No"), 1/((1/Y12)+(1/AD12)), AND($C$34="No", $C$44="Yes"), 1/((1/Y12)+(1/AI12)), AND($C$34="No", $C$44="No"), 1/(1/Y12))} -> 516.73683 | T12: =$C$19/1000 -> 0.055624585 | V12: =1/(2*PI()*$R12*$C$25*$C$22*0.000001) -> 516.73683 | W12: =2*PI()*$R12*((0.000000001*$C$24)/$C$25) -> 1.4294247e-08 | X12: =(0.001*$C$23)/$C$25 -> 0.001 | Y12: =SQRT(X12^(2)+ABS(V12-W12)^(2)) -> 516.73683 | AA12: =1/(2*PI()*$R12*$C$38*$C$35*0.000001) -> 113682.1 | AB12: =2*PI()*$R12*((0.000000001*$C$37)/$C$38) -> 8.7964594e-09 | AC12: =(0.001*$C$36)/$C$38 -> 0.006 | AD12: =IF($C$34="Yes", SQRT(AC12^(2)+ABS(AA12-AB12)^(2)), 0) -> 0 | AF12: =1/(2*PI()*$R12*$C$48*$C$45*0.000001) -> 227364.2 | AG12: =2*PI()*$R12*((0.000000001*$C$47)/$C$48) -> 2.1991149e-08 | AH12: =(0.001*$C$46)/$C$48 -> 0.0001 | AI12: =IF($C$44="Yes", SQRT(AH12^(2)+ABS(AF12-AG12)^(2)), 0) -> 0
B13: Duty Cycle (d) | C13: =0.01*Main!C12 -> 0.275 | R13: 8 | S13: {=_xlfn.IFS(AND($C$34="Yes", $C$44="Yes"),1/((1/Y13)+(1/AD13)+(1/AI13)), AND($C$34="Yes", $C$44="No"), 1/((1/Y13)+(1/AD13)), AND($C$34="No", $C$44="Yes"), 1/((1/Y13)+(1/AI13)), AND($C$34="No", $C$44="No"), 1/(1/Y13))} -> 452.14472 | T13: =$C$19/1000 -> 0.055624585 | V13: =1/(2*PI()*$R13*$C$25*$C$22*0.000001) -> 452.14472 | W13: =2*PI()*$R13*((0.000000001*$C$24)/$C$25) -> 1.6336282e-08 | X13: =(0.001*$C$23)/$C$25 -> 0.001 | Y13: =SQRT(X13^(2)+ABS(V13-W13)^(2)) -> 452.14472 | AA13: =1/(2*PI()*$R13*$C$38*$C$35*0.000001) -> 99471.839 | AB13: =2*PI()*$R13*((0.000000001*$C$37)/$C$38) -> 1.0053096e-08 | AC13: =(0.001*$C$36)/$C$38 -> 0.006 | AD13: =IF($C$34="Yes", SQRT(AC13^(2)+ABS(AA13-AB13)^(2)), 0) -> 0 | AF13: =1/(2*PI()*$R13*$C$48*$C$45*0.000001) -> 198943.68 | AG13: =2*PI()*$R13*((0.000000001*$C$47)/$C$48) -> 2.5132741e-08 | AH13: =(0.001*$C$46)/$C$48 -> 0.0001 | AI13: =IF($C$44="Yes", SQRT(AH13^(2)+ABS(AF13-AG13)^(2)), 0) -> 0
B14: Crossover Frequency (fT) | C14: =Main!G24 -> 33.483417 | D14: kHz | R14: 9 | S14: {=_xlfn.IFS(AND($C$34="Yes", $C$44="Yes"),1/((1/Y14)+(1/AD14)+(1/AI14)), AND($C$34="Yes", $C$44="No"), 1/((1/Y14)+(1/AD14)), AND($C$34="No", $C$44="Yes"), 1/((1/Y14)+(1/AI14)), AND($C$34="No", $C$44="No"), 1/(1/Y14))} -> 401.90642 | T14: =$C$19/1000 -> 0.055624585 | V14: =1/(2*PI()*$R14*$C$25*$C$22*0.000001) -> 401.90642 | W14: =2*PI()*$R14*((0.000000001*$C$24)/$C$25) -> 1.8378317e-08 | X14: =(0.001*$C$23)/$C$25 -> 0.001 | Y14: =SQRT(X14^(2)+ABS(V14-W14)^(2)) -> 401.90642 | AA14: =1/(2*PI()*$R14*$C$38*$C$35*0.000001) -> 88419.413 | AB14: =2*PI()*$R14*((0.000000001*$C$37)/$C$38) -> 1.1309734e-08 | AC14: =(0.001*$C$36)/$C$38 -> 0.006 | AD14: =IF($C$34="Yes", SQRT(AC14^(2)+ABS(AA14-AB14)^(2)), 0) -> 0 | AF14: =1/(2*PI()*$R14*$C$48*$C$45*0.000001) -> 176838.83 | AG14: =2*PI()*$R14*((0.000000001*$C$47)/$C$48) -> 2.8274334e-08 | AH14: =(0.001*$C$46)/$C$48 -> 0.0001 | AI14: =IF($C$44="Yes", SQRT(AH14^(2)+ABS(AF14-AG14)^(2)), 0) -> 0
R15: 10 | S15: {=_xlfn.IFS(AND($C$34="Yes", $C$44="Yes"),1/((1/Y15)+(1/AD15)+(1/AI15)), AND($C$34="Yes", $C$44="No"), 1/((1/Y15)+(1/AD15)), AND($C$34="No", $C$44="Yes"), 1/((1/Y15)+(1/AI15)), AND($C$34="No", $C$44="No"), 1/(1/Y15))} -> 361.71578 | T15: =$C$19/1000 -> 0.055624585 | V15: =1/(2*PI()*$R15*$C$25*$C$22*0.000001) -> 361.71578 | W15: =2*PI()*$R15*((0.000000001*$C$24)/$C$25) -> 2.0420352e-08 | X15: =(0.001*$C$23)/$C$25 -> 0.001 | Y15: =SQRT(X15^(2)+ABS(V15-W15)^(2)) -> 361.71578 | AA15: =1/(2*PI()*$R15*$C$38*$C$35*0.000001) -> 79577.472 | AB15: =2*PI()*$R15*((0.000000001*$C$37)/$C$38) -> 1.2566371e-08 | AC15: =(0.001*$C$36)/$C$38 -> 0.006 | AD15: =IF($C$34="Yes", SQRT(AC15^(2)+ABS(AA15-AB15)^(2)), 0) -> 0 | AF15: =1/(2*PI()*$R15*$C$48*$C$45*0.000001) -> 159154.94 | AG15: =2*PI()*$R15*((0.000000001*$C$47)/$C$48) -> 3.1415927e-08 | AH15: =(0.001*$C$46)/$C$48 -> 0.0001 | AI15: =IF($C$44="Yes", SQRT(AH15^(2)+ABS(AF15-AG15)^(2)), 0) -> 0
B16: Minimum Total Input Capacitane for Input Ripple assuming ESR = zero | C16: =(C13*(1-C13)*C10)/(C5*C12*1000)*1000000 -> 15.95 | D16: µF | R16: 20 | S16: {=_xlfn.IFS(AND($C$34="Yes", $C$44="Yes"),1/((1/Y16)+(1/AD16)+(1/AI16)), AND($C$34="Yes", $C$44="No"), 1/((1/Y16)+(1/AD16)), AND($C$34="No", $C$44="Yes"), 1/((1/Y16)+(1/AI16)), AND($C$34="No", $C$44="No"), 1/(1/Y16))} -> 180.85789 | T16: =$C$19/1000 -> 0.055624585 | V16: =1/(2*PI()*$R16*$C$25*$C$22*0.000001) -> 180.85789 | W16: =2*PI()*$R16*((0.000000001*$C$24)/$C$25) -> 4.0840704e-08 | X16: =(0.001*$C$23)/$C$25 -> 0.001 | Y16: =SQRT(X16^(2)+ABS(V16-W16)^(2)) -> 180.85789 | AA16: =1/(2*PI()*$R16*$C$38*$C$35*0.000001) -> 39788.736 | AB16: =2*PI()*$R16*((0.000000001*$C$37)/$C$38) -> 2.5132741e-08 | AC16: =(0.001*$C$36)/$C$38 -> 0.006 | AD16: =IF($C$34="Yes", SQRT(AC16^(2)+ABS(AA16-AB16)^(2)), 0) -> 0 | AF16: =1/(2*PI()*$R16*$C$48*$C$45*0.000001) -> 79577.472 | AG16: =2*PI()*$R16*((0.000000001*$C$47)/$C$48) -> 6.2831853e-08 | AH16: =(0.001*$C$46)/$C$48 -> 0.0001 | AI16: =IF($C$44="Yes", SQRT(AH16^(2)+ABS(AF16-AG16)^(2)), 0) -> 0
B17: Minimum Total Input Capacitance for Load Step () | C17: =((0.5*C11*C13*(0.35/(C14*1000)))/C6)*1000000 -> 28.745573 | D17: µF | R17: 30 | S17: {=_xlfn.IFS(AND($C$34="Yes", $C$44="Yes"),1/((1/Y17)+(1/AD17)+(1/AI17)), AND($C$34="Yes", $C$44="No"), 1/((1/Y17)+(1/AD17)), AND($C$34="No", $C$44="Yes"), 1/((1/Y17)+(1/AI17)), AND($C$34="No", $C$44="No"), 1/(1/Y17))} -> 120.57193 | T17: =$C$19/1000 -> 0.055624585 | V17: =1/(2*PI()*$R17*$C$25*$C$22*0.000001) -> 120.57193 | W17: =2*PI()*$R17*((0.000000001*$C$24)/$C$25) -> 6.1261057e-08 | X17: =(0.001*$C$23)/$C$25 -> 0.001 | Y17: =SQRT(X17^(2)+ABS(V17-W17)^(2)) -> 120.57193 | AA17: =1/(2*PI()*$R17*$C$38*$C$35*0.000001) -> 26525.824 | AB17: =2*PI()*$R17*((0.000000001*$C$37)/$C$38) -> 3.7699112e-08 | AC17: =(0.001*$C$36)/$C$38 -> 0.006 | AD17: =IF($C$34="Yes", SQRT(AC17^(2)+ABS(AA17-AB17)^(2)), 0) -> 0 | AF17: =1/(2*PI()*$R17*$C$48*$C$45*0.000001) -> 53051.648 | AG17: =2*PI()*$R17*((0.000000001*$C$47)/$C$48) -> 9.424778e-08 | AH17: =(0.001*$C$46)/$C$48 -> 0.0001 | AI17: =IF($C$44="Yes", SQRT(AH17^(2)+ABS(AF17-AG17)^(2)), 0) -> 0
B18: Max Input Capacitor RMS Currente (IIN(RMS, MAX,)) | C18: =SQRT((C13)*(POWER(C10, 2)*(1-(C13))+(1/12)*(((C7-C8)*C13)/(C9*0.000001*C12*1000))^2)) -> 1.3483247 | D18: A | R18: 40 | S18: {=_xlfn.IFS(AND($C$34="Yes", $C$44="Yes"),1/((1/Y18)+(1/AD18)+(1/AI18)), AND($C$34="Yes", $C$44="No"), 1/((1/Y18)+(1/AD18)), AND($C$34="No", $C$44="Yes"), 1/((1/Y18)+(1/AI18)), AND($C$34="No", $C$44="No"), 1/(1/Y18))} -> 90.428945 | T18: =$C$19/1000 -> 0.055624585 | V18: =1/(2*PI()*$R18*$C$25*$C$22*0.000001) -> 90.428945 | W18: =2*PI()*$R18*((0.000000001*$C$24)/$C$25) -> 8.1681409e-08 | X18: =(0.001*$C$23)/$C$25 -> 0.001 | Y18: =SQRT(X18^(2)+ABS(V18-W18)^(2)) -> 90.428945 | AA18: =1/(2*PI()*$R18*$C$38*$C$35*0.000001) -> 19894.368 | AB18: =2*PI()*$R18*((0.000000001*$C$37)/$C$38) -> 5.0265482e-08 | AC18: =(0.001*$C$36)/$C$38 -> 0.006 | AD18: =IF($C$34="Yes", SQRT(AC18^(2)+ABS(AA18-AB18)^(2)), 0) -> 0 | AF18: =1/(2*PI()*$R18*$C$48*$C$45*0.000001) -> 39788.736 | AG18: =2*PI()*$R18*((0.000000001*$C$47)/$C$48) -> 1.2566371e-07 | AH18: =(0.001*$C$46)/$C$48 -> 0.0001 | AI18: =IF($C$44="Yes", SQRT(AH18^(2)+ABS(AF18-AG18)^(2)), 0) -> 0
