Workbook
Name CCOMP_MIN: #REF!
Name CDROOP: #REF!
Name COUT_MIN: #REF!
Name COUT_QTY: #REF!
Name COUT_ZERO: #REF!
Name CPOLE_MIN: #REF!
Name ESR_EQUIV: #REF!
Name Fstart: #REF!
Name ft: #REF!
Name Loop_Gain_Totalpoints: #REF!
Name RCOMP: #REF!
Name RDROOP: #REF!
Name Ripple_percent: #REF!
Name RSEN: #REF!
Name RSLOPE: #REF!
Name Step: #REF!

Sheet Main
E2: These cells are inputs
E3: These cells are the output
E4: These cells are the copied from the COUT/CIN Design tabs for convenience
E5: These cells have an error
B6: ISL73007 Design Tool. Revision: | C6: =MAX('Revision History'!C4:C14) -> 1.3
G7: External COMP | H7: Internal COMP
B8: Input Voltage (VIN) | C8: 12 | D8: V | F8: Output Load Step (ISTEP) | G8: 2 | H8: =0.5*'DS Parameters'!D3 -> 1.5 | I8: A | K8: This tool uses nominal design targets to calculate the schematic component values. The numbers produced by this tool are a starting point for design with the expectation that the values will be adjusted to meet the final application requirements. It is the responsibility of the consumer to make sure that the values produced by this tool meets the requirements of their given application. Software License Agreement The software supplied herewith by Renesas Electronics America Inc. (the "Company") is intended and supplied to you, the Company's customer, for use solely and exclusively on Renesas' Intersil family of products. The software is owned by the Company and/or its supplier, and is protected under applicable copyright laws. All rights are reserved. Any use in violation of the foregoing restrictions may subject the user to criminal sanctions under applicable laws, as well as to civil liability for the breach of the terms and conditions of this license. THIS SOFTWARE IS PROVIDED IN AN "AS IS" CONDITION. NO WARRANTIES, WHETHER EXPRESS, IMPLIED OR STATUTORY, INCLUDING, BUT NOT LIMITED TO, IMPLIED WARRANTIES OF MERCHANTABILITY AND FITNESS FOR A PARTICULAR PURPOSE APPLY TO THIS SOFTWARE. THE COMPANY SHALL NOT, IN ANY CIRCUMSTANCES, BE LIABLE FOR SPECIAL, INCIDENTAL OR CONSEQUENTIAL DAMAGES, FOR ANY REASON WHATSOEVER.
B9: Output Voltage (VOUT) | C9: 3.3 | D9: V | F9: Load Step Rise/Fall Time (tSTEP) | G9: 100 | I9: ns
B10: Max Load Current (IOUT(MAX)) | C10: 3 | D10: A | F10: Allowed ΔVOUT During Load Transient (tranpercent) | G10: 2 | H10: 2 | I10: %
B11: Switching Frequency (fSW) (300kHz to 1MHz, 500kHz default) | C11: 500 | D11: kHz | F11: Allowed ΔVOUT During Load Transient (∆VOUT) | G11: =G10*C24/100 -> 0.066545455 | H11: =H10*C24/100 -> 0.066545455 | I11: V
B12: Target Duty Cycle (d) | C12: =100*C9/C8 -> 27.5 | D12: %
B13: Typical ON Time | C13: =(C12*0.01/C11)*1000000 -> 550 | D13: ns
B14: Typical OFF Time | C14: =((1-(C12*0.01))/C11)*1000000 -> 1450 | D14: ns
B16: Use External Clock on SYNC-I (fOSC-15%)? (not available in CDFP) | C16: No | G16: External COMP | H16: Internal COMP
B17: Frequency Select Resistor (RFS) | C17: =IF(C16="Yes",'DS Parameters'!C37,'DS Parameters'!C34) -> 100 | D17: kΩ | F17: Calculated Compensation Resistor (RCOMP) | G17: =G8/(0.01*G10*'DS Parameters'!D2*'DS Parameters'!D6/1000*'DS Parameters'!D7*1000) -> 15.04755 | I17: kΩ
B18: Recommended Bottom Feedback Resistor (see datasheet for SYNC explanation) | C18: =IF(C16="Yes",0.2,2) -> 2 | D18: kΩ | F18: Selected Compensation Resistor (RCOMP) | G18: 14 | I18: kΩ
B19: Actual Bottom Feedback Resistor (R2) (recommend 0.1%) | C19: 2.2 | D19: kΩ | F19: Target Unity Gain Frequency (fT = fsw/10) | G19: =C11/10 -> 50 | I19: kHz
B20: Recommended Top Feedback Resistor | C20: =(Main!C9-'DS Parameters'!D2)/('DS Parameters'!D2/C19) -> 9.9 | D20: kΩ | F20: Minimum COUT (COUT(MIN)) | G20: ='DS Parameters'!D2*'DS Parameters'!D6*'DS Parameters'!D7*G18*1000/(2*PI()*G19*C24) -> 89.006958 | H20: =1000*'DS Parameters'!D2*'DS Parameters'!D5*'DS Parameters'!D7/(2*PI()*Main!G19*Main!C24) -> 82.656207 | I20: µF
B21: Top Feedback Resistor (R1) (recommend 0.1%) | C21: 10 | D21: kΩ | F21: Target COUT Impedance (ZTARGET) | G21: =((C24*G10*0.01)/G8)*1000 -> 33.272727 | I21: mΩ
F22: Output Capacitance (COUT) - USE COUT DESIGN TAB | G22: ='COUT Network Design'!C43 -> 144 | I22: µF
B23: Lower FB resistor should be ≤220Ω when using SYNC | C23: =IF(AND((C16="Yes"),(C19>0.22)),"FB too high","OK") -> OK
B24: Calculated Output Voltage (VOUT) | C24: ='DS Parameters'!D2*(1+(Main!C21/C19)) -> 3.3272727 | D24: V | F24: Calculated Unity Gain Frequency (fT = fsw/10) | G24: =1000000*'DS Parameters'!D2/Main!C24*Main!G18/(2*PI())/Main!G22/(1000/'DS Parameters'!D7) -> 33.483417 | H24: =1000*'DS Parameters'!D2*'DS Parameters'!D5*'DS Parameters'!D7/(2*PI()*G22*Main!C24) -> 28.700072 | I24: kHz
F25: Target Compensation Zero Frequency (fZ = fT/10) | G25: =G24/10 -> 3.3483417 | H25: 5 (fixed) | I25: kHz
B26: Minimum Inductor based on maximum slope comp (LMIN) | C26: =C24*C17/'DS Parameters'!D8 -> 2.0538721 | D26: uH | F26: Recommended Compensation Capacitor (CCOMP(MIN)) | G26: =1000/(2*PI()*G25*G18) -> 3.3951763 | I26: nF
B27: Maximum Inductor (LMAX) | C27: =4*C26 -> 8.2154882 | D27: uH | F27: Compensation Capacitor (CCOMP) | G27: 3.9 | I27: nF
B29: Target Ripple Current (ΔIL) | C29: 33 | D29: % | F29: Bulk Capacitor ESR Equivalent (ESRTOTAL) | G29: ='COUT Network Design'!C14 -> 30 | I29: mΩ
B30: Inductor Value based on ripple (LREC) | C30: =1000000*(C8-C24)*0.01*C12/(C29*0.01*C10*C11*1000) -> 4.8181818 | D30: uH
F31: Bulk Output COUT ESR Zero Frequency (fZ) | G31: =1000000/(2*PI()*G22*G29) -> 36.841422 | I31: kHz
B32: Selected Inductor Value (LSEL) | C32: 4.7 | D32: uH | F32: Minimum Pole Capacitor (CP(MIN)) | G32: =1000000/(2*PI()*G31*G18) -> 308.57143 | I32: pF
B33: Estimated Inductor Ripple current (IRIPPLE) | C33: =10*(C8-C24)*C12/(C11*C32) -> 1.0148936 | D33: A
B34: Estimated Inductor Ripple ratio (IRIPPLE/IOUT(MAX)) | C34: =100*C33/C10 -> 33.829787 | D34: % | F34: VOUT Soft-Start Time (tSS) | G34: =(IF(C11>500,_xlfn.FORECAST.LINEAR(C11,'DS Parameters'!D25:D26,'DS Parameters'!C25:C26),_xlfn.FORECAST.LINEAR(C11,'DS Parameters'!D24:D25,'DS Parameters'!C24:C25)))/C11 -> 4.5 | I34: ms
B35: Recommended Slope Resistor (RSLOPE) | C35: ='DS Parameters'!D9*C17*C24/C32 -> 43.891683 | D35: kΩ | F35: In-rush Current (IRUSH) | G35: =(G22*(0.000001)*C24*C12*0.01)/(G34/1000) -> 0.02928 | I35: A
B36: Actual RSLOPE must be between 25kΩ and 100kΩ. | C36: =IF(AND(C35<=100,C35>=25),"RSLOPE OK","RSLOPE Out of Range") -> RSLOPE OK | F36: Total starting time (EN to PGOOD) | G36: =G34+(IF(C11>500,_xlfn.FORECAST.LINEAR(C11,'DS Parameters'!D28:D29,'DS Parameters'!C28:C29),_xlfn.FORECAST.LINEAR(C11,'DS Parameters'!D27:D28,'DS Parameters'!C27:C28)))/C11 -> 7.4 | I36: ms
B37: Actual (RSLOPE) (set to "100" if using SLOPE = VCC) | C37: 44.2 | D37: kΩ
F38: Input Capacitor RMS Current (ICINrms) | G38: ='CIN Network Design'!C18 -> 1.3483247 | I38: A
F40: Recommended VCC Capacitor | G40: 3.9 | I40: µF

Sheet DS Parameters
B2: Internal Voltage Reference (VREF) | D2: 0.6 | E2: V | F2: Typical
B3: Maximum load current (IMAX) | D3: 3 | E3: A
B5: Internal Error Amplifier Proportional gain (AEAP) | D5: 12
B6: External Error Amplifier Transconductance (gm(EA)ext) | D6: 0.923 | E6: mA/V | F6: Typical
B7: PWM modulator transconductance | D7: 12 | E7: A/V | F7: Typical
B8: Max Slope Comp numerator | D8: 162 | E8: V/ns | F8: Typical
B9: RSLOPE constant | D9: 0.62 | F9: Typical
B10: Minimum Controllable ON-Time () | D10: 260 | E10: ns | F10: Absolute Max
B11: Minimum Controllable OFF-Time () | D11: 210 | E11: ns | F11: Absolute Max
F12: Typical
B13: VOUT rise time 300kHz (from Figure 34. ENABLE to LX and VOUT to PGOOD Turn-On 300kHz) | C13: 300kHz | D13: 8 | E13: ms | F13: Typical
B14: Total startup time (EN to PGOOD) 300kHz (from DS Specification Power Good Rising Delay tSSPGdlyr) | C14: 300kHz | D14: 12.5 | E14: ms | F14: Typical
B15: VOUT rise time 500kHz (from Figure 33. ENABLE to LX and VOUT to PGOOD Turn-On 500kHz) | C15: 500kHz | D15: 4.5 | E15: ms | F15: Typical
B16: Total startup time (EN to PGOOD) 500kHz (from DS Specification Power Good Rising Delay tSSPGdlyr) | C16: 500kHz | D16: 7.4 | E16: ms | F16: Typical
B17: VOUT rise time 1MHz (from Figure 35. ENABLE to LX and VOUT to PGOOD Turn-On 1000kHz) | C17: 1MHz | D17: 2.5 | E17: ms | F17: Typical
B18: Total startup time (EN to PGOOD) 1MHz (from DS Specification Power Good Rising Delay tSSPGdlyr) | C18: 1MHz | D18: 4 | E18: ms | F18: Typical
B23: Supporting equations
B24: SS extrapolation: VOUT rise time (for inrush calculation) | C24: 300 | D24: =D13*C24 -> 2400 | E24: cycles
C25: 500 | D25: =D15*C25 -> 2250 | E25: cycles
C26: 1000 | D26: =D17*C26 -> 2500 | E26: cycles
B27: SS interpolation: Extra EN to PGOOD time (for PGOOD delay) | C27: 300 | D27: =(D14-D13)*C27 -> 1350 | E27: cycles
C28: 500 | D28: =(D16-D15)*C28 -> 1450 | E28: cycles
C29: 1000 | D29: =(D18-D17)*C29 -> 1500 | E29: cycles
B33: Switching Frequency (fSW) (300kHz to 1MHz, 500kHz default) | C33: =Main!C11 -> 500 | D33: kHz
B34: Frequency Select Resistor (RFS) if not using sync | C34: =IF(C33=1000,42.7,IF(C33=500,100,IF(C33=300,174,(57356/C33)-14.53))) -> 100 | D34: kΩ
B36: fosc if using sync | C36: =C33*0.85 -> 425 | D36: kHz
B37: Frequency Select Resistor (RFS) if using sync | C37: =IF(C36=1000,42.7,IF(C36=500,100,IF(C36=300,174,(57356/C36)-14.53))) -> 120.42529 | D37: kΩ

Sheet COUT Network Design
G2: These cells are inputs
B3: Target Output Impedance (ZTARGET) | C3: =Main!G21 -> 33.272727 | D3: mΩ | G3: These cells are the output
B4: Crossover Frequency (fT) | C4: =Main!G19 -> 50 | D4: kHz | G4: These cells are automatically copied from the Main tab for convenience
B5: Minimum COUT EXT COMP (COUT(MIN)) | C5: =Main!G20 -> 89.006958 | D5: µF
B6: Minimum COUT INT COMP (COUT(MIN)) | C6: =Main!H20 -> 82.656207 | D6: µF | O6: FREQ (Hz) | P6: Z(TOTAL) | Q6: Z(TARGET) | S6: XC(BULK) (Ω) | T6: XL(BULK) (Ω) | U6: R(BULK) (Ω) | V6: Z(BULK) | X6: XC(MF1) (Ω) | Y6: XL(MF1) (Ω) | Z6: R(MF1) (Ω) | AA6: Z(MF1) | AC6: XC(HF) (Ω) | AD6: XL(HF) (mΩ) | AE6: R(HF) (Ω) | AF6: Z(HF) | AH6: fC | AI6: y-value
B7: Load Step Rise/Fall Time (tSTEP) | C7: =Main!G9 -> 100 | D7: ns | O7: 1 | P7: {=_xlfn.IFS( AND($C$20="No",$C$33="Yes"), 1/((1/V7)+(1/AF7)), AND($C$20="Yes",$C$33="No"), 1/((1/V7)+(1/AA7)), AND($C$20="No",$C$33="No"), 1/((1/V7)), AND($C$20="Yes",$C$33="Yes"), 1/((1/V7)+(1/AA7)+(1/AF7)))} -> 1105.2427 | Q7: =$C$3/1000 -> 0.033272727 | S7: =1/(2*PI()*$O7*$C$12*$C$9*0.000001) -> 1591.5494 | T7: =2*PI()*$O7*((0.000000001*$C$11)/$C$12) -> 1.4451326e-08 | U7: =(0.001*$C$10)/$C$12 -> 0.03 | V7: =SQRT(U7^(2)+ABS(S7-T7)^(2)) -> 1591.5494 | X7: =1/(2*PI()*$O7*$C$24*$C$21*0.000001) -> 3617.1578 | Y7: =2*PI()*$O7*((0.000000001*$C$23)/$C$24) -> 2.0420352e-09 | Z7: =(0.001*$C$22)/$C$24 -> 0.001 | AA7: =IF($C$20="Yes", SQRT(Z7^(2)+ABS(X7-Y7)^(2)), 0) -> 0 | AC7: =1/(2*PI()*$O7*$C$37*$C$34*0.000001) -> 3617.1578 | AD7: =2*PI()*$O7*((0.000000001*$C$36)/$C$37) -> 2.0420352e-09 | AE7: =(0.001*$C$35)/$C$37 -> 0.001 | AF7: =IF($C$33="Yes", SQRT(AE7^(2)+ABS(AC7-AD7)^(2)), 0) -> 3617.1578 | AH7: =C4*1000 -> 50000 | AI7: 1e-05
O8: 2 | P8: {=_xlfn.IFS( AND($C$20="No",$C$33="Yes"), 1/((1/V8)+(1/AF8)), AND($C$20="Yes",$C$33="No"), 1/((1/V8)+(1/AA8)), AND($C$20="No",$C$33="No"), 1/((1/V8)), AND($C$20="Yes",$C$33="Yes"), 1/((1/V8)+(1/AA8)+(1/AF8)))} -> 552.62133 | Q8: =$C$3/1000 -> 0.033272727 | S8: =1/(2*PI()*$O8*$C$12*$C$9*0.000001) -> 795.77472 | T8: =2*PI()*$O8*((0.000000001*$C$11)/$C$12) -> 2.8902652e-08 | U8: =(0.001*$C$10)/$C$12 -> 0.03 | V8: =SQRT(U8^(2)+ABS(S8-T8)^(2)) -> 795.77472 | X8: =1/(2*PI()*$O8*$C$24*$C$21*0.000001) -> 1808.5789 | Y8: =2*PI()*$O8*((0.000000001*$C$23)/$C$24) -> 4.0840704e-09 | Z8: =(0.001*$C$22)/$C$24 -> 0.001 | AA8: =IF($C$20="Yes", SQRT(Z8^(2)+ABS(X8-Y8)^(2)), 0) -> 0 | AC8: =1/(2*PI()*$O8*$C$37*$C$34*0.000001) -> 1808.5789 | AD8: =2*PI()*$O8*((0.000000001*$C$36)/$C$37) -> 4.0840704e-09 | AE8: =(0.001*$C$35)/$C$37 -> 0.001 | AF8: =IF($C$33="Yes", SQRT(AE8^(2)+ABS(AC8-AD8)^(2)), 0) -> 1808.5789
B9: Bulk Output Capacitor Value (COUT(BULK)) | C9: 100 | D9: µF | O9: 3 | P9: {=_xlfn.IFS( AND($C$20="No",$C$33="Yes"), 1/((1/V9)+(1/AF9)), AND($C$20="Yes",$C$33="No"), 1/((1/V9)+(1/AA9)), AND($C$20="No",$C$33="No"), 1/((1/V9)), AND($C$20="Yes",$C$33="Yes"), 1/((1/V9)+(1/AA9)+(1/AF9)))} -> 368.41422 | Q9: =$C$3/1000 -> 0.033272727 | S9: =1/(2*PI()*$O9*$C$12*$C$9*0.000001) -> 530.51648 | T9: =2*PI()*$O9*((0.000000001*$C$11)/$C$12) -> 4.3353979e-08 | U9: =(0.001*$C$10)/$C$12 -> 0.03 | V9: =SQRT(U9^(2)+ABS(S9-T9)^(2)) -> 530.51648 | X9: =1/(2*PI()*$O9*$C$24*$C$21*0.000001) -> 1205.7193 | Y9: =2*PI()*$O9*((0.000000001*$C$23)/$C$24) -> 6.1261057e-09 | Z9: =(0.001*$C$22)/$C$24 -> 0.001 | AA9: =IF($C$20="Yes", SQRT(Z9^(2)+ABS(X9-Y9)^(2)), 0) -> 0 | AC9: =1/(2*PI()*$O9*$C$37*$C$34*0.000001) -> 1205.7193 | AD9: =2*PI()*$O9*((0.000000001*$C$36)/$C$37) -> 6.1261057e-09 | AE9: =(0.001*$C$35)/$C$37 -> 0.001 | AF9: =IF($C$33="Yes", SQRT(AE9^(2)+ABS(AC9-AD9)^(2)), 0) -> 1205.7193 | AH9: fSTEP | AI9: y-value
B10: Bulk Output Capacitor ESR | C10: 30 | D10: mΩ | O10: 4 | P10: {=_xlfn.IFS( AND($C$20="No",$C$33="Yes"), 1/((1/V10)+(1/AF10)), AND($C$20="Yes",$C$33="No"), 1/((1/V10)+(1/AA10)), AND($C$20="No",$C$33="No"), 1/((1/V10)), AND($C$20="Yes",$C$33="Yes"), 1/((1/V10)+(1/AA10)+(1/AF10)))} -> 276.31067 | Q10: =$C$3/1000 -> 0.033272727 | S10: =1/(2*PI()*$O10*$C$12*$C$9*0.000001) -> 397.88736 | T10: =2*PI()*$O10*((0.000000001*$C$11)/$C$12) -> 5.7805305e-08 | U10: =(0.001*$C$10)/$C$12 -> 0.03 | V10: =SQRT(U10^(2)+ABS(S10-T10)^(2)) -> 397.88736 | X10: =1/(2*PI()*$O10*$C$24*$C$21*0.000001) -> 904.28945 | Y10: =2*PI()*$O10*((0.000000001*$C$23)/$C$24) -> 8.1681409e-09 | Z10: =(0.001*$C$22)/$C$24 -> 0.001 | AA10: =IF($C$20="Yes", SQRT(Z10^(2)+ABS(X10-Y10)^(2)), 0) -> 0 | AC10: =1/(2*PI()*$O10*$C$37*$C$34*0.000001) -> 904.28945 | AD10: =2*PI()*$O10*((0.000000001*$C$36)/$C$37) -> 8.1681409e-09 | AE10: =(0.001*$C$35)/$C$37 -> 0.001 | AF10: =IF($C$33="Yes", SQRT(AE10^(2)+ABS(AC10-AD10)^(2)), 0) -> 904.28945 | AH10: =0.35/(C7*0.000000001) -> 3500000 | AI10: 1e-05
B11: Bulk Output Capacitor ESL | C11: 2.3 | D11: nH | O11: 5 | P11: {=_xlfn.IFS( AND($C$20="No",$C$33="Yes"), 1/((1/V11)+(1/AF11)), AND($C$20="Yes",$C$33="No"), 1/((1/V11)+(1/AA11)), AND($C$20="No",$C$33="No"), 1/((1/V11)), AND($C$20="Yes",$C$33="Yes"), 1/((1/V11)+(1/AA11)+(1/AF11)))} -> 221.04853 | Q11: =$C$3/1000 -> 0.033272727 | S11: =1/(2*PI()*$O11*$C$12*$C$9*0.000001) -> 318.30989 | T11: =2*PI()*$O11*((0.000000001*$C$11)/$C$12) -> 7.2256631e-08 | U11: =(0.001*$C$10)/$C$12 -> 0.03 | V11: =SQRT(U11^(2)+ABS(S11-T11)^(2)) -> 318.30989 | X11: =1/(2*PI()*$O11*$C$24*$C$21*0.000001) -> 723.43156 | Y11: =2*PI()*$O11*((0.000000001*$C$23)/$C$24) -> 1.0210176e-08 | Z11: =(0.001*$C$22)/$C$24 -> 0.001 | AA11: =IF($C$20="Yes", SQRT(Z11^(2)+ABS(X11-Y11)^(2)), 0) -> 0 | AC11: =1/(2*PI()*$O11*$C$37*$C$34*0.000001) -> 723.43156 | AD11: =2*PI()*$O11*((0.000000001*$C$36)/$C$37) -> 1.0210176e-08 | AE11: =(0.001*$C$35)/$C$37 -> 0.001 | AF11: =IF($C$33="Yes", SQRT(AE11^(2)+ABS(AC11-AD11)^(2)), 0) -> 723.43156
B12: Quantity | C12: 1 | O12: 6 | P12: {=_xlfn.IFS( AND($C$20="No",$C$33="Yes"), 1/((1/V12)+(1/AF12)), AND($C$20="Yes",$C$33="No"), 1/((1/V12)+(1/AA12)), AND($C$20="No",$C$33="No"), 1/((1/V12)), AND($C$20="Yes",$C$33="Yes"), 1/((1/V12)+(1/AA12)+(1/AF12)))} -> 184.20711 | Q12: =$C$3/1000 -> 0.033272727 | S12: =1/(2*PI()*$O12*$C$12*$C$9*0.000001) -> 265.25824 | T12: =2*PI()*$O12*((0.000000001*$C$11)/$C$12) -> 8.6707957e-08 | U12: =(0.001*$C$10)/$C$12 -> 0.03 | V12: =SQRT(U12^(2)+ABS(S12-T12)^(2)) -> 265.25824 | X12: =1/(2*PI()*$O12*$C$24*$C$21*0.000001) -> 602.85963 | Y12: =2*PI()*$O12*((0.000000001*$C$23)/$C$24) -> 1.2252211e-08 | Z12: =(0.001*$C$22)/$C$24 -> 0.001 | AA12: =IF($C$20="Yes", SQRT(Z12^(2)+ABS(X12-Y12)^(2)), 0) -> 0 | AC12: =1/(2*PI()*$O12*$C$37*$C$34*0.000001) -> 602.85963 | AD12: =2*PI()*$O12*((0.000000001*$C$36)/$C$37) -> 1.2252211e-08 | AE12: =(0.001*$C$35)/$C$37 -> 0.001 | AF12: =IF($C$33="Yes", SQRT(AE12^(2)+ABS(AC12-AD12)^(2)), 0) -> 602.85963
B13: Total Bulk COUT (COUT(TOTAL-BULK)) | C13: =C12*C9 -> 100 | D13: µF | O13: 7 | P13: {=_xlfn.IFS( AND($C$20="No",$C$33="Yes"), 1/((1/V13)+(1/AF13)), AND($C$20="Yes",$C$33="No"), 1/((1/V13)+(1/AA13)), AND($C$20="No",$C$33="No"), 1/((1/V13)), AND($C$20="Yes",$C$33="Yes"), 1/((1/V13)+(1/AA13)+(1/AF13)))} -> 157.89181 | Q13: =$C$3/1000 -> 0.033272727 | S13: =1/(2*PI()*$O13*$C$12*$C$9*0.000001) -> 227.3642 | T13: =2*PI()*$O13*((0.000000001*$C$11)/$C$12) -> 1.0115928e-07 | U13: =(0.001*$C$10)/$C$12 -> 0.03 | V13: =SQRT(U13^(2)+ABS(S13-T13)^(2)) -> 227.36421 | X13: =1/(2*PI()*$O13*$C$24*$C$21*0.000001) -> 516.73683 | Y13: =2*PI()*$O13*((0.000000001*$C$23)/$C$24) -> 1.4294247e-08 | Z13: =(0.001*$C$22)/$C$24 -> 0.001 | AA13: =IF($C$20="Yes", SQRT(Z13^(2)+ABS(X13-Y13)^(2)), 0) -> 0 | AC13: =1/(2*PI()*$O13*$C$37*$C$34*0.000001) -> 516.73683 | AD13: =2*PI()*$O13*((0.000000001*$C$36)/$C$37) -> 1.4294247e-08 | AE13: =(0.001*$C$35)/$C$37 -> 0.001 | AF13: =IF($C$33="Yes", SQRT(AE13^(2)+ABS(AC13-AD13)^(2)), 0) -> 516.73683
B14: Total Bulk COUT ESR | C14: =C10/C12 -> 30 | D14: mΩ | O14: 8 | P14: {=_xlfn.IFS( AND($C$20="No",$C$33="Yes"), 1/((1/V14)+(1/AF14)), AND($C$20="Yes",$C$33="No"), 1/((1/V14)+(1/AA14)), AND($C$20="No",$C$33="No"), 1/((1/V14)), AND($C$20="Yes",$C$33="Yes"), 1/((1/V14)+(1/AA14)+(1/AF14)))} -> 138.15533 | Q14: =$C$3/1000 -> 0.033272727 | S14: =1/(2*PI()*$O14*$C$12*$C$9*0.000001) -> 198.94368 | T14: =2*PI()*$O14*((0.000000001*$C$11)/$C$12) -> 1.1561061e-07 | U14: =(0.001*$C$10)/$C$12 -> 0.03 | V14: =SQRT(U14^(2)+ABS(S14-T14)^(2)) -> 198.94368 | X14: =1/(2*PI()*$O14*$C$24*$C$21*0.000001) -> 452.14472 | Y14: =2*PI()*$O14*((0.000000001*$C$23)/$C$24) -> 1.6336282e-08 | Z14: =(0.001*$C$22)/$C$24 -> 0.001 | AA14: =IF($C$20="Yes", SQRT(Z14^(2)+ABS(X14-Y14)^(2)), 0) -> 0 | AC14: =1/(2*PI()*$O14*$C$37*$C$34*0.000001) -> 452.14472 | AD14: =2*PI()*$O14*((0.000000001*$C$36)/$C$37) -> 1.6336282e-08 | AE14: =(0.001*$C$35)/$C$37 -> 0.001 | AF14: =IF($C$33="Yes", SQRT(AE14^(2)+ABS(AC14-AD14)^(2)), 0) -> 452.14472
B15: Bulk Capacitor Resonance | C15: =(1/(2*PI()*(SQRT(C9*0.000001*C11*0.000000001))))*0.000001 -> 0.331861 | D15: MHz | O15: 9 | P15: {=_xlfn.IFS( AND($C$20="No",$C$33="Yes"), 1/((1/V15)+(1/AF15)), AND($C$20="Yes",$C$33="No"), 1/((1/V15)+(1/AA15)), AND($C$20="No",$C$33="No"), 1/((1/V15)), AND($C$20="Yes",$C$33="Yes"), 1/((1/V15)+(1/AA15)+(1/AF15)))} -> 122.80474 | Q15: =$C$3/1000 -> 0.033272727 | S15: =1/(2*PI()*$O15*$C$12*$C$9*0.000001) -> 176.83883 | T15: =2*PI()*$O15*((0.000000001*$C$11)/$C$12) -> 1.3006194e-07 | U15: =(0.001*$C$10)/$C$12 -> 0.03 | V15: =SQRT(U15^(2)+ABS(S15-T15)^(2)) -> 176.83883 | X15: =1/(2*PI()*$O15*$C$24*$C$21*0.000001) -> 401.90642 | Y15: =2*PI()*$O15*((0.000000001*$C$23)/$C$24) -> 1.8378317e-08 | Z15: =(0.001*$C$22)/$C$24 -> 0.001 | AA15: =IF($C$20="Yes", SQRT(Z15^(2)+ABS(X15-Y15)^(2)), 0) -> 0 | AC15: =1/(2*PI()*$O15*$C$37*$C$34*0.000001) -> 401.90642 | AD15: =2*PI()*$O15*((0.000000001*$C$36)/$C$37) -> 1.8378317e-08 | AE15: =(0.001*$C$35)/$C$37 -> 0.001 | AF15: =IF($C$33="Yes", SQRT(AE15^(2)+ABS(AC15-AD15)^(2)), 0) -> 401.90642
O16: 10 | P16: {=_xlfn.IFS( AND($C$20="No",$C$33="Yes"), 1/((1/V16)+(1/AF16)), AND($C$20="Yes",$C$33="No"), 1/((1/V16)+(1/AA16)), AND($C$20="No",$C$33="No"), 1/((1/V16)), AND($C$20="Yes",$C$33="Yes"), 1/((1/V16)+(1/AA16)+(1/AF16)))} -> 110.52427 | Q16: =$C$3/1000 -> 0.033272727 | S16: =1/(2*PI()*$O16*$C$12*$C$9*0.000001) -> 159.15494 | T16: =2*PI()*$O16*((0.000000001*$C$11)/$C$12) -> 1.4451326e-07 | U16: =(0.001*$C$10)/$C$12 -> 0.03 | V16: =SQRT(U16^(2)+ABS(S16-T16)^(2)) -> 159.15495 | X16: =1/(2*PI()*$O16*$C$24*$C$21*0.000001) -> 361.71578 | Y16: =2*PI()*$O16*((0.000000001*$C$23)/$C$24) -> 2.0420352e-08 | Z16: =(0.001*$C$22)/$C$24 -> 0.001 | AA16: =IF($C$20="Yes", SQRT(Z16^(2)+ABS(X16-Y16)^(2)), 0) -> 0 | AC16: =1/(2*PI()*$O16*$C$37*$C$34*0.000001) -> 361.71578 | AD16: =2*PI()*$O16*((0.000000001*$C$36)/$C$37) -> 2.0420352e-08 | AE16: =(0.001*$C$35)/$C$37 -> 0.001 | AF16: =IF($C$33="Yes", SQRT(AE16^(2)+ABS(AC16-AD16)^(2)), 0) -> 361.71578
O17: 20 | P17: {=_xlfn.IFS( AND($C$20="No",$C$33="Yes"), 1/((1/V17)+(1/AF17)), AND($C$20="Yes",$C$33="No"), 1/((1/V17)+(1/AA17)), AND($C$20="No",$C$33="No"), 1/((1/V17)), AND($C$20="Yes",$C$33="Yes"), 1/((1/V17)+(1/AA17)+(1/AF17)))} -> 55.262136 | Q17: =$C$3/1000 -> 0.033272727 | S17: =1/(2*PI()*$O17*$C$12*$C$9*0.000001) -> 79.577472 | T17: =2*PI()*$O17*((0.000000001*$C$11)/$C$12) -> 2.8902652e-07 | U17: =(0.001*$C$10)/$C$12 -> 0.03 | V17: =SQRT(U17^(2)+ABS(S17-T17)^(2)) -> 79.577477 | X17: =1/(2*PI()*$O17*$C$24*$C$21*0.000001) -> 180.85789 | Y17: =2*PI()*$O17*((0.000000001*$C$23)/$C$24) -> 4.0840704e-08 | Z17: =(0.001*$C$22)/$C$24 -> 0.001 | AA17: =IF($C$20="Yes", SQRT(Z17^(2)+ABS(X17-Y17)^(2)), 0) -> 0 | AC17: =1/(2*PI()*$O17*$C$37*$C$34*0.000001) -> 180.85789 | AD17: =2*PI()*$O17*((0.000000001*$C$36)/$C$37) -> 4.0840704e-08 | AE17: =(0.001*$C$35)/$C$37 -> 0.001 | AF17: =IF($C$33="Yes", SQRT(AE17^(2)+ABS(AC17-AD17)^(2)), 0) -> 180.85789
O18: 30 | P18: {=_xlfn.IFS( AND($C$20="No",$C$33="Yes"), 1/((1/V18)+(1/AF18)), AND($C$20="Yes",$C$33="No"), 1/((1/V18)+(1/AA18)), AND($C$20="No",$C$33="No"), 1/((1/V18)), AND($C$20="Yes",$C$33="Yes"), 1/((1/V18)+(1/AA18)+(1/AF18)))} -> 36.841426 | Q18: =$C$3/1000 -> 0.033272727 | S18: =1/(2*PI()*$O18*$C$12*$C$9*0.000001) -> 53.051648 | T18: =2*PI()*$O18*((0.000000001*$C$11)/$C$12) -> 4.3353979e-07 | U18: =(0.001*$C$10)/$C$12 -> 0.03 | V18: =SQRT(U18^(2)+ABS(S18-T18)^(2)) -> 53.051656 | X18: =1/(2*PI()*$O18*$C$24*$C$21*0.000001) -> 120.57193 | Y18: =2*PI()*$O18*((0.000000001*$C$23)/$C$24) -> 6.1261057e-08 | Z18: =(0.001*$C$22)/$C$24 -> 0.001 | AA18: =IF($C$20="Yes", SQRT(Z18^(2)+ABS(X18-Y18)^(2)), 0) -> 0 | AC18: =1/(2*PI()*$O18*$C$37*$C$34*0.000001) -> 120.57193 | AD18: =2*PI()*$O18*((0.000000001*$C$36)/$C$37) -> 6.1261057e-08 | AE18: =(0.001*$C$35)/$C$37 -> 0.001 | AF18: =IF($C$33="Yes", SQRT(AE18^(2)+ABS(AC18-AD18)^(2)), 0) -> 120.57193
O19: 40 | P19: {=_xlfn.IFS( AND($C$20="No",$C$33="Yes"), 1/((1/V19)+(1/AF19)), AND($C$20="Yes",$C$33="No"), 1/((1/V19)+(1/AA19)), AND($C$20="No",$C$33="No"), 1/((1/V19)), AND($C$20="Yes",$C$33="Yes"), 1/((1/V19)+(1/AA19)+(1/AF19)))} -> 27.631072 | Q19: =$C$3/1000 -> 0.033272727 | S19: =1/(2*PI()*$O19*$C$12*$C$9*0.000001) -> 39.788736 | T19: =2*PI()*$O19*((0.000000001*$C$11)/$C$12) -> 5.7805305e-07 | U19: =(0.001*$C$10)/$C$12 -> 0.03 | V19: =SQRT(U19^(2)+ABS(S19-T19)^(2)) -> 39.788747 | X19: =1/(2*PI()*$O19*$C$24*$C$21*0.000001) -> 90.428945 | Y19: =2*PI()*$O19*((0.000000001*$C$23)/$C$24) -> 8.1681409e-08 | Z19: =(0.001*$C$22)/$C$24 -> 0.001 | AA19: =IF($C$20="Yes", SQRT(Z19^(2)+ABS(X19-Y19)^(2)), 0) -> 0 | AC19: =1/(2*PI()*$O19*$C$37*$C$34*0.000001) -> 90.428945 | AD19: =2*PI()*$O19*((0.000000001*$C$36)/$C$37) -> 8.1681409e-08 | AE19: =(0.001*$C$35)/$C$37 -> 0.001 | AF19: =IF($C$33="Yes", SQRT(AE19^(2)+ABS(AC19-AD19)^(2)), 0) -> 90.428945
B20: Use Mid Frequency COUT(MF1)? | C20: No | O20: 50 | P20: {=_xlfn.IFS( AND($C$20="No",$C$33="Yes"), 1/((1/V20)+(1/AF20)), AND($C$20="Yes",$C$33="No"), 1/((1/V20)+(1/AA20)), AND($C$20="No",$C$33="No"), 1/((1/V20)), AND($C$20="Yes",$C$33="Yes"), 1/((1/V20)+(1/AA20)+(1/AF20)))} -> 22.10486 | Q20: =$C$3/1000 -> 0.033272727 | S20: =1/(2*PI()*$O20*$C$12*$C$9*0.000001) -> 31.830989 | T20: =2*PI()*$O20*((0.000000001*$C$11)/$C$12) -> 7.2256631e-07 | U20: =(0.001*$C$10)/$C$12 -> 0.03 | V20: =SQRT(U20^(2)+ABS(S20-T20)^(2)) -> 31.831002 | X20: =1/(2*PI()*$O20*$C$24*$C$21*0.000001) -> 72.343156 | Y20: =2*PI()*$O20*((0.000000001*$C$23)/$C$24) -> 1.0210176e-07 | Z20: =(0.001*$C$22)/$C$24 -> 0.001 | AA20: =IF($C$20="Yes", SQRT(Z20^(2)+ABS(X20-Y20)^(2)), 0) -> 0 | AC20: =1/(2*PI()*$O20*$C$37*$C$34*0.000001) -> 72.343156 | AD20: =2*PI()*$O20*((0.000000001*$C$36)/$C$37) -> 1.0210176e-07 | AE20: =(0.001*$C$35)/$C$37 -> 0.001 | AF20: =IF($C$33="Yes", SQRT(AE20^(2)+ABS(AC20-AD20)^(2)), 0) -> 72.343156
B21: MF 1 Capacitor Value (COUT(MF1)) | C21: 22 | D21: µF | O21: 60 | P21: {=_xlfn.IFS( AND($C$20="No",$C$33="Yes"), 1/((1/V21)+(1/AF21)), AND($C$20="Yes",$C$33="No"), 1/((1/V21)+(1/AA21)), AND($C$20="No",$C$33="No"), 1/((1/V21)), AND($C$20="Yes",$C$33="Yes"), 1/((1/V21)+(1/AA21)+(1/AF21)))} -> 18.420719 | Q21: =$C$3/1000 -> 0.033272727 | S21: =1/(2*PI()*$O21*$C$12*$C$9*0.000001) -> 26.525824 | T21: =2*PI()*$O21*((0.000000001*$C$11)/$C$12) -> 8.6707957e-07 | U21: =(0.001*$C$10)/$C$12 -> 0.03 | V21: =SQRT(U21^(2)+ABS(S21-T21)^(2)) -> 26.52584 | X21: =1/(2*PI()*$O21*$C$24*$C$21*0.000001) -> 60.285963 | Y21: =2*PI()*$O21*((0.000000001*$C$23)/$C$24) -> 1.2252211e-07 | Z21: =(0.001*$C$22)/$C$24 -> 0.001 | AA21: =IF($C$20="Yes", SQRT(Z21^(2)+ABS(X21-Y21)^(2)), 0) -> 0 | AC21: =1/(2*PI()*$O21*$C$37*$C$34*0.000001) -> 60.285963 | AD21: =2*PI()*$O21*((0.000000001*$C$36)/$C$37) -> 1.2252211e-07 | AE21: =(0.001*$C$35)/$C$37 -> 0.001 | AF21: =IF($C$33="Yes", SQRT(AE21^(2)+ABS(AC21-AD21)^(2)), 0) -> 60.285963
B22: MF 1 Capacitor ESR | C22: 2 | D22: mΩ | O22: 70 | P22: {=_xlfn.IFS( AND($C$20="No",$C$33="Yes"), 1/((1/V22)+(1/AF22)), AND($C$20="Yes",$C$33="No"), 1/((1/V22)+(1/AA22)), AND($C$20="No",$C$33="No"), 1/((1/V22)), AND($C$20="Yes",$C$33="Yes"), 1/((1/V22)+(1/AA22)+(1/AF22)))} -> 15.78919 | Q22: =$C$3/1000 -> 0.033272727 | S22: =1/(2*PI()*$O22*$C$12*$C$9*0.000001) -> 22.73642 | T22: =2*PI()*$O22*((0.000000001*$C$11)/$C$12) -> 1.0115928e-06 | U22: =(0.001*$C$10)/$C$12 -> 0.03 | V22: =SQRT(U22^(2)+ABS(S22-T22)^(2)) -> 22.736439 | X22: =1/(2*PI()*$O22*$C$24*$C$21*0.000001) -> 51.673683 | Y22: =2*PI()*$O22*((0.000000001*$C$23)/$C$24) -> 1.4294247e-07 | Z22: =(0.001*$C$22)/$C$24 -> 0.001 | AA22: =IF($C$20="Yes", SQRT(Z22^(2)+ABS(X22-Y22)^(2)), 0) -> 0 | AC22: =1/(2*PI()*$O22*$C$37*$C$34*0.000001) -> 51.673683 | AD22: =2*PI()*$O22*((0.000000001*$C$36)/$C$37) -> 1.4294247e-07 | AE22: =(0.001*$C$35)/$C$37 -> 0.001 | AF22: =IF($C$33="Yes", SQRT(AE22^(2)+ABS(AC22-AD22)^(2)), 0) -> 51.673683
B23: MF 1 Capacitor ESL | C23: 0.65 | D23: nH | O23: 80 | P23: {=_xlfn.IFS( AND($C$20="No",$C$33="Yes"), 1/((1/V23)+(1/AF23)), AND($C$20="Yes",$C$33="No"), 1/((1/V23)+(1/AA23)), AND($C$20="No",$C$33="No"), 1/((1/V23)), AND($C$20="Yes",$C$33="Yes"), 1/((1/V23)+(1/AA23)+(1/AF23)))} -> 13.815544 | Q23: =$C$3/1000 -> 0.033272727 | S23: =1/(2*PI()*$O23*$C$12*$C$9*0.000001) -> 19.894368 | T23: =2*PI()*$O23*((0.000000001*$C$11)/$C$12) -> 1.1561061e-06 | U23: =(0.001*$C$10)/$C$12 -> 0.03 | V23: =SQRT(U23^(2)+ABS(S23-T23)^(2)) -> 19.894389 | X23: =1/(2*PI()*$O23*$C$24*$C$21*0.000001) -> 45.214472 | Y23: =2*PI()*$O23*((0.000000001*$C$23)/$C$24) -> 1.6336282e-07 | Z23: =(0.001*$C$22)/$C$24 -> 0.001 | AA23: =IF($C$20="Yes", SQRT(Z23^(2)+ABS(X23-Y23)^(2)), 0) -> 0 | AC23: =1/(2*PI()*$O23*$C$37*$C$34*0.000001) -> 45.214472 | AD23: =2*PI()*$O23*((0.000000001*$C$36)/$C$37) -> 1.6336282e-07 | AE23: =(0.001*$C$35)/$C$37 -> 0.001 | AF23: =IF($C$33="Yes", SQRT(AE23^(2)+ABS(AC23-AD23)^(2)), 0) -> 45.214472
B24: Quantity | C24: 2 | O24: 90 | P24: {=_xlfn.IFS( AND($C$20="No",$C$33="Yes"), 1/((1/V24)+(1/AF24)), AND($C$20="Yes",$C$33="No"), 1/((1/V24)+(1/AA24)), AND($C$20="No",$C$33="No"), 1/((1/V24)), AND($C$20="Yes",$C$33="Yes"), 1/((1/V24)+(1/AA24)+(1/AF24)))} -> 12.280486 | Q24: =$C$3/1000 -> 0.033272727 | S24: =1/(2*PI()*$O24*$C$12*$C$9*0.000001) -> 17.683883 | T24: =2*PI()*$O24*((0.000000001*$C$11)/$C$12) -> 1.3006194e-06 | U24: =(0.001*$C$10)/$C$12 -> 0.03 | V24: =SQRT(U24^(2)+ABS(S24-T24)^(2)) -> 17.683907 | X24: =1/(2*PI()*$O24*$C$24*$C$21*0.000001) -> 40.190642 | Y24: =2*PI()*$O24*((0.000000001*$C$23)/$C$24) -> 1.8378317e-07 | Z24: =(0.001*$C$22)/$C$24 -> 0.001 | AA24: =IF($C$20="Yes", SQRT(Z24^(2)+ABS(X24-Y24)^(2)), 0) -> 0 | AC24: =1/(2*PI()*$O24*$C$37*$C$34*0.000001) -> 40.190642 | AD24: =2*PI()*$O24*((0.000000001*$C$36)/$C$37) -> 1.8378317e-07 | AE24: =(0.001*$C$35)/$C$37 -> 0.001 | AF24: =IF($C$33="Yes", SQRT(AE24^(2)+ABS(AC24-AD24)^(2)), 0) -> 40.190642
B25: Total MF 1 Capacitance | C25: =C24*C21 -> 44 | D25: µF | O25: 100 | P25: {=_xlfn.IFS( AND($C$20="No",$C$33="Yes"), 1/((1/V25)+(1/AF25)), AND($C$20="Yes",$C$33="No"), 1/((1/V25)+(1/AA25)), AND($C$20="No",$C$33="No"), 1/((1/V25)), AND($C$20="Yes",$C$33="Yes"), 1/((1/V25)+(1/AA25)+(1/AF25)))} -> 11.05244 | Q25: =$C$3/1000 -> 0.033272727 | S25: =1/(2*PI()*$O25*$C$12*$C$9*0.000001) -> 15.915494 | T25: =2*PI()*$O25*((0.000000001*$C$11)/$C$12) -> 1.4451326e-06 | U25: =(0.001*$C$10)/$C$12 -> 0.03 | V25: =SQRT(U25^(2)+ABS(S25-T25)^(2)) -> 15.915521 | X25: =1/(2*PI()*$O25*$C$24*$C$21*0.000001) -> 36.171578 | Y25: =2*PI()*$O25*((0.000000001*$C$23)/$C$24) -> 2.0420352e-07 | Z25: =(0.001*$C$22)/$C$24 -> 0.001 | AA25: =IF($C$20="Yes", SQRT(Z25^(2)+ABS(X25-Y25)^(2)), 0) -> 0 | AC25: =1/(2*PI()*$O25*$C$37*$C$34*0.000001) -> 36.171578 | AD25: =2*PI()*$O25*((0.000000001*$C$36)/$C$37) -> 2.0420352e-07 | AE25: =(0.001*$C$35)/$C$37 -> 0.001 | AF25: =IF($C$33="Yes", SQRT(AE25^(2)+ABS(AC25-AD25)^(2)), 0) -> 36.171578
B26: Total MF 1 Capacitance ESR | C26: =C22/C24 -> 1 | D26: mΩ | O26: 200 | P26: {=_xlfn.IFS( AND($C$20="No",$C$33="Yes"), 1/((1/V26)+(1/AF26)), AND($C$20="Yes",$C$33="No"), 1/((1/V26)+(1/AA26)), AND($C$20="No",$C$33="No"), 1/((1/V26)), AND($C$20="Yes",$C$33="Yes"), 1/((1/V26)+(1/AA26)+(1/AF26)))} -> 5.5262391 | Q26: =$C$3/1000 -> 0.033272727 | S26: =1/(2*PI()*$O26*$C$12*$C$9*0.000001) -> 7.9577472 | T26: =2*PI()*$O26*((0.000000001*$C$11)/$C$12) -> 2.8902652e-06 | U26: =(0.001*$C$10)/$C$12 -> 0.03 | V26: =SQRT(U26^(2)+ABS(S26-T26)^(2)) -> 7.9578008 | X26: =1/(2*PI()*$O26*$C$24*$C$21*0.000001) -> 18.085789 | Y26: =2*PI()*$O26*((0.000000001*$C$23)/$C$24) -> 4.0840704e-07 | Z26: =(0.001*$C$22)/$C$24 -> 0.001 | AA26: =IF($C$20="Yes", SQRT(Z26^(2)+ABS(X26-Y26)^(2)), 0) -> 0 | AC26: =1/(2*PI()*$O26*$C$37*$C$34*0.000001) -> 18.085789 | AD26: =2*PI()*$O26*((0.000000001*$C$36)/$C$37) -> 4.0840704e-07 | AE26: =(0.001*$C$35)/$C$37 -> 0.001 | AF26: =IF($C$33="Yes", SQRT(AE26^(2)+ABS(AC26-AD26)^(2)), 0) -> 18.085789
B27: Total MF 1 Capacitance ESL | C27: =C23/C24 -> 0.325 | D27: nH | O27: 300 | P27: {=_xlfn.IFS( AND($C$20="No",$C$33="Yes"), 1/((1/V27)+(1/AF27)), AND($C$20="Yes",$C$33="No"), 1/((1/V27)+(1/AA27)), AND($C$20="No",$C$33="No"), 1/((1/V27)), AND($C$20="Yes",$C$33="Yes"), 1/((1/V27)+(1/AA27)+(1/AF27)))} -> 3.684181 | Q27: =$C$3/1000 -> 0.033272727 | S27: =1/(2*PI()*$O27*$C$12*$C$9*0.000001) -> 5.3051648 | T27: =2*PI()*$O27*((0.000000001*$C$11)/$C$12) -> 4.3353979e-06 | U27: =(0.001*$C$10)/$C$12 -> 0.03 | V27: =SQRT(U27^(2)+ABS(S27-T27)^(2)) -> 5.3052453 | X27: =1/(2*PI()*$O27*$C$24*$C$21*0.000001) -> 12.057193 | Y27: =2*PI()*$O27*((0.000000001*$C$23)/$C$24) -> 6.1261057e-07 | Z27: =(0.001*$C$22)/$C$24 -> 0.001 | AA27: =IF($C$20="Yes", SQRT(Z27^(2)+ABS(X27-Y27)^(2)), 0) -> 0 | AC27: =1/(2*PI()*$O27*$C$37*$C$34*0.000001) -> 12.057193 | AD27: =2*PI()*$O27*((0.000000001*$C$36)/$C$37) -> 6.1261057e-07 | AE27: =(0.001*$C$35)/$C$37 -> 0.001 | AF27: =IF($C$33="Yes", SQRT(AE27^(2)+ABS(AC27-AD27)^(2)), 0) -> 12.057192
B28: MF 1 Capacitor Resonance | C28: =(1/(2*PI()*(SQRT(C21*0.000001*C23*0.000000001))))*0.000001 -> 1.3309205 | D28: MHz | I28: Bulk | J28: MF | K28: HF | L28: Total | O28: 400 | P28: {=_xlfn.IFS( AND($C$20="No",$C$33="Yes"), 1/((1/V28)+(1/AF28)), AND($C$20="Yes",$C$33="No"), 1/((1/V28)+(1/AA28)), AND($C$20="No",$C$33="No"), 1/((1/V28)), AND($C$20="Yes",$C$33="Yes"), 1/((1/V28)+(1/AA28)+(1/AF28)))} -> 2.7631583 | Q28: =$C$3/1000 -> 0.033272727 | S28: =1/(2*PI()*$O28*$C$12*$C$9*0.000001) -> 3.9788736 | T28: =2*PI()*$O28*((0.000000001*$C$11)/$C$12) -> 5.7805305e-06 | U28: =(0.001*$C$10)/$C$12 -> 0.03 | V28: =SQRT(U28^(2)+ABS(S28-T28)^(2)) -> 3.9789809 | X28: =1/(2*PI()*$O28*$C$24*$C$21*0.000001) -> 9.0428945 | Y28: =2*PI()*$O28*((0.000000001*$C$23)/$C$24) -> 8.1681409e-07 | Z28: =(0.001*$C$22)/$C$24 -> 0.001 | AA28: =IF($C$20="Yes", SQRT(Z28^(2)+ABS(X28-Y28)^(2)), 0) -> 0 | AC28: =1/(2*PI()*$O28*$C$37*$C$34*0.000001) -> 9.0428945 | AD28: =2*PI()*$O28*((0.000000001*$C$36)/$C$37) -> 8.1681409e-07 | AE28: =(0.001*$C$35)/$C$37 -> 0.001 | AF28: =IF($C$33="Yes", SQRT(AE28^(2)+ABS(AC28-AD28)^(2)), 0) -> 9.0428937
H29: COUT (µF) | I29: =C9 -> 100 | J29: =IF($C$20="Yes", C21, 0) -> 0 | K29: =IF($C$33="Yes", C34, 0) -> 22 | L29: =I29*$I$32+J29*$J$32+K29*$K$32 -> 144 | O29: 500 | P29: {=_xlfn.IFS( AND($C$20="No",$C$33="Yes"), 1/((1/V29)+(1/AF29)), AND($C$20="Yes",$C$33="No"), 1/((1/V29)+(1/AA29)), AND($C$20="No",$C$33="No"), 1/((1/V29)), AND($C$20="Yes",$C$33="Yes"), 1/((1/V29)+(1/AA29)+(1/AF29)))} -> 2.2105499 | Q29: =$C$3/1000 -> 0.033272727 | S29: =1/(2*PI()*$O29*$C$12*$C$9*0.000001) -> 3.1830989 | T29: =2*PI()*$O29*((0.000000001*$C$11)/$C$12) -> 7.2256631e-06 | U29: =(0.001*$C$10)/$C$12 -> 0.03 | V29: =SQRT(U29^(2)+ABS(S29-T29)^(2)) -> 3.183233 | X29: =1/(2*PI()*$O29*$C$24*$C$21*0.000001) -> 7.2343156 | Y29: =2*PI()*$O29*((0.000000001*$C$23)/$C$24) -> 1.0210176e-06 | Z29: =(0.001*$C$22)/$C$24 -> 0.001 | AA29: =IF($C$20="Yes", SQRT(Z29^(2)+ABS(X29-Y29)^(2)), 0) -> 0 | AC29: =1/(2*PI()*$O29*$C$37*$C$34*0.000001) -> 7.2343156 | AD29: =2*PI()*$O29*((0.000000001*$C$36)/$C$37) -> 1.0210176e-06 | AE29: =(0.001*$C$35)/$C$37 -> 0.001 | AF29: =IF($C$33="Yes", SQRT(AE29^(2)+ABS(AC29-AD29)^(2)), 0) -> 7.2343146
H30: ESR (mΩ) | I30: =C10 -> 30 | J30: =IF($C$20="Yes", C22, 0) -> 0 | K30: =IF($C$33="Yes", C35, 0) -> 2 | O30: 600 | P30: {=_xlfn.IFS( AND($C$20="No",$C$33="Yes"), 1/((1/V30)+(1/AF30)), AND($C$20="Yes",$C$33="No"), 1/((1/V30)+(1/AA30)), AND($C$20="No",$C$33="No"), 1/((1/V30)), AND($C$20="Yes",$C$33="Yes"), 1/((1/V30)+(1/AA30)+(1/AF30)))} -> 1.8421486 | Q30: =$C$3/1000 -> 0.033272727 | S30: =1/(2*PI()*$O30*$C$12*$C$9*0.000001) -> 2.6525824 | T30: =2*PI()*$O30*((0.000000001*$C$11)/$C$12) -> 8.6707957e-06 | U30: =(0.001*$C$10)/$C$12 -> 0.03 | V30: =SQRT(U30^(2)+ABS(S30-T30)^(2)) -> 2.6527434 | X30: =1/(2*PI()*$O30*$C$24*$C$21*0.000001) -> 6.0285963 | Y30: =2*PI()*$O30*((0.000000001*$C$23)/$C$24) -> 1.2252211e-06 | Z30: =(0.001*$C$22)/$C$24 -> 0.001 | AA30: =IF($C$20="Yes", SQRT(Z30^(2)+ABS(X30-Y30)^(2)), 0) -> 0 | AC30: =1/(2*PI()*$O30*$C$37*$C$34*0.000001) -> 6.0285963 | AD30: =2*PI()*$O30*((0.000000001*$C$36)/$C$37) -> 1.2252211e-06 | AE30: =(0.001*$C$35)/$C$37 -> 0.001 | AF30: =IF($C$33="Yes", SQRT(AE30^(2)+ABS(AC30-AD30)^(2)), 0) -> 6.0285952
H31: ESL (nH) | I31: =C11 -> 2.3 | J31: =IF($C$20="Yes", C23, 0) -> 0 | K31: =IF($C$33="Yes", C36, 0) -> 0.65 | O31: 700 | P31: {=_xlfn.IFS( AND($C$20="No",$C$33="Yes"), 1/((1/V31)+(1/AF31)), AND($C$20="Yes",$C$33="No"), 1/((1/V31)+(1/AA31)), AND($C$20="No",$C$33="No"), 1/((1/V31)), AND($C$20="Yes",$C$33="Yes"), 1/((1/V31)+(1/AA31)+(1/AF31)))} -> 1.5790085 | Q31: =$C$3/1000 -> 0.033272727 | S31: =1/(2*PI()*$O31*$C$12*$C$9*0.000001) -> 2.273642 | T31: =2*PI()*$O31*((0.000000001*$C$11)/$C$12) -> 1.0115928e-05 | U31: =(0.001*$C$10)/$C$12 -> 0.03 | V31: =SQRT(U31^(2)+ABS(S31-T31)^(2)) -> 2.2738298 | X31: =1/(2*PI()*$O31*$C$24*$C$21*0.000001) -> 5.1673683 | Y31: =2*PI()*$O31*((0.000000001*$C$23)/$C$24) -> 1.4294247e-06 | Z31: =(0.001*$C$22)/$C$24 -> 0.001 | AA31: =IF($C$20="Yes", SQRT(Z31^(2)+ABS(X31-Y31)^(2)), 0) -> 0 | AC31: =1/(2*PI()*$O31*$C$37*$C$34*0.000001) -> 5.1673683 | AD31: =2*PI()*$O31*((0.000000001*$C$36)/$C$37) -> 1.4294247e-06 | AE31: =(0.001*$C$35)/$C$37 -> 0.001 | AF31: =IF($C$33="Yes", SQRT(AE31^(2)+ABS(AC31-AD31)^(2)), 0) -> 5.1673669
H32: Total Quantity | I32: =C12 -> 1 | J32: =IF($C$20="Yes", C24, 0) -> 0 | K32: =IF($C$33="Yes", C37, 0) -> 2 | L32: =SUM(I32:K32) -> 3 | O32: 800 | P32: {=_xlfn.IFS( AND($C$20="No",$C$33="Yes"), 1/((1/V32)+(1/AF32)), AND($C$20="Yes",$C$33="No"), 1/((1/V32)+(1/AA32)), AND($C$20="No",$C$33="No"), 1/((1/V32)), AND($C$20="Yes",$C$33="Yes"), 1/((1/V32)+(1/AA32)+(1/AF32)))} -> 1.3816567 | Q32: =$C$3/1000 -> 0.033272727 | S32: =1/(2*PI()*$O32*$C$12*$C$9*0.000001) -> 1.9894368 | T32: =2*PI()*$O32*((0.000000001*$C$11)/$C$12) -> 1.1561061e-05 | U32: =(0.001*$C$10)/$C$12 -> 0.03 | V32: =SQRT(U32^(2)+ABS(S32-T32)^(2)) -> 1.9896514 | X32: =1/(2*PI()*$O32*$C$24*$C$21*0.000001) -> 4.5214472 | Y32: =2*PI()*$O32*((0.000000001*$C$23)/$C$24) -> 1.6336282e-06 | Z32: =(0.001*$C$22)/$C$24 -> 0.001 | AA32: =IF($C$20="Yes", SQRT(Z32^(2)+ABS(X32-Y32)^(2)), 0) -> 0 | AC32: =1/(2*PI()*$O32*$C$37*$C$34*0.000001) -> 4.5214472 | AD32: =2*PI()*$O32*((0.000000001*$C$36)/$C$37) -> 1.6336282e-06 | AE32: =(0.001*$C$35)/$C$37 -> 0.001 | AF32: =IF($C$33="Yes", SQRT(AE32^(2)+ABS(AC32-AD32)^(2)), 0) -> 4.5214457
B33: Use High Frequency COUT(HF)? | C33: Yes | O33: 900 | P33: {=_xlfn.IFS( AND($C$20="No",$C$33="Yes"), 1/((1/V33)+(1/AF33)), AND($C$20="Yes",$C$33="No"), 1/((1/V33)+(1/AA33)), AND($C$20="No",$C$33="No"), 1/((1/V33)), AND($C$20="Yes",$C$33="Yes"), 1/((1/V33)+(1/AA33)+(1/AF33)))} -> 1.2281637 | Q33: =$C$3/1000 -> 0.033272727 | S33: =1/(2*PI()*$O33*$C$12*$C$9*0.000001) -> 1.7683883 | T33: =2*PI()*$O33*((0.000000001*$C$11)/$C$12) -> 1.3006194e-05 | U33: =(0.001*$C$10)/$C$12 -> 0.03 | V33: =SQRT(U33^(2)+ABS(S33-T33)^(2)) -> 1.7686297 | X33: =1/(2*PI()*$O33*$C$24*$C$21*0.000001) -> 4.0190642 | Y33: =2*PI()*$O33*((0.000000001*$C$23)/$C$24) -> 1.8378317e-06 | Z33: =(0.001*$C$22)/$C$24 -> 0.001 | AA33: =IF($C$20="Yes", SQRT(Z33^(2)+ABS(X33-Y33)^(2)), 0) -> 0 | AC33: =1/(2*PI()*$O33*$C$37*$C$34*0.000001) -> 4.0190642 | AD33: =2*PI()*$O33*((0.000000001*$C$36)/$C$37) -> 1.8378317e-06 | AE33: =(0.001*$C$35)/$C$37 -> 0.001 | AF33: =IF($C$33="Yes", SQRT(AE33^(2)+ABS(AC33-AD33)^(2)), 0) -> 4.0190625
B34: HF Capacitor Value (COUT(HF)) | C34: 22 | D34: µF | O34: 1000 | P34: {=_xlfn.IFS( AND($C$20="No",$C$33="Yes"), 1/((1/V34)+(1/AF34)), AND($C$20="Yes",$C$33="No"), 1/((1/V34)+(1/AA34)), AND($C$20="No",$C$33="No"), 1/((1/V34)), AND($C$20="Yes",$C$33="Yes"), 1/((1/V34)+(1/AA34)+(1/AF34)))} -> 1.1053718 | Q34: =$C$3/1000 -> 0.033272727 | S34: =1/(2*PI()*$O34*$C$12*$C$9*0.000001) -> 1.5915494 | T34: =2*PI()*$O34*((0.000000001*$C$11)/$C$12) -> 1.4451326e-05 | U34: =(0.001*$C$10)/$C$12 -> 0.03 | V34: =SQRT(U34^(2)+ABS(S34-T34)^(2)) -> 1.5918177 | X34: =1/(2*PI()*$O34*$C$24*$C$21*0.000001) -> 3.6171578 | Y34: =2*PI()*$O34*((0.000000001*$C$23)/$C$24) -> 2.0420352e-06 | Z34: =(0.001*$C$22)/$C$24 -> 0.001 | AA34: =IF($C$20="Yes", SQRT(Z34^(2)+ABS(X34-Y34)^(2)), 0) -> 0 | AC34: =1/(2*PI()*$O34*$C$37*$C$34*0.000001) -> 3.6171578 | AD34: =2*PI()*$O34*((0.000000001*$C$36)/$C$37) -> 2.0420352e-06 | AE34: =(0.001*$C$35)/$C$37 -> 0.001 | AF34: =IF($C$33="Yes", SQRT(AE34^(2)+ABS(AC34-AD34)^(2)), 0) -> 3.6171559
B35: HF Capacitor ESR | C35: 2 | D35: mΩ | I35: Example Bulk Capacitors | O35: 2000 | P35: {=_xlfn.IFS( AND($C$20="No",$C$33="Yes"), 1/((1/V35)+(1/AF35)), AND($C$20="Yes",$C$33="No"), 1/((1/V35)+(1/AA35)), AND($C$20="No",$C$33="No"), 1/((1/V35)), AND($C$20="Yes",$C$33="Yes"), 1/((1/V35)+(1/AA35)+(1/AF35)))} -> 0.5528796 | Q35: =$C$3/1000 -> 0.033272727 | S35: =1/(2*PI()*$O35*$C$12*$C$9*0.000001) -> 0.79577472 | T35: =2*PI()*$O35*((0.000000001*$C$11)/$C$12) -> 2.8902652e-05 | U35: =(0.001*$C$10)/$C$12 -> 0.03 | V35: =SQRT(U35^(2)+ABS(S35-T35)^(2)) -> 0.79631112 | X35: =1/(2*PI()*$O35*$C$24*$C$21*0.000001) -> 1.8085789 | Y35: =2*PI()*$O35*((0.000000001*$C$23)/$C$24) -> 4.0840704e-06 | Z35: =(0.001*$C$22)/$C$24 -> 0.001 | AA35: =IF($C$20="Yes", SQRT(Z35^(2)+ABS(X35-Y35)^(2)), 0) -> 0 | AC35: =1/(2*PI()*$O35*$C$37*$C$34*0.000001) -> 1.8085789 | AD35: =2*PI()*$O35*((0.000000001*$C$36)/$C$37) -> 4.0840704e-06 | AE35: =(0.001*$C$35)/$C$37 -> 0.001 | AF35: =IF($C$33="Yes", SQRT(AE35^(2)+ABS(AC35-AD35)^(2)), 0) -> 1.8085751
B36: HF Capacitor ESL | C36: 0.65 | D36: nH | H36: MFR PN | I36: T540D476M016AH(1)20 | J36: T541X476M035AH6510 | K36: TES E 476 * 025 | L36: T521X107M025ATE030 | O36: 3000 | P36: {=_xlfn.IFS( AND($C$20="No",$C$33="Yes"), 1/((1/V36)+(1/AF36)), AND($C$20="Yes",$C$33="No"), 1/((1/V36)+(1/AA36)), AND($C$20="No",$C$33="No"), 1/((1/V36)), AND($C$20="Yes",$C$33="Yes"), 1/((1/V36)+(1/AA36)+(1/AF36)))} -> 0.36880137 | Q36: =$C$3/1000 -> 0.033272727 | S36: =1/(2*PI()*$O36*$C$12*$C$9*0.000001) -> 0.53051648 | T36: =2*PI()*$O36*((0.000000001*$C$11)/$C$12) -> 4.3353979e-05 | U36: =(0.001*$C$10)/$C$12 -> 0.03 | V36: =SQRT(U36^(2)+ABS(S36-T36)^(2)) -> 0.53132075 | X36: =1/(2*PI()*$O36*$C$24*$C$21*0.000001) -> 1.2057193 | Y36: =2*PI()*$O36*((0.000000001*$C$23)/$C$24) -> 6.1261057e-06 | Z36: =(0.001*$C$22)/$C$24 -> 0.001 | AA36: =IF($C$20="Yes", SQRT(Z36^(2)+ABS(X36-Y36)^(2)), 0) -> 0 | AC36: =1/(2*PI()*$O36*$C$37*$C$34*0.000001) -> 1.2057193 | AD36: =2*PI()*$O36*((0.000000001*$C$36)/$C$37) -> 6.1261057e-06 | AE36: =(0.001*$C$35)/$C$37 -> 0.001 | AF36: =IF($C$33="Yes", SQRT(AE36^(2)+ABS(AC36-AD36)^(2)), 0) -> 1.2057136
B37: HF Capacitor Quantity | C37: 2 | H37: CAP (µF) | I37: 47 | J37: 47 | K37: 47 | L37: 100 | O37: 4000 | P37: {=_xlfn.IFS( AND($C$20="No",$C$33="Yes"), 1/((1/V37)+(1/AF37)), AND($C$20="Yes",$C$33="No"), 1/((1/V37)+(1/AA37)), AND($C$20="No",$C$33="No"), 1/((1/V37)), AND($C$20="Yes",$C$33="Yes"), 1/((1/V37)+(1/AA37)+(1/AF37)))} -> 0.27682637 | Q37: =$C$3/1000 -> 0.033272727 | S37: =1/(2*PI()*$O37*$C$12*$C$9*0.000001) -> 0.39788736 | T37: =2*PI()*$O37*((0.000000001*$C$11)/$C$12) -> 5.7805305e-05 | U37: =(0.001*$C$10)/$C$12 -> 0.03 | V37: =SQRT(U37^(2)+ABS(S37-T37)^(2)) -> 0.39895909 | X37: =1/(2*PI()*$O37*$C$24*$C$21*0.000001) -> 0.90428945 | Y37: =2*PI()*$O37*((0.000000001*$C$23)/$C$24) -> 8.1681409e-06 | Z37: =(0.001*$C$22)/$C$24 -> 0.001 | AA37: =IF($C$20="Yes", SQRT(Z37^(2)+ABS(X37-Y37)^(2)), 0) -> 0 | AC37: =1/(2*PI()*$O37*$C$37*$C$34*0.000001) -> 0.90428945 | AD37: =2*PI()*$O37*((0.000000001*$C$36)/$C$37) -> 8.1681409e-06 | AE37: =(0.001*$C$35)/$C$37 -> 0.001 | AF37: =IF($C$33="Yes", SQRT(AE37^(2)+ABS(AC37-AD37)^(2)), 0) -> 0.90428183
B38: Total HF Capacitance | C38: =C37*C34 -> 44 | D38: µF | H38: ESR (mΩ) | I38: 35 | J38: 60 | K38: 65 | L38: 30 | O38: 5000 | P38: {=_xlfn.IFS( AND($C$20="No",$C$33="Yes"), 1/((1/V38)+(1/AF38)), AND($C$20="Yes",$C$33="No"), 1/((1/V38)+(1/AA38)), AND($C$20="No",$C$33="No"), 1/((1/V38)), AND($C$20="Yes",$C$33="Yes"), 1/((1/V38)+(1/AA38)+(1/AF38)))} -> 0.22169238 | Q38: =$C$3/1000 -> 0.033272727 | S38: =1/(2*PI()*$O38*$C$12*$C$9*0.000001) -> 0.31830989 | T38: =2*PI()*$O38*((0.000000001*$C$11)/$C$12) -> 7.2256631e-05 | U38: =(0.001*$C$10)/$C$12 -> 0.03 | V38: =SQRT(U38^(2)+ABS(S38-T38)^(2)) -> 0.31964854 | X38: =1/(2*PI()*$O38*$C$24*$C$21*0.000001) -> 0.72343156 | Y38: =2*PI()*$O38*((0.000000001*$C$23)/$C$24) -> 1.0210176e-05 | Z38: =(0.001*$C$22)/$C$24 -> 0.001 | AA38: =IF($C$20="Yes", SQRT(Z38^(2)+ABS(X38-Y38)^(2)), 0) -> 0 | AC38: =1/(2*PI()*$O38*$C$37*$C$34*0.000001) -> 0.72343156 | AD38: =2*PI()*$O38*((0.000000001*$C$36)/$C$37) -> 1.0210176e-05 | AE38: =(0.001*$C$35)/$C$37 -> 0.001 | AF38: =IF($C$33="Yes", SQRT(AE38^(2)+ABS(AC38-AD38)^(2)), 0) -> 0.72342204
B39: Total HF Capacitance ESR | C39: =C35/C37 -> 1 | D39: mΩ | H39: ESL (nH) | I39: 1.5 | J39: 2.35 | L39: 2.3 | O39: 6000 | P39: {=_xlfn.IFS( AND($C$20="No",$C$33="Yes"), 1/((1/V39)+(1/AF39)), AND($C$20="Yes",$C$33="No"), 1/((1/V39)+(1/AA39)), AND($C$20="No",$C$33="No"), 1/((1/V39)), AND($C$20="Yes",$C$33="Yes"), 1/((1/V39)+(1/AA39)+(1/AF39)))} -> 0.18497858 | Q39: =$C$3/1000 -> 0.033272727 | S39: =1/(2*PI()*$O39*$C$12*$C$9*0.000001) -> 0.26525824 | T39: =2*PI()*$O39*((0.000000001*$C$11)/$C$12) -> 8.6707957e-05 | U39: =(0.001*$C$10)/$C$12 -> 0.03 | V39: =SQRT(U39^(2)+ABS(S39-T39)^(2)) -> 0.26686315 | X39: =1/(2*PI()*$O39*$C$24*$C$21*0.000001) -> 0.60285963 | Y39: =2*PI()*$O39*((0.000000001*$C$23)/$C$24) -> 1.2252211e-05 | Z39: =(0.001*$C$22)/$C$24 -> 0.001 | AA39: =IF($C$20="Yes", SQRT(Z39^(2)+ABS(X39-Y39)^(2)), 0) -> 0 | AC39: =1/(2*PI()*$O39*$C$37*$C$34*0.000001) -> 0.60285963 | AD39: =2*PI()*$O39*((0.000000001*$C$36)/$C$37) -> 1.2252211e-05 | AE39: =(0.001*$C$35)/$C$37 -> 0.001 | AF39: =IF($C$33="Yes", SQRT(AE39^(2)+ABS(AC39-AD39)^(2)), 0) -> 0.60284821
B40: Total HF Capacitance ESL | C40: =C36/C37 -> 0.325 | D40: nH | H40: Volt Rating (V) | I40: 16 | J40: 35 | K40: 25 | L40: 25 | O40: 7000 | P40: {=_xlfn.IFS( AND($C$20="No",$C$33="Yes"), 1/((1/V40)+(1/AF40)), AND($C$20="Yes",$C$33="No"), 1/((1/V40)+(1/AA40)), AND($C$20="No",$C$33="No"), 1/((1/V40)), AND($C$20="Yes",$C$33="Yes"), 1/((1/V40)+(1/AA40)+(1/AF40)))} -> 0.15879028 | Q40: =$C$3/1000 -> 0.033272727 | S40: =1/(2*PI()*$O40*$C$12*$C$9*0.000001) -> 0.2273642 | T40: =2*PI()*$O40*((0.000000001*$C$11)/$C$12) -> 0.00010115928 | U40: =(0.001*$C$10)/$C$12 -> 0.03 | V40: =SQRT(U40^(2)+ABS(S40-T40)^(2)) -> 0.22923458 | X40: =1/(2*PI()*$O40*$C$24*$C$21*0.000001) -> 0.51673683 | Y40: =2*PI()*$O40*((0.000000001*$C$23)/$C$24) -> 1.4294247e-05 | Z40: =(0.001*$C$22)/$C$24 -> 0.001 | AA40: =IF($C$20="Yes", SQRT(Z40^(2)+ABS(X40-Y40)^(2)), 0) -> 0 | AC40: =1/(2*PI()*$O40*$C$37*$C$34*0.000001) -> 0.51673683 | AD40: =2*PI()*$O40*((0.000000001*$C$36)/$C$37) -> 1.4294247e-05 | AE40: =(0.001*$C$35)/$C$37 -> 0.001 | AF40: =IF($C$33="Yes", SQRT(AE40^(2)+ABS(AC40-AD40)^(2)), 0) -> 0.5167235
B41: HF Capacitor Resonance | C41: =(1/(2*PI()*(SQRT(C34*0.000001*C36*0.000000001))))*0.000001 -> 1.3309205 | D41: MHz | H41: RMS Voltage @ 85C (V) | K41: 0.119 | O41: 8000 | P41: {=_xlfn.IFS( AND($C$20="No",$C$33="Yes"), 1/((1/V41)+(1/AF41)), AND($C$20="Yes",$C$33="No"), 1/((1/V41)+(1/AA41)), AND($C$20="No",$C$33="No"), 1/((1/V41)), AND($C$20="Yes",$C$33="Yes"), 1/((1/V41)+(1/AA41)+(1/AF41)))} -> 0.13918009 | Q41: =$C$3/1000 -> 0.033272727 | S41: =1/(2*PI()*$O41*$C$12*$C$9*0.000001) -> 0.19894368 | T41: =2*PI()*$O41*((0.000000001*$C$11)/$C$12) -> 0.00011561061 | U41: =(0.001*$C$10)/$C$12 -> 0.03 | V41: =SQRT(U41^(2)+ABS(S41-T41)^(2)) -> 0.20107859 | X41: =1/(2*PI()*$O41*$C$24*$C$21*0.000001) -> 0.45214472 | Y41: =2*PI()*$O41*((0.000000001*$C$23)/$C$24) -> 1.6336282e-05 | Z41: =(0.001*$C$22)/$C$24 -> 0.001 | AA41: =IF($C$20="Yes", SQRT(Z41^(2)+ABS(X41-Y41)^(2)), 0) -> 0 | AC41: =1/(2*PI()*$O41*$C$37*$C$34*0.000001) -> 0.45214472 | AD41: =2*PI()*$O41*((0.000000001*$C$36)/$C$37) -> 1.6336282e-05 | AE41: =(0.001*$C$35)/$C$37 -> 0.001 | AF41: =IF($C$33="Yes", SQRT(AE41^(2)+ABS(AC41-AD41)^(2)), 0) -> 0.45212949
H42: RMS Current @ 85C (A) | I42: =2.535*0.7 -> 1.7745 | J42: 1.487 | K42: 1.834 | L42: 3.65 | O42: 9000 | P42: {=_xlfn.IFS( AND($C$20="No",$C$33="Yes"), 1/((1/V42)+(1/AF42)), AND($C$20="Yes",$C$33="No"), 1/((1/V42)+(1/AA42)), AND($C$20="No",$C$33="No"), 1/((1/V42)), AND($C$20="Yes",$C$33="Yes"), 1/((1/V42)+(1/AA42)+(1/AF42)))} -> 0.12395498 | Q42: =$C$3/1000 -> 0.033272727 | S42: =1/(2*PI()*$O42*$C$12*$C$9*0.000001) -> 0.17683883 | T42: =2*PI()*$O42*((0.000000001*$C$11)/$C$12) -> 0.00013006194 | U42: =(0.001*$C$10)/$C$12 -> 0.03 | V42: =SQRT(U42^(2)+ABS(S42-T42)^(2)) -> 0.17923724 | X42: =1/(2*PI()*$O42*$C$24*$C$21*0.000001) -> 0.40190642 | Y42: =2*PI()*$O42*((0.000000001*$C$23)/$C$24) -> 1.8378317e-05 | Z42: =(0.001*$C$22)/$C$24 -> 0.001 | AA42: =IF($C$20="Yes", SQRT(Z42^(2)+ABS(X42-Y42)^(2)), 0) -> 0 | AC42: =1/(2*PI()*$O42*$C$37*$C$34*0.000001) -> 0.40190642 | AD42: =2*PI()*$O42*((0.000000001*$C$36)/$C$37) -> 1.8378317e-05 | AE42: =(0.001*$C$35)/$C$37 -> 0.001 | AF42: =IF($C$33="Yes", SQRT(AE42^(2)+ABS(AC42-AD42)^(2)), 0) -> 0.40188929
B43: Total Output Capacitance (COUT(TOTAL)) | C43: =L29 -> 144 | D43: µF | H43: DLA/ESCC | I43: 04051-033(2) | J43: 04052-062MZ | K43: 301200405#476*E0065 | O43: 10000 | P43: {=_xlfn.IFS( AND($C$20="No",$C$33="Yes"), 1/((1/V43)+(1/AF43)), AND($C$20="Yes",$C$33="No"), 1/((1/V43)+(1/AA43)), AND($C$20="No",$C$33="No"), 1/((1/V43)), AND($C$20="Yes",$C$33="Yes"), 1/((1/V43)+(1/AA43)+(1/AF43)))} -> 0.11179908 | Q43: =$C$3/1000 -> 0.033272727 | S43: =1/(2*PI()*$O43*$C$12*$C$9*0.000001) -> 0.15915494 | T43: =2*PI()*$O43*((0.000000001*$C$11)/$C$12) -> 0.00014451326 | U43: =(0.001*$C$10)/$C$12 -> 0.03 | V43: =SQRT(U43^(2)+ABS(S43-T43)^(2)) -> 0.16181569 | X43: =1/(2*PI()*$O43*$C$24*$C$21*0.000001) -> 0.36171578 | Y43: =2*PI()*$O43*((0.000000001*$C$23)/$C$24) -> 2.0420352e-05 | Z43: =(0.001*$C$22)/$C$24 -> 0.001 | AA43: =IF($C$20="Yes", SQRT(Z43^(2)+ABS(X43-Y43)^(2)), 0) -> 0 | AC43: =1/(2*PI()*$O43*$C$37*$C$34*0.000001) -> 0.36171578 | AD43: =2*PI()*$O43*((0.000000001*$C$36)/$C$37) -> 2.0420352e-05 | AE43: =(0.001*$C$35)/$C$37 -> 0.001 | AF43: =IF($C$33="Yes", SQRT(AE43^(2)+ABS(AC43-AD43)^(2)), 0) -> 0.36169674
O44: 20000 | P44: {=_xlfn.IFS( AND($C$20="No",$C$33="Yes"), 1/((1/V44)+(1/AF44)), AND($C$20="Yes",$C$33="No"), 1/((1/V44)+(1/AA44)), AND($C$20="No",$C$33="No"), 1/((1/V44)), AND($C$20="Yes",$C$33="Yes"), 1/((1/V44)+(1/AA44)+(1/AF44)))} -> 0.057715343 | Q44: =$C$3/1000 -> 0.033272727 | S44: =1/(2*PI()*$O44*$C$12*$C$9*0.000001) -> 0.079577472 | T44: =2*PI()*$O44*((0.000000001*$C$11)/$C$12) -> 0.00028902652 | U44: =(0.001*$C$10)/$C$12 -> 0.03 | V44: =SQRT(U44^(2)+ABS(S44-T44)^(2)) -> 0.084774156 | X44: =1/(2*PI()*$O44*$C$24*$C$21*0.000001) -> 0.18085789 | Y44: =2*PI()*$O44*((0.000000001*$C$23)/$C$24) -> 4.0840704e-05 | Z44: =(0.001*$C$22)/$C$24 -> 0.001 | AA44: =IF($C$20="Yes", SQRT(Z44^(2)+ABS(X44-Y44)^(2)), 0) -> 0 | AC44: =1/(2*PI()*$O44*$C$37*$C$34*0.000001) -> 0.18085789 | AD44: =2*PI()*$O44*((0.000000001*$C$36)/$C$37) -> 4.0840704e-05 | AE44: =(0.001*$C$35)/$C$37 -> 0.001 | AF44: =IF($C$33="Yes", SQRT(AE44^(2)+ABS(AC44-AD44)^(2)), 0) -> 0.18081981
O45: 30000 | P45: {=_xlfn.IFS( AND($C$20="No",$C$33="Yes"), 1/((1/V45)+(1/AF45)), AND($C$20="Yes",$C$33="No"), 1/((1/V45)+(1/AA45)), AND($C$20="No",$C$33="No"), 1/((1/V45)), AND($C$20="Yes",$C$33="Yes"), 1/((1/V45)+(1/AA45)+(1/AF45)))} -> 0.040310077 | Q45: =$C$3/1000 -> 0.033272727 | S45: =1/(2*PI()*$O45*$C$12*$C$9*0.000001) -> 0.053051648 | T45: =2*PI()*$O45*((0.000000001*$C$11)/$C$12) -> 0.00043353979 | U45: =(0.001*$C$10)/$C$12 -> 0.03 | V45: =SQRT(U45^(2)+ABS(S45-T45)^(2)) -> 0.060569508 | X45: =1/(2*PI()*$O45*$C$24*$C$21*0.000001) -> 0.12057193 | Y45: =2*PI()*$O45*((0.000000001*$C$23)/$C$24) -> 6.1261057e-05 | Z45: =(0.001*$C$22)/$C$24 -> 0.001 | AA45: =IF($C$20="Yes", SQRT(Z45^(2)+ABS(X45-Y45)^(2)), 0) -> 0 | AC45: =1/(2*PI()*$O45*$C$37*$C$34*0.000001) -> 0.12057193 | AD45: =2*PI()*$O45*((0.000000001*$C$36)/$C$37) -> 6.1261057e-05 | AE45: =(0.001*$C$35)/$C$37 -> 0.001 | AF45: =IF($C$33="Yes", SQRT(AE45^(2)+ABS(AC45-AD45)^(2)), 0) -> 0.12051481
O46: 40000 | P46: {=_xlfn.IFS( AND($C$20="No",$C$33="Yes"), 1/((1/V46)+(1/AF46)), AND($C$20="Yes",$C$33="No"), 1/((1/V46)+(1/AA46)), AND($C$20="No",$C$33="No"), 1/((1/V46)), AND($C$20="Yes",$C$33="Yes"), 1/((1/V46)+(1/AA46)+(1/AF46)))} -> 0.031925824 | Q46: =$C$3/1000 -> 0.033272727 | S46: =1/(2*PI()*$O46*$C$12*$C$9*0.000001) -> 0.039788736 | T46: =2*PI()*$O46*((0.000000001*$C$11)/$C$12) -> 0.00057805305 | U46: =(0.001*$C$10)/$C$12 -> 0.03 | V46: =SQRT(U46^(2)+ABS(S46-T46)^(2)) -> 0.049370818 | X46: =1/(2*PI()*$O46*$C$24*$C$21*0.000001) -> 0.090428945 | Y46: =2*PI()*$O46*((0.000000001*$C$23)/$C$24) -> 8.1681409e-05 | Z46: =(0.001*$C$22)/$C$24 -> 0.001 | AA46: =IF($C$20="Yes", SQRT(Z46^(2)+ABS(X46-Y46)^(2)), 0) -> 0 | AC46: =1/(2*PI()*$O46*$C$37*$C$34*0.000001) -> 0.090428945 | AD46: =2*PI()*$O46*((0.000000001*$C$36)/$C$37) -> 8.1681409e-05 | AE46: =(0.001*$C$35)/$C$37 -> 0.001 | AF46: =IF($C$33="Yes", SQRT(AE46^(2)+ABS(AC46-AD46)^(2)), 0) -> 0.090352798
O47: 50000 | P47: {=_xlfn.IFS( AND($C$20="No",$C$33="Yes"), 1/((1/V47)+(1/AF47)), AND($C$20="Yes",$C$33="No"), 1/((1/V47)+(1/AA47)), AND($C$20="No",$C$33="No"), 1/((1/V47)), AND($C$20="Yes",$C$33="Yes"), 1/((1/V47)+(1/AA47)+(1/AF47)))} -> 0.027041566 | Q47: =$C$3/1000 -> 0.033272727 | S47: =1/(2*PI()*$O47*$C$12*$C$9*0.000001) -> 0.031830989 | T47: =2*PI()*$O47*((0.000000001*$C$11)/$C$12) -> 0.00072256631 | U47: =(0.001*$C$10)/$C$12 -> 0.03 | V47: =SQRT(U47^(2)+ABS(S47-T47)^(2)) -> 0.043217287 | X47: =1/(2*PI()*$O47*$C$24*$C$21*0.000001) -> 0.072343156 | Y47: =2*PI()*$O47*((0.000000001*$C$23)/$C$24) -> 0.00010210176 | Z47: =(0.001*$C$22)/$C$24 -> 0.001 | AA47: =IF($C$20="Yes", SQRT(Z47^(2)+ABS(X47-Y47)^(2)), 0) -> 0 | AC47: =1/(2*PI()*$O47*$C$37*$C$34*0.000001) -> 0.072343156 | AD47: =2*PI()*$O47*((0.000000001*$C$36)/$C$37) -> 0.00010210176 | AE47: =(0.001*$C$35)/$C$37 -> 0.001 | AF47: =IF($C$33="Yes", SQRT(AE47^(2)+ABS(AC47-AD47)^(2)), 0) -> 0.072247975
O48: 60000 | P48: {=_xlfn.IFS( AND($C$20="No",$C$33="Yes"), 1/((1/V48)+(1/AF48)), AND($C$20="Yes",$C$33="No"), 1/((1/V48)+(1/AA48)), AND($C$20="No",$C$33="No"), 1/((1/V48)), AND($C$20="Yes",$C$33="Yes"), 1/((1/V48)+(1/AA48)+(1/AF48)))} -> 0.023837444 | Q48: =$C$3/1000 -> 0.033272727 | S48: =1/(2*PI()*$O48*$C$12*$C$9*0.000001) -> 0.026525824 | T48: =2*PI()*$O48*((0.000000001*$C$11)/$C$12) -> 0.00086707957 | U48: =(0.001*$C$10)/$C$12 -> 0.03 | V48: =SQRT(U48^(2)+ABS(S48-T48)^(2)) -> 0.03947621 | X48: =1/(2*PI()*$O48*$C$24*$C$21*0.000001) -> 0.060285963 | Y48: =2*PI()*$O48*((0.000000001*$C$23)/$C$24) -> 0.00012252211 | Z48: =(0.001*$C$22)/$C$24 -> 0.001 | AA48: =IF($C$20="Yes", SQRT(Z48^(2)+ABS(X48-Y48)^(2)), 0) -> 0 | AC48: =1/(2*PI()*$O48*$C$37*$C$34*0.000001) -> 0.060285963 | AD48: =2*PI()*$O48*((0.000000001*$C$36)/$C$37) -> 0.00012252211 | AE48: =(0.001*$C$35)/$C$37 -> 0.001 | AF48: =IF($C$33="Yes", SQRT(AE48^(2)+ABS(AC48-AD48)^(2)), 0) -> 0.060171751
O49: 70000 | P49: {=_xlfn.IFS( AND($C$20="No",$C$33="Yes"), 1/((1/V49)+(1/AF49)), AND($C$20="Yes",$C$33="No"), 1/((1/V49)+(1/AA49)), AND($C$20="No",$C$33="No"), 1/((1/V49)), AND($C$20="Yes",$C$33="Yes"), 1/((1/V49)+(1/AA49)+(1/AF49)))} -> 0.021551717 | Q49: =$C$3/1000 -> 0.033272727 | S49: =1/(2*PI()*$O49*$C$12*$C$9*0.000001) -> 0.02273642 | T49: =2*PI()*$O49*((0.000000001*$C$11)/$C$12) -> 0.0010115928 | U49: =(0.001*$C$10)/$C$12 -> 0.03 | V49: =SQRT(U49^(2)+ABS(S49-T49)^(2)) -> 0.037040088 | X49: =1/(2*PI()*$O49*$C$24*$C$21*0.000001) -> 0.051673683 | Y49: =2*PI()*$O49*((0.000000001*$C$23)/$C$24) -> 0.00014294247 | Z49: =(0.001*$C$22)/$C$24 -> 0.001 | AA49: =IF($C$20="Yes", SQRT(Z49^(2)+ABS(X49-Y49)^(2)), 0) -> 0 | AC49: =1/(2*PI()*$O49*$C$37*$C$34*0.000001) -> 0.051673683 | AD49: =2*PI()*$O49*((0.000000001*$C$36)/$C$37) -> 0.00014294247 | AE49: =(0.001*$C$35)/$C$37 -> 0.001 | AF49: =IF($C$33="Yes", SQRT(AE49^(2)+ABS(AC49-AD49)^(2)), 0) -> 0.051540442
O50: 80000 | P50: {=_xlfn.IFS( AND($C$20="No",$C$33="Yes"), 1/((1/V50)+(1/AF50)), AND($C$20="Yes",$C$33="No"), 1/((1/V50)+(1/AA50)), AND($C$20="No",$C$33="No"), 1/((1/V50)), AND($C$20="Yes",$C$33="Yes"), 1/((1/V50)+(1/AA50)+(1/AF50)))} -> 0.01981645 | Q50: =$C$3/1000 -> 0.033272727 | S50: =1/(2*PI()*$O50*$C$12*$C$9*0.000001) -> 0.019894368 | T50: =2*PI()*$O50*((0.000000001*$C$11)/$C$12) -> 0.0011561061 | U50: =(0.001*$C$10)/$C$12 -> 0.03 | V50: =SQRT(U50^(2)+ABS(S50-T50)^(2)) -> 0.035371209 | X50: =1/(2*PI()*$O50*$C$24*$C$21*0.000001) -> 0.045214472 | Y50: =2*PI()*$O50*((0.000000001*$C$23)/$C$24) -> 0.00016336282 | Z50: =(0.001*$C$22)/$C$24 -> 0.001 | AA50: =IF($C$20="Yes", SQRT(Z50^(2)+ABS(X50-Y50)^(2)), 0) -> 0 | AC50: =1/(2*PI()*$O50*$C$37*$C$34*0.000001) -> 0.045214472 | AD50: =2*PI()*$O50*((0.000000001*$C$36)/$C$37) -> 0.00016336282 | AE50: =(0.001*$C$35)/$C$37 -> 0.001 | AF50: =IF($C$33="Yes", SQRT(AE50^(2)+ABS(AC50-AD50)^(2)), 0) -> 0.045062207
O51: 90000 | P51: {=_xlfn.IFS( AND($C$20="No",$C$33="Yes"), 1/((1/V51)+(1/AF51)), AND($C$20="Yes",$C$33="No"), 1/((1/V51)+(1/AA51)), AND($C$20="No",$C$33="No"), 1/((1/V51)), AND($C$20="Yes",$C$33="Yes"), 1/((1/V51)+(1/AA51)+(1/AF51)))} -> 0.018435543 | Q51: =$C$3/1000 -> 0.033272727 | S51: =1/(2*PI()*$O51*$C$12*$C$9*0.000001) -> 0.017683883 | T51: =2*PI()*$O51*((0.000000001*$C$11)/$C$12) -> 0.0013006194 | U51: =(0.001*$C$10)/$C$12 -> 0.03 | V51: =SQRT(U51^(2)+ABS(S51-T51)^(2)) -> 0.034182032 | X51: =1/(2*PI()*$O51*$C$24*$C$21*0.000001) -> 0.040190642 | Y51: =2*PI()*$O51*((0.000000001*$C$23)/$C$24) -> 0.00018378317 | Z51: =(0.001*$C$22)/$C$24 -> 0.001 | AA51: =IF($C$20="Yes", SQRT(Z51^(2)+ABS(X51-Y51)^(2)), 0) -> 0 | AC51: =1/(2*PI()*$O51*$C$37*$C$34*0.000001) -> 0.040190642 | AD51: =2*PI()*$O51*((0.000000001*$C$36)/$C$37) -> 0.00018378317 | AE51: =(0.001*$C$35)/$C$37 -> 0.001 | AF51: =IF($C$33="Yes", SQRT(AE51^(2)+ABS(AC51-AD51)^(2)), 0) -> 0.040019355
O52: 100000 | P52: {=_xlfn.IFS( AND($C$20="No",$C$33="Yes"), 1/((1/V52)+(1/AF52)), AND($C$20="Yes",$C$33="No"), 1/((1/V52)+(1/AA52)), AND($C$20="No",$C$33="No"), 1/((1/V52)), AND($C$20="Yes",$C$33="Yes"), 1/((1/V52)+(1/AA52)+(1/AF52)))} -> 0.017296406 | Q52: =$C$3/1000 -> 0.033272727 | S52: =1/(2*PI()*$O52*$C$12*$C$9*0.000001) -> 0.015915494 | T52: =2*PI()*$O52*((0.000000001*$C$11)/$C$12) -> 0.0014451326 | U52: =(0.001*$C$10)/$C$12 -> 0.03 | V52: =SQRT(U52^(2)+ABS(S52-T52)^(2)) -> 0.033307527 | X52: =1/(2*PI()*$O52*$C$24*$C$21*0.000001) -> 0.036171578 | Y52: =2*PI()*$O52*((0.000000001*$C$23)/$C$24) -> 0.00020420352 | Z52: =(0.001*$C$22)/$C$24 -> 0.001 | AA52: =IF($C$20="Yes", SQRT(Z52^(2)+ABS(X52-Y52)^(2)), 0) -> 0 | AC52: =1/(2*PI()*$O52*$C$37*$C$34*0.000001) -> 0.036171578 | AD52: =2*PI()*$O52*((0.000000001*$C$36)/$C$37) -> 0.00020420352 | AE52: =(0.001*$C$35)/$C$37 -> 0.001 | AF52: =IF($C$33="Yes", SQRT(AE52^(2)+ABS(AC52-AD52)^(2)), 0) -> 0.035981273
O53: 200000 | P53: {=_xlfn.IFS( AND($C$20="No",$C$33="Yes"), 1/((1/V53)+(1/AF53)), AND($C$20="Yes",$C$33="No"), 1/((1/V53)+(1/AA53)), AND($C$20="No",$C$33="No"), 1/((1/V53)), AND($C$20="Yes",$C$33="Yes"), 1/((1/V53)+(1/AA53)+(1/AF53)))} -> 0.011192331 | Q53: =$C$3/1000 -> 0.033272727 | S53: =1/(2*PI()*$O53*$C$12*$C$9*0.000001) -> 0.0079577472 | T53: =2*PI()*$O53*((0.000000001*$C$11)/$C$12) -> 0.0028902652 | U53: =(0.001*$C$10)/$C$12 -> 0.03 | V53: =SQRT(U53^(2)+ABS(S53-T53)^(2)) -> 0.030424979 | X53: =1/(2*PI()*$O53*$C$24*$C$21*0.000001) -> 0.018085789 | Y53: =2*PI()*$O53*((0.000000001*$C$23)/$C$24) -> 0.00040840704 | Z53: =(0.001*$C$22)/$C$24 -> 0.001 | AA53: =IF($C$20="Yes", SQRT(Z53^(2)+ABS(X53-Y53)^(2)), 0) -> 0 | AC53: =1/(2*PI()*$O53*$C$37*$C$34*0.000001) -> 0.018085789 | AD53: =2*PI()*$O53*((0.000000001*$C$36)/$C$37) -> 0.00040840704 | AE53: =(0.001*$C$35)/$C$37 -> 0.001 | AF53: =IF($C$33="Yes", SQRT(AE53^(2)+ABS(AC53-AD53)^(2)), 0) -> 0.017705644
O54: 300000 | P54: {=_xlfn.IFS( AND($C$20="No",$C$33="Yes"), 1/((1/V54)+(1/AF54)), AND($C$20="Yes",$C$33="No"), 1/((1/V54)+(1/AA54)), AND($C$20="No",$C$33="No"), 1/((1/V54)), AND($C$20="Yes",$C$33="Yes"), 1/((1/V54)+(1/AA54)+(1/AF54)))} -> 0.0083082796 | Q54: =$C$3/1000 -> 0.033272727 | S54: =1/(2*PI()*$O54*$C$12*$C$9*0.000001) -> 0.0053051648 | T54: =2*PI()*$O54*((0.000000001*$C$11)/$C$12) -> 0.0043353979 | U54: =(0.001*$C$10)/$C$12 -> 0.03 | V54: =SQRT(U54^(2)+ABS(S54-T54)^(2)) -> 0.03001567 | X54: =1/(2*PI()*$O54*$C$24*$C$21*0.000001) -> 0.012057193 | Y54: =2*PI()*$O54*((0.000000001*$C$23)/$C$24) -> 0.00061261057 | Z54: =(0.001*$C$22)/$C$24 -> 0.001 | AA54: =IF($C$20="Yes", SQRT(Z54^(2)+ABS(X54-Y54)^(2)), 0) -> 0 | AC54: =1/(2*PI()*$O54*$C$37*$C$34*0.000001) -> 0.012057193 | AD54: =2*PI()*$O54*((0.000000001*$C$36)/$C$37) -> 0.00061261057 | AE54: =(0.001*$C$35)/$C$37 -> 0.001 | AF54: =IF($C$33="Yes", SQRT(AE54^(2)+ABS(AC54-AD54)^(2)), 0) -> 0.011488188
O55: 400000 | P55: {=_xlfn.IFS( AND($C$20="No",$C$33="Yes"), 1/((1/V55)+(1/AF55)), AND($C$20="Yes",$C$33="No"), 1/((1/V55)+(1/AA55)), AND($C$20="No",$C$33="No"), 1/((1/V55)), AND($C$20="Yes",$C$33="Yes"), 1/((1/V55)+(1/AA55)+(1/AF55)))} -> 0.006495634 | Q55: =$C$3/1000 -> 0.033272727 | S55: =1/(2*PI()*$O55*$C$12*$C$9*0.000001) -> 0.0039788736 | T55: =2*PI()*$O55*((0.000000001*$C$11)/$C$12) -> 0.0057805305 | U55: =(0.001*$C$10)/$C$12 -> 0.03 | V55: =SQRT(U55^(2)+ABS(S55-T55)^(2)) -> 0.030054051 | X55: =1/(2*PI()*$O55*$C$24*$C$21*0.000001) -> 0.0090428945 | Y55: =2*PI()*$O55*((0.000000001*$C$23)/$C$24) -> 0.00081681409 | Z55: =(0.001*$C$22)/$C$24 -> 0.001 | AA55: =IF($C$20="Yes", SQRT(Z55^(2)+ABS(X55-Y55)^(2)), 0) -> 0 | AC55: =1/(2*PI()*$O55*$C$37*$C$34*0.000001) -> 0.0090428945 | AD55: =2*PI()*$O55*((0.000000001*$C$36)/$C$37) -> 0.00081681409 | AE55: =(0.001*$C$35)/$C$37 -> 0.001 | AF55: =IF($C$33="Yes", SQRT(AE55^(2)+ABS(AC55-AD55)^(2)), 0) -> 0.0082866398
... O88: 1000000000 | P88: {=_xlfn.IFS( AND($C$20="No",$C$33="Yes"), 1/((1/V88)+(1/AF88)), AND($C$20="Yes",$C$33="No"), 1/((1/V88)+(1/AA88)), AND($C$20="No",$C$33="No"), 1/((1/V88)), AND($C$20="Yes",$C$33="Yes"), 1/((1/V88)+(1/AA88)+(1/AF88)))} -> 1.7892097 | Q88: =$C$3/1000 -> 0.033272727 | S88: =1/(2*PI()*$O88*$C$12*$C$9*0.000001) -> 1.5915494e-06 | T88: =2*PI()*$O88*((0.000000001*$C$11)/$C$12) -> 14.451326 | U88: =(0.001*$C$10)/$C$12 -> 0.03 | V88: =SQRT(U88^(2)+ABS(S88-T88)^(2)) -> 14.451356 | X88: =1/(2*PI()*$O88*$C$24*$C$21*0.000001) -> 3.6171578e-06 | Y88: =2*PI()*$O88*((0.000000001*$C$23)/$C$24) -> 2.0420352 | Z88: =(0.001*$C$22)/$C$24 -> 0.001 | AA88: =IF($C$20="Yes", SQRT(Z88^(2)+ABS(X88-Y88)^(2)), 0) -> 0 | AC88: =1/(2*PI()*$O88*$C$37*$C$34*0.000001) -> 3.6171578e-06 | AD88: =2*PI()*$O88*((0.000000001*$C$36)/$C$37) -> 2.0420352 | AE88: =(0.001*$C$35)/$C$37 -> 0.001 | AF88: =IF($C$33="Yes", SQRT(AE88^(2)+ABS(AC88-AD88)^(2)), 0) -> 2.0420319

Sheet CIN Network Design
E1: These cells are inputs
E2: These cells are the output
E3: These cells are automatically copied from the Main tab for convenience
B5: Target Max RMS Input Ripple Voltage (ΔVIN(RIPPLE, MAX)) | C5: 0.075 | D5: V | R5: FREQ (Hz) | S5: ZTOTAL (Ω) | T5: Z(TARGET) | V5: XC(BULK) (Ω) | W5: XL(BULK) (Ω) | X5: R(BULK) (Ω) | Y5: Z(BULK) (Ω) | AA5: XC1 (Ω) | AB5: XESL1 (Ω) | AC5: ESR1 (Ω) | AD5: Z1 (Ω) | AF5: XC2 (Ω) | AG5: XESL2 (Ω) | AH5: ESR2 (Ω) | AI5: Z2 (Ω) | AK5: fSW | AL5: y-value
B6: Target Max ΔVIN due to Load Step (ΔVIN(STEP, MAX)) | C6: 0.1 | D6: V | R6: 1 | S6: {=_xlfn.IFS(AND($C$34="Yes", $C$44="Yes"),1/((1/Y6)+(1/AD6)+(1/AI6)), AND($C$34="Yes", $C$44="No"), 1/((1/Y6)+(1/AD6)), AND($C$34="No", $C$44="Yes"), 1/((1/Y6)+(1/AI6)), AND($C$34="No", $C$44="No"), 1/(1/Y6))} -> 3617.1578 | T6: =$C$19/1000 -> 0.055624585 | V6: =1/(2*PI()*$R6*$C$25*$C$22*0.000001) -> 3617.1578 | W6: =2*PI()*$R6*((0.000000001*$C$24)/$C$25) -> 2.0420352e-09 | X6: =(0.001*$C$23)/$C$25 -> 0.001 | Y6: =SQRT(X6^(2)+ABS(V6-W6)^(2)) -> 3617.1578 | AA6: =1/(2*PI()*$R6*$C$38*$C$35*0.000001) -> 795774.72 | AB6: =2*PI()*$R6*((0.000000001*$C$37)/$C$38) -> 1.2566371e-09 | AC6: =(0.001*$C$36)/$C$38 -> 0.006 | AD6: =IF($C$34="Yes", SQRT(AC6^(2)+ABS(AA6-AB6)^(2)), 0) -> 0 | AF6: =1/(2*PI()*$R6*$C$48*$C$45*0.000001) -> 1591549.4 | AG6: =2*PI()*$R6*((0.000000001*$C$47)/$C$48) -> 3.1415927e-09 | AH6: =(0.001*$C$46)/$C$48 -> 0.0001 | AI6: =IF($C$44="Yes", SQRT(AH6^(2)+ABS(AF6-AG6)^(2)), 0) -> 0 | AK6: =C12*1000 -> 500000 | AL6: 1e-05
B7: Input Voltage (VIN) | C7: =Main!C8 -> 12 | D7: V | R7: 2 | S7: {=_xlfn.IFS(AND($C$34="Yes", $C$44="Yes"),1/((1/Y7)+(1/AD7)+(1/AI7)), AND($C$34="Yes", $C$44="No"), 1/((1/Y7)+(1/AD7)), AND($C$34="No", $C$44="Yes"), 1/((1/Y7)+(1/AI7)), AND($C$34="No", $C$44="No"), 1/(1/Y7))} -> 1808.5789 | T7: =$C$19/1000 -> 0.055624585 | V7: =1/(2*PI()*$R7*$C$25*$C$22*0.000001) -> 1808.5789 | W7: =2*PI()*$R7*((0.000000001*$C$24)/$C$25) -> 4.0840704e-09 | X7: =(0.001*$C$23)/$C$25 -> 0.001 | Y7: =SQRT(X7^(2)+ABS(V7-W7)^(2)) -> 1808.5789 | AA7: =1/(2*PI()*$R7*$C$38*$C$35*0.000001) -> 397887.36 | AB7: =2*PI()*$R7*((0.000000001*$C$37)/$C$38) -> 2.5132741e-09 | AC7: =(0.001*$C$36)/$C$38 -> 0.006 | AD7: =IF($C$34="Yes", SQRT(AC7^(2)+ABS(AA7-AB7)^(2)), 0) -> 0 | AF7: =1/(2*PI()*$R7*$C$48*$C$45*0.000001) -> 795774.72 | AG7: =2*PI()*$R7*((0.000000001*$C$47)/$C$48) -> 6.2831853e-09 | AH7: =(0.001*$C$46)/$C$48 -> 0.0001 | AI7: =IF($C$44="Yes", SQRT(AH7^(2)+ABS(AF7-AG7)^(2)), 0) -> 0
B8: Calculated Output Voltage (VOUT) | C8: =Main!C24 -> 3.3272727 | D8: V | R8: 3 | S8: {=_xlfn.IFS(AND($C$34="Yes", $C$44="Yes"),1/((1/Y8)+(1/AD8)+(1/AI8)), AND($C$34="Yes", $C$44="No"), 1/((1/Y8)+(1/AD8)), AND($C$34="No", $C$44="Yes"), 1/((1/Y8)+(1/AI8)), AND($C$34="No", $C$44="No"), 1/(1/Y8))} -> 1205.7193 | T8: =$C$19/1000 -> 0.055624585 | V8: =1/(2*PI()*$R8*$C$25*$C$22*0.000001) -> 1205.7193 | W8: =2*PI()*$R8*((0.000000001*$C$24)/$C$25) -> 6.1261057e-09 | X8: =(0.001*$C$23)/$C$25 -> 0.001 | Y8: =SQRT(X8^(2)+ABS(V8-W8)^(2)) -> 1205.7193 | AA8: =1/(2*PI()*$R8*$C$38*$C$35*0.000001) -> 265258.24 | AB8: =2*PI()*$R8*((0.000000001*$C$37)/$C$38) -> 3.7699112e-09 | AC8: =(0.001*$C$36)/$C$38 -> 0.006 | AD8: =IF($C$34="Yes", SQRT(AC8^(2)+ABS(AA8-AB8)^(2)), 0) -> 0 | AF8: =1/(2*PI()*$R8*$C$48*$C$45*0.000001) -> 530516.48 | AG8: =2*PI()*$R8*((0.000000001*$C$47)/$C$48) -> 9.424778e-09 | AH8: =(0.001*$C$46)/$C$48 -> 0.0001 | AI8: =IF($C$44="Yes", SQRT(AH8^(2)+ABS(AF8-AG8)^(2)), 0) -> 0
B9: Selected Inductor Value (LSEL) | C9: =Main!C32 -> 4.7 | D9: uH | R9: 4 | S9: {=_xlfn.IFS(AND($C$34="Yes", $C$44="Yes"),1/((1/Y9)+(1/AD9)+(1/AI9)), AND($C$34="Yes", $C$44="No"), 1/((1/Y9)+(1/AD9)), AND($C$34="No", $C$44="Yes"), 1/((1/Y9)+(1/AI9)), AND($C$34="No", $C$44="No"), 1/(1/Y9))} -> 904.28945 | T9: =$C$19/1000 -> 0.055624585 | V9: =1/(2*PI()*$R9*$C$25*$C$22*0.000001) -> 904.28945 | W9: =2*PI()*$R9*((0.000000001*$C$24)/$C$25) -> 8.1681409e-09 | X9: =(0.001*$C$23)/$C$25 -> 0.001 | Y9: =SQRT(X9^(2)+ABS(V9-W9)^(2)) -> 904.28945 | AA9: =1/(2*PI()*$R9*$C$38*$C$35*0.000001) -> 198943.68 | AB9: =2*PI()*$R9*((0.000000001*$C$37)/$C$38) -> 5.0265482e-09 | AC9: =(0.001*$C$36)/$C$38 -> 0.006 | AD9: =IF($C$34="Yes", SQRT(AC9^(2)+ABS(AA9-AB9)^(2)), 0) -> 0 | AF9: =1/(2*PI()*$R9*$C$48*$C$45*0.000001) -> 397887.36 | AG9: =2*PI()*$R9*((0.000000001*$C$47)/$C$48) -> 1.2566371e-08 | AH9: =(0.001*$C$46)/$C$48 -> 0.0001 | AI9: =IF($C$44="Yes", SQRT(AH9^(2)+ABS(AF9-AG9)^(2)), 0) -> 0
B10: Max Load Current (IOUT(MAX)) | C10: =Main!C10 -> 3 | D10: A | R10: 5 | S10: {=_xlfn.IFS(AND($C$34="Yes", $C$44="Yes"),1/((1/Y10)+(1/AD10)+(1/AI10)), AND($C$34="Yes", $C$44="No"), 1/((1/Y10)+(1/AD10)), AND($C$34="No", $C$44="Yes"), 1/((1/Y10)+(1/AI10)), AND($C$34="No", $C$44="No"), 1/(1/Y10))} -> 723.43156 | T10: =$C$19/1000 -> 0.055624585 | V10: =1/(2*PI()*$R10*$C$25*$C$22*0.000001) -> 723.43156 | W10: =2*PI()*$R10*((0.000000001*$C$24)/$C$25) -> 1.0210176e-08 | X10: =(0.001*$C$23)/$C$25 -> 0.001 | Y10: =SQRT(X10^(2)+ABS(V10-W10)^(2)) -> 723.43156 | AA10: =1/(2*PI()*$R10*$C$38*$C$35*0.000001) -> 159154.94 | AB10: =2*PI()*$R10*((0.000000001*$C$37)/$C$38) -> 6.2831853e-09 | AC10: =(0.001*$C$36)/$C$38 -> 0.006 | AD10: =IF($C$34="Yes", SQRT(AC10^(2)+ABS(AA10-AB10)^(2)), 0) -> 0 | AF10: =1/(2*PI()*$R10*$C$48*$C$45*0.000001) -> 318309.89 | AG10: =2*PI()*$R10*((0.000000001*$C$47)/$C$48) -> 1.5707963e-08 | AH10: =(0.001*$C$46)/$C$48 -> 0.0001 | AI10: =IF($C$44="Yes", SQRT(AH10^(2)+ABS(AF10-AG10)^(2)), 0) -> 0
B11: Output Load Step (ISTEP) | C11: =Main!G8 -> 2 | D11: A | R11: 6 | S11: {=_xlfn.IFS(AND($C$34="Yes", $C$44="Yes"),1/((1/Y11)+(1/AD11)+(1/AI11)), AND($C$34="Yes", $C$44="No"), 1/((1/Y11)+(1/AD11)), AND($C$34="No", $C$44="Yes"), 1/((1/Y11)+(1/AI11)), AND($C$34="No", $C$44="No"), 1/(1/Y11))} -> 602.85963 | T11: =$C$19/1000 -> 0.055624585 | V11: =1/(2*PI()*$R11*$C$25*$C$22*0.000001) -> 602.85963 | W11: =2*PI()*$R11*((0.000000001*$C$24)/$C$25) -> 1.2252211e-08 | X11: =(0.001*$C$23)/$C$25 -> 0.001 | Y11: =SQRT(X11^(2)+ABS(V11-W11)^(2)) -> 602.85963 | AA11: =1/(2*PI()*$R11*$C$38*$C$35*0.000001) -> 132629.12 | AB11: =2*PI()*$R11*((0.000000001*$C$37)/$C$38) -> 7.5398224e-09 | AC11: =(0.001*$C$36)/$C$38 -> 0.006 | AD11: =IF($C$34="Yes", SQRT(AC11^(2)+ABS(AA11-AB11)^(2)), 0) -> 0 | AF11: =1/(2*PI()*$R11*$C$48*$C$45*0.000001) -> 265258.24 | AG11: =2*PI()*$R11*((0.000000001*$C$47)/$C$48) -> 1.8849556e-08 | AH11: =(0.001*$C$46)/$C$48 -> 0.0001 | AI11: =IF($C$44="Yes", SQRT(AH11^(2)+ABS(AF11-AG11)^(2)), 0) -> 0
B12: Switching Frequency (fSW) | C12: =Main!C11 -> 500 | D12: kHz | R12: 7 | S12: {=_xlfn.IFS(AND($C$34="Yes", $C$44="Yes"),1/((1/Y12)+(1/AD12)+(1/AI12)), AND($C$34="Yes", $C$44="No"), 1/((1/Y12)+(1/AD12)), AND($C$34="No", $C$44="Yes"), 1/((1/Y12)+(1/AI12)), AND($C$34="No", $C$44="No"), 1/(1/Y12))} -> 516.73683 | T12: =$C$19/1000 -> 0.055624585 | V12: =1/(2*PI()*$R12*$C$25*$C$22*0.000001) -> 516.73683 | W12: =2*PI()*$R12*((0.000000001*$C$24)/$C$25) -> 1.4294247e-08 | X12: =(0.001*$C$23)/$C$25 -> 0.001 | Y12: =SQRT(X12^(2)+ABS(V12-W12)^(2)) -> 516.73683 | AA12: =1/(2*PI()*$R12*$C$38*$C$35*0.000001) -> 113682.1 | AB12: =2*PI()*$R12*((0.000000001*$C$37)/$C$38) -> 8.7964594e-09 | AC12: =(0.001*$C$36)/$C$38 -> 0.006 | AD12: =IF($C$34="Yes", SQRT(AC12^(2)+ABS(AA12-AB12)^(2)), 0) -> 0 | AF12: =1/(2*PI()*$R12*$C$48*$C$45*0.000001) -> 227364.2 | AG12: =2*PI()*$R12*((0.000000001*$C$47)/$C$48) -> 2.1991149e-08 | AH12: =(0.001*$C$46)/$C$48 -> 0.0001 | AI12: =IF($C$44="Yes", SQRT(AH12^(2)+ABS(AF12-AG12)^(2)), 0) -> 0
B13: Duty Cycle (d) | C13: =0.01*Main!C12 -> 0.275 | R13: 8 | S13: {=_xlfn.IFS(AND($C$34="Yes", $C$44="Yes"),1/((1/Y13)+(1/AD13)+(1/AI13)), AND($C$34="Yes", $C$44="No"), 1/((1/Y13)+(1/AD13)), AND($C$34="No", $C$44="Yes"), 1/((1/Y13)+(1/AI13)), AND($C$34="No", $C$44="No"), 1/(1/Y13))} -> 452.14472 | T13: =$C$19/1000 -> 0.055624585 | V13: =1/(2*PI()*$R13*$C$25*$C$22*0.000001) -> 452.14472 | W13: =2*PI()*$R13*((0.000000001*$C$24)/$C$25) -> 1.6336282e-08 | X13: =(0.001*$C$23)/$C$25 -> 0.001 | Y13: =SQRT(X13^(2)+ABS(V13-W13)^(2)) -> 452.14472 | AA13: =1/(2*PI()*$R13*$C$38*$C$35*0.000001) -> 99471.839 | AB13: =2*PI()*$R13*((0.000000001*$C$37)/$C$38) -> 1.0053096e-08 | AC13: =(0.001*$C$36)/$C$38 -> 0.006 | AD13: =IF($C$34="Yes", SQRT(AC13^(2)+ABS(AA13-AB13)^(2)), 0) -> 0 | AF13: =1/(2*PI()*$R13*$C$48*$C$45*0.000001) -> 198943.68 | AG13: =2*PI()*$R13*((0.000000001*$C$47)/$C$48) -> 2.5132741e-08 | AH13: =(0.001*$C$46)/$C$48 -> 0.0001 | AI13: =IF($C$44="Yes", SQRT(AH13^(2)+ABS(AF13-AG13)^(2)), 0) -> 0
B14: Crossover Frequency (fT) | C14: =Main!G24 -> 33.483417 | D14: kHz | R14: 9 | S14: {=_xlfn.IFS(AND($C$34="Yes", $C$44="Yes"),1/((1/Y14)+(1/AD14)+(1/AI14)), AND($C$34="Yes", $C$44="No"), 1/((1/Y14)+(1/AD14)), AND($C$34="No", $C$44="Yes"), 1/((1/Y14)+(1/AI14)), AND($C$34="No", $C$44="No"), 1/(1/Y14))} -> 401.90642 | T14: =$C$19/1000 -> 0.055624585 | V14: =1/(2*PI()*$R14*$C$25*$C$22*0.000001) -> 401.90642 | W14: =2*PI()*$R14*((0.000000001*$C$24)/$C$25) -> 1.8378317e-08 | X14: =(0.001*$C$23)/$C$25 -> 0.001 | Y14: =SQRT(X14^(2)+ABS(V14-W14)^(2)) -> 401.90642 | AA14: =1/(2*PI()*$R14*$C$38*$C$35*0.000001) -> 88419.413 | AB14: =2*PI()*$R14*((0.000000001*$C$37)/$C$38) -> 1.1309734e-08 | AC14: =(0.001*$C$36)/$C$38 -> 0.006 | AD14: =IF($C$34="Yes", SQRT(AC14^(2)+ABS(AA14-AB14)^(2)), 0) -> 0 | AF14: =1/(2*PI()*$R14*$C$48*$C$45*0.000001) -> 176838.83 | AG14: =2*PI()*$R14*((0.000000001*$C$47)/$C$48) -> 2.8274334e-08 | AH14: =(0.001*$C$46)/$C$48 -> 0.0001 | AI14: =IF($C$44="Yes", SQRT(AH14^(2)+ABS(AF14-AG14)^(2)), 0) -> 0
R15: 10 | S15: {=_xlfn.IFS(AND($C$34="Yes", $C$44="Yes"),1/((1/Y15)+(1/AD15)+(1/AI15)), AND($C$34="Yes", $C$44="No"), 1/((1/Y15)+(1/AD15)), AND($C$34="No", $C$44="Yes"), 1/((1/Y15)+(1/AI15)), AND($C$34="No", $C$44="No"), 1/(1/Y15))} -> 361.71578 | T15: =$C$19/1000 -> 0.055624585 | V15: =1/(2*PI()*$R15*$C$25*$C$22*0.000001) -> 361.71578 | W15: =2*PI()*$R15*((0.000000001*$C$24)/$C$25) -> 2.0420352e-08 | X15: =(0.001*$C$23)/$C$25 -> 0.001 | Y15: =SQRT(X15^(2)+ABS(V15-W15)^(2)) -> 361.71578 | AA15: =1/(2*PI()*$R15*$C$38*$C$35*0.000001) -> 79577.472 | AB15: =2*PI()*$R15*((0.000000001*$C$37)/$C$38) -> 1.2566371e-08 | AC15: =(0.001*$C$36)/$C$38 -> 0.006 | AD15: =IF($C$34="Yes", SQRT(AC15^(2)+ABS(AA15-AB15)^(2)), 0) -> 0 | AF15: =1/(2*PI()*$R15*$C$48*$C$45*0.000001) -> 159154.94 | AG15: =2*PI()*$R15*((0.000000001*$C$47)/$C$48) -> 3.1415927e-08 | AH15: =(0.001*$C$46)/$C$48 -> 0.0001 | AI15: =IF($C$44="Yes", SQRT(AH15^(2)+ABS(AF15-AG15)^(2)), 0) -> 0
B16: Minimum Total Input Capacitane for Input Ripple assuming ESR = zero | C16: =(C13*(1-C13)*C10)/(C5*C12*1000)*1000000 -> 15.95 | D16: µF | R16: 20 | S16: {=_xlfn.IFS(AND($C$34="Yes", $C$44="Yes"),1/((1/Y16)+(1/AD16)+(1/AI16)), AND($C$34="Yes", $C$44="No"), 1/((1/Y16)+(1/AD16)), AND($C$34="No", $C$44="Yes"), 1/((1/Y16)+(1/AI16)), AND($C$34="No", $C$44="No"), 1/(1/Y16))} -> 180.85789 | T16: =$C$19/1000 -> 0.055624585 | V16: =1/(2*PI()*$R16*$C$25*$C$22*0.000001) -> 180.85789 | W16: =2*PI()*$R16*((0.000000001*$C$24)/$C$25) -> 4.0840704e-08 | X16: =(0.001*$C$23)/$C$25 -> 0.001 | Y16: =SQRT(X16^(2)+ABS(V16-W16)^(2)) -> 180.85789 | AA16: =1/(2*PI()*$R16*$C$38*$C$35*0.000001) -> 39788.736 | AB16: =2*PI()*$R16*((0.000000001*$C$37)/$C$38) -> 2.5132741e-08 | AC16: =(0.001*$C$36)/$C$38 -> 0.006 | AD16: =IF($C$34="Yes", SQRT(AC16^(2)+ABS(AA16-AB16)^(2)), 0) -> 0 | AF16: =1/(2*PI()*$R16*$C$48*$C$45*0.000001) -> 79577.472 | AG16: =2*PI()*$R16*((0.000000001*$C$47)/$C$48) -> 6.2831853e-08 | AH16: =(0.001*$C$46)/$C$48 -> 0.0001 | AI16: =IF($C$44="Yes", SQRT(AH16^(2)+ABS(AF16-AG16)^(2)), 0) -> 0
B17: Minimum Total Input Capacitance for Load Step () | C17: =((0.5*C11*C13*(0.35/(C14*1000)))/C6)*1000000 -> 28.745573 | D17: µF | R17: 30 | S17: {=_xlfn.IFS(AND($C$34="Yes", $C$44="Yes"),1/((1/Y17)+(1/AD17)+(1/AI17)), AND($C$34="Yes", $C$44="No"), 1/((1/Y17)+(1/AD17)), AND($C$34="No", $C$44="Yes"), 1/((1/Y17)+(1/AI17)), AND($C$34="No", $C$44="No"), 1/(1/Y17))} -> 120.57193 | T17: =$C$19/1000 -> 0.055624585 | V17: =1/(2*PI()*$R17*$C$25*$C$22*0.000001) -> 120.57193 | W17: =2*PI()*$R17*((0.000000001*$C$24)/$C$25) -> 6.1261057e-08 | X17: =(0.001*$C$23)/$C$25 -> 0.001 | Y17: =SQRT(X17^(2)+ABS(V17-W17)^(2)) -> 120.57193 | AA17: =1/(2*PI()*$R17*$C$38*$C$35*0.000001) -> 26525.824 | AB17: =2*PI()*$R17*((0.000000001*$C$37)/$C$38) -> 3.7699112e-08 | AC17: =(0.001*$C$36)/$C$38 -> 0.006 | AD17: =IF($C$34="Yes", SQRT(AC17^(2)+ABS(AA17-AB17)^(2)), 0) -> 0 | AF17: =1/(2*PI()*$R17*$C$48*$C$45*0.000001) -> 53051.648 | AG17: =2*PI()*$R17*((0.000000001*$C$47)/$C$48) -> 9.424778e-08 | AH17: =(0.001*$C$46)/$C$48 -> 0.0001 | AI17: =IF($C$44="Yes", SQRT(AH17^(2)+ABS(AF17-AG17)^(2)), 0) -> 0
B18: Max Input Capacitor RMS Currente (IIN(RMS, MAX,)) | C18: =SQRT((C13)*(POWER(C10, 2)*(1-(C13))+(1/12)*(((C7-C8)*C13)/(C9*0.000001*C12*1000))^2)) -> 1.3483247 | D18: A | R18: 40 | S18: {=_xlfn.IFS(AND($C$34="Yes", $C$44="Yes"),1/((1/Y18)+(1/AD18)+(1/AI18)), AND($C$34="Yes", $C$44="No"), 1/((1/Y18)+(1/AD18)), AND($C$34="No", $C$44="Yes"), 1/((1/Y18)+(1/AI18)), AND($C$34="No", $C$44="No"), 1/(1/Y18))} -> 90.428945 | T18: =$C$19/1000 -> 0.055624585 | V18: =1/(2*PI()*$R18*$C$25*$C$22*0.000001) -> 90.428945 | W18: =2*PI()*$R18*((0.000000001*$C$24)/$C$25) -> 8.1681409e-08 | X18: =(0.001*$C$23)/$C$25 -> 0.001 | Y18: =SQRT(X18^(2)+ABS(V18-W18)^(2)) -> 90.428945 | AA18: =1/(2*PI()*$R18*$C$38*$C$35*0.000001) -> 19894.368 | AB18: =2*PI()*$R18*((0.000000001*$C$37)/$C$38) -> 5.0265482e-08 | AC18: =(0.001*$C$36)/$C$38 -> 0.006 | AD18: =IF($C$34="Yes", SQRT(AC18^(2)+ABS(AA18-AB18)^(2)), 0) -> 0 | AF18: =1/(2*PI()*$R18*$C$48*$C$45*0.000001) -> 39788.736 | AG18: =2*PI()*$R18*((0.000000001*$C$47)/$C$48) -> 1.2566371e-07 | AH18: =(0.001*$C$46)/$C$48 -> 0.0001 | AI18: =IF($C$44="Yes", SQRT(AH18^(2)+ABS(AF18-AG18)^(2)), 0) -> 0
B19: Target Input Capacitor Impedance (ZTARGET) | C19: =1000*C5/C18 -> 55.624585 | D19: mΩ | R19: 50 | S19: {=_xlfn.IFS(AND($C$34="Yes", $C$44="Yes"),1/((1/Y19)+(1/AD19)+(1/AI19)), AND($C$34="Yes", $C$44="No"), 1/((1/Y19)+(1/AD19)), AND($C$34="No", $C$44="Yes"), 1/((1/Y19)+(1/AI19)), AND($C$34="No", $C$44="No"), 1/(1/Y19))} -> 72.343156 | T19: =$C$19/1000 -> 0.055624585 | V19: =1/(2*PI()*$R19*$C$25*$C$22*0.000001) -> 72.343156 | W19: =2*PI()*$R19*((0.000000001*$C$24)/$C$25) -> 1.0210176e-07 | X19: =(0.001*$C$23)/$C$25 -> 0.001 | Y19: =SQRT(X19^(2)+ABS(V19-W19)^(2)) -> 72.343156 | AA19: =1/(2*PI()*$R19*$C$38*$C$35*0.000001) -> 15915.494 | AB19: =2*PI()*$R19*((0.000000001*$C$37)/$C$38) -> 6.2831853e-08 | AC19: =(0.001*$C$36)/$C$38 -> 0.006 | AD19: =IF($C$34="Yes", SQRT(AC19^(2)+ABS(AA19-AB19)^(2)), 0) -> 0 | AF19: =1/(2*PI()*$R19*$C$48*$C$45*0.000001) -> 31830.989 | AG19: =2*PI()*$R19*((0.000000001*$C$47)/$C$48) -> 1.5707963e-07 | AH19: =(0.001*$C$46)/$C$48 -> 0.0001 | AI19: =IF($C$44="Yes", SQRT(AH19^(2)+ABS(AF19-AG19)^(2)), 0) -> 0
R20: 60 | S20: {=_xlfn.IFS(AND($C$34="Yes", $C$44="Yes"),1/((1/Y20)+(1/AD20)+(1/AI20)), AND($C$34="Yes", $C$44="No"), 1/((1/Y20)+(1/AD20)), AND($C$34="No", $C$44="Yes"), 1/((1/Y20)+(1/AI20)), AND($C$34="No", $C$44="No"), 1/(1/Y20))} -> 60.285963 | T20: =$C$19/1000 -> 0.055624585 | V20: =1/(2*PI()*$R20*$C$25*$C$22*0.000001) -> 60.285963 | W20: =2*PI()*$R20*((0.000000001*$C$24)/$C$25) -> 1.2252211e-07 | X20: =(0.001*$C$23)/$C$25 -> 0.001 | Y20: =SQRT(X20^(2)+ABS(V20-W20)^(2)) -> 60.285963 | AA20: =1/(2*PI()*$R20*$C$38*$C$35*0.000001) -> 13262.912 | AB20: =2*PI()*$R20*((0.000000001*$C$37)/$C$38) -> 7.5398224e-08 | AC20: =(0.001*$C$36)/$C$38 -> 0.006 | AD20: =IF($C$34="Yes", SQRT(AC20^(2)+ABS(AA20-AB20)^(2)), 0) -> 0 | AF20: =1/(2*PI()*$R20*$C$48*$C$45*0.000001) -> 26525.824 | AG20: =2*PI()*$R20*((0.000000001*$C$47)/$C$48) -> 1.8849556e-07 | AH20: =(0.001*$C$46)/$C$48 -> 0.0001 | AI20: =IF($C$44="Yes", SQRT(AH20^(2)+ABS(AF20-AG20)^(2)), 0) -> 0
R21: 70 | S21: {=_xlfn.IFS(AND($C$34="Yes", $C$44="Yes"),1/((1/Y21)+(1/AD21)+(1/AI21)), AND($C$34="Yes", $C$44="No"), 1/((1/Y21)+(1/AD21)), AND($C$34="No", $C$44="Yes"), 1/((1/Y21)+(1/AI21)), AND($C$34="No", $C$44="No"), 1/(1/Y21))} -> 51.673683 | T21: =$C$19/1000 -> 0.055624585 | V21: =1/(2*PI()*$R21*$C$25*$C$22*0.000001) -> 51.673683 | W21: =2*PI()*$R21*((0.000000001*$C$24)/$C$25) -> 1.4294247e-07 | X21: =(0.001*$C$23)/$C$25 -> 0.001 | Y21: =SQRT(X21^(2)+ABS(V21-W21)^(2)) -> 51.673683 | AA21: =1/(2*PI()*$R21*$C$38*$C$35*0.000001) -> 11368.21 | AB21: =2*PI()*$R21*((0.000000001*$C$37)/$C$38) -> 8.7964594e-08 | AC21: =(0.001*$C$36)/$C$38 -> 0.006 | AD21: =IF($C$34="Yes", SQRT(AC21^(2)+ABS(AA21-AB21)^(2)), 0) -> 0 | AF21: =1/(2*PI()*$R21*$C$48*$C$45*0.000001) -> 22736.42 | AG21: =2*PI()*$R21*((0.000000001*$C$47)/$C$48) -> 2.1991149e-07 | AH21: =(0.001*$C$46)/$C$48 -> 0.0001 | AI21: =IF($C$44="Yes", SQRT(AH21^(2)+ABS(AF21-AG21)^(2)), 0) -> 0
B22: Input Capacitor Value (CIN) | C22: 22 | D22: µF | R22: 80 | S22: {=_xlfn.IFS(AND($C$34="Yes", $C$44="Yes"),1/((1/Y22)+(1/AD22)+(1/AI22)), AND($C$34="Yes", $C$44="No"), 1/((1/Y22)+(1/AD22)), AND($C$34="No", $C$44="Yes"), 1/((1/Y22)+(1/AI22)), AND($C$34="No", $C$44="No"), 1/(1/Y22))} -> 45.214472 | T22: =$C$19/1000 -> 0.055624585 | V22: =1/(2*PI()*$R22*$C$25*$C$22*0.000001) -> 45.214472 | W22: =2*PI()*$R22*((0.000000001*$C$24)/$C$25) -> 1.6336282e-07 | X22: =(0.001*$C$23)/$C$25 -> 0.001 | Y22: =SQRT(X22^(2)+ABS(V22-W22)^(2)) -> 45.214472 | AA22: =1/(2*PI()*$R22*$C$38*$C$35*0.000001) -> 9947.1839 | AB22: =2*PI()*$R22*((0.000000001*$C$37)/$C$38) -> 1.0053096e-07 | AC22: =(0.001*$C$36)/$C$38 -> 0.006 | AD22: =IF($C$34="Yes", SQRT(AC22^(2)+ABS(AA22-AB22)^(2)), 0) -> 0 | AF22: =1/(2*PI()*$R22*$C$48*$C$45*0.000001) -> 19894.368 | AG22: =2*PI()*$R22*((0.000000001*$C$47)/$C$48) -> 2.5132741e-07 | AH22: =(0.001*$C$46)/$C$48 -> 0.0001 | AI22: =IF($C$44="Yes", SQRT(AH22^(2)+ABS(AF22-AG22)^(2)), 0) -> 0
B23: Input Capacitor ESR | C23: 2 | D23: mΩ | R23: 90 | S23: {=_xlfn.IFS(AND($C$34="Yes", $C$44="Yes"),1/((1/Y23)+(1/AD23)+(1/AI23)), AND($C$34="Yes", $C$44="No"), 1/((1/Y23)+(1/AD23)), AND($C$34="No", $C$44="Yes"), 1/((1/Y23)+(1/AI23)), AND($C$34="No", $C$44="No"), 1/(1/Y23))} -> 40.190642 | T23: =$C$19/1000 -> 0.055624585 | V23: =1/(2*PI()*$R23*$C$25*$C$22*0.000001) -> 40.190642 | W23: =2*PI()*$R23*((0.000000001*$C$24)/$C$25) -> 1.8378317e-07 | X23: =(0.001*$C$23)/$C$25 -> 0.001 | Y23: =SQRT(X23^(2)+ABS(V23-W23)^(2)) -> 40.190642 | AA23: =1/(2*PI()*$R23*$C$38*$C$35*0.000001) -> 8841.9413 | AB23: =2*PI()*$R23*((0.000000001*$C$37)/$C$38) -> 1.1309734e-07 | AC23: =(0.001*$C$36)/$C$38 -> 0.006 | AD23: =IF($C$34="Yes", SQRT(AC23^(2)+ABS(AA23-AB23)^(2)), 0) -> 0 | AF23: =1/(2*PI()*$R23*$C$48*$C$45*0.000001) -> 17683.883 | AG23: =2*PI()*$R23*((0.000000001*$C$47)/$C$48) -> 2.8274334e-07 | AH23: =(0.001*$C$46)/$C$48 -> 0.0001 | AI23: =IF($C$44="Yes", SQRT(AH23^(2)+ABS(AF23-AG23)^(2)), 0) -> 0
B24: Input Capacitor ESL | C24: 0.65 | D24: nH | R24: 100 | S24: {=_xlfn.IFS(AND($C$34="Yes", $C$44="Yes"),1/((1/Y24)+(1/AD24)+(1/AI24)), AND($C$34="Yes", $C$44="No"), 1/((1/Y24)+(1/AD24)), AND($C$34="No", $C$44="Yes"), 1/((1/Y24)+(1/AI24)), AND($C$34="No", $C$44="No"), 1/(1/Y24))} -> 36.171578 | T24: =$C$19/1000 -> 0.055624585 | V24: =1/(2*PI()*$R24*$C$25*$C$22*0.000001) -> 36.171578 | W24: =2*PI()*$R24*((0.000000001*$C$24)/$C$25) -> 2.0420352e-07 | X24: =(0.001*$C$23)/$C$25 -> 0.001 | Y24: =SQRT(X24^(2)+ABS(V24-W24)^(2)) -> 36.171578 | AA24: =1/(2*PI()*$R24*$C$38*$C$35*0.000001) -> 7957.7472 | AB24: =2*PI()*$R24*((0.000000001*$C$37)/$C$38) -> 1.2566371e-07 | AC24: =(0.001*$C$36)/$C$38 -> 0.006 | AD24: =IF($C$34="Yes", SQRT(AC24^(2)+ABS(AA24-AB24)^(2)), 0) -> 0 | AF24: =1/(2*PI()*$R24*$C$48*$C$45*0.000001) -> 15915.494 | AG24: =2*PI()*$R24*((0.000000001*$C$47)/$C$48) -> 3.1415927e-07 | AH24: =(0.001*$C$46)/$C$48 -> 0.0001 | AI24: =IF($C$44="Yes", SQRT(AH24^(2)+ABS(AF24-AG24)^(2)), 0) -> 0
B25: Quantity | C25: 2 | R25: 200 | S25: {=_xlfn.IFS(AND($C$34="Yes", $C$44="Yes"),1/((1/Y25)+(1/AD25)+(1/AI25)), AND($C$34="Yes", $C$44="No"), 1/((1/Y25)+(1/AD25)), AND($C$34="No", $C$44="Yes"), 1/((1/Y25)+(1/AI25)), AND($C$34="No", $C$44="No"), 1/(1/Y25))} -> 18.085789 | T25: =$C$19/1000 -> 0.055624585 | V25: =1/(2*PI()*$R25*$C$25*$C$22*0.000001) -> 18.085789 | W25: =2*PI()*$R25*((0.000000001*$C$24)/$C$25) -> 4.0840704e-07 | X25: =(0.001*$C$23)/$C$25 -> 0.001 | Y25: =SQRT(X25^(2)+ABS(V25-W25)^(2)) -> 18.085789 | AA25: =1/(2*PI()*$R25*$C$38*$C$35*0.000001) -> 3978.8736 | AB25: =2*PI()*$R25*((0.000000001*$C$37)/$C$38) -> 2.5132741e-07 | AC25: =(0.001*$C$36)/$C$38 -> 0.006 | AD25: =IF($C$34="Yes", SQRT(AC25^(2)+ABS(AA25-AB25)^(2)), 0) -> 0 | AF25: =1/(2*PI()*$R25*$C$48*$C$45*0.000001) -> 7957.7472 | AG25: =2*PI()*$R25*((0.000000001*$C$47)/$C$48) -> 6.2831853e-07 | AH25: =(0.001*$C$46)/$C$48 -> 0.0001 | AI25: =IF($C$44="Yes", SQRT(AH25^(2)+ABS(AF25-AG25)^(2)), 0) -> 0
B26: Total Input Capacitance (CIN(BULK, TOTAL)) | C26: =C22*C25 -> 44 | D26: µF | R26: 300 | S26: {=_xlfn.IFS(AND($C$34="Yes", $C$44="Yes"),1/((1/Y26)+(1/AD26)+(1/AI26)), AND($C$34="Yes", $C$44="No"), 1/((1/Y26)+(1/AD26)), AND($C$34="No", $C$44="Yes"), 1/((1/Y26)+(1/AI26)), AND($C$34="No", $C$44="No"), 1/(1/Y26))} -> 12.057192 | T26: =$C$19/1000 -> 0.055624585 | V26: =1/(2*PI()*$R26*$C$25*$C$22*0.000001) -> 12.057193 | W26: =2*PI()*$R26*((0.000000001*$C$24)/$C$25) -> 6.1261057e-07 | X26: =(0.001*$C$23)/$C$25 -> 0.001 | Y26: =SQRT(X26^(2)+ABS(V26-W26)^(2)) -> 12.057192 | AA26: =1/(2*PI()*$R26*$C$38*$C$35*0.000001) -> 2652.5824 | AB26: =2*PI()*$R26*((0.000000001*$C$37)/$C$38) -> 3.7699112e-07 | AC26: =(0.001*$C$36)/$C$38 -> 0.006 | AD26: =IF($C$34="Yes", SQRT(AC26^(2)+ABS(AA26-AB26)^(2)), 0) -> 0 | AF26: =1/(2*PI()*$R26*$C$48*$C$45*0.000001) -> 5305.1648 | AG26: =2*PI()*$R26*((0.000000001*$C$47)/$C$48) -> 9.424778e-07 | AH26: =(0.001*$C$46)/$C$48 -> 0.0001 | AI26: =IF($C$44="Yes", SQRT(AH26^(2)+ABS(AF26-AG26)^(2)), 0) -> 0
B27: Total Ceramic Input Capacitance ESR | C27: =C23/C25 -> 1 | D27: mΩ | R27: 400 | S27: {=_xlfn.IFS(AND($C$34="Yes", $C$44="Yes"),1/((1/Y27)+(1/AD27)+(1/AI27)), AND($C$34="Yes", $C$44="No"), 1/((1/Y27)+(1/AD27)), AND($C$34="No", $C$44="Yes"), 1/((1/Y27)+(1/AI27)), AND($C$34="No", $C$44="No"), 1/(1/Y27))} -> 9.0428937 | T27: =$C$19/1000 -> 0.055624585 | V27: =1/(2*PI()*$R27*$C$25*$C$22*0.000001) -> 9.0428945 | W27: =2*PI()*$R27*((0.000000001*$C$24)/$C$25) -> 8.1681409e-07 | X27: =(0.001*$C$23)/$C$25 -> 0.001 | Y27: =SQRT(X27^(2)+ABS(V27-W27)^(2)) -> 9.0428937 | AA27: =1/(2*PI()*$R27*$C$38*$C$35*0.000001) -> 1989.4368 | AB27: =2*PI()*$R27*((0.000000001*$C$37)/$C$38) -> 5.0265482e-07 | AC27: =(0.001*$C$36)/$C$38 -> 0.006 | AD27: =IF($C$34="Yes", SQRT(AC27^(2)+ABS(AA27-AB27)^(2)), 0) -> 0 | AF27: =1/(2*PI()*$R27*$C$48*$C$45*0.000001) -> 3978.8736 | AG27: =2*PI()*$R27*((0.000000001*$C$47)/$C$48) -> 1.2566371e-06 | AH27: =(0.001*$C$46)/$C$48 -> 0.0001 | AI27: =IF($C$44="Yes", SQRT(AH27^(2)+ABS(AF27-AG27)^(2)), 0) -> 0
B28: Total Input Capacitance ESL | C28: =C24/C25 -> 0.325 | D28: nH | R28: 500 | S28: {=_xlfn.IFS(AND($C$34="Yes", $C$44="Yes"),1/((1/Y28)+(1/AD28)+(1/AI28)), AND($C$34="Yes", $C$44="No"), 1/((1/Y28)+(1/AD28)), AND($C$34="No", $C$44="Yes"), 1/((1/Y28)+(1/AI28)), AND($C$34="No", $C$44="No"), 1/(1/Y28))} -> 7.2343146 | T28: =$C$19/1000 -> 0.055624585 | V28: =1/(2*PI()*$R28*$C$25*$C$22*0.000001) -> 7.2343156 | W28: =2*PI()*$R28*((0.000000001*$C$24)/$C$25) -> 1.0210176e-06 | X28: =(0.001*$C$23)/$C$25 -> 0.001 | Y28: =SQRT(X28^(2)+ABS(V28-W28)^(2)) -> 7.2343146 | AA28: =1/(2*PI()*$R28*$C$38*$C$35*0.000001) -> 1591.5494 | AB28: =2*PI()*$R28*((0.000000001*$C$37)/$C$38) -> 6.2831853e-07 | AC28: =(0.001*$C$36)/$C$38 -> 0.006 | AD28: =IF($C$34="Yes", SQRT(AC28^(2)+ABS(AA28-AB28)^(2)), 0) -> 0 | AF28: =1/(2*PI()*$R28*$C$48*$C$45*0.000001) -> 3183.0989 | AG28: =2*PI()*$R28*((0.000000001*$C$47)/$C$48) -> 1.5707963e-06 | AH28: =(0.001*$C$46)/$C$48 -> 0.0001 | AI28: =IF($C$44="Yes", SQRT(AH28^(2)+ABS(AF28-AG28)^(2)), 0) -> 0
B29: Resonance Frequency (FRS) | C29: =1/(2*PI()*SQRT(C28*0.000000001*C26*0.000001))/1000 -> 1330.9205 | D29: KhZ | R29: 600 | S29: {=_xlfn.IFS(AND($C$34="Yes", $C$44="Yes"),1/((1/Y29)+(1/AD29)+(1/AI29)), AND($C$34="Yes", $C$44="No"), 1/((1/Y29)+(1/AD29)), AND($C$34="No", $C$44="Yes"), 1/((1/Y29)+(1/AI29)), AND($C$34="No", $C$44="No"), 1/(1/Y29))} -> 6.0285952 | T29: =$C$19/1000 -> 0.055624585 | V29: =1/(2*PI()*$R29*$C$25*$C$22*0.000001) -> 6.0285963 | W29: =2*PI()*$R29*((0.000000001*$C$24)/$C$25) -> 1.2252211e-06 | X29: =(0.001*$C$23)/$C$25 -> 0.001 | Y29: =SQRT(X29^(2)+ABS(V29-W29)^(2)) -> 6.0285952 | AA29: =1/(2*PI()*$R29*$C$38*$C$35*0.000001) -> 1326.2912 | AB29: =2*PI()*$R29*((0.000000001*$C$37)/$C$38) -> 7.5398224e-07 | AC29: =(0.001*$C$36)/$C$38 -> 0.006 | AD29: =IF($C$34="Yes", SQRT(AC29^(2)+ABS(AA29-AB29)^(2)), 0) -> 0 | AF29: =1/(2*PI()*$R29*$C$48*$C$45*0.000001) -> 2652.5824 | AG29: =2*PI()*$R29*((0.000000001*$C$47)/$C$48) -> 1.8849556e-06 | AH29: =(0.001*$C$46)/$C$48 -> 0.0001 | AI29: =IF($C$44="Yes", SQRT(AH29^(2)+ABS(AF29-AG29)^(2)), 0) -> 0
B30: Total Input Ripple RMS Voltage (ΔVIN(RIPPLE)) | C30: =(($C$13)*$C$10*C27*0.001)+(($C$13*$C$10*(1-$C$13))/(C26*0.000001*$C$12*1000)) -> 0.0280125 | D30: V | R30: 700 | S30: {=_xlfn.IFS(AND($C$34="Yes", $C$44="Yes"),1/((1/Y30)+(1/AD30)+(1/AI30)), AND($C$34="Yes", $C$44="No"), 1/((1/Y30)+(1/AD30)), AND($C$34="No", $C$44="Yes"), 1/((1/Y30)+(1/AI30)), AND($C$34="No", $C$44="No"), 1/(1/Y30))} -> 5.1673669 | T30: =$C$19/1000 -> 0.055624585 | V30: =1/(2*PI()*$R30*$C$25*$C$22*0.000001) -> 5.1673683 | W30: =2*PI()*$R30*((0.000000001*$C$24)/$C$25) -> 1.4294247e-06 | X30: =(0.001*$C$23)/$C$25 -> 0.001 | Y30: =SQRT(X30^(2)+ABS(V30-W30)^(2)) -> 5.1673669 | AA30: =1/(2*PI()*$R30*$C$38*$C$35*0.000001) -> 1136.821 | AB30: =2*PI()*$R30*((0.000000001*$C$37)/$C$38) -> 8.7964594e-07 | AC30: =(0.001*$C$36)/$C$38 -> 0.006 | AD30: =IF($C$34="Yes", SQRT(AC30^(2)+ABS(AA30-AB30)^(2)), 0) -> 0 | AF30: =1/(2*PI()*$R30*$C$48*$C$45*0.000001) -> 2273.642 | AG30: =2*PI()*$R30*((0.000000001*$C$47)/$C$48) -> 2.1991149e-06 | AH30: =(0.001*$C$46)/$C$48 -> 0.0001 | AI30: =IF($C$44="Yes", SQRT(AH30^(2)+ABS(AF30-AG30)^(2)), 0) -> 0
B31: Input Ripple RMS Current per capacitor | C31: =C18/C25 -> 0.67416233 | D31: A | R31: 800 | S31: {=_xlfn.IFS(AND($C$34="Yes", $C$44="Yes"),1/((1/Y31)+(1/AD31)+(1/AI31)), AND($C$34="Yes", $C$44="No"), 1/((1/Y31)+(1/AD31)), AND($C$34="No", $C$44="Yes"), 1/((1/Y31)+(1/AI31)), AND($C$34="No", $C$44="No"), 1/(1/Y31))} -> 4.5214457 | T31: =$C$19/1000 -> 0.055624585 | V31: =1/(2*PI()*$R31*$C$25*$C$22*0.000001) -> 4.5214472 | W31: =2*PI()*$R31*((0.000000001*$C$24)/$C$25) -> 1.6336282e-06 | X31: =(0.001*$C$23)/$C$25 -> 0.001 | Y31: =SQRT(X31^(2)+ABS(V31-W31)^(2)) -> 4.5214457 | AA31: =1/(2*PI()*$R31*$C$38*$C$35*0.000001) -> 994.71839 | AB31: =2*PI()*$R31*((0.000000001*$C$37)/$C$38) -> 1.0053096e-06 | AC31: =(0.001*$C$36)/$C$38 -> 0.006 | AD31: =IF($C$34="Yes", SQRT(AC31^(2)+ABS(AA31-AB31)^(2)), 0) -> 0 | AF31: =1/(2*PI()*$R31*$C$48*$C$45*0.000001) -> 1989.4368 | AG31: =2*PI()*$R31*((0.000000001*$C$47)/$C$48) -> 2.5132741e-06 | AH31: =(0.001*$C$46)/$C$48 -> 0.0001 | AI31: =IF($C$44="Yes", SQRT(AH31^(2)+ABS(AF31-AG31)^(2)), 0) -> 0
B32: Input Transient Deviation | C32: =(0.5*C11*C13*(0.35/(C14*1000))/(C26*0.000001)) -> 0.065330847 | D32: V | R32: 900 | S32: {=_xlfn.IFS(AND($C$34="Yes", $C$44="Yes"),1/((1/Y32)+(1/AD32)+(1/AI32)), AND($C$34="Yes", $C$44="No"), 1/((1/Y32)+(1/AD32)), AND($C$34="No", $C$44="Yes"), 1/((1/Y32)+(1/AI32)), AND($C$34="No", $C$44="No"), 1/(1/Y32))} -> 4.0190625 | T32: =$C$19/1000 -> 0.055624585 | V32: =1/(2*PI()*$R32*$C$25*$C$22*0.000001) -> 4.0190642 | W32: =2*PI()*$R32*((0.000000001*$C$24)/$C$25) -> 1.8378317e-06 | X32: =(0.001*$C$23)/$C$25 -> 0.001 | Y32: =SQRT(X32^(2)+ABS(V32-W32)^(2)) -> 4.0190625 | AA32: =1/(2*PI()*$R32*$C$38*$C$35*0.000001) -> 884.19413 | AB32: =2*PI()*$R32*((0.000000001*$C$37)/$C$38) -> 1.1309734e-06 | AC32: =(0.001*$C$36)/$C$38 -> 0.006 | AD32: =IF($C$34="Yes", SQRT(AC32^(2)+ABS(AA32-AB32)^(2)), 0) -> 0 | AF32: =1/(2*PI()*$R32*$C$48*$C$45*0.000001) -> 1768.3883 | AG32: =2*PI()*$R32*((0.000000001*$C$47)/$C$48) -> 2.8274334e-06 | AH32: =(0.001*$C$46)/$C$48 -> 0.0001 | AI32: =IF($C$44="Yes", SQRT(AH32^(2)+ABS(AF32-AG32)^(2)), 0) -> 0
H33: MFR PN | I33: T541X476M035AH6510 | J33: TES E 476 * 025 | R33: 1000 | S33: {=_xlfn.IFS(AND($C$34="Yes", $C$44="Yes"),1/((1/Y33)+(1/AD33)+(1/AI33)), AND($C$34="Yes", $C$44="No"), 1/((1/Y33)+(1/AD33)), AND($C$34="No", $C$44="Yes"), 1/((1/Y33)+(1/AI33)), AND($C$34="No", $C$44="No"), 1/(1/Y33))} -> 3.6171559 | T33: =$C$19/1000 -> 0.055624585 | V33: =1/(2*PI()*$R33*$C$25*$C$22*0.000001) -> 3.6171578 | W33: =2*PI()*$R33*((0.000000001*$C$24)/$C$25) -> 2.0420352e-06 | X33: =(0.001*$C$23)/$C$25 -> 0.001 | Y33: =SQRT(X33^(2)+ABS(V33-W33)^(2)) -> 3.6171559 | AA33: =1/(2*PI()*$R33*$C$38*$C$35*0.000001) -> 795.77472 | AB33: =2*PI()*$R33*((0.000000001*$C$37)/$C$38) -> 1.2566371e-06 | AC33: =(0.001*$C$36)/$C$38 -> 0.006 | AD33: =IF($C$34="Yes", SQRT(AC33^(2)+ABS(AA33-AB33)^(2)), 0) -> 0 | AF33: =1/(2*PI()*$R33*$C$48*$C$45*0.000001) -> 1591.5494 | AG33: =2*PI()*$R33*((0.000000001*$C$47)/$C$48) -> 3.1415927e-06 | AH33: =(0.001*$C$46)/$C$48 -> 0.0001 | AI33: =IF($C$44="Yes", SQRT(AH33^(2)+ABS(AF33-AG33)^(2)), 0) -> 0
B34: Add second CIN? | C34: No | H34: CAP (µF) | I34: 47 | J34: 47 | R34: 2000 | S34: {=_xlfn.IFS(AND($C$34="Yes", $C$44="Yes"),1/((1/Y34)+(1/AD34)+(1/AI34)), AND($C$34="Yes", $C$44="No"), 1/((1/Y34)+(1/AD34)), AND($C$34="No", $C$44="Yes"), 1/((1/Y34)+(1/AI34)), AND($C$34="No", $C$44="No"), 1/(1/Y34))} -> 1.8085751 | T34: =$C$19/1000 -> 0.055624585 | V34: =1/(2*PI()*$R34*$C$25*$C$22*0.000001) -> 1.8085789 | W34: =2*PI()*$R34*((0.000000001*$C$24)/$C$25) -> 4.0840704e-06 | X34: =(0.001*$C$23)/$C$25 -> 0.001 | Y34: =SQRT(X34^(2)+ABS(V34-W34)^(2)) -> 1.8085751 | AA34: =1/(2*PI()*$R34*$C$38*$C$35*0.000001) -> 397.88736 | AB34: =2*PI()*$R34*((0.000000001*$C$37)/$C$38) -> 2.5132741e-06 | AC34: =(0.001*$C$36)/$C$38 -> 0.006 | AD34: =IF($C$34="Yes", SQRT(AC34^(2)+ABS(AA34-AB34)^(2)), 0) -> 0 | AF34: =1/(2*PI()*$R34*$C$48*$C$45*0.000001) -> 795.77472 | AG34: =2*PI()*$R34*((0.000000001*$C$47)/$C$48) -> 6.2831853e-06 | AH34: =(0.001*$C$46)/$C$48 -> 0.0001 | AI34: =IF($C$44="Yes", SQRT(AH34^(2)+ABS(AF34-AG34)^(2)), 0) -> 0
B35: Input Capacitor 2 Value (CIN(CER)) | C35: 0.1 | D35: µF | H35: ESR (mΩ) | I35: 60 | J35: 65 | R35: 3000 | S35: {=_xlfn.IFS(AND($C$34="Yes", $C$44="Yes"),1/((1/Y35)+(1/AD35)+(1/AI35)), AND($C$34="Yes", $C$44="No"), 1/((1/Y35)+(1/AD35)), AND($C$34="No", $C$44="Yes"), 1/((1/Y35)+(1/AI35)), AND($C$34="No", $C$44="No"), 1/(1/Y35))} -> 1.2057136 | T35: =$C$19/1000 -> 0.055624585 | V35: =1/(2*PI()*$R35*$C$25*$C$22*0.000001) -> 1.2057193 | W35: =2*PI()*$R35*((0.000000001*$C$24)/$C$25) -> 6.1261057e-06 | X35: =(0.001*$C$23)/$C$25 -> 0.001 | Y35: =SQRT(X35^(2)+ABS(V35-W35)^(2)) -> 1.2057136 | AA35: =1/(2*PI()*$R35*$C$38*$C$35*0.000001) -> 265.25824 | AB35: =2*PI()*$R35*((0.000000001*$C$37)/$C$38) -> 3.7699112e-06 | AC35: =(0.001*$C$36)/$C$38 -> 0.006 | AD35: =IF($C$34="Yes", SQRT(AC35^(2)+ABS(AA35-AB35)^(2)), 0) -> 0 | AF35: =1/(2*PI()*$R35*$C$48*$C$45*0.000001) -> 530.51648 | AG35: =2*PI()*$R35*((0.000000001*$C$47)/$C$48) -> 9.424778e-06 | AH35: =(0.001*$C$46)/$C$48 -> 0.0001 | AI35: =IF($C$44="Yes", SQRT(AH35^(2)+ABS(AF35-AG35)^(2)), 0) -> 0
B36: Input Capacitor 2 ESR | C36: 12 | D36: mΩ | H36: Volt Rating (V) | I36: 35 | J36: 25 | R36: 4000 | S36: {=_xlfn.IFS(AND($C$34="Yes", $C$44="Yes"),1/((1/Y36)+(1/AD36)+(1/AI36)), AND($C$34="Yes", $C$44="No"), 1/((1/Y36)+(1/AD36)), AND($C$34="No", $C$44="Yes"), 1/((1/Y36)+(1/AI36)), AND($C$34="No", $C$44="No"), 1/(1/Y36))} -> 0.90428183 | T36: =$C$19/1000 -> 0.055624585 | V36: =1/(2*PI()*$R36*$C$25*$C$22*0.000001) -> 0.90428945 | W36: =2*PI()*$R36*((0.000000001*$C$24)/$C$25) -> 8.1681409e-06 | X36: =(0.001*$C$23)/$C$25 -> 0.001 | Y36: =SQRT(X36^(2)+ABS(V36-W36)^(2)) -> 0.90428183 | AA36: =1/(2*PI()*$R36*$C$38*$C$35*0.000001) -> 198.94368 | AB36: =2*PI()*$R36*((0.000000001*$C$37)/$C$38) -> 5.0265482e-06 | AC36: =(0.001*$C$36)/$C$38 -> 0.006 | AD36: =IF($C$34="Yes", SQRT(AC36^(2)+ABS(AA36-AB36)^(2)), 0) -> 0 | AF36: =1/(2*PI()*$R36*$C$48*$C$45*0.000001) -> 397.88736 | AG36: =2*PI()*$R36*((0.000000001*$C$47)/$C$48) -> 1.2566371e-05 | AH36: =(0.001*$C$46)/$C$48 -> 0.0001 | AI36: =IF($C$44="Yes", SQRT(AH36^(2)+ABS(AF36-AG36)^(2)), 0) -> 0
B37: Input Capacitor 2 ESL | C37: 0.4 | D37: nH | H37: RMS Voltage @ 85C (V) | J37: 0.119 | R37: 5000 | S37: {=_xlfn.IFS(AND($C$34="Yes", $C$44="Yes"),1/((1/Y37)+(1/AD37)+(1/AI37)), AND($C$34="Yes", $C$44="No"), 1/((1/Y37)+(1/AD37)), AND($C$34="No", $C$44="Yes"), 1/((1/Y37)+(1/AI37)), AND($C$34="No", $C$44="No"), 1/(1/Y37))} -> 0.72342204 | T37: =$C$19/1000 -> 0.055624585 | V37: =1/(2*PI()*$R37*$C$25*$C$22*0.000001) -> 0.72343156 | W37: =2*PI()*$R37*((0.000000001*$C$24)/$C$25) -> 1.0210176e-05 | X37: =(0.001*$C$23)/$C$25 -> 0.001 | Y37: =SQRT(X37^(2)+ABS(V37-W37)^(2)) -> 0.72342204 | AA37: =1/(2*PI()*$R37*$C$38*$C$35*0.000001) -> 159.15494 | AB37: =2*PI()*$R37*((0.000000001*$C$37)/$C$38) -> 6.2831853e-06 | AC37: =(0.001*$C$36)/$C$38 -> 0.006 | AD37: =IF($C$34="Yes", SQRT(AC37^(2)+ABS(AA37-AB37)^(2)), 0) -> 0 | AF37: =1/(2*PI()*$R37*$C$48*$C$45*0.000001) -> 318.30989 | AG37: =2*PI()*$R37*((0.000000001*$C$47)/$C$48) -> 1.5707963e-05 | AH37: =(0.001*$C$46)/$C$48 -> 0.0001 | AI37: =IF($C$44="Yes", SQRT(AH37^(2)+ABS(AF37-AG37)^(2)), 0) -> 0
B38: Quantity | C38: 2 | H38: RMS Current @ 85C (A) | I38: 1.487 | J38: 1.834 | R38: 6000 | S38: {=_xlfn.IFS(AND($C$34="Yes", $C$44="Yes"),1/((1/Y38)+(1/AD38)+(1/AI38)), AND($C$34="Yes", $C$44="No"), 1/((1/Y38)+(1/AD38)), AND($C$34="No", $C$44="Yes"), 1/((1/Y38)+(1/AI38)), AND($C$34="No", $C$44="No"), 1/(1/Y38))} -> 0.60284821 | T38: =$C$19/1000 -> 0.055624585 | V38: =1/(2*PI()*$R38*$C$25*$C$22*0.000001) -> 0.60285963 | W38: =2*PI()*$R38*((0.000000001*$C$24)/$C$25) -> 1.2252211e-05 | X38: =(0.001*$C$23)/$C$25 -> 0.001 | Y38: =SQRT(X38^(2)+ABS(V38-W38)^(2)) -> 0.60284821 | AA38: =1/(2*PI()*$R38*$C$38*$C$35*0.000001) -> 132.62912 | AB38: =2*PI()*$R38*((0.000000001*$C$37)/$C$38) -> 7.5398224e-06 | AC38: =(0.001*$C$36)/$C$38 -> 0.006 | AD38: =IF($C$34="Yes", SQRT(AC38^(2)+ABS(AA38-AB38)^(2)), 0) -> 0 | AF38: =1/(2*PI()*$R38*$C$48*$C$45*0.000001) -> 265.25824 | AG38: =2*PI()*$R38*((0.000000001*$C$47)/$C$48) -> 1.8849556e-05 | AH38: =(0.001*$C$46)/$C$48 -> 0.0001 | AI38: =IF($C$44="Yes", SQRT(AH38^(2)+ABS(AF38-AG38)^(2)), 0) -> 0
B39: Total Input Capacitance 2 Value (CIN(CER, TOTAL)) | C39: =C35*C38 -> 0.2 | D39: µF | H39: DLA/ESCC | I39: 04052-062MZ | J39: 301200405#476*E0065 | R39: 7000 | S39: {=_xlfn.IFS(AND($C$34="Yes", $C$44="Yes"),1/((1/Y39)+(1/AD39)+(1/AI39)), AND($C$34="Yes", $C$44="No"), 1/((1/Y39)+(1/AD39)), AND($C$34="No", $C$44="Yes"), 1/((1/Y39)+(1/AI39)), AND($C$34="No", $C$44="No"), 1/(1/Y39))} -> 0.5167235 | T39: =$C$19/1000 -> 0.055624585 | V39: =1/(2*PI()*$R39*$C$25*$C$22*0.000001) -> 0.51673683 | W39: =2*PI()*$R39*((0.000000001*$C$24)/$C$25) -> 1.4294247e-05 | X39: =(0.001*$C$23)/$C$25 -> 0.001 | Y39: =SQRT(X39^(2)+ABS(V39-W39)^(2)) -> 0.5167235 | AA39: =1/(2*PI()*$R39*$C$38*$C$35*0.000001) -> 113.6821 | AB39: =2*PI()*$R39*((0.000000001*$C$37)/$C$38) -> 8.7964594e-06 | AC39: =(0.001*$C$36)/$C$38 -> 0.006 | AD39: =IF($C$34="Yes", SQRT(AC39^(2)+ABS(AA39-AB39)^(2)), 0) -> 0 | AF39: =1/(2*PI()*$R39*$C$48*$C$45*0.000001) -> 227.3642 | AG39: =2*PI()*$R39*((0.000000001*$C$47)/$C$48) -> 2.1991149e-05 | AH39: =(0.001*$C$46)/$C$48 -> 0.0001 | AI39: =IF($C$44="Yes", SQRT(AH39^(2)+ABS(AF39-AG39)^(2)), 0) -> 0
B40: Total Input Capacitance 2 ESR | C40: =C36/C38 -> 6 | D40: mΩ | R40: 8000 | S40: {=_xlfn.IFS(AND($C$34="Yes", $C$44="Yes"),1/((1/Y40)+(1/AD40)+(1/AI40)), AND($C$34="Yes", $C$44="No"), 1/((1/Y40)+(1/AD40)), AND($C$34="No", $C$44="Yes"), 1/((1/Y40)+(1/AI40)), AND($C$34="No", $C$44="No"), 1/(1/Y40))} -> 0.45212949 | T40: =$C$19/1000 -> 0.055624585 | V40: =1/(2*PI()*$R40*$C$25*$C$22*0.000001) -> 0.45214472 | W40: =2*PI()*$R40*((0.000000001*$C$24)/$C$25) -> 1.6336282e-05 | X40: =(0.001*$C$23)/$C$25 -> 0.001 | Y40: =SQRT(X40^(2)+ABS(V40-W40)^(2)) -> 0.45212949 | AA40: =1/(2*PI()*$R40*$C$38*$C$35*0.000001) -> 99.471839 | AB40: =2*PI()*$R40*((0.000000001*$C$37)/$C$38) -> 1.0053096e-05 | AC40: =(0.001*$C$36)/$C$38 -> 0.006 | AD40: =IF($C$34="Yes", SQRT(AC40^(2)+ABS(AA40-AB40)^(2)), 0) -> 0 | AF40: =1/(2*PI()*$R40*$C$48*$C$45*0.000001) -> 198.94368 | AG40: =2*PI()*$R40*((0.000000001*$C$47)/$C$48) -> 2.5132741e-05 | AH40: =(0.001*$C$46)/$C$48 -> 0.0001 | AI40: =IF($C$44="Yes", SQRT(AH40^(2)+ABS(AF40-AG40)^(2)), 0) -> 0
B41: Total Input Capacitance 2 ESL | C41: =C37/C38 -> 0.2 | D41: nH | R41: 9000 | S41: {=_xlfn.IFS(AND($C$34="Yes", $C$44="Yes"),1/((1/Y41)+(1/AD41)+(1/AI41)), AND($C$34="Yes", $C$44="No"), 1/((1/Y41)+(1/AD41)), AND($C$34="No", $C$44="Yes"), 1/((1/Y41)+(1/AI41)), AND($C$34="No", $C$44="No"), 1/(1/Y41))} -> 0.40188929 | T41: =$C$19/1000 -> 0.055624585 | V41: =1/(2*PI()*$R41*$C$25*$C$22*0.000001) -> 0.40190642 | W41: =2*PI()*$R41*((0.000000001*$C$24)/$C$25) -> 1.8378317e-05 | X41: =(0.001*$C$23)/$C$25 -> 0.001 | Y41: =SQRT(X41^(2)+ABS(V41-W41)^(2)) -> 0.40188929 | AA41: =1/(2*PI()*$R41*$C$38*$C$35*0.000001) -> 88.419413 | AB41: =2*PI()*$R41*((0.000000001*$C$37)/$C$38) -> 1.1309734e-05 | AC41: =(0.001*$C$36)/$C$38 -> 0.006 | AD41: =IF($C$34="Yes", SQRT(AC41^(2)+ABS(AA41-AB41)^(2)), 0) -> 0 | AF41: =1/(2*PI()*$R41*$C$48*$C$45*0.000001) -> 176.83883 | AG41: =2*PI()*$R41*((0.000000001*$C$47)/$C$48) -> 2.8274334e-05 | AH41: =(0.001*$C$46)/$C$48 -> 0.0001 | AI41: =IF($C$44="Yes", SQRT(AH41^(2)+ABS(AF41-AG41)^(2)), 0) -> 0
B42: Capacitor 2 Resonance Frequency (FRS) | C42: =1/(2*PI()*SQRT(C41*0.000000001*C39*0.000001))/1000 -> 25164.606 | D42: KhZ | I42: CIN1 | J42: CIN2 | K42: CIN3 | L42: Total | R42: 10000 | S42: {=_xlfn.IFS(AND($C$34="Yes", $C$44="Yes"),1/((1/Y42)+(1/AD42)+(1/AI42)), AND($C$34="Yes", $C$44="No"), 1/((1/Y42)+(1/AD42)), AND($C$34="No", $C$44="Yes"), 1/((1/Y42)+(1/AI42)), AND($C$34="No", $C$44="No"), 1/(1/Y42))} -> 0.36169674 | T42: =$C$19/1000 -> 0.055624585 | V42: =1/(2*PI()*$R42*$C$25*$C$22*0.000001) -> 0.36171578 | W42: =2*PI()*$R42*((0.000000001*$C$24)/$C$25) -> 2.0420352e-05 | X42: =(0.001*$C$23)/$C$25 -> 0.001 | Y42: =SQRT(X42^(2)+ABS(V42-W42)^(2)) -> 0.36169674 | AA42: =1/(2*PI()*$R42*$C$38*$C$35*0.000001) -> 79.577472 | AB42: =2*PI()*$R42*((0.000000001*$C$37)/$C$38) -> 1.2566371e-05 | AC42: =(0.001*$C$36)/$C$38 -> 0.006 | AD42: =IF($C$34="Yes", SQRT(AC42^(2)+ABS(AA42-AB42)^(2)), 0) -> 0 | AF42: =1/(2*PI()*$R42*$C$48*$C$45*0.000001) -> 159.15494 | AG42: =2*PI()*$R42*((0.000000001*$C$47)/$C$48) -> 3.1415927e-05 | AH42: =(0.001*$C$46)/$C$48 -> 0.0001 | AI42: =IF($C$44="Yes", SQRT(AH42^(2)+ABS(AF42-AG42)^(2)), 0) -> 0
H43: COUT (µF) | I43: =C22 -> 22 | J43: =IF($C$34="Yes", C35, 0) -> 0 | K43: =IF($C$44="Yes", C45, 0) -> 0 | L43: =I46*$I$43+J46*$J$43+K46*$K$43 -> 44 | R43: 20000 | S43: {=_xlfn.IFS(AND($C$34="Yes", $C$44="Yes"),1/((1/Y43)+(1/AD43)+(1/AI43)), AND($C$34="Yes", $C$44="No"), 1/((1/Y43)+(1/AD43)), AND($C$34="No", $C$44="Yes"), 1/((1/Y43)+(1/AI43)), AND($C$34="No", $C$44="No"), 1/(1/Y43))} -> 0.18081981 | T43: =$C$19/1000 -> 0.055624585 | V43: =1/(2*PI()*$R43*$C$25*$C$22*0.000001) -> 0.18085789 | W43: =2*PI()*$R43*((0.000000001*$C$24)/$C$25) -> 4.0840704e-05 | X43: =(0.001*$C$23)/$C$25 -> 0.001 | Y43: =SQRT(X43^(2)+ABS(V43-W43)^(2)) -> 0.18081981 | AA43: =1/(2*PI()*$R43*$C$38*$C$35*0.000001) -> 39.788736 | AB43: =2*PI()*$R43*((0.000000001*$C$37)/$C$38) -> 2.5132741e-05 | AC43: =(0.001*$C$36)/$C$38 -> 0.006 | AD43: =IF($C$34="Yes", SQRT(AC43^(2)+ABS(AA43-AB43)^(2)), 0) -> 0 | AF43: =1/(2*PI()*$R43*$C$48*$C$45*0.000001) -> 79.577472 | AG43: =2*PI()*$R43*((0.000000001*$C$47)/$C$48) -> 6.2831853e-05 | AH43: =(0.001*$C$46)/$C$48 -> 0.0001 | AI43: =IF($C$44="Yes", SQRT(AH43^(2)+ABS(AF43-AG43)^(2)), 0) -> 0
B44: Add third CIN? | C44: No | H44: ESR (mΩ) | I44: =C23 -> 2 | J44: =IF($C$34="Yes", C36, 0) -> 0 | K44: =IF($C$44="Yes", C46, 0) -> 0 | R44: 30000 | S44: {=_xlfn.IFS(AND($C$34="Yes", $C$44="Yes"),1/((1/Y44)+(1/AD44)+(1/AI44)), AND($C$34="Yes", $C$44="No"), 1/((1/Y44)+(1/AD44)), AND($C$34="No", $C$44="Yes"), 1/((1/Y44)+(1/AI44)), AND($C$34="No", $C$44="No"), 1/(1/Y44))} -> 0.12051481 | T44: =$C$19/1000 -> 0.055624585 | V44: =1/(2*PI()*$R44*$C$25*$C$22*0.000001) -> 0.12057193 | W44: =2*PI()*$R44*((0.000000001*$C$24)/$C$25) -> 6.1261057e-05 | X44: =(0.001*$C$23)/$C$25 -> 0.001 | Y44: =SQRT(X44^(2)+ABS(V44-W44)^(2)) -> 0.12051481 | AA44: =1/(2*PI()*$R44*$C$38*$C$35*0.000001) -> 26.525824 | AB44: =2*PI()*$R44*((0.000000001*$C$37)/$C$38) -> 3.7699112e-05 | AC44: =(0.001*$C$36)/$C$38 -> 0.006 | AD44: =IF($C$34="Yes", SQRT(AC44^(2)+ABS(AA44-AB44)^(2)), 0) -> 0 | AF44: =1/(2*PI()*$R44*$C$48*$C$45*0.000001) -> 53.051648 | AG44: =2*PI()*$R44*((0.000000001*$C$47)/$C$48) -> 9.424778e-05 | AH44: =(0.001*$C$46)/$C$48 -> 0.0001 | AI44: =IF($C$44="Yes", SQRT(AH44^(2)+ABS(AF44-AG44)^(2)), 0) -> 0
B45: Input Capacitor 3 Value (CIN(CER)) | C45: 0.1 | D45: µF | H45: ESL (nH) | I45: =C24 -> 0.65 | J45: =IF($C$34="Yes", C37, 0) -> 0 | K45: =IF($C$44="Yes", C47, 0) -> 0 | R45: 40000 | S45: {=_xlfn.IFS(AND($C$34="Yes", $C$44="Yes"),1/((1/Y45)+(1/AD45)+(1/AI45)), AND($C$34="Yes", $C$44="No"), 1/((1/Y45)+(1/AD45)), AND($C$34="No", $C$44="Yes"), 1/((1/Y45)+(1/AI45)), AND($C$34="No", $C$44="No"), 1/(1/Y45))} -> 0.090352798 | T45: =$C$19/1000 -> 0.055624585 | V45: =1/(2*PI()*$R45*$C$25*$C$22*0.000001) -> 0.090428945 | W45: =2*PI()*$R45*((0.000000001*$C$24)/$C$25) -> 8.1681409e-05 | X45: =(0.001*$C$23)/$C$25 -> 0.001 | Y45: =SQRT(X45^(2)+ABS(V45-W45)^(2)) -> 0.090352798 | AA45: =1/(2*PI()*$R45*$C$38*$C$35*0.000001) -> 19.894368 | AB45: =2*PI()*$R45*((0.000000001*$C$37)/$C$38) -> 5.0265482e-05 | AC45: =(0.001*$C$36)/$C$38 -> 0.006 | AD45: =IF($C$34="Yes", SQRT(AC45^(2)+ABS(AA45-AB45)^(2)), 0) -> 0 | AF45: =1/(2*PI()*$R45*$C$48*$C$45*0.000001) -> 39.788736 | AG45: =2*PI()*$R45*((0.000000001*$C$47)/$C$48) -> 0.00012566371 | AH45: =(0.001*$C$46)/$C$48 -> 0.0001 | AI45: =IF($C$44="Yes", SQRT(AH45^(2)+ABS(AF45-AG45)^(2)), 0) -> 0
B46: Input Capacitor 3 ESR | C46: 0.1 | D46: mΩ | H46: Total Quantity | I46: =C25 -> 2 | J46: =IF($C$34="Yes", C38, 0) -> 0 | K46: =IF($C$44="Yes", C48, 0) -> 0 | L46: =SUM(I46:K46) -> 2 | R46: 50000 | S46: {=_xlfn.IFS(AND($C$34="Yes", $C$44="Yes"),1/((1/Y46)+(1/AD46)+(1/AI46)), AND($C$34="Yes", $C$44="No"), 1/((1/Y46)+(1/AD46)), AND($C$34="No", $C$44="Yes"), 1/((1/Y46)+(1/AI46)), AND($C$34="No", $C$44="No"), 1/(1/Y46))} -> 0.072247975 | T46: =$C$19/1000 -> 0.055624585 | V46: =1/(2*PI()*$R46*$C$25*$C$22*0.000001) -> 0.072343156 | W46: =2*PI()*$R46*((0.000000001*$C$24)/$C$25) -> 0.00010210176 | X46: =(0.001*$C$23)/$C$25 -> 0.001 | Y46: =SQRT(X46^(2)+ABS(V46-W46)^(2)) -> 0.072247975 | AA46: =1/(2*PI()*$R46*$C$38*$C$35*0.000001) -> 15.915494 | AB46: =2*PI()*$R46*((0.000000001*$C$37)/$C$38) -> 6.2831853e-05 | AC46: =(0.001*$C$36)/$C$38 -> 0.006 | AD46: =IF($C$34="Yes", SQRT(AC46^(2)+ABS(AA46-AB46)^(2)), 0) -> 0 | AF46: =1/(2*PI()*$R46*$C$48*$C$45*0.000001) -> 31.830989 | AG46: =2*PI()*$R46*((0.000000001*$C$47)/$C$48) -> 0.00015707963 | AH46: =(0.001*$C$46)/$C$48 -> 0.0001 | AI46: =IF($C$44="Yes", SQRT(AH46^(2)+ABS(AF46-AG46)^(2)), 0) -> 0
B47: Input Capacitor 3 ESL | C47: 0.5 | D47: nH | R47: 60000 | S47: {=_xlfn.IFS(AND($C$34="Yes", $C$44="Yes"),1/((1/Y47)+(1/AD47)+(1/AI47)), AND($C$34="Yes", $C$44="No"), 1/((1/Y47)+(1/AD47)), AND($C$34="No", $C$44="Yes"), 1/((1/Y47)+(1/AI47)), AND($C$34="No", $C$44="No"), 1/(1/Y47))} -> 0.060171751 | T47: =$C$19/1000 -> 0.055624585 | V47: =1/(2*PI()*$R47*$C$25*$C$22*0.000001) -> 0.060285963 | W47: =2*PI()*$R47*((0.000000001*$C$24)/$C$25) -> 0.00012252211 | X47: =(0.001*$C$23)/$C$25 -> 0.001 | Y47: =SQRT(X47^(2)+ABS(V47-W47)^(2)) -> 0.060171751 | AA47: =1/(2*PI()*$R47*$C$38*$C$35*0.000001) -> 13.262912 | AB47: =2*PI()*$R47*((0.000000001*$C$37)/$C$38) -> 7.5398224e-05 | AC47: =(0.001*$C$36)/$C$38 -> 0.006 | AD47: =IF($C$34="Yes", SQRT(AC47^(2)+ABS(AA47-AB47)^(2)), 0) -> 0 | AF47: =1/(2*PI()*$R47*$C$48*$C$45*0.000001) -> 26.525824 | AG47: =2*PI()*$R47*((0.000000001*$C$47)/$C$48) -> 0.00018849556 | AH47: =(0.001*$C$46)/$C$48 -> 0.0001 | AI47: =IF($C$44="Yes", SQRT(AH47^(2)+ABS(AF47-AG47)^(2)), 0) -> 0
B48: Quantity | C48: 1 | R48: 70000 | S48: {=_xlfn.IFS(AND($C$34="Yes", $C$44="Yes"),1/((1/Y48)+(1/AD48)+(1/AI48)), AND($C$34="Yes", $C$44="No"), 1/((1/Y48)+(1/AD48)), AND($C$34="No", $C$44="Yes"), 1/((1/Y48)+(1/AI48)), AND($C$34="No", $C$44="No"), 1/(1/Y48))} -> 0.051540442 | T48: =$C$19/1000 -> 0.055624585 | V48: =1/(2*PI()*$R48*$C$25*$C$22*0.000001) -> 0.051673683 | W48: =2*PI()*$R48*((0.000000001*$C$24)/$C$25) -> 0.00014294247 | X48: =(0.001*$C$23)/$C$25 -> 0.001 | Y48: =SQRT(X48^(2)+ABS(V48-W48)^(2)) -> 0.051540442 | AA48: =1/(2*PI()*$R48*$C$38*$C$35*0.000001) -> 11.36821 | AB48: =2*PI()*$R48*((0.000000001*$C$37)/$C$38) -> 8.7964594e-05 | AC48: =(0.001*$C$36)/$C$38 -> 0.006 | AD48: =IF($C$34="Yes", SQRT(AC48^(2)+ABS(AA48-AB48)^(2)), 0) -> 0 | AF48: =1/(2*PI()*$R48*$C$48*$C$45*0.000001) -> 22.73642 | AG48: =2*PI()*$R48*((0.000000001*$C$47)/$C$48) -> 0.00021991149 | AH48: =(0.001*$C$46)/$C$48 -> 0.0001 | AI48: =IF($C$44="Yes", SQRT(AH48^(2)+ABS(AF48-AG48)^(2)), 0) -> 0
B49: Total Input Capacitance 3 Value (CIN(CER, TOTAL)) | C49: =C45*C48 -> 0.1 | D49: µF | R49: 80000 | S49: {=_xlfn.IFS(AND($C$34="Yes", $C$44="Yes"),1/((1/Y49)+(1/AD49)+(1/AI49)), AND($C$34="Yes", $C$44="No"), 1/((1/Y49)+(1/AD49)), AND($C$34="No", $C$44="Yes"), 1/((1/Y49)+(1/AI49)), AND($C$34="No", $C$44="No"), 1/(1/Y49))} -> 0.045062207 | T49: =$C$19/1000 -> 0.055624585 | V49: =1/(2*PI()*$R49*$C$25*$C$22*0.000001) -> 0.045214472 | W49: =2*PI()*$R49*((0.000000001*$C$24)/$C$25) -> 0.00016336282 | X49: =(0.001*$C$23)/$C$25 -> 0.001 | Y49: =SQRT(X49^(2)+ABS(V49-W49)^(2)) -> 0.045062207 | AA49: =1/(2*PI()*$R49*$C$38*$C$35*0.000001) -> 9.9471839 | AB49: =2*PI()*$R49*((0.000000001*$C$37)/$C$38) -> 0.00010053096 | AC49: =(0.001*$C$36)/$C$38 -> 0.006 | AD49: =IF($C$34="Yes", SQRT(AC49^(2)+ABS(AA49-AB49)^(2)), 0) -> 0 | AF49: =1/(2*PI()*$R49*$C$48*$C$45*0.000001) -> 19.894368 | AG49: =2*PI()*$R49*((0.000000001*$C$47)/$C$48) -> 0.00025132741 | AH49: =(0.001*$C$46)/$C$48 -> 0.0001 | AI49: =IF($C$44="Yes", SQRT(AH49^(2)+ABS(AF49-AG49)^(2)), 0) -> 0
B50: Total Input Capacitance 3 ESR | C50: =C46/C48 -> 0.1 | D50: mΩ | H50: MFR PN | I50: T540D476M016AH(1)20 | J50: T540D336M025AH(1)10 | K50: TES E 476 * 025 | L50: M3253505E2Z105KRTB | M50: M3253505E2Z104KRTB | N50: C0603K104K3RNG | R50: 90000 | S50: {=_xlfn.IFS(AND($C$34="Yes", $C$44="Yes"),1/((1/Y50)+(1/AD50)+(1/AI50)), AND($C$34="Yes", $C$44="No"), 1/((1/Y50)+(1/AD50)), AND($C$34="No", $C$44="Yes"), 1/((1/Y50)+(1/AI50)), AND($C$34="No", $C$44="No"), 1/(1/Y50))} -> 0.040019355 | T50: =$C$19/1000 -> 0.055624585 | V50: =1/(2*PI()*$R50*$C$25*$C$22*0.000001) -> 0.040190642 | W50: =2*PI()*$R50*((0.000000001*$C$24)/$C$25) -> 0.00018378317 | X50: =(0.001*$C$23)/$C$25 -> 0.001 | Y50: =SQRT(X50^(2)+ABS(V50-W50)^(2)) -> 0.040019355 | AA50: =1/(2*PI()*$R50*$C$38*$C$35*0.000001) -> 8.8419413 | AB50: =2*PI()*$R50*((0.000000001*$C$37)/$C$38) -> 0.00011309734 | AC50: =(0.001*$C$36)/$C$38 -> 0.006 | AD50: =IF($C$34="Yes", SQRT(AC50^(2)+ABS(AA50-AB50)^(2)), 0) -> 0 | AF50: =1/(2*PI()*$R50*$C$48*$C$45*0.000001) -> 17.683883 | AG50: =2*PI()*$R50*((0.000000001*$C$47)/$C$48) -> 0.00028274334 | AH50: =(0.001*$C$46)/$C$48 -> 0.0001 | AI50: =IF($C$44="Yes", SQRT(AH50^(2)+ABS(AF50-AG50)^(2)), 0) -> 0
B51: Total Input Capacitance 3 ESL | C51: =C47/C48 -> 0.5 | D51: nH | H51: CAP (µF) | I51: 47 | J51: 33 | K51: 47 | L51: 1 | M51: 0.1 | N51: 0.1 | R51: 100000 | S51: {=_xlfn.IFS(AND($C$34="Yes", $C$44="Yes"),1/((1/Y51)+(1/AD51)+(1/AI51)), AND($C$34="Yes", $C$44="No"), 1/((1/Y51)+(1/AD51)), AND($C$34="No", $C$44="Yes"), 1/((1/Y51)+(1/AI51)), AND($C$34="No", $C$44="No"), 1/(1/Y51))} -> 0.035981273 | T51: =$C$19/1000 -> 0.055624585 | V51: =1/(2*PI()*$R51*$C$25*$C$22*0.000001) -> 0.036171578 | W51: =2*PI()*$R51*((0.000000001*$C$24)/$C$25) -> 0.00020420352 | X51: =(0.001*$C$23)/$C$25 -> 0.001 | Y51: =SQRT(X51^(2)+ABS(V51-W51)^(2)) -> 0.035981273 | AA51: =1/(2*PI()*$R51*$C$38*$C$35*0.000001) -> 7.9577472 | AB51: =2*PI()*$R51*((0.000000001*$C$37)/$C$38) -> 0.00012566371 | AC51: =(0.001*$C$36)/$C$38 -> 0.006 | AD51: =IF($C$34="Yes", SQRT(AC51^(2)+ABS(AA51-AB51)^(2)), 0) -> 0 | AF51: =1/(2*PI()*$R51*$C$48*$C$45*0.000001) -> 15.915494 | AG51: =2*PI()*$R51*((0.000000001*$C$47)/$C$48) -> 0.00031415927 | AH51: =(0.001*$C$46)/$C$48 -> 0.0001 | AI51: =IF($C$44="Yes", SQRT(AH51^(2)+ABS(AF51-AG51)^(2)), 0) -> 0
B52: Capacitor 3 Resonance Frequency (FRS) | C52: =1/(2*PI()*SQRT(C51*0.000000001*C49*0.000001))/1000 -> 22507.908 | D52: KhZ | H52: Case Size | I52: Tantalum D | J52: Tantalum D/7343-31 | K52: Tant E | L52: 1206 | M52: 1206 | N52: 0603 | R52: 200000 | S52: {=_xlfn.IFS(AND($C$34="Yes", $C$44="Yes"),1/((1/Y52)+(1/AD52)+(1/AI52)), AND($C$34="Yes", $C$44="No"), 1/((1/Y52)+(1/AD52)), AND($C$34="No", $C$44="Yes"), 1/((1/Y52)+(1/AI52)), AND($C$34="No", $C$44="No"), 1/(1/Y52))} -> 0.017705644 | T52: =$C$19/1000 -> 0.055624585 | V52: =1/(2*PI()*$R52*$C$25*$C$22*0.000001) -> 0.018085789 | W52: =2*PI()*$R52*((0.000000001*$C$24)/$C$25) -> 0.00040840704 | X52: =(0.001*$C$23)/$C$25 -> 0.001 | Y52: =SQRT(X52^(2)+ABS(V52-W52)^(2)) -> 0.017705644 | AA52: =1/(2*PI()*$R52*$C$38*$C$35*0.000001) -> 3.9788736 | AB52: =2*PI()*$R52*((0.000000001*$C$37)/$C$38) -> 0.00025132741 | AC52: =(0.001*$C$36)/$C$38 -> 0.006 | AD52: =IF($C$34="Yes", SQRT(AC52^(2)+ABS(AA52-AB52)^(2)), 0) -> 0 | AF52: =1/(2*PI()*$R52*$C$48*$C$45*0.000001) -> 7.9577472 | AG52: =2*PI()*$R52*((0.000000001*$C$47)/$C$48) -> 0.00062831853 | AH52: =(0.001*$C$46)/$C$48 -> 0.0001 | AI52: =IF($C$44="Yes", SQRT(AH52^(2)+ABS(AF52-AG52)^(2)), 0) -> 0
H53: ESR (mΩ) | I53: 35 | J53: 75 | K53: 65 | L53: 10 | M53: 25 | N53: 12 | R53: 300000 | S53: {=_xlfn.IFS(AND($C$34="Yes", $C$44="Yes"),1/((1/Y53)+(1/AD53)+(1/AI53)), AND($C$34="Yes", $C$44="No"), 1/((1/Y53)+(1/AD53)), AND($C$34="No", $C$44="Yes"), 1/((1/Y53)+(1/AI53)), AND($C$34="No", $C$44="No"), 1/(1/Y53))} -> 0.011488188 | T53: =$C$19/1000 -> 0.055624585 | V53: =1/(2*PI()*$R53*$C$25*$C$22*0.000001) -> 0.012057193 | W53: =2*PI()*$R53*((0.000000001*$C$24)/$C$25) -> 0.00061261057 | X53: =(0.001*$C$23)/$C$25 -> 0.001 | Y53: =SQRT(X53^(2)+ABS(V53-W53)^(2)) -> 0.011488188 | AA53: =1/(2*PI()*$R53*$C$38*$C$35*0.000001) -> 2.6525824 | AB53: =2*PI()*$R53*((0.000000001*$C$37)/$C$38) -> 0.00037699112 | AC53: =(0.001*$C$36)/$C$38 -> 0.006 | AD53: =IF($C$34="Yes", SQRT(AC53^(2)+ABS(AA53-AB53)^(2)), 0) -> 0 | AF53: =1/(2*PI()*$R53*$C$48*$C$45*0.000001) -> 5.3051648 | AG53: =2*PI()*$R53*((0.000000001*$C$47)/$C$48) -> 0.0009424778 | AH53: =(0.001*$C$46)/$C$48 -> 0.0001 | AI53: =IF($C$44="Yes", SQRT(AH53^(2)+ABS(AF53-AG53)^(2)), 0) -> 0
B54: Total Input Capacitance | C54: {=_xlfn.IFS(AND(C34="Yes",C44="Yes"),C26+C39+C49,AND(C34="Yes",C44="No"),C26+C39,AND(C34="No",C44="Yes"),C26+C49,AND(C34="No",C44="No"),C26)} -> 44 | D54: µF | H54: ESL (nH) | I54: 1.5 | J54: 1.5 | K54: 2.5 | N54: 0.4 | R54: 400000 | S54: {=_xlfn.IFS(AND($C$34="Yes", $C$44="Yes"),1/((1/Y54)+(1/AD54)+(1/AI54)), AND($C$34="Yes", $C$44="No"), 1/((1/Y54)+(1/AD54)), AND($C$34="No", $C$44="Yes"), 1/((1/Y54)+(1/AI54)), AND($C$34="No", $C$44="No"), 1/(1/Y54))} -> 0.0082866398 | T54: =$C$19/1000 -> 0.055624585 | V54: =1/(2*PI()*$R54*$C$25*$C$22*0.000001) -> 0.0090428945 | W54: =2*PI()*$R54*((0.000000001*$C$24)/$C$25) -> 0.00081681409 | X54: =(0.001*$C$23)/$C$25 -> 0.001 | Y54: =SQRT(X54^(2)+ABS(V54-W54)^(2)) -> 0.0082866398 | AA54: =1/(2*PI()*$R54*$C$38*$C$35*0.000001) -> 1.9894368 | AB54: =2*PI()*$R54*((0.000000001*$C$37)/$C$38) -> 0.00050265482 | AC54: =(0.001*$C$36)/$C$38 -> 0.006 | AD54: =IF($C$34="Yes", SQRT(AC54^(2)+ABS(AA54-AB54)^(2)), 0) -> 0 | AF54: =1/(2*PI()*$R54*$C$48*$C$45*0.000001) -> 3.9788736 | AG54: =2*PI()*$R54*((0.000000001*$C$47)/$C$48) -> 0.0012566371 | AH54: =(0.001*$C$46)/$C$48 -> 0.0001 | AI54: =IF($C$44="Yes", SQRT(AH54^(2)+ABS(AF54-AG54)^(2)), 0) -> 0
H55: Volt Rating (V) | I55: 16 | J55: 25 | K55: 25 | L55: 25 | M55: 25 | N55: 25 | R55: 500000 | S55: {=_xlfn.IFS(AND($C$34="Yes", $C$44="Yes"),1/((1/Y55)+(1/AD55)+(1/AI55)), AND($C$34="Yes", $C$44="No"), 1/((1/Y55)+(1/AD55)), AND($C$34="No", $C$44="Yes"), 1/((1/Y55)+(1/AI55)), AND($C$34="No", $C$44="No"), 1/(1/Y55))} -> 0.0062932561 | T55: =$C$19/1000 -> 0.055624585 | V55: =1/(2*PI()*$R55*$C$25*$C$22*0.000001) -> 0.0072343156 | W55: =2*PI()*$R55*((0.000000001*$C$24)/$C$25) -> 0.0010210176 | X55: =(0.001*$C$23)/$C$25 -> 0.001 | Y55: =SQRT(X55^(2)+ABS(V55-W55)^(2)) -> 0.0062932561 | AA55: =1/(2*PI()*$R55*$C$38*$C$35*0.000001) -> 1.5915494 | AB55: =2*PI()*$R55*((0.000000001*$C$37)/$C$38) -> 0.00062831853 | AC55: =(0.001*$C$36)/$C$38 -> 0.006 | AD55: =IF($C$34="Yes", SQRT(AC55^(2)+ABS(AA55-AB55)^(2)), 0) -> 0 | AF55: =1/(2*PI()*$R55*$C$48*$C$45*0.000001) -> 3.1830989 | AG55: =2*PI()*$R55*((0.000000001*$C$47)/$C$48) -> 0.0015707963 | AH55: =(0.001*$C$46)/$C$48 -> 0.0001 | AI55: =IF($C$44="Yes", SQRT(AH55^(2)+ABS(AF55-AG55)^(2)), 0) -> 0
H56: RMS Voltage @ 85C (V) | K56: 0.119 | R56: 600000 | S56: {=_xlfn.IFS(AND($C$34="Yes", $C$44="Yes"),1/((1/Y56)+(1/AD56)+(1/AI56)), AND($C$34="Yes", $C$44="No"), 1/((1/Y56)+(1/AD56)), AND($C$34="No", $C$44="Yes"), 1/((1/Y56)+(1/AI56)), AND($C$34="No", $C$44="No"), 1/(1/Y56))} -> 0.0049063646 | T56: =$C$19/1000 -> 0.055624585 | V56: =1/(2*PI()*$R56*$C$25*$C$22*0.000001) -> 0.0060285963 | W56: =2*PI()*$R56*((0.000000001*$C$24)/$C$25) -> 0.0012252211 | X56: =(0.001*$C$23)/$C$25 -> 0.001 | Y56: =SQRT(X56^(2)+ABS(V56-W56)^(2)) -> 0.0049063646 | AA56: =1/(2*PI()*$R56*$C$38*$C$35*0.000001) -> 1.3262912 | AB56: =2*PI()*$R56*((0.000000001*$C$37)/$C$38) -> 0.00075398224 | AC56: =(0.001*$C$36)/$C$38 -> 0.006 | AD56: =IF($C$34="Yes", SQRT(AC56^(2)+ABS(AA56-AB56)^(2)), 0) -> 0 | AF56: =1/(2*PI()*$R56*$C$48*$C$45*0.000001) -> 2.6525824 | AG56: =2*PI()*$R56*((0.000000001*$C$47)/$C$48) -> 0.0018849556 | AH56: =(0.001*$C$46)/$C$48 -> 0.0001 | AI56: =IF($C$44="Yes", SQRT(AH56^(2)+ABS(AF56-AG56)^(2)), 0) -> 0
H57: RMS Current @ 85C (A) | I57: =2.535*0.7 -> 1.7745 | J57: =1.732*0.7 -> 1.2124 | K57: 1.834 | N57: >3A | R57: 700000 | S57: {=_xlfn.IFS(AND($C$34="Yes", $C$44="Yes"),1/((1/Y57)+(1/AD57)+(1/AI57)), AND($C$34="Yes", $C$44="No"), 1/((1/Y57)+(1/AD57)), AND($C$34="No", $C$44="Yes"), 1/((1/Y57)+(1/AI57)), AND($C$34="No", $C$44="No"), 1/(1/Y57))} -> 0.0038693956 | T57: =$C$19/1000 -> 0.055624585 | V57: =1/(2*PI()*$R57*$C$25*$C$22*0.000001) -> 0.0051673683 | W57: =2*PI()*$R57*((0.000000001*$C$24)/$C$25) -> 0.0014294247 | X57: =(0.001*$C$23)/$C$25 -> 0.001 | Y57: =SQRT(X57^(2)+ABS(V57-W57)^(2)) -> 0.0038693956 | AA57: =1/(2*PI()*$R57*$C$38*$C$35*0.000001) -> 1.136821 | AB57: =2*PI()*$R57*((0.000000001*$C$37)/$C$38) -> 0.00087964594 | AC57: =(0.001*$C$36)/$C$38 -> 0.006 | AD57: =IF($C$34="Yes", SQRT(AC57^(2)+ABS(AA57-AB57)^(2)), 0) -> 0 | AF57: =1/(2*PI()*$R57*$C$48*$C$45*0.000001) -> 2.273642 | AG57: =2*PI()*$R57*((0.000000001*$C$47)/$C$48) -> 0.0021991149 | AH57: =(0.001*$C$46)/$C$48 -> 0.0001 | AI57: =IF($C$44="Yes", SQRT(AH57^(2)+ABS(AF57-AG57)^(2)), 0) -> 0
H58: DLA/ESCC | I58: 04051-033(2) | J58: 04051-043(2) | K58: 301200405#476*E0065 | R58: 800000 | S58: {=_xlfn.IFS(AND($C$34="Yes", $C$44="Yes"),1/((1/Y58)+(1/AD58)+(1/AI58)), AND($C$34="Yes", $C$44="No"), 1/((1/Y58)+(1/AD58)), AND($C$34="No", $C$44="Yes"), 1/((1/Y58)+(1/AI58)), AND($C$34="No", $C$44="No"), 1/(1/Y58))} -> 0.0030560594 | T58: =$C$19/1000 -> 0.055624585 | V58: =1/(2*PI()*$R58*$C$25*$C$22*0.000001) -> 0.0045214472 | W58: =2*PI()*$R58*((0.000000001*$C$24)/$C$25) -> 0.0016336282 | X58: =(0.001*$C$23)/$C$25 -> 0.001 | Y58: =SQRT(X58^(2)+ABS(V58-W58)^(2)) -> 0.0030560594 | AA58: =1/(2*PI()*$R58*$C$38*$C$35*0.000001) -> 0.99471839 | AB58: =2*PI()*$R58*((0.000000001*$C$37)/$C$38) -> 0.0010053096 | AC58: =(0.001*$C$36)/$C$38 -> 0.006 | AD58: =IF($C$34="Yes", SQRT(AC58^(2)+ABS(AA58-AB58)^(2)), 0) -> 0 | AF58: =1/(2*PI()*$R58*$C$48*$C$45*0.000001) -> 1.9894368 | AG58: =2*PI()*$R58*((0.000000001*$C$47)/$C$48) -> 0.0025132741 | AH58: =(0.001*$C$46)/$C$48 -> 0.0001 | AI58: =IF($C$44="Yes", SQRT(AH58^(2)+ABS(AF58-AG58)^(2)), 0) -> 0
R59: 900000 | S59: {=_xlfn.IFS(AND($C$34="Yes", $C$44="Yes"),1/((1/Y59)+(1/AD59)+(1/AI59)), AND($C$34="Yes", $C$44="No"), 1/((1/Y59)+(1/AD59)), AND($C$34="No", $C$44="Yes"), 1/((1/Y59)+(1/AI59)), AND($C$34="No", $C$44="No"), 1/(1/Y59))} -> 0.0023995365 | T59: =$C$19/1000 -> 0.055624585 | V59: =1/(2*PI()*$R59*$C$25*$C$22*0.000001) -> 0.0040190642 | W59: =2*PI()*$R59*((0.000000001*$C$24)/$C$25) -> 0.0018378317 | X59: =(0.001*$C$23)/$C$25 -> 0.001 | Y59: =SQRT(X59^(2)+ABS(V59-W59)^(2)) -> 0.0023995365 | AA59: =1/(2*PI()*$R59*$C$38*$C$35*0.000001) -> 0.88419413 | AB59: =2*PI()*$R59*((0.000000001*$C$37)/$C$38) -> 0.0011309734 | AC59: =(0.001*$C$36)/$C$38 -> 0.006 | AD59: =IF($C$34="Yes", SQRT(AC59^(2)+ABS(AA59-AB59)^(2)), 0) -> 0 | AF59: =1/(2*PI()*$R59*$C$48*$C$45*0.000001) -> 1.7683883 | AG59: =2*PI()*$R59*((0.000000001*$C$47)/$C$48) -> 0.0028274334 | AH59: =(0.001*$C$46)/$C$48 -> 0.0001 | AI59: =IF($C$44="Yes", SQRT(AH59^(2)+ABS(AF59-AG59)^(2)), 0) -> 0
R60: 1000000 | S60: {=_xlfn.IFS(AND($C$34="Yes", $C$44="Yes"),1/((1/Y60)+(1/AD60)+(1/AI60)), AND($C$34="Yes", $C$44="No"), 1/((1/Y60)+(1/AD60)), AND($C$34="No", $C$44="Yes"), 1/((1/Y60)+(1/AI60)), AND($C$34="No", $C$44="No"), 1/(1/Y60))} -> 0.0018657468 | T60: =$C$19/1000 -> 0.055624585 | V60: =1/(2*PI()*$R60*$C$25*$C$22*0.000001) -> 0.0036171578 | W60: =2*PI()*$R60*((0.000000001*$C$24)/$C$25) -> 0.0020420352 | X60: =(0.001*$C$23)/$C$25 -> 0.001 | Y60: =SQRT(X60^(2)+ABS(V60-W60)^(2)) -> 0.0018657468 | AA60: =1/(2*PI()*$R60*$C$38*$C$35*0.000001) -> 0.79577472 | AB60: =2*PI()*$R60*((0.000000001*$C$37)/$C$38) -> 0.0012566371 | AC60: =(0.001*$C$36)/$C$38 -> 0.006 | AD60: =IF($C$34="Yes", SQRT(AC60^(2)+ABS(AA60-AB60)^(2)), 0) -> 0 | AF60: =1/(2*PI()*$R60*$C$48*$C$45*0.000001) -> 1.5915494 | AG60: =2*PI()*$R60*((0.000000001*$C$47)/$C$48) -> 0.0031415927 | AH60: =(0.001*$C$46)/$C$48 -> 0.0001 | AI60: =IF($C$44="Yes", SQRT(AH60^(2)+ABS(AF60-AG60)^(2)), 0) -> 0
R61: 2000000 | S61: {=_xlfn.IFS(AND($C$34="Yes", $C$44="Yes"),1/((1/Y61)+(1/AD61)+(1/AI61)), AND($C$34="Yes", $C$44="No"), 1/((1/Y61)+(1/AD61)), AND($C$34="No", $C$44="Yes"), 1/((1/Y61)+(1/AI61)), AND($C$34="No", $C$44="No"), 1/(1/Y61))} -> 0.0024855305 | T61: =$C$19/1000 -> 0.055624585 | V61: =1/(2*PI()*$R61*$C$25*$C$22*0.000001) -> 0.0018085789 | W61: =2*PI()*$R61*((0.000000001*$C$24)/$C$25) -> 0.0040840704 | X61: =(0.001*$C$23)/$C$25 -> 0.001 | Y61: =SQRT(X61^(2)+ABS(V61-W61)^(2)) -> 0.0024855305 | AA61: =1/(2*PI()*$R61*$C$38*$C$35*0.000001) -> 0.39788736 | AB61: =2*PI()*$R61*((0.000000001*$C$37)/$C$38) -> 0.0025132741 | AC61: =(0.001*$C$36)/$C$38 -> 0.006 | AD61: =IF($C$34="Yes", SQRT(AC61^(2)+ABS(AA61-AB61)^(2)), 0) -> 0 | AF61: =1/(2*PI()*$R61*$C$48*$C$45*0.000001) -> 0.79577472 | AG61: =2*PI()*$R61*((0.000000001*$C$47)/$C$48) -> 0.0062831853 | AH61: =(0.001*$C$46)/$C$48 -> 0.0001 | AI61: =IF($C$44="Yes", SQRT(AH61^(2)+ABS(AF61-AG61)^(2)), 0) -> 0
R62: 3000000 | S62: {=_xlfn.IFS(AND($C$34="Yes", $C$44="Yes"),1/((1/Y62)+(1/AD62)+(1/AI62)), AND($C$34="Yes", $C$44="No"), 1/((1/Y62)+(1/AD62)), AND($C$34="No", $C$44="Yes"), 1/((1/Y62)+(1/AI62)), AND($C$34="No", $C$44="No"), 1/(1/Y62))} -> 0.0050209762 | T62: =$C$19/1000 -> 0.055624585 | V62: =1/(2*PI()*$R62*$C$25*$C$22*0.000001) -> 0.0012057193 | W62: =2*PI()*$R62*((0.000000001*$C$24)/$C$25) -> 0.0061261057 | X62: =(0.001*$C$23)/$C$25 -> 0.001 | Y62: =SQRT(X62^(2)+ABS(V62-W62)^(2)) -> 0.0050209762 | AA62: =1/(2*PI()*$R62*$C$38*$C$35*0.000001) -> 0.26525824 | AB62: =2*PI()*$R62*((0.000000001*$C$37)/$C$38) -> 0.0037699112 | AC62: =(0.001*$C$36)/$C$38 -> 0.006 | AD62: =IF($C$34="Yes", SQRT(AC62^(2)+ABS(AA62-AB62)^(2)), 0) -> 0 | AF62: =1/(2*PI()*$R62*$C$48*$C$45*0.000001) -> 0.53051648 | AG62: =2*PI()*$R62*((0.000000001*$C$47)/$C$48) -> 0.009424778 | AH62: =(0.001*$C$46)/$C$48 -> 0.0001 | AI62: =IF($C$44="Yes", SQRT(AH62^(2)+ABS(AF62-AG62)^(2)), 0) -> 0
R63: 4000000 | S63: {=_xlfn.IFS(AND($C$34="Yes", $C$44="Yes"),1/((1/Y63)+(1/AD63)+(1/AI63)), AND($C$34="Yes", $C$44="No"), 1/((1/Y63)+(1/AD63)), AND($C$34="No", $C$44="Yes"), 1/((1/Y63)+(1/AI63)), AND($C$34="No", $C$44="No"), 1/(1/Y63))} -> 0.0073323624 | T63: =$C$19/1000 -> 0.055624585 | V63: =1/(2*PI()*$R63*$C$25*$C$22*0.000001) -> 0.00090428945 | W63: =2*PI()*$R63*((0.000000001*$C$24)/$C$25) -> 0.0081681409 | X63: =(0.001*$C$23)/$C$25 -> 0.001 | Y63: =SQRT(X63^(2)+ABS(V63-W63)^(2)) -> 0.0073323624 | AA63: =1/(2*PI()*$R63*$C$38*$C$35*0.000001) -> 0.19894368 | AB63: =2*PI()*$R63*((0.000000001*$C$37)/$C$38) -> 0.0050265482 | AC63: =(0.001*$C$36)/$C$38 -> 0.006 | AD63: =IF($C$34="Yes", SQRT(AC63^(2)+ABS(AA63-AB63)^(2)), 0) -> 0 | AF63: =1/(2*PI()*$R63*$C$48*$C$45*0.000001) -> 0.39788736 | AG63: =2*PI()*$R63*((0.000000001*$C$47)/$C$48) -> 0.012566371 | AH63: =(0.001*$C$46)/$C$48 -> 0.0001 | AI63: =IF($C$44="Yes", SQRT(AH63^(2)+ABS(AF63-AG63)^(2)), 0) -> 0
R64: 5000000 | S64: {=_xlfn.IFS(AND($C$34="Yes", $C$44="Yes"),1/((1/Y64)+(1/AD64)+(1/AI64)), AND($C$34="Yes", $C$44="No"), 1/((1/Y64)+(1/AD64)), AND($C$34="No", $C$44="Yes"), 1/((1/Y64)+(1/AI64)), AND($C$34="No", $C$44="No"), 1/(1/Y64))} -> 0.0095393041 | T64: =$C$19/1000 -> 0.055624585 | V64: =1/(2*PI()*$R64*$C$25*$C$22*0.000001) -> 0.00072343156 | W64: =2*PI()*$R64*((0.000000001*$C$24)/$C$25) -> 0.010210176 | X64: =(0.001*$C$23)/$C$25 -> 0.001 | Y64: =SQRT(X64^(2)+ABS(V64-W64)^(2)) -> 0.0095393041 | AA64: =1/(2*PI()*$R64*$C$38*$C$35*0.000001) -> 0.15915494 | AB64: =2*PI()*$R64*((0.000000001*$C$37)/$C$38) -> 0.0062831853 | AC64: =(0.001*$C$36)/$C$38 -> 0.006 | AD64: =IF($C$34="Yes", SQRT(AC64^(2)+ABS(AA64-AB64)^(2)), 0) -> 0 | AF64: =1/(2*PI()*$R64*$C$48*$C$45*0.000001) -> 0.31830989 | AG64: =2*PI()*$R64*((0.000000001*$C$47)/$C$48) -> 0.015707963 | AH64: =(0.001*$C$46)/$C$48 -> 0.0001 | AI64: =IF($C$44="Yes", SQRT(AH64^(2)+ABS(AF64-AG64)^(2)), 0) -> 0
R65: 6000000 | S65: {=_xlfn.IFS(AND($C$34="Yes", $C$44="Yes"),1/((1/Y65)+(1/AD65)+(1/AI65)), AND($C$34="Yes", $C$44="No"), 1/((1/Y65)+(1/AD65)), AND($C$34="No", $C$44="Yes"), 1/((1/Y65)+(1/AI65)), AND($C$34="No", $C$44="No"), 1/(1/Y65))} -> 0.011692194 | T65: =$C$19/1000 -> 0.055624585 | V65: =1/(2*PI()*$R65*$C$25*$C$22*0.000001) -> 0.00060285963 | W65: =2*PI()*$R65*((0.000000001*$C$24)/$C$25) -> 0.012252211 | X65: =(0.001*$C$23)/$C$25 -> 0.001 | Y65: =SQRT(X65^(2)+ABS(V65-W65)^(2)) -> 0.011692194 | AA65: =1/(2*PI()*$R65*$C$38*$C$35*0.000001) -> 0.13262912 | AB65: =2*PI()*$R65*((0.000000001*$C$37)/$C$38) -> 0.0075398224 | AC65: =(0.001*$C$36)/$C$38 -> 0.006 | AD65: =IF($C$34="Yes", SQRT(AC65^(2)+ABS(AA65-AB65)^(2)), 0) -> 0 | AF65: =1/(2*PI()*$R65*$C$48*$C$45*0.000001) -> 0.26525824 | AG65: =2*PI()*$R65*((0.000000001*$C$47)/$C$48) -> 0.018849556 | AH65: =(0.001*$C$46)/$C$48 -> 0.0001 | AI65: =IF($C$44="Yes", SQRT(AH65^(2)+ABS(AF65-AG65)^(2)), 0) -> 0
R66: 7000000 | S66: {=_xlfn.IFS(AND($C$34="Yes", $C$44="Yes"),1/((1/Y66)+(1/AD66)+(1/AI66)), AND($C$34="Yes", $C$44="No"), 1/((1/Y66)+(1/AD66)), AND($C$34="No", $C$44="Yes"), 1/((1/Y66)+(1/AI66)), AND($C$34="No", $C$44="No"), 1/(1/Y66))} -> 0.013813753 | T66: =$C$19/1000 -> 0.055624585 | V66: =1/(2*PI()*$R66*$C$25*$C$22*0.000001) -> 0.00051673683 | W66: =2*PI()*$R66*((0.000000001*$C$24)/$C$25) -> 0.014294247 | X66: =(0.001*$C$23)/$C$25 -> 0.001 | Y66: =SQRT(X66^(2)+ABS(V66-W66)^(2)) -> 0.013813753 | AA66: =1/(2*PI()*$R66*$C$38*$C$35*0.000001) -> 0.1136821 | AB66: =2*PI()*$R66*((0.000000001*$C$37)/$C$38) -> 0.0087964594 | AC66: =(0.001*$C$36)/$C$38 -> 0.006 | AD66: =IF($C$34="Yes", SQRT(AC66^(2)+ABS(AA66-AB66)^(2)), 0) -> 0 | AF66: =1/(2*PI()*$R66*$C$48*$C$45*0.000001) -> 0.2273642 | AG66: =2*PI()*$R66*((0.000000001*$C$47)/$C$48) -> 0.021991149 | AH66: =(0.001*$C$46)/$C$48 -> 0.0001 | AI66: =IF($C$44="Yes", SQRT(AH66^(2)+ABS(AF66-AG66)^(2)), 0) -> 0
R67: 8000000 | S67: {=_xlfn.IFS(AND($C$34="Yes", $C$44="Yes"),1/((1/Y67)+(1/AD67)+(1/AI67)), AND($C$34="Yes", $C$44="No"), 1/((1/Y67)+(1/AD67)), AND($C$34="No", $C$44="Yes"), 1/((1/Y67)+(1/AI67)), AND($C$34="No", $C$44="No"), 1/(1/Y67))} -> 0.015915584 | T67: =$C$19/1000 -> 0.055624585 | V67: =1/(2*PI()*$R67*$C$25*$C$22*0.000001) -> 0.00045214472 | W67: =2*PI()*$R67*((0.000000001*$C$24)/$C$25) -> 0.016336282 | X67: =(0.001*$C$23)/$C$25 -> 0.001 | Y67: =SQRT(X67^(2)+ABS(V67-W67)^(2)) -> 0.015915584 | AA67: =1/(2*PI()*$R67*$C$38*$C$35*0.000001) -> 0.099471839 | AB67: =2*PI()*$R67*((0.000000001*$C$37)/$C$38) -> 0.010053096 | AC67: =(0.001*$C$36)/$C$38 -> 0.006 | AD67: =IF($C$34="Yes", SQRT(AC67^(2)+ABS(AA67-AB67)^(2)), 0) -> 0 | AF67: =1/(2*PI()*$R67*$C$48*$C$45*0.000001) -> 0.19894368 | AG67: =2*PI()*$R67*((0.000000001*$C$47)/$C$48) -> 0.025132741 | AH67: =(0.001*$C$46)/$C$48 -> 0.0001 | AI67: =IF($C$44="Yes", SQRT(AH67^(2)+ABS(AF67-AG67)^(2)), 0) -> 0
R68: 9000000 | S68: {=_xlfn.IFS(AND($C$34="Yes", $C$44="Yes"),1/((1/Y68)+(1/AD68)+(1/AI68)), AND($C$34="Yes", $C$44="No"), 1/((1/Y68)+(1/AD68)), AND($C$34="No", $C$44="Yes"), 1/((1/Y68)+(1/AI68)), AND($C$34="No", $C$44="No"), 1/(1/Y68))} -> 0.018004203 | T68: =$C$19/1000 -> 0.055624585 | V68: =1/(2*PI()*$R68*$C$25*$C$22*0.000001) -> 0.00040190642 | W68: =2*PI()*$R68*((0.000000001*$C$24)/$C$25) -> 0.018378317 | X68: =(0.001*$C$23)/$C$25 -> 0.001 | Y68: =SQRT(X68^(2)+ABS(V68-W68)^(2)) -> 0.018004203 | AA68: =1/(2*PI()*$R68*$C$38*$C$35*0.000001) -> 0.088419413 | AB68: =2*PI()*$R68*((0.000000001*$C$37)/$C$38) -> 0.011309734 | AC68: =(0.001*$C$36)/$C$38 -> 0.006 | AD68: =IF($C$34="Yes", SQRT(AC68^(2)+ABS(AA68-AB68)^(2)), 0) -> 0 | AF68: =1/(2*PI()*$R68*$C$48*$C$45*0.000001) -> 0.17683883 | AG68: =2*PI()*$R68*((0.000000001*$C$47)/$C$48) -> 0.028274334 | AH68: =(0.001*$C$46)/$C$48 -> 0.0001 | AI68: =IF($C$44="Yes", SQRT(AH68^(2)+ABS(AF68-AG68)^(2)), 0) -> 0
R69: 10000000 | S69: {=_xlfn.IFS(AND($C$34="Yes", $C$44="Yes"),1/((1/Y69)+(1/AD69)+(1/AI69)), AND($C$34="Yes", $C$44="No"), 1/((1/Y69)+(1/AD69)), AND($C$34="No", $C$44="Yes"), 1/((1/Y69)+(1/AI69)), AND($C$34="No", $C$44="No"), 1/(1/Y69))} -> 0.020083548 | T69: =$C$19/1000 -> 0.055624585 | V69: =1/(2*PI()*$R69*$C$25*$C$22*0.000001) -> 0.00036171578 | W69: =2*PI()*$R69*((0.000000001*$C$24)/$C$25) -> 0.020420352 | X69: =(0.001*$C$23)/$C$25 -> 0.001 | Y69: =SQRT(X69^(2)+ABS(V69-W69)^(2)) -> 0.020083548 | AA69: =1/(2*PI()*$R69*$C$38*$C$35*0.000001) -> 0.079577472 | AB69: =2*PI()*$R69*((0.000000001*$C$37)/$C$38) -> 0.012566371 | AC69: =(0.001*$C$36)/$C$38 -> 0.006 | AD69: =IF($C$34="Yes", SQRT(AC69^(2)+ABS(AA69-AB69)^(2)), 0) -> 0 | AF69: =1/(2*PI()*$R69*$C$48*$C$45*0.000001) -> 0.15915494 | AG69: =2*PI()*$R69*((0.000000001*$C$47)/$C$48) -> 0.031415927 | AH69: =(0.001*$C$46)/$C$48 -> 0.0001 | AI69: =IF($C$44="Yes", SQRT(AH69^(2)+ABS(AF69-AG69)^(2)), 0) -> 0
R70: 20000000 | S70: {=_xlfn.IFS(AND($C$34="Yes", $C$44="Yes"),1/((1/Y70)+(1/AD70)+(1/AI70)), AND($C$34="Yes", $C$44="No"), 1/((1/Y70)+(1/AD70)), AND($C$34="No", $C$44="Yes"), 1/((1/Y70)+(1/AI70)), AND($C$34="No", $C$44="No"), 1/(1/Y70))} -> 0.040672142 | T70: =$C$19/1000 -> 0.055624585 | V70: =1/(2*PI()*$R70*$C$25*$C$22*0.000001) -> 0.00018085789 | W70: =2*PI()*$R70*((0.000000001*$C$24)/$C$25) -> 0.040840704 | X70: =(0.001*$C$23)/$C$25 -> 0.001 | Y70: =SQRT(X70^(2)+ABS(V70-W70)^(2)) -> 0.040672142 | AA70: =1/(2*PI()*$R70*$C$38*$C$35*0.000001) -> 0.039788736 | AB70: =2*PI()*$R70*((0.000000001*$C$37)/$C$38) -> 0.025132741 | AC70: =(0.001*$C$36)/$C$38 -> 0.006 | AD70: =IF($C$34="Yes", SQRT(AC70^(2)+ABS(AA70-AB70)^(2)), 0) -> 0 | AF70: =1/(2*PI()*$R70*$C$48*$C$45*0.000001) -> 0.079577472 | AG70: =2*PI()*$R70*((0.000000001*$C$47)/$C$48) -> 0.062831853 | AH70: =(0.001*$C$46)/$C$48 -> 0.0001 | AI70: =IF($C$44="Yes", SQRT(AH70^(2)+ABS(AF70-AG70)^(2)), 0) -> 0
... R87: 1000000000 | S87: {=_xlfn.IFS(AND($C$34="Yes", $C$44="Yes"),1/((1/Y87)+(1/AD87)+(1/AI87)), AND($C$34="Yes", $C$44="No"), 1/((1/Y87)+(1/AD87)), AND($C$34="No", $C$44="Yes"), 1/((1/Y87)+(1/AI87)), AND($C$34="No", $C$44="No"), 1/(1/Y87))} -> 2.0420319 | T87: =$C$19/1000 -> 0.055624585 | V87: =1/(2*PI()*$R87*$C$25*$C$22*0.000001) -> 3.6171578e-06 | W87: =2*PI()*$R87*((0.000000001*$C$24)/$C$25) -> 2.0420352 | X87: =(0.001*$C$23)/$C$25 -> 0.001 | Y87: =SQRT(X87^(2)+ABS(V87-W87)^(2)) -> 2.0420319 | AA87: =1/(2*PI()*$R87*$C$38*$C$35*0.000001) -> 0.00079577472 | AB87: =2*PI()*$R87*((0.000000001*$C$37)/$C$38) -> 1.2566371 | AC87: =(0.001*$C$36)/$C$38 -> 0.006 | AD87: =IF($C$34="Yes", SQRT(AC87^(2)+ABS(AA87-AB87)^(2)), 0) -> 0 | AF87: =1/(2*PI()*$R87*$C$48*$C$45*0.000001) -> 0.0015915494 | AG87: =2*PI()*$R87*((0.000000001*$C$47)/$C$48) -> 3.1415927 | AH87: =(0.001*$C$46)/$C$48 -> 0.0001 | AI87: =IF($C$44="Yes", SQRT(AH87^(2)+ABS(AF87-AG87)^(2)), 0) -> 0
T88: =$C$3/1000 -> 0
T89: =$C$3/1000 -> 0

Sheet Common Components
W2: E12 | X2: 0.1
W3: E14 | X3: 0.05
B4: 0.2 | C4: 0.1 | D4: 5% (2%) | E4: 0.02 | F4: 0.01 | G4: 0.5% (0.1%) | I4: 0.2 | J4: 0.1 | K4: 5% (2%) | L4: 0.02 | M4: 0.01 | N4: 0.5% (0.1%) | P4: 0.2 | Q4: 0.1 | R4: 5% (2%) | S4: 0.02 | T4: 0.01 | U4: 0.5% (0.1%) | W4: E96 | X4: 0.01
B6: E6 | C6: E12 | D6: E24 | E6: E48 | F6: E96 | G6: E192 | I6: E6 | J6: E12 | K6: E24 | L6: E48 | M6: E96 | N6: E192 | P6: E6 | Q6: E12 | R6: E24 | S6: E48 | T6: E96 | U6: E192 | W6: pF | X6: pF | Y6: pF | Z6: pF | AA6: µF | AB6: µF | AC6: µF | AD6: µF | AE6: µF | AF6: µF | AG6: µF
B7: 100 | C7: 100 | D7: 100 | E7: 100 | F7: 100 | G7: 100 | I7: 220 | J7: 220 | K7: 220 | L7: 215 | M7: 215 | N7: 215 | P7: 470 | Q7: 470 | R7: 470 | S7: 464 | T7: 464 | U7: 464 | W7: 1 | X7: =10*W7 -> 10 | Y7: =X7*10 -> 100 | Z7: =Y7*10 -> 1000 | AA7: 0.01 | AB7: =AA7*10 -> 0.1 | AC7: =AB7*10 -> 1 | AD7: =AC7*10 -> 10 | AE7: =AD7*10 -> 100 | AF7: =AE7*10 -> 1000 | AG7: =AF7*10 -> 10000
G8: 101 | N8: 218 | U8: 470 | W8: 1.1 | X8: =10*W8 -> 11 | Y8: =X8*10 -> 110 | Z8: =Y8*10 -> 1100
F9: 102 | G9: 102 | M9: 221 | N9: 221 | T9: 475 | U9: 475 | W9: 1.2 | X9: =10*W9 -> 12 | Y9: =X9*10 -> 120 | Z9: =Y9*10 -> 1200
G10: 104 | N10: 223 | U10: 481 | W10: 1.3 | X10: =10*W10 -> 13 | Y10: =X10*10 -> 130 | Z10: =Y10*10 -> 1300
E11: 105 | F11: 105 | G11: 105 | L11: 226 | M11: 226 | N11: 226 | S11: 487 | T11: 487 | U11: 487 | W11: 1.5 | X11: =10*W11 -> 15 | Y11: =X11*10 -> 150 | Z11: =Y11*10 -> 1500 | AA11: 0.05 | AB11: =AA11*10 -> 0.5 | AC11: =AB11*10 -> 5 | AD11: =AC11*10 -> 50 | AE11: =AD11*10 -> 500 | AF11: =AE11*10 -> 5000 | AG11: =AF11*10 -> 50000
G12: 106 | N12: 229 | U12: 493 | W12: 1.6 | X12: =10*W12 -> 16 | Y12: =X12*10 -> 160 | Z12: =Y12*10 -> 1600
F13: 107 | G13: 107 | M13: 232 | N13: 232 | T13: 499 | U13: 499 | W13: 1.8 | X13: =10*W13 -> 18 | Y13: =X13*10 -> 180 | Z13: =Y13*10 -> 1800
G14: 109 | N14: 234 | U14: 505 | W14: 2 | X14: =10*W14 -> 20 | Y14: =X14*10 -> 200 | Z14: =Y14*10 -> 2000
D15: 110 | E15: 110 | F15: 110 | G15: 110 | K15: 240 | L15: 237 | M15: 237 | N15: 237 | R15: 510 | S15: 511 | T15: 511 | U15: 511 | W15: 2.2 | X15: =10*W15 -> 22 | Y15: =X15*10 -> 220 | Z15: =Y15*10 -> 2200 | AA15: 0.022 | AB15: =AA15*10 -> 0.22 | AC15: =AB15*10 -> 2.2 | AD15: =AC15*10 -> 22 | AE15: =AD15*10 -> 220 | AF15: =AE15*10 -> 2200 | AG15: =AF15*10 -> 22000
G16: 111 | N16: 240 | U16: 517 | W16: 2.4 | X16: =10*W16 -> 24 | Y16: =X16*10 -> 240 | Z16: =Y16*10 -> 2400
F17: 113 | G17: 113 | M17: 243 | N17: 243 | T17: 523 | U17: 523 | W17: 2.7 | X17: =10*W17 -> 27 | Y17: =X17*10 -> 270 | Z17: =Y17*10 -> 2700
G18: 114 | N18: 246 | U18: 530 | W18: 3 | X18: =10*W18 -> 30 | Y18: =X18*10 -> 300 | Z18: =Y18*10 -> 3000
E19: 115 | F19: 115 | G19: 115 | L19: 249 | M19: 249 | N19: 249 | S19: 536 | T19: 536 | U19: 536 | W19: 3.1 | X19: =10*W19 -> 31 | Y19: =X19*10 -> 310 | Z19: =Y19*10 -> 3100
G20: 117 | N20: 252 | U20: 542 | W20: 3.3 | X20: =10*W20 -> 33 | Y20: =X20*10 -> 330 | Z20: =Y20*10 -> 3300 | AA20: 0.033 | AB20: =AA20*10 -> 0.33 | AC20: =AB20*10 -> 3.3 | AD20: =AC20*10 -> 33 | AE20: =AD20*10 -> 330 | AF20: =AE20*10 -> 3300 | AG20: =AF20*10 -> 33000
F21: 118 | G21: 118 | M21: 255 | N21: 255 | T21: 549 | U21: 549 | W21: 3.6 | X21: =10*W21 -> 36 | Y21: =X21*10 -> 360 | Z21: =Y21*10 -> 3600
G22: 120 | N22: 258 | U22: 556 | W22: 3.9 | X22: =10*W22 -> 39 | Y22: =X22*10 -> 390 | Z22: =Y22*10 -> 3900
C23: 120 | D23: 120 | E23: 121 | F23: 121 | G23: 121 | J23: 270 | K23: 270 | L23: 261 | M23: 261 | N23: 261 | Q23: 560 | R23: 560 | S23: 562 | T23: 562 | U23: 562 | W23: 4.3 | X23: =10*W23 -> 43 | Y23: =X23*10 -> 430 | Z23: =Y23*10 -> 4300
G24: 123 | N24: 264 | U24: 569 | W24: 4.7 | X24: =10*W24 -> 47 | Y24: =X24*10 -> 470 | Z24: =Y24*10 -> 4700 | AA24: 0.047 | AB24: =AA24*10 -> 0.47 | AC24: =AB24*10 -> 4.7 | AD24: =AC24*10 -> 47 | AE24: =AD24*10 -> 470 | AF24: =AE24*10 -> 4700 | AG24: =AF24*10 -> 47000
F25: 124 | G25: 124 | M25: 267 | N25: 267 | T25: 576 | U25: 576 | W25: 5.1 | X25: =10*W25 -> 51 | Y25: =X25*10 -> 510 | Z25: =Y25*10 -> 5100
G26: 126 | N26: 271 | U26: 583 | W26: 5.6 | X26: =10*W26 -> 56 | Y26: =X26*10 -> 560 | Z26: =Y26*10 -> 5600
E27: 127 | F27: 127 | G27: 127 | L27: 274 | M27: 274 | N27: 274 | S27: 590 | T27: 590 | U27: 590 | W27: 6.2 | X27: =10*W27 -> 62 | Y27: =X27*10 -> 620 | Z27: =Y27*10 -> 6200
G28: 129 | N28: 277 | U28: 597 | W28: 6.8 | X28: =10*W28 -> 68 | Y28: =X28*10 -> 680 | Z28: =Y28*10 -> 6800 | AA28: 0.068 | AB28: 0.068 | AC28: 0.068 | AD28: 0.068 | AE28: 0.068 | AF28: 0.068 | AG28: 0.068
F29: 130 | G29: 130 | M29: 280 | N29: 280 | T29: 604 | U29: 604 | W29: 7.5 | X29: =10*W29 -> 75 | Y29: =X29*10 -> 750 | Z29: =Y29*10 -> 7500
G30: 132 | N30: 284 | U30: 612 | W30: 8.2 | X30: =10*W30 -> 82 | Y30: =X30*10 -> 820 | Z30: =Y30*10 -> 8200
D31: 130 | E31: 133 | F31: 133 | G31: 133 | K31: 300 | L31: 287 | M31: 287 | N31: 287 | R31: 620 | S31: 619 | T31: 619 | U31: 619 | W31: 9.1 | X31: =10*W31 -> 91 | Y31: =X31*10 -> 910 | Z31: =Y31*10 -> 9100
G32: 135 | N32: 291 | U32: 626
F33: 137 | G33: 137 | M33: 294 | N33: 294 | T33: 634 | U33: 634
G34: 138 | N34: 298 | U34: 642
E35: 140 | F35: 140 | G35: 140 | L35: 301 | M35: 301 | N35: 301 | S35: 649 | T35: 649 | U35: 649
G36: 142 | N36: 305 | U36: 657
F37: 143 | G37: 143 | M37: 309 | N37: 309 | T37: 665 | U37: 665
G38: 145 | N38: 312 | U38: 673
B39: 150 | C39: 150 | D39: 150 | E39: 147 | F39: 147 | G39: 147 | I39: 330 | J39: 330 | K39: 330 | L39: 316 | M39: 316 | N39: 316 | P39: 680 | Q39: 680 | R39: 680 | S39: 681 | T39: 681 | U39: 681
G40: 149 | N40: 320 | U40: 690
F41: 150 | G41: 150 | M41: 324 | N41: 324 | T41: 698 | U41: 698
G42: 152 | N42: 328 | U42: 706
E43: 154 | F43: 154 | G43: 154 | L43: 332 | M43: 332 | N43: 332 | S43: 715 | T43: 715 | U43: 715
G44: 156 | N44: 336 | U44: 723
F45: 158 | G45: 158 | M45: 340 | N45: 340 | T45: 732 | U45: 732
G46: 160 | N46: 344 | U46: 741
D47: 160 | E47: 162 | F47: 162 | G47: 162 | K47: 360 | L47: 348 | M47: 348 | N47: 348 | R47: 750 | S47: 750 | T47: 750 | U47: 750
G48: 164 | N48: 352 | U48: 759
F49: 165 | G49: 165 | M49: 357 | N49: 357 | T49: 768 | U49: 768
G50: 167 | N50: 361 | U50: 777
E51: 169 | F51: 169 | G51: 169 | L51: 365 | M51: 365 | N51: 365 | S51: 787 | T51: 787 | U51: 787
G52: 172 | N52: 370 | U52: 796
F53: 174 | G53: 174 | M53: 374 | N53: 374 | T53: 806 | U53: 806
G54: 176 | N54: 379 | U54: 816
C55: 180 | D55: 180 | E55: 178 | F55: 178 | G55: 178 | J55: 390 | K55: 390 | L55: 383 | M55: 383 | N55: 383 | Q55: 820 | R55: 820 | S55: 825 | T55: 825 | U55: 825
G56: 180 | N56: 388 | U56: 835
F57: 182 | G57: 182 | M57: 392 | N57: 392 | T57: 845 | U57: 845
G58: 184 | N58: 397 | U58: 856
E59: 187 | F59: 187 | G59: 187 | L59: 402 | M59: 402 | N59: 402 | S59: 866 | T59: 866 | U59: 866
G60: 189 | N60: 407 | U60: 876
F61: 191 | G61: 191 | M61: 412 | N61: 412 | T61: 887 | U61: 887
G62: 193 | N62: 417 | U62: 898
D63: 200 | E63: 196 | F63: 196 | G63: 196 | K63: 430 | L63: 422 | M63: 422 | N63: 422 | R63: 910 | S63: 909 | T63: 909 | U63: 909
G64: 198 | N64: 427 | U64: 920
F65: 200 | G65: 200 | M65: 432 | N65: 432 | T65: 931 | U65: 931
G66: 203 | N66: 437 | U66: 942
E67: 205 | F67: 205 | G67: 205 | L67: 442 | M67: 442 | N67: 442 | S67: 953 | T67: 953 | U67: 953
G68: 208 | N68: 448 | U68: 965
F69: 210 | G69: 210 | M69: 453 | N69: 453 | T69: 976 | U69: 976
G70: 213 | N70: 459 | U70: 988

Sheet 1% resistor table
A1: E96
A2: 1
A3: 1.02
A4: 1.05
A5: 1.07
A6: 1.1
A7: 1.13
A8: 1.15
A9: 1.18
A10: 1.21
A11: 1.24
A12: 1.27
A13: 1.3
... A289: 976

Sheet Revision History
B3: Date | C3: Revision | D3: Change
B4: 45617 | C4: 1.0 | D4: Initial Release
B5: 45836 | C5: 1.1 | D5: Enforce a particular lower FB resistor when using SYNC
B6: 46126 | C6: 1.2 | D6: Fix the 'load step Rise/Fall' reference
B7: 46296 | C7: 1.3 | D7: Add fixed internal comp load transient and compensation zero. Add VCC cap recommendation.
