Workbook

Sheet Reference
C3: Rohm App Note Efficiency Calculation of Buck Converter

Sheet Efficiency
A1: Input Data Into Green Cells; Some cells are drop down menus | G1: Gray cells are not to be changed. They represent switching loss of ISL73007.
A2: Inductor | B2: XEL5050 - 5.6uH | D2: # of phases | E2: 1
D3: # of high side FETs | E3: 1
D4: # of low side FETs | E4: 1
A5: PVIN | B5: 12 | C5: V | D5: Input Voltage | F5: tr-H | G5: 5 | H5: ns | I5: High Side FET Rise time
A6: VOUT | B6: 5 | C6: V | D6: Output Voltage | F6: tf-H | G6: 5 | H6: ns | I6: High Side FET Fall time
A7: Duty | B7: =B6/B5*100 -> 41.666667 | C7: % | D7: Calculated Duty Cycle | F7: tr-L | G7: 5 | H7: ns | I7: Low Side FET Rise time
A8: Fsw | B8: 500 | C8: kHz | D8: Switching Frequency | F8: tr-L | G8: 5 | H8: ns | I8: Low Side FET Fall time
A9: Ton | B9: =B7/100/(B8*1000)*1000000000 -> 833.33333 | C9: ns | D9: Buck On Time | F9: Coss-H | G9: 0 | H9: pF | I9: Coss loss modeled in Idc_ctrl cell G20
A10: Toff | B10: =(1-B7/100)/(B8*1000)*1000000000 -> 1166.6667 | C10: ns | D10: Buck Off Time | F10: Coss-L | G10: 0 | H10: pF | I10: Coss loss modeled in Idc_ctrl cell G20
A11: L | B11: =VLOOKUP(Efficiency!B2, Components!C5:E10, 2,0) -> 5.6 | C11: uH | D11: Power Inductor | F11: Vsd-L | G11: 1.2 | H11: V | I11: Low Side FET Source-Drain Voltage
A12: Rdson_up | B12: =IF(B5>3.3,78, 93) -> 78 | C12: mΩ | D12: Total High Side Rdson | F12: tdt_H | G12: 5 | H12: ns | I12: High to Low dead time
A13: Rdson_down | B13: =IF(B5>3.3,44,49) -> 44 | C13: mΩ | D13: Total Low Side Rdson | F13: tdt_L | G13: 5 | H13: ns | I13: Low to High dead time
A14: L_dcr | B14: =VLOOKUP(B2,Components!C5:E10,3,0) -> 22.6 | C14: mΩ | D14: Inductor DCR | F14: Qg_H | G14: 0 | H14: nC | I14: FET Qg modeled in Idc_ctrl cell G20
A15: L_ac | B15: =VLOOKUP(B2,Components!C5:J10,8,0) -> 36.1983 | C15: mW | D15: AC Core Loss | F15: Qg_L | G15: 0 | H15: nC | I15: FET Qg modeled in Idc_ctrl cell G20
D16: Sense Resistor | F16: Vgs | G16: =IF(B5>5, 5, B5) -> 5 | H16: V | I16: FET Gate Voltage
A17: Iout_max | B17: 3 | C17: A | D17: Max Load Current | F17: Cout ESR | G17: 5 | H17: mΩ | I17: Output capacitor total ESR
A18: I_delta_on | B18: =(B5-B6)/(B11*0.000001)*B9*0.000000001 -> 1.0416667 | C18: A | D18: Inductor Up Ramp | F18: Cin ESR | G18: 5 | H18: mΩ | I18: Input capacitor total ESR
A19: I_delta_off | B19: =B6/(B11*0.000001)*B10*0.000000001 -> 1.0416667 | C19: A | D19: Inductor Down Ramp | F19: V_dc_ctrl | G19: =B5 -> 12 | H19: V | I19: IC Supply Voltage
A20: Ipk_pk/Iout | B20: =B18/(B17/E2)*100 -> 34.722222 | C20: % | D20: Inductor Ripple to Max Current Ratio | F20: I_dc_ctrl | G20: =IF(G19<12, VLOOKUP(B8,'Operating Current'!B13:E27,2,0), IF(G19<18, VLOOKUP(B8,'Operating Current'!B13:E27,3,0), IF(G19=18, VLOOKUP(B8,'Operating Current'!B13:E27,4,0)))) -> 32.996193 | H20: mA | I20: IC Operating Current
A22: Factor | B22: Iout Avg (A) | C22: Iout (A) RMS | D22: High Side FET Pd (W) | E22: Low Side FET Pd (W) | F22: Rsense Pd (W) | G22: L_DCR + AC Pd (W) | H22: High Side FET Switch Pd (W) | I22: Low Side FET Switch Pd (W) | J22: FET Coss Switch Pd (W) | K22: Dead Time Pd (W) | L22: Gate Charge Pd (W) | M22: Cap ESR Pd (W) | N22: Ctrl/Drv Bias Pd (W) | O22: Total Pd (W) | P22: Pout (W) | Q22: Efficiency (%) | R22: Iout Avg (A) | S22: Conduction Pd (W) | T22: Switching Pd (W) | U22: Ctrl/Drv Bias Pd (%) | V22: Conduction Pd (%) | W22: Switching Pd (%) | X22: Peak Eff (%) | Y22: Iout @ Peak Eff (A)
A23: 0 | B23: =$B$17/$E$2*A23/100 -> 0 | C23: =(B23^2 + $B$18^2/12)^0.5 -> 0.30070327 | D23: =(C23/$E$2)^2*$B$12/1000*$B$7/100*$E$2 -> 0.0029387297 | E23: =(C23/$E$2)^2*$B$13/1000*(1-$B$7/100)*$E$2 -> 0.002320843 | F23: =(C23/$E$2)^2*($B$16/1000)*$E$2 -> 0 | G23: =(C23/$E$2)^2*($B$14/1000)*$E$2 + $B$15/1000*$E$2 -> 0.038241847 | H23: =0.5*$B$5*C23/$E$2*($G$5+$G$6)*$E$2*0.000000001*$B$8*1000 -> 0.009021098 | I23: =0.5*$G$11*C23/$E$2*($G$7+$G$8)*$E$2*0.000000001*$B$8*1000 -> 0.0009021098 | J23: =0.5*($G$9+$G$10)*$E$2*0.000000000001*($B$5)^2*$B$8*1000 -> 0 | K23: =$G$11*C23/$E$2*($G$12+$G$13)*$E$2*0.000000001*$B$8*1000 -> 0.0018042196 | L23: =($G$14+$G$15)*$E$2*0.000000001*$G$16*$B$8*1000 -> 0 | M23: =($B$18/(2*3^0.5))^2*$G$17/1000+(C23*(($B$5-$B$6)*$B$6)^0.5/$B$5)^2*$G$18/1000 -> 0.00056200067 | N23: =$G$19*$G$20/1000*$E$2/2 -> 0.19797716 | O23: =SUM(D23:M23,N23) -> 0.25376801 | P23: =$B$6*B23 -> 0 | Q23: =P23/(O23+P23)*100 -> 0 | R23: =$B$17/$E$2*A23/100 -> 0 | S23: =D23+E23+F23+G23+M23 -> 0.044063421 | T23: =SUM(H23:L23) -> 0.011727427 | U23: =N23/O23*100 -> 78.015019 | V23: =S23/O23*100 -> 17.363663 | W23: =T23/O23*100 -> 4.6213183 | X23: =MAX(Q23:Q73) -> 93.961464 | Y23: =VLOOKUP(X23,Q23:R73,2,0) -> 1.74
A24: =A23+2*$E$2 -> 2 | B24: =$B$17/$E$2*A24/100 -> 0.06 | C24: =(B24^2 + $B$18^2/12)^0.5 -> 0.30663081 | D24: =(C24/$E$2)^2*$B$12/1000*$B$7/100*$E$2 -> 0.0030557297 | E24: =(C24/$E$2)^2*$B$13/1000*(1-$B$7/100)*$E$2 -> 0.002413243 | F24: =(C24/$E$2)^2*($B$16/1000)*$E$2 -> 0 | G24: =(C24/$E$2)^2*($B$14/1000)*$E$2 + $B$15/1000*$E$2 -> 0.038323207 | H24: =0.5*$B$5*C24/$E$2*($G$5+$G$6)*$E$2*0.000000001*$B$8*1000 -> 0.0091989243 | I24: =0.5*$G$11*C24/$E$2*($G$7+$G$8)*$E$2*0.000000001*$B$8*1000 -> 0.00091989243 | J24: =0.5*($G$9+$G$10)*$E$2*0.000000000001*($B$5)^2*$B$8*1000 -> 0 | K24: =$G$11*C24/$E$2*($G$12+$G$13)*$E$2*0.000000001*$B$8*1000 -> 0.0018397849 | L24: =($G$14+$G$15)*$E$2*0.000000001*$G$16*$B$8*1000 -> 0 | M24: =($B$18/(2*3^0.5))^2*$G$17/1000+(C24*(($B$5-$B$6)*$B$6)^0.5/$B$5)^2*$G$18/1000 -> 0.00056637567 | N24: =$G$19*$G$20/1000*$E$2/2 -> 0.19797716 | O24: =SUM(D24:M24,N24) -> 0.25429432 | P24: =$B$6*B24 -> 0.3 | Q24: =P24/(O24+P24)*100 -> 54.122871 | R24: =$B$17/$E$2*A24/100 -> 0.06 | S24: =D24+E24+F24+G24+M24 -> 0.044358556 | T24: =SUM(H24:L24) -> 0.011958602 | U24: =N24/O24*100 -> 77.853553 | V24: =S24/O24*100 -> 17.443786 | W24: =T24/O24*100 -> 4.7026617
A25: =A24+2*$E$2 -> 4 | B25: =$B$17/$E$2*A25/100 -> 0.12 | C25: =(B25^2 + $B$18^2/12)^0.5 -> 0.32376296 | D25: =(C25/$E$2)^2*$B$12/1000*$B$7/100*$E$2 -> 0.0034067297 | E25: =(C25/$E$2)^2*$B$13/1000*(1-$B$7/100)*$E$2 -> 0.002690443 | F25: =(C25/$E$2)^2*($B$16/1000)*$E$2 -> 0 | G25: =(C25/$E$2)^2*($B$14/1000)*$E$2 + $B$15/1000*$E$2 -> 0.038567287 | H25: =0.5*$B$5*C25/$E$2*($G$5+$G$6)*$E$2*0.000000001*$B$8*1000 -> 0.0097128888 | I25: =0.5*$G$11*C25/$E$2*($G$7+$G$8)*$E$2*0.000000001*$B$8*1000 -> 0.00097128888 | J25: =0.5*($G$9+$G$10)*$E$2*0.000000000001*($B$5)^2*$B$8*1000 -> 0 | K25: =$G$11*C25/$E$2*($G$12+$G$13)*$E$2*0.000000001*$B$8*1000 -> 0.0019425778 | L25: =($G$14+$G$15)*$E$2*0.000000001*$G$16*$B$8*1000 -> 0 | M25: =($B$18/(2*3^0.5))^2*$G$17/1000+(C25*(($B$5-$B$6)*$B$6)^0.5/$B$5)^2*$G$18/1000 -> 0.00057950067 | N25: =$G$19*$G$20/1000*$E$2/2 -> 0.19797716 | O25: =SUM(D25:M25,N25) -> 0.25584788 | P25: =$B$6*B25 -> 0.6 | Q25: =P25/(O25+P25)*100 -> 70.105917 | R25: =$B$17/$E$2*A25/100 -> 0.12 | S25: =D25+E25+F25+G25+M25 -> 0.045243961 | T25: =SUM(H25:L25) -> 0.012626755 | U25: =N25/O25*100 -> 77.38081 | V25: =S25/O25*100 -> 17.683931 | W25: =T25/O25*100 -> 4.935259
A26: =A25+2*$E$2 -> 6 | B26: =$B$17/$E$2*A26/100 -> 0.18 | C26: =(B26^2 + $B$18^2/12)^0.5 -> 0.35046035 | D26: =(C26/$E$2)^2*$B$12/1000*$B$7/100*$E$2 -> 0.0039917297 | E26: =(C26/$E$2)^2*$B$13/1000*(1-$B$7/100)*$E$2 -> 0.003152443 | F26: =(C26/$E$2)^2*($B$16/1000)*$E$2 -> 0 | G26: =(C26/$E$2)^2*($B$14/1000)*$E$2 + $B$15/1000*$E$2 -> 0.038974087 | H26: =0.5*$B$5*C26/$E$2*($G$5+$G$6)*$E$2*0.000000001*$B$8*1000 -> 0.01051381 | I26: =0.5*$G$11*C26/$E$2*($G$7+$G$8)*$E$2*0.000000001*$B$8*1000 -> 0.001051381 | J26: =0.5*($G$9+$G$10)*$E$2*0.000000000001*($B$5)^2*$B$8*1000 -> 0 | K26: =$G$11*C26/$E$2*($G$12+$G$13)*$E$2*0.000000001*$B$8*1000 -> 0.0021027621 | L26: =($G$14+$G$15)*$E$2*0.000000001*$G$16*$B$8*1000 -> 0 | M26: =($B$18/(2*3^0.5))^2*$G$17/1000+(C26*(($B$5-$B$6)*$B$6)^0.5/$B$5)^2*$G$18/1000 -> 0.00060137567 | N26: =$G$19*$G$20/1000*$E$2/2 -> 0.19797716 | O26: =SUM(D26:M26,N26) -> 0.25836475 | P26: =$B$6*B26 -> 0.9 | Q26: =P26/(O26+P26)*100 -> 77.695734 | R26: =$B$17/$E$2*A26/100 -> 0.18 | S26: =D26+E26+F26+G26+M26 -> 0.046719636 | T26: =SUM(H26:L26) -> 0.013667953 | U26: =N26/O26*100 -> 76.627001 | V26: =S26/O26*100 -> 18.082821 | W26: =T26/O26*100 -> 5.2901774
A27: =A26+2*$E$2 -> 8 | B27: =$B$17/$E$2*A27/100 -> 0.24 | C27: =(B27^2 + $B$18^2/12)^0.5 -> 0.38473686 | D27: =(C27/$E$2)^2*$B$12/1000*$B$7/100*$E$2 -> 0.0048107297 | E27: =(C27/$E$2)^2*$B$13/1000*(1-$B$7/100)*$E$2 -> 0.003799243 | F27: =(C27/$E$2)^2*($B$16/1000)*$E$2 -> 0 | G27: =(C27/$E$2)^2*($B$14/1000)*$E$2 + $B$15/1000*$E$2 -> 0.039543607 | H27: =0.5*$B$5*C27/$E$2*($G$5+$G$6)*$E$2*0.000000001*$B$8*1000 -> 0.011542106 | I27: =0.5*$G$11*C27/$E$2*($G$7+$G$8)*$E$2*0.000000001*$B$8*1000 -> 0.0011542106 | J27: =0.5*($G$9+$G$10)*$E$2*0.000000000001*($B$5)^2*$B$8*1000 -> 0 | K27: =$G$11*C27/$E$2*($G$12+$G$13)*$E$2*0.000000001*$B$8*1000 -> 0.0023084212 | L27: =($G$14+$G$15)*$E$2*0.000000001*$G$16*$B$8*1000 -> 0 | M27: =($B$18/(2*3^0.5))^2*$G$17/1000+(C27*(($B$5-$B$6)*$B$6)^0.5/$B$5)^2*$G$18/1000 -> 0.00063200067 | N27: =$G$19*$G$20/1000*$E$2/2 -> 0.19797716 | O27: =SUM(D27:M27,N27) -> 0.26176748 | P27: =$B$6*B27 -> 1.2 | Q27: =P27/(O27+P27)*100 -> 82.0924 | R27: =$B$17/$E$2*A27/100 -> 0.24 | S27: =D27+E27+F27+G27+M27 -> 0.048785581 | T27: =SUM(H27:L27) -> 0.015004738 | U27: =N27/O27*100 -> 75.630923 | V27: =S27/O27*100 -> 18.636991 | W27: =T27/O27*100 -> 5.7320863
A28: =A27+2*$E$2 -> 10 | B28: =$B$17/$E$2*A28/100 -> 0.3 | C28: =(B28^2 + $B$18^2/12)^0.5 -> 0.42476164 | D28: =(C28/$E$2)^2*$B$12/1000*$B$7/100*$E$2 -> 0.0058637297 | E28: =(C28/$E$2)^2*$B$13/1000*(1-$B$7/100)*$E$2 -> 0.004630843 | F28: =(C28/$E$2)^2*($B$16/1000)*$E$2 -> 0 | G28: =(C28/$E$2)^2*($B$14/1000)*$E$2 + $B$15/1000*$E$2 -> 0.040275847 | H28: =0.5*$B$5*C28/$E$2*($G$5+$G$6)*$E$2*0.000000001*$B$8*1000 -> 0.012742849 | I28: =0.5*$G$11*C28/$E$2*($G$7+$G$8)*$E$2*0.000000001*$B$8*1000 -> 0.0012742849 | J28: =0.5*($G$9+$G$10)*$E$2*0.000000000001*($B$5)^2*$B$8*1000 -> 0 | K28: =$G$11*C28/$E$2*($G$12+$G$13)*$E$2*0.000000001*$B$8*1000 -> 0.0025485699 | L28: =($G$14+$G$15)*$E$2*0.000000001*$G$16*$B$8*1000 -> 0 | M28: =($B$18/(2*3^0.5))^2*$G$17/1000+(C28*(($B$5-$B$6)*$B$6)^0.5/$B$5)^2*$G$18/1000 -> 0.00067137567 | N28: =$G$19*$G$20/1000*$E$2/2 -> 0.19797716 | O28: =SUM(D28:M28,N28) -> 0.26598466 | P28: =$B$6*B28 -> 1.5 | Q28: =P28/(O28+P28)*100 -> 84.93845 | R28: =$B$17/$E$2*A28/100 -> 0.3 | S28: =D28+E28+F28+G28+M28 -> 0.051441796 | T28: =SUM(H28:L28) -> 0.016565704 | U28: =N28/O28*100 -> 74.431796 | V28: =S28/O28*100 -> 19.340136 | W28: =T28/O28*100 -> 6.2280675
A29: =A28+2*$E$2 -> 12 | B29: =$B$17/$E$2*A29/100 -> 0.36 | C29: =(B29^2 + $B$18^2/12)^0.5 -> 0.46906551 | D29: =(C29/$E$2)^2*$B$12/1000*$B$7/100*$E$2 -> 0.0071507297 | E29: =(C29/$E$2)^2*$B$13/1000*(1-$B$7/100)*$E$2 -> 0.005647243 | F29: =(C29/$E$2)^2*($B$16/1000)*$E$2 -> 0 | G29: =(C29/$E$2)^2*($B$14/1000)*$E$2 + $B$15/1000*$E$2 -> 0.041170807 | H29: =0.5*$B$5*C29/$E$2*($G$5+$G$6)*$E$2*0.000000001*$B$8*1000 -> 0.014071965 | I29: =0.5*$G$11*C29/$E$2*($G$7+$G$8)*$E$2*0.000000001*$B$8*1000 -> 0.0014071965 | J29: =0.5*($G$9+$G$10)*$E$2*0.000000000001*($B$5)^2*$B$8*1000 -> 0 | K29: =$G$11*C29/$E$2*($G$12+$G$13)*$E$2*0.000000001*$B$8*1000 -> 0.0028143931 | L29: =($G$14+$G$15)*$E$2*0.000000001*$G$16*$B$8*1000 -> 0 | M29: =($B$18/(2*3^0.5))^2*$G$17/1000+(C29*(($B$5-$B$6)*$B$6)^0.5/$B$5)^2*$G$18/1000 -> 0.00071950067 | N29: =$G$19*$G$20/1000*$E$2/2 -> 0.19797716 | O29: =SUM(D29:M29,N29) -> 0.270959 | P29: =$B$6*B29 -> 1.8 | Q29: =P29/(O29+P29)*100 -> 86.916255 | R29: =$B$17/$E$2*A29/100 -> 0.36 | S29: =D29+E29+F29+G29+M29 -> 0.054688281 | T29: =SUM(H29:L29) -> 0.018293555 | U29: =N29/O29*100 -> 73.065358 | V29: =S29/O29*100 -> 20.183231 | W29: =T29/O29*100 -> 6.7514108
A30: =A29+2*$E$2 -> 14 | B30: =$B$17/$E$2*A30/100 -> 0.42 | C30: =(B30^2 + $B$18^2/12)^0.5 -> 0.5165486 | D30: =(C30/$E$2)^2*$B$12/1000*$B$7/100*$E$2 -> 0.0086717297 | E30: =(C30/$E$2)^2*$B$13/1000*(1-$B$7/100)*$E$2 -> 0.006848443 | F30: =(C30/$E$2)^2*($B$16/1000)*$E$2 -> 0 | G30: =(C30/$E$2)^2*($B$14/1000)*$E$2 + $B$15/1000*$E$2 -> 0.042228487 | H30: =0.5*$B$5*C30/$E$2*($G$5+$G$6)*$E$2*0.000000001*$B$8*1000 -> 0.015496458 | I30: =0.5*$G$11*C30/$E$2*($G$7+$G$8)*$E$2*0.000000001*$B$8*1000 -> 0.0015496458 | J30: =0.5*($G$9+$G$10)*$E$2*0.000000000001*($B$5)^2*$B$8*1000 -> 0 | K30: =$G$11*C30/$E$2*($G$12+$G$13)*$E$2*0.000000001*$B$8*1000 -> 0.0030992916 | L30: =($G$14+$G$15)*$E$2*0.000000001*$G$16*$B$8*1000 -> 0 | M30: =($B$18/(2*3^0.5))^2*$G$17/1000+(C30*(($B$5-$B$6)*$B$6)^0.5/$B$5)^2*$G$18/1000 -> 0.00077637567 | N30: =$G$19*$G$20/1000*$E$2/2 -> 0.19797716 | O30: =SUM(D30:M30,N30) -> 0.27664759 | P30: =$B$6*B30 -> 2.1 | Q30: =P30/(O30+P30)*100 -> 88.359755 | R30: =$B$17/$E$2*A30/100 -> 0.42 | S30: =D30+E30+F30+G30+M30 -> 0.058525036 | T30: =SUM(H30:L30) -> 0.020145395 | U30: =N30/O30*100 -> 71.562944 | V30: =S30/O30*100 -> 21.155086 | W30: =T30/O30*100 -> 7.2819703
A31: =A30+2*$E$2 -> 16 | B31: =$B$17/$E$2*A31/100 -> 0.48 | C31: =(B31^2 + $B$18^2/12)^0.5 -> 0.56641191 | D31: =(C31/$E$2)^2*$B$12/1000*$B$7/100*$E$2 -> 0.01042673 | E31: =(C31/$E$2)^2*$B$13/1000*(1-$B$7/100)*$E$2 -> 0.008234443 | F31: =(C31/$E$2)^2*($B$16/1000)*$E$2 -> 0 | G31: =(C31/$E$2)^2*($B$14/1000)*$E$2 + $B$15/1000*$E$2 -> 0.043448887 | H31: =0.5*$B$5*C31/$E$2*($G$5+$G$6)*$E$2*0.000000001*$B$8*1000 -> 0.016992357 | I31: =0.5*$G$11*C31/$E$2*($G$7+$G$8)*$E$2*0.000000001*$B$8*1000 -> 0.0016992357 | J31: =0.5*($G$9+$G$10)*$E$2*0.000000000001*($B$5)^2*$B$8*1000 -> 0 | K31: =$G$11*C31/$E$2*($G$12+$G$13)*$E$2*0.000000001*$B$8*1000 -> 0.0033984715 | L31: =($G$14+$G$15)*$E$2*0.000000001*$G$16*$B$8*1000 -> 0 | M31: =($B$18/(2*3^0.5))^2*$G$17/1000+(C31*(($B$5-$B$6)*$B$6)^0.5/$B$5)^2*$G$18/1000 -> 0.00084200067 | N31: =$G$19*$G$20/1000*$E$2/2 -> 0.19797716 | O31: =SUM(D31:M31,N31) -> 0.28301929 | P31: =$B$6*B31 -> 2.4 | Q31: =P31/(O31+P31)*100 -> 89.451463 | R31: =$B$17/$E$2*A31/100 -> 0.48 | S31: =D31+E31+F31+G31+M31 -> 0.062952061 | T31: =SUM(H31:L31) -> 0.022090065 | U31: =N31/O31*100 -> 69.951827 | V31: =S31/O31*100 -> 22.243029 | W31: =T31/O31*100 -> 7.8051446
A32: =A31+2*$E$2 -> 18 | B32: =$B$17/$E$2*A32/100 -> 0.54 | C32: =(B32^2 + $B$18^2/12)^0.5 -> 0.61807965 | D32: =(C32/$E$2)^2*$B$12/1000*$B$7/100*$E$2 -> 0.01241573 | E32: =(C32/$E$2)^2*$B$13/1000*(1-$B$7/100)*$E$2 -> 0.009805243 | F32: =(C32/$E$2)^2*($B$16/1000)*$E$2 -> 0 | G32: =(C32/$E$2)^2*($B$14/1000)*$E$2 + $B$15/1000*$E$2 -> 0.044832007 | H32: =0.5*$B$5*C32/$E$2*($G$5+$G$6)*$E$2*0.000000001*$B$8*1000 -> 0.018542389 | I32: =0.5*$G$11*C32/$E$2*($G$7+$G$8)*$E$2*0.000000001*$B$8*1000 -> 0.0018542389 | J32: =0.5*($G$9+$G$10)*$E$2*0.000000000001*($B$5)^2*$B$8*1000 -> 0 | K32: =$G$11*C32/$E$2*($G$12+$G$13)*$E$2*0.000000001*$B$8*1000 -> 0.0037084779 | L32: =($G$14+$G$15)*$E$2*0.000000001*$G$16*$B$8*1000 -> 0 | M32: =($B$18/(2*3^0.5))^2*$G$17/1000+(C32*(($B$5-$B$6)*$B$6)^0.5/$B$5)^2*$G$18/1000 -> 0.00091637567 | N32: =$G$19*$G$20/1000*$E$2/2 -> 0.19797716 | O32: =SUM(D32:M32,N32) -> 0.29005162 | P32: =$B$6*B32 -> 2.7 | Q32: =P32/(O32+P32)*100 -> 90.299444 | R32: =$B$17/$E$2*A32/100 -> 0.54 | S32: =D32+E32+F32+G32+M32 -> 0.067969356 | T32: =SUM(H32:L32) -> 0.024105106 | U32: =N32/O32*100 -> 68.255836 | V32: =S32/O32*100 -> 23.433538 | W32: =T32/O32*100 -> 8.3106263
A33: =A32+2*$E$2 -> 20 | B33: =$B$17/$E$2*A33/100 -> 0.6 | C33: =(B33^2 + $B$18^2/12)^0.5 -> 0.6711352 | D33: =(C33/$E$2)^2*$B$12/1000*$B$7/100*$E$2 -> 0.01463873 | E33: =(C33/$E$2)^2*$B$13/1000*(1-$B$7/100)*$E$2 -> 0.011560843 | F33: =(C33/$E$2)^2*($B$16/1000)*$E$2 -> 0 | G33: =(C33/$E$2)^2*($B$14/1000)*$E$2 + $B$15/1000*$E$2 -> 0.046377847 | H33: =0.5*$B$5*C33/$E$2*($G$5+$G$6)*$E$2*0.000000001*$B$8*1000 -> 0.020134056 | I33: =0.5*$G$11*C33/$E$2*($G$7+$G$8)*$E$2*0.000000001*$B$8*1000 -> 0.0020134056 | J33: =0.5*($G$9+$G$10)*$E$2*0.000000000001*($B$5)^2*$B$8*1000 -> 0 | K33: =$G$11*C33/$E$2*($G$12+$G$13)*$E$2*0.000000001*$B$8*1000 -> 0.0040268112 | L33: =($G$14+$G$15)*$E$2*0.000000001*$G$16*$B$8*1000 -> 0 | M33: =($B$18/(2*3^0.5))^2*$G$17/1000+(C33*(($B$5-$B$6)*$B$6)^0.5/$B$5)^2*$G$18/1000 -> 0.00099950067 | N33: =$G$19*$G$20/1000*$E$2/2 -> 0.19797716 | O33: =SUM(D33:M33,N33) -> 0.29772835 | P33: =$B$6*B33 -> 3 | Q33: =P33/(O33+P33)*100 -> 90.971714 | R33: =$B$17/$E$2*A33/100 -> 0.6 | S33: =D33+E33+F33+G33+M33 -> 0.073576921 | T33: =SUM(H33:L33) -> 0.026174273 | U33: =N33/O33*100 -> 66.495904 | V33: =S33/O33*100 -> 24.712769 | W33: =T33/O33*100 -> 8.7913269
A34: =A33+2*$E$2 -> 22 | B34: =$B$17/$E$2*A34/100 -> 0.66 | C34: =(B34^2 + $B$18^2/12)^0.5 -> 0.72527405 | D34: =(C34/$E$2)^2*$B$12/1000*$B$7/100*$E$2 -> 0.01709573 | E34: =(C34/$E$2)^2*$B$13/1000*(1-$B$7/100)*$E$2 -> 0.013501243 | F34: =(C34/$E$2)^2*($B$16/1000)*$E$2 -> 0 | G34: =(C34/$E$2)^2*($B$14/1000)*$E$2 + $B$15/1000*$E$2 -> 0.048086407 | H34: =0.5*$B$5*C34/$E$2*($G$5+$G$6)*$E$2*0.000000001*$B$8*1000 -> 0.021758222 | I34: =0.5*$G$11*C34/$E$2*($G$7+$G$8)*$E$2*0.000000001*$B$8*1000 -> 0.0021758222 | J34: =0.5*($G$9+$G$10)*$E$2*0.000000000001*($B$5)^2*$B$8*1000 -> 0 | K34: =$G$11*C34/$E$2*($G$12+$G$13)*$E$2*0.000000001*$B$8*1000 -> 0.0043516443 | L34: =($G$14+$G$15)*$E$2*0.000000001*$G$16*$B$8*1000 -> 0 | M34: =($B$18/(2*3^0.5))^2*$G$17/1000+(C34*(($B$5-$B$6)*$B$6)^0.5/$B$5)^2*$G$18/1000 -> 0.0010913757 | N34: =$G$19*$G$20/1000*$E$2/2 -> 0.19797716 | O34: =SUM(D34:M34,N34) -> 0.3060376 | P34: =$B$6*B34 -> 3.3 | Q34: =P34/(O34+P34)*100 -> 91.513189 | R34: =$B$17/$E$2*A34/100 -> 0.66 | S34: =D34+E34+F34+G34+M34 -> 0.079774756 | T34: =SUM(H34:L34) -> 0.028285688 | U34: =N34/O34*100 -> 64.690469 | V34: =S34/O34*100 -> 26.066978 | W34: =T34/O34*100 -> 9.2425531
A35: =A34+2*$E$2 -> 24 | B35: =$B$17/$E$2*A35/100 -> 0.72 | C35: =(B35^2 + $B$18^2/12)^0.5 -> 0.78027076 | D35: =(C35/$E$2)^2*$B$12/1000*$B$7/100*$E$2 -> 0.01978673 | E35: =(C35/$E$2)^2*$B$13/1000*(1-$B$7/100)*$E$2 -> 0.015626443 | F35: =(C35/$E$2)^2*($B$16/1000)*$E$2 -> 0 | G35: =(C35/$E$2)^2*($B$14/1000)*$E$2 + $B$15/1000*$E$2 -> 0.049957687 | H35: =0.5*$B$5*C35/$E$2*($G$5+$G$6)*$E$2*0.000000001*$B$8*1000 -> 0.023408123 | I35: =0.5*$G$11*C35/$E$2*($G$7+$G$8)*$E$2*0.000000001*$B$8*1000 -> 0.0023408123 | J35: =0.5*($G$9+$G$10)*$E$2*0.000000000001*($B$5)^2*$B$8*1000 -> 0 | K35: =$G$11*C35/$E$2*($G$12+$G$13)*$E$2*0.000000001*$B$8*1000 -> 0.0046816245 | L35: =($G$14+$G$15)*$E$2*0.000000001*$G$16*$B$8*1000 -> 0 | M35: =($B$18/(2*3^0.5))^2*$G$17/1000+(C35*(($B$5-$B$6)*$B$6)^0.5/$B$5)^2*$G$18/1000 -> 0.0011920007 | N35: =$G$19*$G$20/1000*$E$2/2 -> 0.19797716 | O35: =SUM(D35:M35,N35) -> 0.31497058 | P35: =$B$6*B35 -> 3.6 | Q35: =P35/(O35+P35)*100 -> 91.954714 | R35: =$B$17/$E$2*A35/100 -> 0.72 | S35: =D35+E35+F35+G35+M35 -> 0.086562861 | T35: =SUM(H35:L35) -> 0.03043056 | U35: =N35/O35*100 -> 62.855763 | V35: =S35/O35*100 -> 27.48284 | W35: =T35/O35*100 -> 9.6613974
... A73: =A72+2*$E$2 -> 100 | B73: =$B$17/$E$2*A73/100 -> 3 | C73: =(B73^2 + $B$18^2/12)^0.5 -> 3.0150327 | D73: =(C73/$E$2)^2*$B$12/1000*$B$7/100*$E$2 -> 0.29543873 | E73: =(C73/$E$2)^2*$B$13/1000*(1-$B$7/100)*$E$2 -> 0.23332084 | F73: =(C73/$E$2)^2*($B$16/1000)*$E$2 -> 0 | G73: =(C73/$E$2)^2*($B$14/1000)*$E$2 + $B$15/1000*$E$2 -> 0.24164185 | H73: =0.5*$B$5*C73/$E$2*($G$5+$G$6)*$E$2*0.000000001*$B$8*1000 -> 0.090450982 | I73: =0.5*$G$11*C73/$E$2*($G$7+$G$8)*$E$2*0.000000001*$B$8*1000 -> 0.0090450982 | J73: =0.5*($G$9+$G$10)*$E$2*0.000000000001*($B$5)^2*$B$8*1000 -> 0 | K73: =$G$11*C73/$E$2*($G$12+$G$13)*$E$2*0.000000001*$B$8*1000 -> 0.018090196 | L73: =($G$14+$G$15)*$E$2*0.000000001*$G$16*$B$8*1000 -> 0 | M73: =($B$18/(2*3^0.5))^2*$G$17/1000+(C73*(($B$5-$B$6)*$B$6)^0.5/$B$5)^2*$G$18/1000 -> 0.011499501 | N73: =$G$19*$G$20/1000*$E$2/2 -> 0.19797716 | O73: =SUM(D73:M73,N73) -> 1.0974644 | P73: =$B$6*B73 -> 15 | Q73: =P73/(O73+P73)*100 -> 93.182377 | R73: =$B$17/$E$2*A73/100 -> 3 | S73: =D73+E73+F73+G73+M73 -> 0.78190092 | T73: =SUM(H73:L73) -> 0.11758628 | U73: =N73/O73*100 -> 18.039507 | V73: =S73/O73*100 -> 71.246133 | W73: =T73/O73*100 -> 10.71436

Sheet Components
B3: Inductors
B4: Manufacturer | C4: P/N | D4: Value (uH) | E4: L_DCR (mΩ) | F4: L_ac 300kHz core loss (mW) | G4: L_ac 500kHz core loss (mW) | H4: L_ac 800kHz core loss (mW) | I4: L_ac 1MHz core loss (mW) | J4: Estimate core loss (mW) *Note | M4: Freq (kHz) | N4: XGL4020 - 0.82uH | O4: XEL5050 - 4.7uH | P4: XEL5050 - 5.6uH
B5: Coilcraft | C5: XGL4020 - 0.82uH | D5: 0.82 | E5: 7.7 | F5: 8 | G5: 15 | H5: 25 | I5: 31 | J5: =-0.000005*(Efficiency!B8)^2+0.0394*(Efficiency!B8)-3.4052 -> 15.0448 | M5: 300 | N5: 8 | O5: 20 | P5: 22
B6: Coilcraft | C6: XEL5050 - 4.7uH | D6: 4.7 | E6: 19.6 | F6: 20 | G6: 33 | H6: 38 | I6: 42 | J6: =-0.00004*(Efficiency!B8)^2+0.0876*(Efficiency!B8)-1.44 -> 32.36 | M6: 500 | N6: 15 | O6: 33 | P6: 36
B7: Coilcraft | C7: XEL5050 - 5.6uH | D7: 5.6 | E7: 22.6 | F7: =P5 -> 22 | G7: =P6 -> 36 | H7: =P7 -> 47 | I7: =P8 -> 54 | J7: =-0.00003*(Efficiency!B8)^2+0.09*(Efficiency!B8)-1.3017 -> 36.1983 | M7: 800 | N7: 25 | O7: 38 | P7: 47
B8: Coilcraft | M8: 1000 | N8: 31 | O8: 42 | P8: 54
B9: Coilcraft
B10: Coilcraft
B12: *Note: Core loss data for Coilcraft inductors are taken from Coilcraft website calculator for 2Arms and 30% ripple
B13: *Note: Estimated AC core loss is estimated by using polynomial curve fit of Coilcraft website calculator data

Sheet Operating Current
C5: I_VIN (mA)
B6: Fsw (kHz) | C6: PVIN=3V | D6: PVIN=12V | E6: PVIN=18V
B7: 300 | C7: 7 | D7: 19 | E7: 22
B8: 500 | C8: 10.5 | D8: 33 | E8: 35
B9: 1000 | C9: 20 | D9: 52 | E9: 62
C11: I_VIN (mA)
C12: PVIN=3V | D12: PVIN=12V | E12: PVIN=18V
B13: 300 | C13: =0.0187*B13+1.3077 -> 6.9177 | D13: =27.409*LN(B13)-137.34 -> 18.994974 | E13: =0.0565*B13+5.7436 -> 22.6936
B14: 350 | C14: =0.0187*B14+1.3077 -> 7.8527 | D14: =27.409*LN(B14)-137.34 -> 23.22009 | E14: =0.0565*B14+5.7436 -> 25.5186
B15: 400 | C15: =0.0187*B15+1.3077 -> 8.7877 | D15: =27.409*LN(B15)-137.34 -> 26.880052 | E15: =0.0565*B15+5.7436 -> 28.3436
B16: 450 | C16: =0.0187*B16+1.3077 -> 9.7227 | D16: =27.409*LN(B16)-137.34 -> 30.108367 | E16: =0.0565*B16+5.7436 -> 31.1686
B17: 500 | C17: =0.0187*B17+1.3077 -> 10.6577 | D17: =27.409*LN(B17)-137.34 -> 32.996193 | E17: =0.0565*B17+5.7436 -> 33.9936
B18: 550 | C18: =0.0187*B18+1.3077 -> 11.5927 | D18: =27.409*LN(B18)-137.34 -> 35.60855 | E18: =0.0565*B18+5.7436 -> 36.8186
B19: 600 | C19: =0.0187*B19+1.3077 -> 12.5277 | D19: =27.409*LN(B19)-137.34 -> 37.993445 | E19: =0.0565*B19+5.7436 -> 39.6436
B20: 650 | C20: =0.0187*B20+1.3077 -> 13.4627 | D20: =27.409*LN(B20)-137.34 -> 40.187335 | E20: =0.0565*B20+5.7436 -> 42.4686
B21: 700 | C21: =0.0187*B21+1.3077 -> 14.3977 | D21: =27.409*LN(B21)-137.34 -> 42.218561 | E21: =0.0565*B21+5.7436 -> 45.2936
B22: 750 | C22: =0.0187*B22+1.3077 -> 15.3327 | D22: =27.409*LN(B22)-137.34 -> 44.109587 | E22: =0.0565*B22+5.7436 -> 48.1186
B23: 800 | C23: =0.0187*B23+1.3077 -> 16.2677 | D23: =27.409*LN(B23)-137.34 -> 45.878523 | E23: =0.0565*B23+5.7436 -> 50.9436
B24: 850 | C24: =0.0187*B24+1.3077 -> 17.2027 | D24: =27.409*LN(B24)-137.34 -> 47.540183 | E24: =0.0565*B24+5.7436 -> 53.7686
... B27: 1000 | C27: =0.0187*B27+1.3077 -> 20.0077 | D27: =27.409*LN(B27)-137.34 -> 51.994664 | E27: =0.0565*B27+5.7436 -> 62.2436

Sheet Rev History
B2: Revision | C2: Date | D2: Notes
B3: 0.1 | C3: 45513 | D3: Initial Version
