Workbook

Sheet Rev
A1: Revision | B1: Date | C1: Notes
A2: 1 | B2: 45123
A4: 2 | B4: 45335
A6: 3 | B6: 45363 | C6: Merged Ripple tab and Impedance tab into one tab
A8: 3.1 | B8: 45481 | C8: Added in checker for boot refresh timer window.
A10: 3.2 | B10: 45876 | C10: Fixed a cell formula error in cell B21 of tab Cboot Ripple Design
A12: 3.3 | B12: 46097 | C12: Consolidated ISL73041 and 71441 calculators

Sheet Cboot Ripple Design
A1: For designing the boot capacitor needed to support boot ripple voltage requirements in half bridge operation
A2: Values in green are user input.
A3: Calculated values; don't change
A4: Cell D18 shows the boot cap required.
A6: Boot Capacitor Value To Meet Ripple Requirement | E6: I_BOOT includes: 1) Boot bias current 2) Gate-Source Resistor Current, 3) FET Qgs
A7: Qgate | B7: 20 | C7: nC | D7: Total High Side GaN FET/MOSFET gate charge | E7: The Boot ripple voltage is how much C_BOOT gets discharge during upper FET on time.
A8: Freq | B8: 500 | C8: kHz | D8: Switching frequency
A9: Period | B9: =1/B8/1000*1000000 -> 2 | C9: us | D9: Switching period
A10: Duty Cycle | B10: 98 | C10: % | D10: Highest duty cycle of application
A11: High On Time | B11: =B9*1000*B10/100 -> 1960 | C11: ns | D11: High side on time
A12: I_BOOT | B12: 650 | C12: uA | D12: High side static bias current; Found in datasheet as IQ_BOOT
A13: PVCC=BOOT=UG | B13: 4.5 | C13: V | D13: Driver PVCC bias = Boot bias = High side gate drive voltage
A14: RGS | B14: 1 | C14: kΩ | D14: High Side Driver UGL to PHS impedance internal to ISL73041/71441
A15: I_GS_Leak | B15: 500 | C15: uA | D15: High side GaN FET/MOSFET Gate to Source Forward leakage current
A16: Qgate_leak | B16: =B15*0.000001*B11*0.000000001*1000000000 -> 0.98 | C16: nC | D16: Dynamic charge due to FET gate leakage current
A17: Qboot | B17: =B11*0.000000001*B12*0.000001*1000000000 -> 1.274 | C17: nC | D17: Dynamic charge due to boot bias
A18: Q_Rgs | B18: =B11*0.000000001*B13/B14/1000*1000000000 -> 8.82 | C18: nC | D18: Dynamic charge due to driving gate-source resistor
A19: Total Charge During On Time | B19: =B7+B16+B17+B18 -> 31.074 | C19: nC | D19: Total charge consumption of boot cap during high side on time
A20: Boot ripple target | B20: 2 | C20: % | D20: 5% to 10% is the recommended amount of boot ripple
A21: Cboot | B21: =(B7+B17+B17+B18)/(B20/100*B13)*0.000000001*1000000 -> 0.34853333 | C21: uF | D21: C = Q/V; Choose closes standard value or next value up
A24: For determining if the boot switch impedance and refresh time (Lower FET ON time) is adequate for the recharging boot capacitor
A25: Boot Impedance For Refreshing Capacitor
A26: PVCC | B26: =B13 -> 4.5 | C26: V | D26: Pulled from B13 above
A27: Qtot | B27: =B19 -> 31.074 | C27: nC | D27: Pulled from B19 above
A28: Cboot | B28: =B21*1000 -> 348.53333 | C28: nF | D28: Pulled from B21 above
A29: Boot drop (V) | B29: =B27/B28 -> 0.089156465 | C29: V | E29: The boot refresh is an RC circuit defined by Vc(t) = PVCC - Vb*e-(t/RC)
A30: Boot drop (%) | B30: =B29/B26*100 -> 1.9812548 | C30: % | E30: Find the time in cell B34 in the graph or list below to find the boot voltage at the refresh time.
A31: Freq | B31: =B8 -> 500 | C31: kHz | D31: Pulled from B8 above | E31: It should remain >98% of PVCC voltage. You want the refresh cycle to take it back up near PVCC
A32: Boot Sw RON | B32: 1.45 | C32: Ω | D32: Boot switch Ron for ISL73041/71441 (1.45Ω DS Max) | E32: to prevent the next discharge cycle from eventually hitting boot UVLO.
A33: Duty Cycle | B33: =B10 -> 98 | C33: % | D33: Pulled from B10 above (lowest refresh time) | E33: If you don't reach >98% of PVCC it means you need to increase the boot capacitance
A34: Boot Refresh Time | B34: =(100-B33)/100/(B31*1000)*1000000000 -> 40 | C34: ns | D34: Boot refresh charge time based on Fsw and max duty cycle | E34: or reduce the max expected duty cycle.
E36: Factor | F36: Time (ns) | G36: Vc(t) | H36: % of PVCC
E37: 0 | F37: =$B$34/500*E37*2.5 -> 0 | G37: =$B$26 - $B$29*EXP(-F37*0.000000001/($B$32*$B$28*0.000000001)) -> 4.4108435 | H37: =G37/$B$26*100 -> 98.018745
E38: 1 | F38: =$B$34/500*E38*2.5 -> 0.2 | G38: =$B$26 - $B$29*EXP(-F38*0.000000001/($B$32*$B$28*0.000000001)) -> 4.4108788 | H38: =G38/$B$26*100 -> 98.019529
E39: 2 | F39: =$B$34/500*E39*2.5 -> 0.4 | G39: =$B$26 - $B$29*EXP(-F39*0.000000001/($B$32*$B$28*0.000000001)) -> 4.4109141 | H39: =G39/$B$26*100 -> 98.020313
E40: 3 | F40: =$B$34/500*E40*2.5 -> 0.6 | G40: =$B$26 - $B$29*EXP(-F40*0.000000001/($B$32*$B$28*0.000000001)) -> 4.4109493 | H40: =G40/$B$26*100 -> 98.021096
E41: 4 | F41: =$B$34/500*E41*2.5 -> 0.8 | G41: =$B$26 - $B$29*EXP(-F41*0.000000001/($B$32*$B$28*0.000000001)) -> 4.4109846 | H41: =G41/$B$26*100 -> 98.021879
E42: 5 | F42: =$B$34/500*E42*2.5 -> 1 | G42: =$B$26 - $B$29*EXP(-F42*0.000000001/($B$32*$B$28*0.000000001)) -> 4.4110198 | H42: =G42/$B$26*100 -> 98.022662
E43: 6 | F43: =$B$34/500*E43*2.5 -> 1.2 | G43: =$B$26 - $B$29*EXP(-F43*0.000000001/($B$32*$B$28*0.000000001)) -> 4.411055 | H43: =G43/$B$26*100 -> 98.023444
E44: 7 | F44: =$B$34/500*E44*2.5 -> 1.4 | G44: =$B$26 - $B$29*EXP(-F44*0.000000001/($B$32*$B$28*0.000000001)) -> 4.4110902 | H44: =G44/$B$26*100 -> 98.024226
E45: 8 | F45: =$B$34/500*E45*2.5 -> 1.6 | G45: =$B$26 - $B$29*EXP(-F45*0.000000001/($B$32*$B$28*0.000000001)) -> 4.4111254 | H45: =G45/$B$26*100 -> 98.025008
E46: 9 | F46: =$B$34/500*E46*2.5 -> 1.8 | G46: =$B$26 - $B$29*EXP(-F46*0.000000001/($B$32*$B$28*0.000000001)) -> 4.4111605 | H46: =G46/$B$26*100 -> 98.025789
E47: 10 | F47: =$B$34/500*E47*2.5 -> 2 | G47: =$B$26 - $B$29*EXP(-F47*0.000000001/($B$32*$B$28*0.000000001)) -> 4.4111957 | H47: =G47/$B$26*100 -> 98.02657
E48: 11 | F48: =$B$34/500*E48*2.5 -> 2.2 | G48: =$B$26 - $B$29*EXP(-F48*0.000000001/($B$32*$B$28*0.000000001)) -> 4.4112308 | H48: =G48/$B$26*100 -> 98.027351
... E537: 500 | F537: =$B$34/500*E537*2.5 -> 100 | G537: =$B$26 - $B$29*EXP(-F537*0.000000001/($B$32*$B$28*0.000000001)) -> 4.4268495 | H537: =G537/$B$26*100 -> 98.374433

Sheet ISL73847 Boot Refresh
A1: When to use this spreadsheet: For designing # of boot refresh cycles to charge boot cap from a specific (usually 0V) to its final value using ISL73847 controller
A2: Input the parameters in green and the table below shows the cap voltage between each charge and discharge cycle
A4: PVCC | B4: ='Cboot Ripple Design'!B13 -> 4.5 | C4: V | D4: Pulled from Ripple Design tab
A5: Boot Sw RON | B5: ='Cboot Ripple Design'!B32 -> 1.45 | C5: Ω | D5: Pulled from Ripple Design tab
A6: R_UG-PHS | B6: 1 | C6: kΩ | D6: UGL-PHS Gate-Source Resistor; Fixed
A7: Cboot | B7: ='Cboot Ripple Design'!B28 -> 348.53333 | C7: nF | D7: Pulled from Ripple Design tab
A8: Boot Bias Current | B8: ='Cboot Ripple Design'!B12 -> 650 | C8: uA | D8: Pulled from Ripple Design tab
A9: Fsw | B9: ='Cboot Ripple Design'!B8 -> 500 | C9: kHz | D9: Refresh Freq = PWM Freq for ISL73847
A10: Boot Charge Period | B10: 100 | C10: ns | D10: Boot Refresh Time of ISL73847
A11: Boot Discharge Period | B11: =(1/(B9*1000)-B10*0.000000001)*1000000000 -> 1900 | C11: ns
A12: Initial Boot Voltage | B12: 0 | C12: V
A13: High Side Gate Charge | B13: 0 | C13: nC | D13: Keep this value 0 since during controller boot refresh the high side does not turn on
A14: BOOT UVLO Rising | B14: 4 | C14: V | D14: Typical Rising BOOT UVLO threshold of ISL73041
A15: BOOT UVLO Falling | B15: 4 | C15: V | D15: Worse case falling BOOT UVLO threshold of ISL73041/71441
A16: Boot Refresh Repeat Timer | B16: 75 | C16: us | D16: Worse Case Timer for initiating another boot refresh
A17: Discharge Time | B17: ='Cboot Ripple Design'!B21*0.000001*(B4-B15)/(B8*0.000001)*1000000 -> 268.10256 | C17: us | D17: Cell B16 shows the time it takes to discharge driver PVCC to Boot UVLO threshold.
A18: Increase Boot Cap Value? | B18: =IF(B17<B16, "Yes", "No") -> No | C18: Yes/No | D18: If cell B16<B15, under a worse case analysis, you could discharge Boot voltage to UVLO during repeat timer. Requires a larger boot cap to avoid this situation.
A19: Discharge Cycle includes 1)Boot bias current and 2)Boot voltage drop from turning on high side FET gate only if the boot voltage is > UVLO threshold in cell B15
A20: Vc(t) = Vdd - Vb*e-(t/RC)
A21: Cycle | B21: Time (ns) | C21: Charge Cycle Voltage (V) | D21: Discharge Cycle Voltage (V) | E21: Vboot End of discharge (V) | F21: Vboot End of Charge (V) | G21: Steady State Boot Voltage | H21: PVCC | I21: ISL73847 provides 32 Boot Refresh Pulses during Soft Start
A22: 1 | B22: =A22/($B$9*1000)*1000000000 -> 2000 | C22: =($B$4-$B$12)*(1-EXP(-$B$10*0.000000001/($B$5*$B$7*0.000000001))) -> 0.80786871 | D22: =IF(F22>100,(C22*$B$11*0.000000001/($B$6*1000*$B$7*0.000000001))+$B$13*0.000000001/($B$7*0.000000001),(C22*$B$11*0.000000001/($B$6*1000*$B$7*0.000000001))) -> 0.004404028 | E22: =$B$12+C22-D22 -> 0.80346468 | G22: =(B4*(1-EXP(-B10*0.000000001/(B5*B7*0.000000001)))-(B13*0.000000001)/(B7*0.000000001))/(B11*0.000000001/(B6*1000*B7*0.000000001)+1-EXP(-B10*0.000000001/(B5*B7*0.000000001))) -> 4.3673821 | H22: =B4 -> 4.5 | I22: PWM Frequency (in kHz). Range is from 250kHz to 1.5MHz.
A23: 2 | B23: =A23/($B$9*1000)*1000000000 -> 4000 | C23: =($B$4-E22)*(1-EXP(-$B$10*0.000000001/($B$5*$B$7*0.000000001))) -> 0.6636256 | D23: =IF(F23>$B$14,(C23*$B$11*0.000000001/($B$6*1000*$B$7*0.000000001))+$B$13*0.000000001/($B$7*0.000000001)+$B$8*0.000001*$B$11*0.000000001/($B$7*0.000000001),$B$8*0.000001*$B$11*0.000000001/($B$7*0.000000001)) -> 0.00354342 | E23: =(E22+C23)-D23 -> 1.4635469 | F23: =E22+C23 -> 1.4670903 | H23: =H22 -> 4.5 | I23: Boot Refresh pulse width (in ns). Range is from 100ns to 124ns.
A24: 3 | B24: =A24/($B$9*1000)*1000000000 -> 6000 | C24: =($B$4-E23)*(1-EXP(-$B$10*0.000000001/($B$5*$B$7*0.000000001))) -> 0.54512344 | D24: =IF(F24>$B$14,(C24*$B$11*0.000000001/($B$6*1000*$B$7*0.000000001))+$B$13*0.000000001/($B$7*0.000000001)+$B$8*0.000001*$B$11*0.000000001/($B$7*0.000000001),$B$8*0.000001*$B$11*0.000000001/($B$7*0.000000001)) -> 0.00354342 | E24: =(E23+C24)-D24 -> 2.0051269 | F24: =E23+C24 -> 2.0086703 | H24: =H23 -> 4.5
A25: 4 | B25: =A25/($B$9*1000)*1000000000 -> 8000 | C25: =($B$4-E24)*(1-EXP(-$B$10*0.000000001/($B$5*$B$7*0.000000001))) -> 0.44789554 | D25: =IF(F25>$B$14,(C25*$B$11*0.000000001/($B$6*1000*$B$7*0.000000001))+$B$13*0.000000001/($B$7*0.000000001)+$B$8*0.000001*$B$11*0.000000001/($B$7*0.000000001),$B$8*0.000001*$B$11*0.000000001/($B$7*0.000000001)) -> 0.00354342 | E25: =(E24+C25)-D25 -> 2.449479 | F25: =E24+C25 -> 2.4530224 | H25: =H24 -> 4.5
A26: 5 | B26: =A26/($B$9*1000)*1000000000 -> 10000 | C26: =($B$4-E25)*(1-EXP(-$B$10*0.000000001/($B$5*$B$7*0.000000001))) -> 0.36812261 | D26: =IF(F26>$B$14,(C26*$B$11*0.000000001/($B$6*1000*$B$7*0.000000001))+$B$13*0.000000001/($B$7*0.000000001)+$B$8*0.000001*$B$11*0.000000001/($B$7*0.000000001),$B$8*0.000001*$B$11*0.000000001/($B$7*0.000000001)) -> 0.00354342 | E26: =(E25+C26)-D26 -> 2.8140582 | F26: =E25+C26 -> 2.8176016 | H26: =H25 -> 4.5
A27: 6 | B27: =A27/($B$9*1000)*1000000000 -> 12000 | C27: =($B$4-E26)*(1-EXP(-$B$10*0.000000001/($B$5*$B$7*0.000000001))) -> 0.30267103 | D27: =IF(F27>$B$14,(C27*$B$11*0.000000001/($B$6*1000*$B$7*0.000000001))+$B$13*0.000000001/($B$7*0.000000001)+$B$8*0.000001*$B$11*0.000000001/($B$7*0.000000001),$B$8*0.000001*$B$11*0.000000001/($B$7*0.000000001)) -> 0.00354342 | E27: =(E26+C27)-D27 -> 3.1131858 | F27: =E26+C27 -> 3.1167292 | H27: =H26 -> 4.5
A28: 7 | B28: =A28/($B$9*1000)*1000000000 -> 14000 | C28: =($B$4-E27)*(1-EXP(-$B$10*0.000000001/($B$5*$B$7*0.000000001))) -> 0.24896973 | D28: =IF(F28>$B$14,(C28*$B$11*0.000000001/($B$6*1000*$B$7*0.000000001))+$B$13*0.000000001/($B$7*0.000000001)+$B$8*0.000001*$B$11*0.000000001/($B$7*0.000000001),$B$8*0.000001*$B$11*0.000000001/($B$7*0.000000001)) -> 0.00354342 | E28: =(E27+C28)-D28 -> 3.3586121 | F28: =E27+C28 -> 3.3621555 | H28: =H27 -> 4.5
A29: 8 | B29: =A29/($B$9*1000)*1000000000 -> 16000 | C29: =($B$4-E28)*(1-EXP(-$B$10*0.000000001/($B$5*$B$7*0.000000001))) -> 0.20490924 | D29: =IF(F29>$B$14,(C29*$B$11*0.000000001/($B$6*1000*$B$7*0.000000001))+$B$13*0.000000001/($B$7*0.000000001)+$B$8*0.000001*$B$11*0.000000001/($B$7*0.000000001),$B$8*0.000001*$B$11*0.000000001/($B$7*0.000000001)) -> 0.00354342 | E29: =(E28+C29)-D29 -> 3.5599779 | F29: =E28+C29 -> 3.5635213 | H29: =H28 -> 4.5
A30: 9 | B30: =A30/($B$9*1000)*1000000000 -> 18000 | C30: =($B$4-E29)*(1-EXP(-$B$10*0.000000001/($B$5*$B$7*0.000000001))) -> 0.16875876 | D30: =IF(F30>$B$14,(C30*$B$11*0.000000001/($B$6*1000*$B$7*0.000000001))+$B$13*0.000000001/($B$7*0.000000001)+$B$8*0.000001*$B$11*0.000000001/($B$7*0.000000001),$B$8*0.000001*$B$11*0.000000001/($B$7*0.000000001)) -> 0.00354342 | E30: =(E29+C30)-D30 -> 3.7251933 | F30: =E29+C30 -> 3.7287367 | H30: =H29 -> 4.5
A31: 10 | B31: =A31/($B$9*1000)*1000000000 -> 20000 | C31: =($B$4-E30)*(1-EXP(-$B$10*0.000000001/($B$5*$B$7*0.000000001))) -> 0.13909825 | D31: =IF(F31>$B$14,(C31*$B$11*0.000000001/($B$6*1000*$B$7*0.000000001))+$B$13*0.000000001/($B$7*0.000000001)+$B$8*0.000001*$B$11*0.000000001/($B$7*0.000000001),$B$8*0.000001*$B$11*0.000000001/($B$7*0.000000001)) -> 0.00354342 | E31: =(E30+C31)-D31 -> 3.8607481 | F31: =E30+C31 -> 3.8642915 | H31: =H30 -> 4.5
A32: 11 | B32: =A32/($B$9*1000)*1000000000 -> 22000 | C32: =($B$4-E31)*(1-EXP(-$B$10*0.000000001/($B$5*$B$7*0.000000001))) -> 0.11476258 | D32: =IF(F32>$B$14,(C32*$B$11*0.000000001/($B$6*1000*$B$7*0.000000001))+$B$13*0.000000001/($B$7*0.000000001)+$B$8*0.000001*$B$11*0.000000001/($B$7*0.000000001),$B$8*0.000001*$B$11*0.000000001/($B$7*0.000000001)) -> 0.00354342 | E32: =(E31+C32)-D32 -> 3.9719673 | F32: =E31+C32 -> 3.9755107 | H32: =H31 -> 4.5
A33: 12 | B33: =A33/($B$9*1000)*1000000000 -> 24000 | C33: =($B$4-E32)*(1-EXP(-$B$10*0.000000001/($B$5*$B$7*0.000000001))) -> 0.094795807 | D33: =IF(F33>$B$14,(C33*$B$11*0.000000001/($B$6*1000*$B$7*0.000000001))+$B$13*0.000000001/($B$7*0.000000001)+$B$8*0.000001*$B$11*0.000000001/($B$7*0.000000001),$B$8*0.000001*$B$11*0.000000001/($B$7*0.000000001)) -> 0.0040601914 | E33: =(E32+C33)-D33 -> 4.0627029 | F33: =E32+C33 -> 4.0667631 | H33: =H32 -> 4.5
A34: 13 | B34: =A34/($B$9*1000)*1000000000 -> 26000 | C34: =($B$4-E33)*(1-EXP(-$B$10*0.000000001/($B$5*$B$7*0.000000001))) -> 0.078506371 | D34: =IF(F34>$B$14,(C34*$B$11*0.000000001/($B$6*1000*$B$7*0.000000001))+$B$13*0.000000001/($B$7*0.000000001)+$B$8*0.000001*$B$11*0.000000001/($B$7*0.000000001),$B$8*0.000001*$B$11*0.000000001/($B$7*0.000000001)) -> 0.0039713909 | E34: =(E33+C34)-D34 -> 4.1372378 | F34: =E33+C34 -> 4.1412092 | H34: =H33 -> 4.5
A35: 14 | B35: =A35/($B$9*1000)*1000000000 -> 28000 | C35: =($B$4-E34)*(1-EXP(-$B$10*0.000000001/($B$5*$B$7*0.000000001))) -> 0.065125376 | D35: =IF(F35>$B$14,(C35*$B$11*0.000000001/($B$6*1000*$B$7*0.000000001))+$B$13*0.000000001/($B$7*0.000000001)+$B$8*0.000001*$B$11*0.000000001/($B$7*0.000000001),$B$8*0.000001*$B$11*0.000000001/($B$7*0.000000001)) -> 0.0038984455 | E35: =(E34+C35)-D35 -> 4.1984648 | F35: =E34+C35 -> 4.2023632 | H35: =H34 -> 4.5
... A121: 100 | B121: =A121/($B$9*1000)*1000000000 -> 200000 | C121: =($B$4-E120)*(1-EXP(-$B$10*0.000000001/($B$5*$B$7*0.000000001))) -> 0.0035628454 | D121: =IF(F121>$B$14,(C121*$B$11*0.000000001/($B$6*1000*$B$7*0.000000001))+$B$13*0.000000001/($B$7*0.000000001)+$B$8*0.000001*$B$11*0.000000001/($B$7*0.000000001),$B$8*0.000001*$B$11*0.000000001/($B$7*0.000000001)) -> 0.0035628426 | E121: =(E120+C121)-D121 -> 4.4801542 | F121: =E120+C121 -> 4.483717 | H121: =H120 -> 4.5

Sheet Power Dissipation
B1: ISL73041/71441 Power Dissipation Estimator
B2: Input the parameters in green cells per your design.
B3: Cells in gray are calculated or fixed values. Change with precaution.
B4: IC power dissipation shown in orange cell
B6: 13.2 | C6: V | D6: VDD Supply Voltage | F6: =(0.5*B18*0.000000001*B11*1000*B8*(B20/(B20+B22)))*1000 -> 53.587786 | G6: mW | H6: 0.5*Qg*Fsw*Vgs power dissipation of high side during turn on
B7: 5 | C7: V | D7: AVCC LDO Voltage | F7: =(0.5*B18*0.000000001*B11*1000*B8*(B21/(B21+B22)))*1000 -> 53.333333 | G7: mW | H7: 0.5*Qg*Fsw*Vgs power dissipation of high side during turn off
B8: 4.5 | C8: V | D8: PVCC LDO Voltage | F8: =(B8*B8/B19*B12/100)*1000 -> 2.025 | G8: mW | H8: Power dissipation of UGL-PHS resistor during high side on time
B9: 2 | C9: kohm | D9: RDU dead time resistor | F9: =(F6+F7)/B8 -> 23.760249 | G9: mA | H9: Dynamic Current for high side gate charge
B10: 2 | C10: kohm | D10: RDL dead time resistor | F10: =F8/B8 -> 0.45 | G10: mA | H10: Dynamic Current for high side UGL-PHS resistor
B11: 500 | C11: kHz | D11: Operating Frequency
B12: 10 | C12: % | D12: Nominal Duty Cycle | F12: =(0.5*B23*0.000000001*B11*1000*B8*(B25/(B25+B27)))*1000 -> 53.406593 | G12: mW | H12: 0.5*Qg*Fsw*Vgs power dissipation of low side during turn on
B13: 4.5 | C13: mA | D13: VDD Quiescent Supply Current with PWM=Float (neglecting dead time resistors) | F13: =(0.5*B23*0.000000001*B11*1000*B8*(B26/(B26+B27)))*1000 -> 52.941176 | G13: mW | H13: 0.5*Qg*Fsw*Vgs power dissipation of low side during turn off
B14: =(3*1.2/(B9*1000)+3*1.2/(B10*1000))*1000 -> 3.6 | C14: mA | D14: VDD Quiescent Supply Current due to dead time resistors | F14: =(B8*B8/B24*(100-B12)/100)*1000 -> 36.45 | G14: mW | H14: Power dissipation of LGL-PGND resistor during low side on time
B15: 20 | C15: mA | D15: VDD Dynamic Operating Current @ Fsw (Use Fig. 47 on ISL73041SEH datasheet) Choose curve based on RDU/RDL resistor used for accuracy | F15: =(F12+F13)/B8 -> 23.632838 | G15: mA | H15: Dynamic Current for low side gate charge
B16: =B15-B14-B13 -> 11.9 | C16: mA | D16: VDD Dynamic Operating Current with Quiescent component removed | F16: =F14/B8 -> 8.1 | G16: mA | H16: Dynamic Current for high side LGL-PGND resistor
B17: =B16-(B8/B19*0.5)*1000-(B8/B24*0.5)*1000 -> 5.15 | C17: mA | D17: VDD Dynamic Operating Current with internal pull down resistor dissipation removed
B18: 48 | C18: nC | D18: Total High Side FET Gate Charge | F18: =B7*(B13+B14) -> 40.5 | G18: mW | H18: Static Power Dissipation of AVCC rail
B19: 1000 | C19: ohm | D19: Internal UGL-PHS discharge resistor in ISL73041/71441 | F19: =(B6-B7)*(B13+B14) -> 66.42 | G19: mW | H19: AVCC LDO Power Dissipation
B20: 1.3 | C20: ohm | D20: ISL73041/71441 UGH PMOS Resistance | F20: =B8*B17 -> 23.175 | G20: mW | H20: Dynamic Power Dissipation of Biasing Driver
B21: 0.8 | C21: ohm | D21: ISL73041/71441 UGL NMOS Resistance | F21: =(B6-B8)*(B16+F9+F10+F15+F16) -> 590.23485 | G21: mW | H21: PVCC LDO Power Dissipation
B22: 0.01 | C22: ohm | D22: External UG gate resistor
B23: 48 | C23: nC | D23: Total Low Side FET Gate Charge | F23: =SUM(F6:F8,F12:F14,F18:F21) -> 972.07374 | G23: mW | H23: Total ISL73041/71441 Power Dissipation
B24: 500 | C24: ohm | D24: Internal LGL-PGND discharge resistor in ISL73041/71441 | F24: 100 | G24: °C | H24: Case Temp
B25: 0.9 | C25: ohm | D25: ISL73041/71441 LGH PMOS Resistance | F25: 6.5 | G25: °C/W | H25: ISL73041 CLCC Package Theta JC
B26: 0.5 | C26: ohm | D26: ISL73041/71441 LGL NMOS Resistance | F26: =F24+F23/1000*F25 -> 106.31848 | G26: °C | H26: ISL73041 CLCC Junction Temp from Case Temp
B27: 0.01 | C27: ohm | D27: External LG gate resistor
