Workbook
Name CCOMP_MIN: #REF!
Name CDROOP: #REF!
Name COUT_MIN: #REF!
Name COUT_QTY: #REF!
Name COUT_ZERO: #REF!
Name CPOLE_MIN: #REF!
Name ESR_EQUIV: #REF!
Name ft: #REF!
Name RCOMP: #REF!
Name RDROOP: #REF!
Name Ripple_percent: #REF!
Name RSEN: #REF!
Name RSLOPE: #REF!

Sheet Main
G1: Error Log: | H1: =IF(C19="Yes","You have an ON/OFF Time Problem. Decrease your VIN-VOUT difference or decrease your fSW","")
H2: =IF(C20="Yes","You have a Switching Frequency Problem. Acceptable fSW Range is 250kHz to 1.5MHz","")
H3: =IF(C41="Yes","You have an RSLOPE issue. RSLOPE should be 25kohm to 100kohm. Try adjusting LOUT.","")
A4: ISL73847x Design Tool (Rev 5.1)
B6: These cells are inputs
B7: These cells are the output
B9: Input Voltage (VIN) | C9: 12 | D9: V | F9: Use DROOP? | G9: Yes
B10: Output Voltage (VOUT) | C10: 1 | D10: V | F10: Target Output Load Step (ΔISTEP) | G10: 25 | H10: A
B11: Max Output Current (IOUT(MAX)) | C11: 50 | D11: A | F11: Target ΔVOUT peak-peak Transient (ΔVOUT(TRANSIENT)) | G11: 4 | H11: %
B12: Switching Frequency (fSW) | C12: 500 | D12: kHz | F12: Target DROOP at ISTEP (DRPpercent@ISTEP) | G12: 2 | H12: % | I12: Ignore if not using DROOP
B13: Oscillator Frequency (fOSC= 2•fSW) | C13: =2*C12 -> 1000 | D13: kHz | F13: ΔVOUT Transient Overshoot | G13: =IF(G9="Yes",IF((G11/2)-G12<0,"Too much DROOP",(G11/2)-G12),(G11/2)) -> 0 | H13: %
B14: Number of Phases (N) | C14: 2 | F14: ΔVOUT Transient Undershoot | G14: =IF(G9="Yes",IF((G11/2)-G12<0,"Too much DROOP",(G11/2)),(G11/2)) -> 2 | H14: %
B15: Number of Controllers | C15: =ROUNDUP(C14/2, 0) -> 1 | F15: Expected ΔVOUT peak-peak Transient (ΔVOUT(TRANSIENT)) | G15: =IF(G9="Yes", IF(G13="Too much DROOP", "Too much DROOP", G14+G13), G11) -> 2 | H15: %
B16: Duty Cycle (D) | C16: =(C10/C9)*100 -> 8.3333333 | D16: % | F16: DROOP at IOUT(MAX) (DRPpercent@IOUT(MAX)) | G16: =IF(G9="Yes",(C11/G10)*G12,"No DROOP") -> 4 | H16: %
B17: Max ON Time (tON) | C17: =((C16*0.01)/C12)*1000000 -> 166.66667 | D17: ns | F17: DC Output Voltage at No-Load (VOUT@No-Load) | G17: =C27 -> 0.9991984 | H17: V
B18: Max OFF Time (tOFF) | C18: =((1-(C16*0.01))/C12)*1000000 -> 1833.3333 | D18: ns | F18: DC Output Voltage at ISTEP (VOUT@ISTEP) | G18: =IF(G9="Yes", (1-G12/100)*G17, C27) -> 0.97921443 | H18: V
B19: ON/OFF Time Problem? | C19: =IF(OR(C17<'DS Parameters'!C10,Main!C18<'DS Parameters'!C11), "Yes", "No") -> No | F19: DC Output Voltage at IOUT(MAX) (VOUT@IOUT(MAX)) | G19: =IF(G9="Yes",(1-G16/100)*G17,C27) -> 0.95923046 | H19: V
B20: Switching Frequency Problem? (250kHz ≤ fSW ≤ 1,500kHz) | C20: =IF(OR(C12<250, C12>1500), "Yes", "No") -> No
F21: Recommended DROOP Resistance per Controller (RDROOP) | G21: =IF(G9="Yes",(G16*0.01*'DS Parameters'!C5)/('DS Parameters'!C14*0.000001*C14)*C15, "0") -> 603.01508 | H21: Ω
B22: Use External Clock on SYNC-I (fOSC-15%)? | C22: No | F22: DROOP Capacitor (CDROOP) | G22: =IF(G9="Yes",((G26*1000*G34*0.000000001)/(G21))*1000000000,"Open") -> 69.107276 | H22: nF
B23: Frequency Select Resistor (RFS) | C23: =IF(C22="No",IF(C12=250, 'DS Parameters'!C16, IF(C12=500, 'DS Parameters'!C17, IF(C12=1000, 'DS Parameters'!C18, IF(C12=1500, 'DS Parameters'!C19, (56497/C12)-20.96)))), (56497/(C12*85%)-20.96)) -> 94.2 | D23: kΩ
B24: Bottom Output Feedback Resistor (RFB(BOT)) | C24: 4.99 | D24: kΩ | F24: Equivalent Load-Line Output Impedance (ZOUT(MIN)) | G24: =((G14*0.01*C27)/G10)*1000 -> 0.79935872 | H24: mΩ
B25: Recommended Top Feedback Resistor (RFB(TOP)) | C25: =((C10/'DS Parameters'!C5)-1)*C24 -> 3.3266667 | D25: kΩ | F25: Recommended Compensation Resistor (RCOMP) | G25: =((C27*C30*0.001*'DS Parameters'!C7)/(C14*G24*0.001*'DS Parameters'!C5*'DS Parameters'!C6*0.001))/1000 -> 4.1666667 | H25: kΩ
B26: Selected Top Feedback Resistor (RFB(BOT)) | C26: 3.32 | D26: kΩ | F26: Selected Compensation Resistor (RCOMP) | G26: 4.22 | H26: kΩ
B27: Calculated Output Voltage (VOUT) | C27: ='DS Parameters'!C5*(1+(C26/C24)) -> 0.9991984 | D27: V
F28: Minimum Output Capacitance (COUT(BULK,MIN)) | G28: =((C14*'DS Parameters'!C5*'DS Parameters'!C6*0.001*G26*1000)/(2*PI()*(C12/10)*1000*C27*C30*0.001*'DS Parameters'!C7))*1000000 -> 4033.0361 | H28: µF
B29: Recommended Current Sense Resistor (RSEN) | C29: =(('DS Parameters'!C12*0.001*C14)/C11)*1000 -> 2 | D29: mΩ | F29: Selected Output Capacitance (COUT(BULK,MIN)) | G29: ='COUT Network Design'!C42 -> 5280 | H29: µF | I29: View COUT Network Design Tab
B30: Selected Current Sense Resistor (RSEN) | C30: 2 | D30: mΩ | F30: Crossover Frequency (fT) | G30: =((C14*'DS Parameters'!C5*'DS Parameters'!C6*0.001*G26*1000)/(2*PI()*G29*0.000001*C27*C30*0.001*'DS Parameters'!C7))/1000 -> 38.191629 | H30: kHz
B31: Over-Current Protection 1 Threshold per phase (OC1) | C31: ='DS Parameters'!C13/Main!C30 -> 37.5 | D31: A | F31: Bulk Capacitor ESR Equivalent (ESRTOTAL,MIN) | G31: ='COUT Network Design'!C43 -> 0.25 | H31: mΩ | I31: View COUT Network Design Tab
B32: RSEN Power Dissipation @ OCP1 (PRSEN) | C32: =C31^2*C30*0.001 -> 2.8125 | D32: W | F32: Bulk Output COUT/ESR Zero Frequency (fZ) | G32: =(1/(2*PI()*G29*0.000001*G31*0.001))/1000 -> 120.57193 | H32: kHz
F33: Recommended Pole Capacitor (CPOLE) | G33: =((G29*0.000001*G31*0.001)/(G26*1000))*1000000000000 -> 312.79621 | H33: pF
B34: Target Ripple Current (ΔIL) | C34: 33 | D34: % | F34: Recommended Compensation Capacitor (CCOMP) | G34: =(1/(2*PI()*G26*1000*(G30/10)*1000))*1000000000 -> 9.8750543 | H34: nF
B35: Recommended Inductor Value (LREC) | C35: =(((C9-C27)*C16*0.01*C14)/(C12*1000*C11*C34*0.01))*1000000000 -> 222.23842 | D35: nH
F36: Target In-Rush Current (IRUSH) | G36: 0.5 | H36: A
B37: Selected Inductor Value (LSEL) | C37: 220 | D37: nH | F37: Recommended Soft-Start Capacitor (CSS) | G37: =((G29*0.000001*C27*'DS Parameters'!C15*0.000001*C16*0.01)/(G36*'DS Parameters'!C5))*1000000000 -> 14.65491 | H37: nF
B38: Inductor (LSEL) Ripple Current (ΔIL) | C38: =(((C9-C10)*C16*0.01*C14)/(C37*0.000000001*C12*1000*C11))*100 -> 33.333333 | D38: % | F38: Soft-Start Time (tSS) | G38: =(G37*0.000000001*'DS Parameters'!C5/('DS Parameters'!C15*0.000001))*1000 -> 0.87929459 | H38: ms
B39: Inductor (LSEL) Ripple Current per phase (ΔIL(phase)) | C39: =(C11*C38*0.01)/C14 -> 8.3333333 | D39: A
B40: Slope Resistor (RSLOPE) | C40: =((C30*0.001*C23*1000*C27)/(25000*C37*0.000000001))/1000 -> 34.227087 | D40: kΩ | F40: Target IMON Voltage @ OC1 (VMON) | G40: 0.6 | H40: V
B41: Slope Resistor Problem? (25kΩ ≤ RSLOPE ≤ 100kΩ) | C41: =IF(OR(C40<25, C40>100), "Yes", "No") -> No | F41: IMON Current (IMON) | G41: =C14*C31*C30*0.001*'DS Parameters'!C8*0.001*1000000 -> 58.5 | H41: µA
F42: IMON Resistor (RMON) | G42: =G40/(G41*0.000001)*0.001 -> 10.25641 | H42: kΩ
...

Sheet COUT Network Design
F4: ZOUT(TOTAL) @ fSW | G4: {=_xlfn.IFS(AND($C$64="Yes",$C$78="Yes",$C$92="Yes",$C$50="Yes"),1/((1/C48)+(1/C76)+(1/C90)+(1/C104)+(1/C62)),AND($C$64="Yes",$C$78="Yes",$C$92="Yes",$C$50="No"),1/((1/C48)+(1/C76)+(1/C90)+(1/C104)),AND($C$64="Yes",$C$78="Yes",$C$92="No",$C$50="No"),1/((1/C48)+(1/C76)+(1/C90)),AND($C$64="Yes",$C$78="No",$C$92="No",$C$50="No"),1/((1/C48)+(1/C76)),AND($C$64="No",$C$78="No",$C$92="No",$C$50="No"),1/((1/C48)),AND($C$64="Yes",$C$78="No",$C$92="No",$C$50="Yes"),1/((1/C48)+(1/C76)+(1/C62)), AND($C$64="No",$C$78="No",$C$92="No",$C$50="Yes"),1/((1/C48)+(1/C62)), AND($C$64="No",$C$78="Yes",$C$92="No",$C$50="Yes"),1/((1/C48)+(1/C90)+(1/C62)))} -> 0.55074703 | H4: mΩ
F5: ΔVOUT(RIPPLE) @ fSW | G5: =G4*C35 -> 4.5895585 | H5: mV
F6: ΔVOUT(RIPPLE) @ fSW | G6: =G5/1000/C31*100 -> 0.45932405 | H6: %
B23: These cells are inputs
B24: These cells are the output
B25: These cells are automatically copied from the Main tab for convenience
B28: Max Load Step Rise-Time (tSTEP) | C28: 10 | D28: ns | Z28: FREQ (Hz) | AA28: ZOUT(TOTAL) | AB28: ZOUT(MIN) | AD28: XC(BULK) (mΩ) | AE28: XL(BULK) (mΩ) | AF28: R(BULK) (mΩ) | AG28: Z(BULK) | AI28: XC(MF1) (mΩ) | AJ28: XL(MF1) (mΩ) | AK28: R(MF1) (mΩ) | AL28: Z(MF1) | AN28: XC(MF2) (mΩ) | AO28: XL(MF2) (mΩ) | AP28: R(MF2) (mΩ) | AQ28: Z(MF2) | AS28: XC(MF3) (mΩ) | AT28: XL(MF3) (mΩ) | AU28: R(MF3) (mΩ) | AV28: Z(MF3) | AX28: XC(HF) (Ω) | AY28: XL(HF) (mΩ) | AZ28: R(HF) (mΩ) | BA28: Z(HF) | BC28: fT | BD28: y-value
B29: Target Minimum Output Impedance (ZOUT(MIN)) | C29: =Main!G24 -> 0.79935872 | D29: mΩ | Z29: 1 | AA29: {=_xlfn.IFS(AND($C$64="Yes",$C$78="Yes",$C$92="Yes",$C$50="Yes"),1/((1/AG29)+(1/AL29)+(1/AQ29)+(1/AV29)+(1/BA29)),AND($C$64="Yes",$C$78="Yes",$C$92="Yes",$C$50="No"),1/((1/AG29)+(1/AL29)+(1/AQ29)+(1/AV29)),AND($C$64="Yes",$C$78="Yes",$C$92="No",$C$50="No"),1/((1/AG29)+(1/AL29)+(1/AQ29)),AND($C$64="Yes",$C$78="No",$C$92="No",$C$50="No"),1/((1/AG29)+(1/AL29)),AND($C$64="No",$C$78="No",$C$92="No",$C$50="No"),1/((1/AG29)),AND($C$64="Yes",$C$78="No",$C$92="No",$C$50="Yes"),1/((1/AG29)+(1/AL29)+(1/BA29)), AND($C$64="No",$C$78="No",$C$92="No",$C$50="Yes"),1/((1/AG29)+(1/BA29)), AND($C$64="No",$C$78="Yes",$C$92="No",$C$50="Yes"),1/((1/AG29)+(1/AQ29)+(1/BA29)))} -> 29672.272 | AB29: =$C$29 -> 0.79935872 | AD29: =1000/(2*PI()*$Z29*$C$41*$C$37*0.000001) -> 30142.982 | AE29: =2*PI()*$Z29*((0.000000001*$C$39)/$C$41)*1000 -> 1.3089969e-06 | AF29: =($C$38)/$C$41 -> 0.25 | AG29: =SQRT(AF29^(2)+ABS(AD29-AE29)^(2)) -> 30142.982 | AI29: =1000/(2*PI()*$Z29*$C$69*$C$65*0.000001) -> 1989436.8 | AJ29: =2*PI()*$Z29*((0.000000001*$C$67)/$C$69)*1000 -> 4.712389e-08 | AK29: =($C$66)/$C$69 -> 0.125 | AL29: =IF($C$64="Yes", SQRT(AK29^(2)+ABS(AI29-AJ29)^(2)), NA()) -> 1989436.8 | AN29: =1000/(2*PI()*$Z29*$C$82*$C$79*0.000001) -> 15915494 | AO29: =2*PI()*$Z29*((0.000000001*$C$81)/$C$82)*1000 -> 3.7699112e-06 | AP29: =($C$80)/$C$82 -> 10 | AQ29: =IF($C$78="Yes", SQRT(AP29^(2)+ABS(AN29-AO29)^(2)), NA()) -> #N/A | AS29: =1000/(2*PI()*$Z29*$C$97*$C$93*0.000001) -> 2.4114385e+08 | AT29: =2*PI()*$Z29*((0.000000001*$C$95)/$C$97)*1000 -> 1.8849556e-06 | AU29: =($C$94)/$C$97 -> 5 | AV29: =IF($C$92="Yes", SQRT(AU29^(2)+ABS(AS29-AT29)^(2)), NA()) -> #N/A | AX29: =1000/(2*PI()*$Z29*$C$55*$C$51*0.000001) -> 42328442 | AY29: =2*PI()*$Z29*((0.000000001*$C$53)/$C$55)*1000 -> 4.712389e-08 | AZ29: =($C$52)/$C$55 -> 0.125 | BA29: =IF($C$50="Yes", SQRT(AZ29^(2)+ABS(AX29-AY29)^(2)), NA()) -> 42328442 | BC29: =C30*1000 -> 38191.629 | BD29: 1e-05
B30: Crossover Frequency (fT) | C30: =Main!G30 -> 38.191629 | D30: kHz | Z30: 2 | AA30: {=_xlfn.IFS(AND($C$64="Yes",$C$78="Yes",$C$92="Yes",$C$50="Yes"),1/((1/AG30)+(1/AL30)+(1/AQ30)+(1/AV30)+(1/BA30)),AND($C$64="Yes",$C$78="Yes",$C$92="Yes",$C$50="No"),1/((1/AG30)+(1/AL30)+(1/AQ30)+(1/AV30)),AND($C$64="Yes",$C$78="Yes",$C$92="No",$C$50="No"),1/((1/AG30)+(1/AL30)+(1/AQ30)),AND($C$64="Yes",$C$78="No",$C$92="No",$C$50="No"),1/((1/AG30)+(1/AL30)),AND($C$64="No",$C$78="No",$C$92="No",$C$50="No"),1/((1/AG30)),AND($C$64="Yes",$C$78="No",$C$92="No",$C$50="Yes"),1/((1/AG30)+(1/AL30)+(1/BA30)), AND($C$64="No",$C$78="No",$C$92="No",$C$50="Yes"),1/((1/AG30)+(1/BA30)), AND($C$64="No",$C$78="Yes",$C$92="No",$C$50="Yes"),1/((1/AG30)+(1/AQ30)+(1/BA30)))} -> 14836.136 | AB30: =$C$29 -> 0.79935872 | AD30: =1000/(2*PI()*$Z30*$C$41*$C$37*0.000001) -> 15071.491 | AE30: =2*PI()*$Z30*((0.000000001*$C$39)/$C$41)*1000 -> 2.6179939e-06 | AF30: =($C$38)/$C$41 -> 0.25 | AG30: =SQRT(AF30^(2)+ABS(AD30-AE30)^(2)) -> 15071.491 | AI30: =1000/(2*PI()*$Z30*$C$69*$C$65*0.000001) -> 994718.39 | AJ30: =2*PI()*$Z30*((0.000000001*$C$67)/$C$69)*1000 -> 9.424778e-08 | AK30: =($C$66)/$C$69 -> 0.125 | AL30: =IF($C$64="Yes", SQRT(AK30^(2)+ABS(AI30-AJ30)^(2)), NA()) -> 994718.39 | AN30: =1000/(2*PI()*$Z30*$C$82*$C$79*0.000001) -> 7957747.2 | AO30: =2*PI()*$Z30*((0.000000001*$C$81)/$C$82)*1000 -> 7.5398224e-06 | AP30: =($C$80)/$C$82 -> 10 | AQ30: =IF($C$78="Yes", SQRT(AP30^(2)+ABS(AN30-AO30)^(2)), NA()) -> #N/A | AS30: =1000/(2*PI()*$Z30*$C$97*$C$93*0.000001) -> 1.2057193e+08 | AT30: =2*PI()*$Z30*((0.000000001*$C$95)/$C$97)*1000 -> 3.7699112e-06 | AU30: =($C$94)/$C$97 -> 5 | AV30: =IF($C$92="Yes", SQRT(AU30^(2)+ABS(AS30-AT30)^(2)), NA()) -> #N/A | AX30: =1000/(2*PI()*$Z30*$C$55*$C$51*0.000001) -> 21164221 | AY30: =2*PI()*$Z30*((0.000000001*$C$53)/$C$55)*1000 -> 9.424778e-08 | AZ30: =($C$52)/$C$55 -> 0.125 | BA30: =IF($C$50="Yes", SQRT(AZ30^(2)+ABS(AX30-AY30)^(2)), NA()) -> 21164221
B31: Output Voltage (VOUT) | C31: =Main!C27 -> 0.9991984 | D31: V | Z31: 3 | AA31: {=_xlfn.IFS(AND($C$64="Yes",$C$78="Yes",$C$92="Yes",$C$50="Yes"),1/((1/AG31)+(1/AL31)+(1/AQ31)+(1/AV31)+(1/BA31)),AND($C$64="Yes",$C$78="Yes",$C$92="Yes",$C$50="No"),1/((1/AG31)+(1/AL31)+(1/AQ31)+(1/AV31)),AND($C$64="Yes",$C$78="Yes",$C$92="No",$C$50="No"),1/((1/AG31)+(1/AL31)+(1/AQ31)),AND($C$64="Yes",$C$78="No",$C$92="No",$C$50="No"),1/((1/AG31)+(1/AL31)),AND($C$64="No",$C$78="No",$C$92="No",$C$50="No"),1/((1/AG31)),AND($C$64="Yes",$C$78="No",$C$92="No",$C$50="Yes"),1/((1/AG31)+(1/AL31)+(1/BA31)), AND($C$64="No",$C$78="No",$C$92="No",$C$50="Yes"),1/((1/AG31)+(1/BA31)), AND($C$64="No",$C$78="Yes",$C$92="No",$C$50="Yes"),1/((1/AG31)+(1/AQ31)+(1/BA31)))} -> 9890.7572 | AB31: =$C$29 -> 0.79935872 | AD31: =1000/(2*PI()*$Z31*$C$41*$C$37*0.000001) -> 10047.661 | AE31: =2*PI()*$Z31*((0.000000001*$C$39)/$C$41)*1000 -> 3.9269908e-06 | AF31: =($C$38)/$C$41 -> 0.25 | AG31: =SQRT(AF31^(2)+ABS(AD31-AE31)^(2)) -> 10047.661 | AI31: =1000/(2*PI()*$Z31*$C$69*$C$65*0.000001) -> 663145.6 | AJ31: =2*PI()*$Z31*((0.000000001*$C$67)/$C$69)*1000 -> 1.4137167e-07 | AK31: =($C$66)/$C$69 -> 0.125 | AL31: =IF($C$64="Yes", SQRT(AK31^(2)+ABS(AI31-AJ31)^(2)), NA()) -> 663145.6 | AN31: =1000/(2*PI()*$Z31*$C$82*$C$79*0.000001) -> 5305164.8 | AO31: =2*PI()*$Z31*((0.000000001*$C$81)/$C$82)*1000 -> 1.1309734e-05 | AP31: =($C$80)/$C$82 -> 10 | AQ31: =IF($C$78="Yes", SQRT(AP31^(2)+ABS(AN31-AO31)^(2)), NA()) -> #N/A | AS31: =1000/(2*PI()*$Z31*$C$97*$C$93*0.000001) -> 80381284 | AT31: =2*PI()*$Z31*((0.000000001*$C$95)/$C$97)*1000 -> 5.6548668e-06 | AU31: =($C$94)/$C$97 -> 5 | AV31: =IF($C$92="Yes", SQRT(AU31^(2)+ABS(AS31-AT31)^(2)), NA()) -> #N/A | AX31: =1000/(2*PI()*$Z31*$C$55*$C$51*0.000001) -> 14109481 | AY31: =2*PI()*$Z31*((0.000000001*$C$53)/$C$55)*1000 -> 1.4137167e-07 | AZ31: =($C$52)/$C$55 -> 0.125 | BA31: =IF($C$50="Yes", SQRT(AZ31^(2)+ABS(AX31-AY31)^(2)), NA()) -> 14109481 | BC31: fSTEP | BD31: y-value
B32: Number of Phases (N) | C32: =Main!C14 -> 2 | Z32: 4 | AA32: {=_xlfn.IFS(AND($C$64="Yes",$C$78="Yes",$C$92="Yes",$C$50="Yes"),1/((1/AG32)+(1/AL32)+(1/AQ32)+(1/AV32)+(1/BA32)),AND($C$64="Yes",$C$78="Yes",$C$92="Yes",$C$50="No"),1/((1/AG32)+(1/AL32)+(1/AQ32)+(1/AV32)),AND($C$64="Yes",$C$78="Yes",$C$92="No",$C$50="No"),1/((1/AG32)+(1/AL32)+(1/AQ32)),AND($C$64="Yes",$C$78="No",$C$92="No",$C$50="No"),1/((1/AG32)+(1/AL32)),AND($C$64="No",$C$78="No",$C$92="No",$C$50="No"),1/((1/AG32)),AND($C$64="Yes",$C$78="No",$C$92="No",$C$50="Yes"),1/((1/AG32)+(1/AL32)+(1/BA32)), AND($C$64="No",$C$78="No",$C$92="No",$C$50="Yes"),1/((1/AG32)+(1/BA32)), AND($C$64="No",$C$78="Yes",$C$92="No",$C$50="Yes"),1/((1/AG32)+(1/AQ32)+(1/BA32)))} -> 7418.0679 | AB32: =$C$29 -> 0.79935872 | AD32: =1000/(2*PI()*$Z32*$C$41*$C$37*0.000001) -> 7535.7454 | AE32: =2*PI()*$Z32*((0.000000001*$C$39)/$C$41)*1000 -> 5.2359878e-06 | AF32: =($C$38)/$C$41 -> 0.25 | AG32: =SQRT(AF32^(2)+ABS(AD32-AE32)^(2)) -> 7535.7454 | AI32: =1000/(2*PI()*$Z32*$C$69*$C$65*0.000001) -> 497359.2 | AJ32: =2*PI()*$Z32*((0.000000001*$C$67)/$C$69)*1000 -> 1.8849556e-07 | AK32: =($C$66)/$C$69 -> 0.125 | AL32: =IF($C$64="Yes", SQRT(AK32^(2)+ABS(AI32-AJ32)^(2)), NA()) -> 497359.2 | AN32: =1000/(2*PI()*$Z32*$C$82*$C$79*0.000001) -> 3978873.6 | AO32: =2*PI()*$Z32*((0.000000001*$C$81)/$C$82)*1000 -> 1.5079645e-05 | AP32: =($C$80)/$C$82 -> 10 | AQ32: =IF($C$78="Yes", SQRT(AP32^(2)+ABS(AN32-AO32)^(2)), NA()) -> #N/A | AS32: =1000/(2*PI()*$Z32*$C$97*$C$93*0.000001) -> 60285963 | AT32: =2*PI()*$Z32*((0.000000001*$C$95)/$C$97)*1000 -> 7.5398224e-06 | AU32: =($C$94)/$C$97 -> 5 | AV32: =IF($C$92="Yes", SQRT(AU32^(2)+ABS(AS32-AT32)^(2)), NA()) -> #N/A | AX32: =1000/(2*PI()*$Z32*$C$55*$C$51*0.000001) -> 10582111 | AY32: =2*PI()*$Z32*((0.000000001*$C$53)/$C$55)*1000 -> 1.8849556e-07 | AZ32: =($C$52)/$C$55 -> 0.125 | BA32: =IF($C$50="Yes", SQRT(AZ32^(2)+ABS(AX32-AY32)^(2)), NA()) -> 10582111 | BC32: =0.35/(C28*0.000000001) -> 35000000 | BD32: 1e-05
B33: Switching Frequency (fSW) | C33: =Main!C12 -> 500 | D33: kHz | Z33: 5 | AA33: {=_xlfn.IFS(AND($C$64="Yes",$C$78="Yes",$C$92="Yes",$C$50="Yes"),1/((1/AG33)+(1/AL33)+(1/AQ33)+(1/AV33)+(1/BA33)),AND($C$64="Yes",$C$78="Yes",$C$92="Yes",$C$50="No"),1/((1/AG33)+(1/AL33)+(1/AQ33)+(1/AV33)),AND($C$64="Yes",$C$78="Yes",$C$92="No",$C$50="No"),1/((1/AG33)+(1/AL33)+(1/AQ33)),AND($C$64="Yes",$C$78="No",$C$92="No",$C$50="No"),1/((1/AG33)+(1/AL33)),AND($C$64="No",$C$78="No",$C$92="No",$C$50="No"),1/((1/AG33)),AND($C$64="Yes",$C$78="No",$C$92="No",$C$50="Yes"),1/((1/AG33)+(1/AL33)+(1/BA33)), AND($C$64="No",$C$78="No",$C$92="No",$C$50="Yes"),1/((1/AG33)+(1/BA33)), AND($C$64="No",$C$78="Yes",$C$92="No",$C$50="Yes"),1/((1/AG33)+(1/AQ33)+(1/BA33)))} -> 5934.4543 | AB33: =$C$29 -> 0.79935872 | AD33: =1000/(2*PI()*$Z33*$C$41*$C$37*0.000001) -> 6028.5963 | AE33: =2*PI()*$Z33*((0.000000001*$C$39)/$C$41)*1000 -> 6.5449847e-06 | AF33: =($C$38)/$C$41 -> 0.25 | AG33: =SQRT(AF33^(2)+ABS(AD33-AE33)^(2)) -> 6028.5963 | AI33: =1000/(2*PI()*$Z33*$C$69*$C$65*0.000001) -> 397887.36 | AJ33: =2*PI()*$Z33*((0.000000001*$C$67)/$C$69)*1000 -> 2.3561945e-07 | AK33: =($C$66)/$C$69 -> 0.125 | AL33: =IF($C$64="Yes", SQRT(AK33^(2)+ABS(AI33-AJ33)^(2)), NA()) -> 397887.36 | AN33: =1000/(2*PI()*$Z33*$C$82*$C$79*0.000001) -> 3183098.9 | AO33: =2*PI()*$Z33*((0.000000001*$C$81)/$C$82)*1000 -> 1.8849556e-05 | AP33: =($C$80)/$C$82 -> 10 | AQ33: =IF($C$78="Yes", SQRT(AP33^(2)+ABS(AN33-AO33)^(2)), NA()) -> #N/A | AS33: =1000/(2*PI()*$Z33*$C$97*$C$93*0.000001) -> 48228771 | AT33: =2*PI()*$Z33*((0.000000001*$C$95)/$C$97)*1000 -> 9.424778e-06 | AU33: =($C$94)/$C$97 -> 5 | AV33: =IF($C$92="Yes", SQRT(AU33^(2)+ABS(AS33-AT33)^(2)), NA()) -> #N/A | AX33: =1000/(2*PI()*$Z33*$C$55*$C$51*0.000001) -> 8465688.5 | AY33: =2*PI()*$Z33*((0.000000001*$C$53)/$C$55)*1000 -> 2.3561945e-07 | AZ33: =($C$52)/$C$55 -> 0.125 | BA33: =IF($C$50="Yes", SQRT(AZ33^(2)+ABS(AX33-AY33)^(2)), NA()) -> 8465688.5
B34: Minimum Bulk Output Capacitance (COUT(BULK, MIN)) | C34: =Main!G28 -> 4033.0361 | D34: µF | Z34: 6 | AA34: {=_xlfn.IFS(AND($C$64="Yes",$C$78="Yes",$C$92="Yes",$C$50="Yes"),1/((1/AG34)+(1/AL34)+(1/AQ34)+(1/AV34)+(1/BA34)),AND($C$64="Yes",$C$78="Yes",$C$92="Yes",$C$50="No"),1/((1/AG34)+(1/AL34)+(1/AQ34)+(1/AV34)),AND($C$64="Yes",$C$78="Yes",$C$92="No",$C$50="No"),1/((1/AG34)+(1/AL34)+(1/AQ34)),AND($C$64="Yes",$C$78="No",$C$92="No",$C$50="No"),1/((1/AG34)+(1/AL34)),AND($C$64="No",$C$78="No",$C$92="No",$C$50="No"),1/((1/AG34)),AND($C$64="Yes",$C$78="No",$C$92="No",$C$50="Yes"),1/((1/AG34)+(1/AL34)+(1/BA34)), AND($C$64="No",$C$78="No",$C$92="No",$C$50="Yes"),1/((1/AG34)+(1/BA34)), AND($C$64="No",$C$78="Yes",$C$92="No",$C$50="Yes"),1/((1/AG34)+(1/AQ34)+(1/BA34)))} -> 4945.3786 | AB34: =$C$29 -> 0.79935872 | AD34: =1000/(2*PI()*$Z34*$C$41*$C$37*0.000001) -> 5023.8303 | AE34: =2*PI()*$Z34*((0.000000001*$C$39)/$C$41)*1000 -> 7.8539816e-06 | AF34: =($C$38)/$C$41 -> 0.25 | AG34: =SQRT(AF34^(2)+ABS(AD34-AE34)^(2)) -> 5023.8303 | AI34: =1000/(2*PI()*$Z34*$C$69*$C$65*0.000001) -> 331572.8 | AJ34: =2*PI()*$Z34*((0.000000001*$C$67)/$C$69)*1000 -> 2.8274334e-07 | AK34: =($C$66)/$C$69 -> 0.125 | AL34: =IF($C$64="Yes", SQRT(AK34^(2)+ABS(AI34-AJ34)^(2)), NA()) -> 331572.8 | AN34: =1000/(2*PI()*$Z34*$C$82*$C$79*0.000001) -> 2652582.4 | AO34: =2*PI()*$Z34*((0.000000001*$C$81)/$C$82)*1000 -> 2.2619467e-05 | AP34: =($C$80)/$C$82 -> 10 | AQ34: =IF($C$78="Yes", SQRT(AP34^(2)+ABS(AN34-AO34)^(2)), NA()) -> #N/A | AS34: =1000/(2*PI()*$Z34*$C$97*$C$93*0.000001) -> 40190642 | AT34: =2*PI()*$Z34*((0.000000001*$C$95)/$C$97)*1000 -> 1.1309734e-05 | AU34: =($C$94)/$C$97 -> 5 | AV34: =IF($C$92="Yes", SQRT(AU34^(2)+ABS(AS34-AT34)^(2)), NA()) -> #N/A | AX34: =1000/(2*PI()*$Z34*$C$55*$C$51*0.000001) -> 7054740.4 | AY34: =2*PI()*$Z34*((0.000000001*$C$53)/$C$55)*1000 -> 2.8274334e-07 | AZ34: =($C$52)/$C$55 -> 0.125 | BA34: =IF($C$50="Yes", SQRT(AZ34^(2)+ABS(AX34-AY34)^(2)), NA()) -> 7054740.4 | BC34: fSW | BD34: y-value
B35: Inductor (LSEL) Ripple Current per phase (ΔIL(phase)) | C35: =Main!C39 -> 8.3333333 | D35: A | Z35: 7 | AA35: {=_xlfn.IFS(AND($C$64="Yes",$C$78="Yes",$C$92="Yes",$C$50="Yes"),1/((1/AG35)+(1/AL35)+(1/AQ35)+(1/AV35)+(1/BA35)),AND($C$64="Yes",$C$78="Yes",$C$92="Yes",$C$50="No"),1/((1/AG35)+(1/AL35)+(1/AQ35)+(1/AV35)),AND($C$64="Yes",$C$78="Yes",$C$92="No",$C$50="No"),1/((1/AG35)+(1/AL35)+(1/AQ35)),AND($C$64="Yes",$C$78="No",$C$92="No",$C$50="No"),1/((1/AG35)+(1/AL35)),AND($C$64="No",$C$78="No",$C$92="No",$C$50="No"),1/((1/AG35)),AND($C$64="Yes",$C$78="No",$C$92="No",$C$50="Yes"),1/((1/AG35)+(1/AL35)+(1/BA35)), AND($C$64="No",$C$78="No",$C$92="No",$C$50="Yes"),1/((1/AG35)+(1/BA35)), AND($C$64="No",$C$78="Yes",$C$92="No",$C$50="Yes"),1/((1/AG35)+(1/AQ35)+(1/BA35)))} -> 4238.8959 | AB35: =$C$29 -> 0.79935872 | AD35: =1000/(2*PI()*$Z35*$C$41*$C$37*0.000001) -> 4306.1402 | AE35: =2*PI()*$Z35*((0.000000001*$C$39)/$C$41)*1000 -> 9.1629786e-06 | AF35: =($C$38)/$C$41 -> 0.25 | AG35: =SQRT(AF35^(2)+ABS(AD35-AE35)^(2)) -> 4306.1402 | AI35: =1000/(2*PI()*$Z35*$C$69*$C$65*0.000001) -> 284205.26 | AJ35: =2*PI()*$Z35*((0.000000001*$C$67)/$C$69)*1000 -> 3.2986723e-07 | AK35: =($C$66)/$C$69 -> 0.125 | AL35: =IF($C$64="Yes", SQRT(AK35^(2)+ABS(AI35-AJ35)^(2)), NA()) -> 284205.26 | AN35: =1000/(2*PI()*$Z35*$C$82*$C$79*0.000001) -> 2273642 | AO35: =2*PI()*$Z35*((0.000000001*$C$81)/$C$82)*1000 -> 2.6389378e-05 | AP35: =($C$80)/$C$82 -> 10 | AQ35: =IF($C$78="Yes", SQRT(AP35^(2)+ABS(AN35-AO35)^(2)), NA()) -> #N/A | AS35: =1000/(2*PI()*$Z35*$C$97*$C$93*0.000001) -> 34449122 | AT35: =2*PI()*$Z35*((0.000000001*$C$95)/$C$97)*1000 -> 1.3194689e-05 | AU35: =($C$94)/$C$97 -> 5 | AV35: =IF($C$92="Yes", SQRT(AU35^(2)+ABS(AS35-AT35)^(2)), NA()) -> #N/A | AX35: =1000/(2*PI()*$Z35*$C$55*$C$51*0.000001) -> 6046920.3 | AY35: =2*PI()*$Z35*((0.000000001*$C$53)/$C$55)*1000 -> 3.2986723e-07 | AZ35: =($C$52)/$C$55 -> 0.125 | BA35: =IF($C$50="Yes", SQRT(AZ35^(2)+ABS(AX35-AY35)^(2)), NA()) -> 6046920.3 | BC35: =$C$33*1000 -> 500000 | BD35: 1e-05
H36: MFR PN | I36: T530D227M010ATE006 | Z36: 8 | AA36: {=_xlfn.IFS(AND($C$64="Yes",$C$78="Yes",$C$92="Yes",$C$50="Yes"),1/((1/AG36)+(1/AL36)+(1/AQ36)+(1/AV36)+(1/BA36)),AND($C$64="Yes",$C$78="Yes",$C$92="Yes",$C$50="No"),1/((1/AG36)+(1/AL36)+(1/AQ36)+(1/AV36)),AND($C$64="Yes",$C$78="Yes",$C$92="No",$C$50="No"),1/((1/AG36)+(1/AL36)+(1/AQ36)),AND($C$64="Yes",$C$78="No",$C$92="No",$C$50="No"),1/((1/AG36)+(1/AL36)),AND($C$64="No",$C$78="No",$C$92="No",$C$50="No"),1/((1/AG36)),AND($C$64="Yes",$C$78="No",$C$92="No",$C$50="Yes"),1/((1/AG36)+(1/AL36)+(1/BA36)), AND($C$64="No",$C$78="No",$C$92="No",$C$50="Yes"),1/((1/AG36)+(1/BA36)), AND($C$64="No",$C$78="Yes",$C$92="No",$C$50="Yes"),1/((1/AG36)+(1/AQ36)+(1/BA36)))} -> 3709.0339 | AB36: =$C$29 -> 0.79935872 | AD36: =1000/(2*PI()*$Z36*$C$41*$C$37*0.000001) -> 3767.8727 | AE36: =2*PI()*$Z36*((0.000000001*$C$39)/$C$41)*1000 -> 1.0471976e-05 | AF36: =($C$38)/$C$41 -> 0.25 | AG36: =SQRT(AF36^(2)+ABS(AD36-AE36)^(2)) -> 3767.8727 | AI36: =1000/(2*PI()*$Z36*$C$69*$C$65*0.000001) -> 248679.6 | AJ36: =2*PI()*$Z36*((0.000000001*$C$67)/$C$69)*1000 -> 3.7699112e-07 | AK36: =($C$66)/$C$69 -> 0.125 | AL36: =IF($C$64="Yes", SQRT(AK36^(2)+ABS(AI36-AJ36)^(2)), NA()) -> 248679.6 | AN36: =1000/(2*PI()*$Z36*$C$82*$C$79*0.000001) -> 1989436.8 | AO36: =2*PI()*$Z36*((0.000000001*$C$81)/$C$82)*1000 -> 3.0159289e-05 | AP36: =($C$80)/$C$82 -> 10 | AQ36: =IF($C$78="Yes", SQRT(AP36^(2)+ABS(AN36-AO36)^(2)), NA()) -> #N/A | AS36: =1000/(2*PI()*$Z36*$C$97*$C$93*0.000001) -> 30142982 | AT36: =2*PI()*$Z36*((0.000000001*$C$95)/$C$97)*1000 -> 1.5079645e-05 | AU36: =($C$94)/$C$97 -> 5 | AV36: =IF($C$92="Yes", SQRT(AU36^(2)+ABS(AS36-AT36)^(2)), NA()) -> #N/A | AX36: =1000/(2*PI()*$Z36*$C$55*$C$51*0.000001) -> 5291055.3 | AY36: =2*PI()*$Z36*((0.000000001*$C$53)/$C$55)*1000 -> 3.7699112e-07 | AZ36: =($C$52)/$C$55 -> 0.125 | BA36: =IF($C$50="Yes", SQRT(AZ36^(2)+ABS(AX36-AY36)^(2)), NA()) -> 5291055.3
B37: Bulk Output Capacitor Value (COUT(BULK)) | C37: 220 | D37: µF | H37: CAP (µF) | I37: 220 | Z37: 9 | AA37: {=_xlfn.IFS(AND($C$64="Yes",$C$78="Yes",$C$92="Yes",$C$50="Yes"),1/((1/AG37)+(1/AL37)+(1/AQ37)+(1/AV37)+(1/BA37)),AND($C$64="Yes",$C$78="Yes",$C$92="Yes",$C$50="No"),1/((1/AG37)+(1/AL37)+(1/AQ37)+(1/AV37)),AND($C$64="Yes",$C$78="Yes",$C$92="No",$C$50="No"),1/((1/AG37)+(1/AL37)+(1/AQ37)),AND($C$64="Yes",$C$78="No",$C$92="No",$C$50="No"),1/((1/AG37)+(1/AL37)),AND($C$64="No",$C$78="No",$C$92="No",$C$50="No"),1/((1/AG37)),AND($C$64="Yes",$C$78="No",$C$92="No",$C$50="Yes"),1/((1/AG37)+(1/AL37)+(1/BA37)), AND($C$64="No",$C$78="No",$C$92="No",$C$50="Yes"),1/((1/AG37)+(1/BA37)), AND($C$64="No",$C$78="Yes",$C$92="No",$C$50="Yes"),1/((1/AG37)+(1/AQ37)+(1/BA37)))} -> 3296.9191 | AB37: =$C$29 -> 0.79935872 | AD37: =1000/(2*PI()*$Z37*$C$41*$C$37*0.000001) -> 3349.2202 | AE37: =2*PI()*$Z37*((0.000000001*$C$39)/$C$41)*1000 -> 1.1780972e-05 | AF37: =($C$38)/$C$41 -> 0.25 | AG37: =SQRT(AF37^(2)+ABS(AD37-AE37)^(2)) -> 3349.2202 | AI37: =1000/(2*PI()*$Z37*$C$69*$C$65*0.000001) -> 221048.53 | AJ37: =2*PI()*$Z37*((0.000000001*$C$67)/$C$69)*1000 -> 4.2411501e-07 | AK37: =($C$66)/$C$69 -> 0.125 | AL37: =IF($C$64="Yes", SQRT(AK37^(2)+ABS(AI37-AJ37)^(2)), NA()) -> 221048.53 | AN37: =1000/(2*PI()*$Z37*$C$82*$C$79*0.000001) -> 1768388.3 | AO37: =2*PI()*$Z37*((0.000000001*$C$81)/$C$82)*1000 -> 3.3929201e-05 | AP37: =($C$80)/$C$82 -> 10 | AQ37: =IF($C$78="Yes", SQRT(AP37^(2)+ABS(AN37-AO37)^(2)), NA()) -> #N/A | AS37: =1000/(2*PI()*$Z37*$C$97*$C$93*0.000001) -> 26793761 | AT37: =2*PI()*$Z37*((0.000000001*$C$95)/$C$97)*1000 -> 1.69646e-05 | AU37: =($C$94)/$C$97 -> 5 | AV37: =IF($C$92="Yes", SQRT(AU37^(2)+ABS(AS37-AT37)^(2)), NA()) -> #N/A | AX37: =1000/(2*PI()*$Z37*$C$55*$C$51*0.000001) -> 4703160.3 | AY37: =2*PI()*$Z37*((0.000000001*$C$53)/$C$55)*1000 -> 4.2411501e-07 | AZ37: =($C$52)/$C$55 -> 0.125 | BA37: =IF($C$50="Yes", SQRT(AZ37^(2)+ABS(AX37-AY37)^(2)), NA()) -> 4703160.3
B38: Bulk Output Capacitor ESR | C38: 6 | D38: mΩ | H38: ESR (mΩ) | I38: 6 | Z38: 10 | AA38: {=_xlfn.IFS(AND($C$64="Yes",$C$78="Yes",$C$92="Yes",$C$50="Yes"),1/((1/AG38)+(1/AL38)+(1/AQ38)+(1/AV38)+(1/BA38)),AND($C$64="Yes",$C$78="Yes",$C$92="Yes",$C$50="No"),1/((1/AG38)+(1/AL38)+(1/AQ38)+(1/AV38)),AND($C$64="Yes",$C$78="Yes",$C$92="No",$C$50="No"),1/((1/AG38)+(1/AL38)+(1/AQ38)),AND($C$64="Yes",$C$78="No",$C$92="No",$C$50="No"),1/((1/AG38)+(1/AL38)),AND($C$64="No",$C$78="No",$C$92="No",$C$50="No"),1/((1/AG38)),AND($C$64="Yes",$C$78="No",$C$92="No",$C$50="Yes"),1/((1/AG38)+(1/AL38)+(1/BA38)), AND($C$64="No",$C$78="No",$C$92="No",$C$50="Yes"),1/((1/AG38)+(1/BA38)), AND($C$64="No",$C$78="Yes",$C$92="No",$C$50="Yes"),1/((1/AG38)+(1/AQ38)+(1/BA38)))} -> 2967.2271 | AB38: =$C$29 -> 0.79935872 | AD38: =1000/(2*PI()*$Z38*$C$41*$C$37*0.000001) -> 3014.2982 | AE38: =2*PI()*$Z38*((0.000000001*$C$39)/$C$41)*1000 -> 1.3089969e-05 | AF38: =($C$38)/$C$41 -> 0.25 | AG38: =SQRT(AF38^(2)+ABS(AD38-AE38)^(2)) -> 3014.2982 | AI38: =1000/(2*PI()*$Z38*$C$69*$C$65*0.000001) -> 198943.68 | AJ38: =2*PI()*$Z38*((0.000000001*$C$67)/$C$69)*1000 -> 4.712389e-07 | AK38: =($C$66)/$C$69 -> 0.125 | AL38: =IF($C$64="Yes", SQRT(AK38^(2)+ABS(AI38-AJ38)^(2)), NA()) -> 198943.68 | AN38: =1000/(2*PI()*$Z38*$C$82*$C$79*0.000001) -> 1591549.4 | AO38: =2*PI()*$Z38*((0.000000001*$C$81)/$C$82)*1000 -> 3.7699112e-05 | AP38: =($C$80)/$C$82 -> 10 | AQ38: =IF($C$78="Yes", SQRT(AP38^(2)+ABS(AN38-AO38)^(2)), NA()) -> #N/A | AS38: =1000/(2*PI()*$Z38*$C$97*$C$93*0.000001) -> 24114385 | AT38: =2*PI()*$Z38*((0.000000001*$C$95)/$C$97)*1000 -> 1.8849556e-05 | AU38: =($C$94)/$C$97 -> 5 | AV38: =IF($C$92="Yes", SQRT(AU38^(2)+ABS(AS38-AT38)^(2)), NA()) -> #N/A | AX38: =1000/(2*PI()*$Z38*$C$55*$C$51*0.000001) -> 4232844.2 | AY38: =2*PI()*$Z38*((0.000000001*$C$53)/$C$55)*1000 -> 4.712389e-07 | AZ38: =($C$52)/$C$55 -> 0.125 | BA38: =IF($C$50="Yes", SQRT(AZ38^(2)+ABS(AX38-AY38)^(2)), NA()) -> 4232844.2
B39: Bulk Output Capacitor ESL | C39: 5 | D39: nH | H39: Volt Rating (V) | I39: 10 | Z39: 15 | AA39: {=_xlfn.IFS(AND($C$64="Yes",$C$78="Yes",$C$92="Yes",$C$50="Yes"),1/((1/AG39)+(1/AL39)+(1/AQ39)+(1/AV39)+(1/BA39)),AND($C$64="Yes",$C$78="Yes",$C$92="Yes",$C$50="No"),1/((1/AG39)+(1/AL39)+(1/AQ39)+(1/AV39)),AND($C$64="Yes",$C$78="Yes",$C$92="No",$C$50="No"),1/((1/AG39)+(1/AL39)+(1/AQ39)),AND($C$64="Yes",$C$78="No",$C$92="No",$C$50="No"),1/((1/AG39)+(1/AL39)),AND($C$64="No",$C$78="No",$C$92="No",$C$50="No"),1/((1/AG39)),AND($C$64="Yes",$C$78="No",$C$92="No",$C$50="Yes"),1/((1/AG39)+(1/AL39)+(1/BA39)), AND($C$64="No",$C$78="No",$C$92="No",$C$50="Yes"),1/((1/AG39)+(1/BA39)), AND($C$64="No",$C$78="Yes",$C$92="No",$C$50="Yes"),1/((1/AG39)+(1/AQ39)+(1/BA39)))} -> 1978.1514 | AB39: =$C$29 -> 0.79935872 | AD39: =1000/(2*PI()*$Z39*$C$41*$C$37*0.000001) -> 2009.5321 | AE39: =2*PI()*$Z39*((0.000000001*$C$39)/$C$41)*1000 -> 1.9634954e-05 | AF39: =($C$38)/$C$41 -> 0.25 | AG39: =SQRT(AF39^(2)+ABS(AD39-AE39)^(2)) -> 2009.5321 | AI39: =1000/(2*PI()*$Z39*$C$69*$C$65*0.000001) -> 132629.12 | AJ39: =2*PI()*$Z39*((0.000000001*$C$67)/$C$69)*1000 -> 7.0685835e-07 | AK39: =($C$66)/$C$69 -> 0.125 | AL39: =IF($C$64="Yes", SQRT(AK39^(2)+ABS(AI39-AJ39)^(2)), NA()) -> 132629.12 | AN39: =1000/(2*PI()*$Z39*$C$82*$C$79*0.000001) -> 1061033 | AO39: =2*PI()*$Z39*((0.000000001*$C$81)/$C$82)*1000 -> 5.6548668e-05 | AP39: =($C$80)/$C$82 -> 10 | AQ39: =IF($C$78="Yes", SQRT(AP39^(2)+ABS(AN39-AO39)^(2)), NA()) -> #N/A | AS39: =1000/(2*PI()*$Z39*$C$97*$C$93*0.000001) -> 16076257 | AT39: =2*PI()*$Z39*((0.000000001*$C$95)/$C$97)*1000 -> 2.8274334e-05 | AU39: =($C$94)/$C$97 -> 5 | AV39: =IF($C$92="Yes", SQRT(AU39^(2)+ABS(AS39-AT39)^(2)), NA()) -> #N/A | AX39: =1000/(2*PI()*$Z39*$C$55*$C$51*0.000001) -> 2821896.2 | AY39: =2*PI()*$Z39*((0.000000001*$C$53)/$C$55)*1000 -> 7.0685835e-07 | AZ39: =($C$52)/$C$55 -> 0.125 | BA39: =IF($C$50="Yes", SQRT(AZ39^(2)+ABS(AX39-AY39)^(2)), NA()) -> 2821896.2
B40: Quantity per Phase | C40: 12 | H40: RMS Voltage @ 85C (V) | Z40: 20 | AA40: {=_xlfn.IFS(AND($C$64="Yes",$C$78="Yes",$C$92="Yes",$C$50="Yes"),1/((1/AG40)+(1/AL40)+(1/AQ40)+(1/AV40)+(1/BA40)),AND($C$64="Yes",$C$78="Yes",$C$92="Yes",$C$50="No"),1/((1/AG40)+(1/AL40)+(1/AQ40)+(1/AV40)),AND($C$64="Yes",$C$78="Yes",$C$92="No",$C$50="No"),1/((1/AG40)+(1/AL40)+(1/AQ40)),AND($C$64="Yes",$C$78="No",$C$92="No",$C$50="No"),1/((1/AG40)+(1/AL40)),AND($C$64="No",$C$78="No",$C$92="No",$C$50="No"),1/((1/AG40)),AND($C$64="Yes",$C$78="No",$C$92="No",$C$50="Yes"),1/((1/AG40)+(1/AL40)+(1/BA40)), AND($C$64="No",$C$78="No",$C$92="No",$C$50="Yes"),1/((1/AG40)+(1/BA40)), AND($C$64="No",$C$78="Yes",$C$92="No",$C$50="Yes"),1/((1/AG40)+(1/AQ40)+(1/BA40)))} -> 1483.6136 | AB40: =$C$29 -> 0.79935872 | AD40: =1000/(2*PI()*$Z40*$C$41*$C$37*0.000001) -> 1507.1491 | AE40: =2*PI()*$Z40*((0.000000001*$C$39)/$C$41)*1000 -> 2.6179939e-05 | AF40: =($C$38)/$C$41 -> 0.25 | AG40: =SQRT(AF40^(2)+ABS(AD40-AE40)^(2)) -> 1507.1491 | AI40: =1000/(2*PI()*$Z40*$C$69*$C$65*0.000001) -> 99471.839 | AJ40: =2*PI()*$Z40*((0.000000001*$C$67)/$C$69)*1000 -> 9.424778e-07 | AK40: =($C$66)/$C$69 -> 0.125 | AL40: =IF($C$64="Yes", SQRT(AK40^(2)+ABS(AI40-AJ40)^(2)), NA()) -> 99471.839 | AN40: =1000/(2*PI()*$Z40*$C$82*$C$79*0.000001) -> 795774.72 | AO40: =2*PI()*$Z40*((0.000000001*$C$81)/$C$82)*1000 -> 7.5398224e-05 | AP40: =($C$80)/$C$82 -> 10 | AQ40: =IF($C$78="Yes", SQRT(AP40^(2)+ABS(AN40-AO40)^(2)), NA()) -> #N/A | AS40: =1000/(2*PI()*$Z40*$C$97*$C$93*0.000001) -> 12057193 | AT40: =2*PI()*$Z40*((0.000000001*$C$95)/$C$97)*1000 -> 3.7699112e-05 | AU40: =($C$94)/$C$97 -> 5 | AV40: =IF($C$92="Yes", SQRT(AU40^(2)+ABS(AS40-AT40)^(2)), NA()) -> #N/A | AX40: =1000/(2*PI()*$Z40*$C$55*$C$51*0.000001) -> 2116422.1 | AY40: =2*PI()*$Z40*((0.000000001*$C$53)/$C$55)*1000 -> 9.424778e-07 | AZ40: =($C$52)/$C$55 -> 0.125 | BA40: =IF($C$50="Yes", SQRT(AZ40^(2)+ABS(AX40-AY40)^(2)), NA()) -> 2116422.1
B41: Total Quantity | C41: =$C$32*C40 -> 24 | H41: RMS Current @ 85C (A) | Z41: 25 | AA41: {=_xlfn.IFS(AND($C$64="Yes",$C$78="Yes",$C$92="Yes",$C$50="Yes"),1/((1/AG41)+(1/AL41)+(1/AQ41)+(1/AV41)+(1/BA41)),AND($C$64="Yes",$C$78="Yes",$C$92="Yes",$C$50="No"),1/((1/AG41)+(1/AL41)+(1/AQ41)+(1/AV41)),AND($C$64="Yes",$C$78="Yes",$C$92="No",$C$50="No"),1/((1/AG41)+(1/AL41)+(1/AQ41)),AND($C$64="Yes",$C$78="No",$C$92="No",$C$50="No"),1/((1/AG41)+(1/AL41)),AND($C$64="No",$C$78="No",$C$92="No",$C$50="No"),1/((1/AG41)),AND($C$64="Yes",$C$78="No",$C$92="No",$C$50="Yes"),1/((1/AG41)+(1/AL41)+(1/BA41)), AND($C$64="No",$C$78="No",$C$92="No",$C$50="Yes"),1/((1/AG41)+(1/BA41)), AND($C$64="No",$C$78="Yes",$C$92="No",$C$50="Yes"),1/((1/AG41)+(1/AQ41)+(1/BA41)))} -> 1186.8909 | AB41: =$C$29 -> 0.79935872 | AD41: =1000/(2*PI()*$Z41*$C$41*$C$37*0.000001) -> 1205.7193 | AE41: =2*PI()*$Z41*((0.000000001*$C$39)/$C$41)*1000 -> 3.2724923e-05 | AF41: =($C$38)/$C$41 -> 0.25 | AG41: =SQRT(AF41^(2)+ABS(AD41-AE41)^(2)) -> 1205.7193 | AI41: =1000/(2*PI()*$Z41*$C$69*$C$65*0.000001) -> 79577.472 | AJ41: =2*PI()*$Z41*((0.000000001*$C$67)/$C$69)*1000 -> 1.1780972e-06 | AK41: =($C$66)/$C$69 -> 0.125 | AL41: =IF($C$64="Yes", SQRT(AK41^(2)+ABS(AI41-AJ41)^(2)), NA()) -> 79577.472 | AN41: =1000/(2*PI()*$Z41*$C$82*$C$79*0.000001) -> 636619.77 | AO41: =2*PI()*$Z41*((0.000000001*$C$81)/$C$82)*1000 -> 9.424778e-05 | AP41: =($C$80)/$C$82 -> 10 | AQ41: =IF($C$78="Yes", SQRT(AP41^(2)+ABS(AN41-AO41)^(2)), NA()) -> #N/A | AS41: =1000/(2*PI()*$Z41*$C$97*$C$93*0.000001) -> 9645754.1 | AT41: =2*PI()*$Z41*((0.000000001*$C$95)/$C$97)*1000 -> 4.712389e-05 | AU41: =($C$94)/$C$97 -> 5 | AV41: =IF($C$92="Yes", SQRT(AU41^(2)+ABS(AS41-AT41)^(2)), NA()) -> #N/A | AX41: =1000/(2*PI()*$Z41*$C$55*$C$51*0.000001) -> 1693137.7 | AY41: =2*PI()*$Z41*((0.000000001*$C$53)/$C$55)*1000 -> 1.1780972e-06 | AZ41: =($C$52)/$C$55 -> 0.125 | BA41: =IF($C$50="Yes", SQRT(AZ41^(2)+ABS(AX41-AY41)^(2)), NA()) -> 1693137.7
B42: Total Bulk Output Capacitance (COUT(TOTAL, BULK)) | C42: =C41*C37 -> 5280 | D42: µF | H42: DLA/ESCC | Z42: 30 | AA42: {=_xlfn.IFS(AND($C$64="Yes",$C$78="Yes",$C$92="Yes",$C$50="Yes"),1/((1/AG42)+(1/AL42)+(1/AQ42)+(1/AV42)+(1/BA42)),AND($C$64="Yes",$C$78="Yes",$C$92="Yes",$C$50="No"),1/((1/AG42)+(1/AL42)+(1/AQ42)+(1/AV42)),AND($C$64="Yes",$C$78="Yes",$C$92="No",$C$50="No"),1/((1/AG42)+(1/AL42)+(1/AQ42)),AND($C$64="Yes",$C$78="No",$C$92="No",$C$50="No"),1/((1/AG42)+(1/AL42)),AND($C$64="No",$C$78="No",$C$92="No",$C$50="No"),1/((1/AG42)),AND($C$64="Yes",$C$78="No",$C$92="No",$C$50="Yes"),1/((1/AG42)+(1/AL42)+(1/BA42)), AND($C$64="No",$C$78="No",$C$92="No",$C$50="Yes"),1/((1/AG42)+(1/BA42)), AND($C$64="No",$C$78="Yes",$C$92="No",$C$50="Yes"),1/((1/AG42)+(1/AQ42)+(1/BA42)))} -> 989.07571 | AB42: =$C$29 -> 0.79935872 | AD42: =1000/(2*PI()*$Z42*$C$41*$C$37*0.000001) -> 1004.7661 | AE42: =2*PI()*$Z42*((0.000000001*$C$39)/$C$41)*1000 -> 3.9269908e-05 | AF42: =($C$38)/$C$41 -> 0.25 | AG42: =SQRT(AF42^(2)+ABS(AD42-AE42)^(2)) -> 1004.766 | AI42: =1000/(2*PI()*$Z42*$C$69*$C$65*0.000001) -> 66314.56 | AJ42: =2*PI()*$Z42*((0.000000001*$C$67)/$C$69)*1000 -> 1.4137167e-06 | AK42: =($C$66)/$C$69 -> 0.125 | AL42: =IF($C$64="Yes", SQRT(AK42^(2)+ABS(AI42-AJ42)^(2)), NA()) -> 66314.56 | AN42: =1000/(2*PI()*$Z42*$C$82*$C$79*0.000001) -> 530516.48 | AO42: =2*PI()*$Z42*((0.000000001*$C$81)/$C$82)*1000 -> 0.00011309734 | AP42: =($C$80)/$C$82 -> 10 | AQ42: =IF($C$78="Yes", SQRT(AP42^(2)+ABS(AN42-AO42)^(2)), NA()) -> #N/A | AS42: =1000/(2*PI()*$Z42*$C$97*$C$93*0.000001) -> 8038128.4 | AT42: =2*PI()*$Z42*((0.000000001*$C$95)/$C$97)*1000 -> 5.6548668e-05 | AU42: =($C$94)/$C$97 -> 5 | AV42: =IF($C$92="Yes", SQRT(AU42^(2)+ABS(AS42-AT42)^(2)), NA()) -> #N/A | AX42: =1000/(2*PI()*$Z42*$C$55*$C$51*0.000001) -> 1410948.1 | AY42: =2*PI()*$Z42*((0.000000001*$C$53)/$C$55)*1000 -> 1.4137167e-06 | AZ42: =($C$52)/$C$55 -> 0.125 | BA42: =IF($C$50="Yes", SQRT(AZ42^(2)+ABS(AX42-AY42)^(2)), NA()) -> 1410948.1
B43: Total Bulk Output Capacitance ESR | C43: =C38/$C$41 -> 0.25 | D43: mΩ | Z43: 35 | AA43: {=_xlfn.IFS(AND($C$64="Yes",$C$78="Yes",$C$92="Yes",$C$50="Yes"),1/((1/AG43)+(1/AL43)+(1/AQ43)+(1/AV43)+(1/BA43)),AND($C$64="Yes",$C$78="Yes",$C$92="Yes",$C$50="No"),1/((1/AG43)+(1/AL43)+(1/AQ43)+(1/AV43)),AND($C$64="Yes",$C$78="Yes",$C$92="No",$C$50="No"),1/((1/AG43)+(1/AL43)+(1/AQ43)),AND($C$64="Yes",$C$78="No",$C$92="No",$C$50="No"),1/((1/AG43)+(1/AL43)),AND($C$64="No",$C$78="No",$C$92="No",$C$50="No"),1/((1/AG43)),AND($C$64="Yes",$C$78="No",$C$92="No",$C$50="Yes"),1/((1/AG43)+(1/AL43)+(1/BA43)), AND($C$64="No",$C$78="No",$C$92="No",$C$50="Yes"),1/((1/AG43)+(1/BA43)), AND($C$64="No",$C$78="Yes",$C$92="No",$C$50="Yes"),1/((1/AG43)+(1/AQ43)+(1/BA43)))} -> 847.77918 | AB43: =$C$29 -> 0.79935872 | AD43: =1000/(2*PI()*$Z43*$C$41*$C$37*0.000001) -> 861.22805 | AE43: =2*PI()*$Z43*((0.000000001*$C$39)/$C$41)*1000 -> 4.5814893e-05 | AF43: =($C$38)/$C$41 -> 0.25 | AG43: =SQRT(AF43^(2)+ABS(AD43-AE43)^(2)) -> 861.22804 | AI43: =1000/(2*PI()*$Z43*$C$69*$C$65*0.000001) -> 56841.051 | AJ43: =2*PI()*$Z43*((0.000000001*$C$67)/$C$69)*1000 -> 1.6493361e-06 | AK43: =($C$66)/$C$69 -> 0.125 | AL43: =IF($C$64="Yes", SQRT(AK43^(2)+ABS(AI43-AJ43)^(2)), NA()) -> 56841.051 | AN43: =1000/(2*PI()*$Z43*$C$82*$C$79*0.000001) -> 454728.41 | AO43: =2*PI()*$Z43*((0.000000001*$C$81)/$C$82)*1000 -> 0.00013194689 | AP43: =($C$80)/$C$82 -> 10 | AQ43: =IF($C$78="Yes", SQRT(AP43^(2)+ABS(AN43-AO43)^(2)), NA()) -> #N/A | AS43: =1000/(2*PI()*$Z43*$C$97*$C$93*0.000001) -> 6889824.4 | AT43: =2*PI()*$Z43*((0.000000001*$C$95)/$C$97)*1000 -> 6.5973446e-05 | AU43: =($C$94)/$C$97 -> 5 | AV43: =IF($C$92="Yes", SQRT(AU43^(2)+ABS(AS43-AT43)^(2)), NA()) -> #N/A | AX43: =1000/(2*PI()*$Z43*$C$55*$C$51*0.000001) -> 1209384.1 | AY43: =2*PI()*$Z43*((0.000000001*$C$53)/$C$55)*1000 -> 1.6493361e-06 | AZ43: =($C$52)/$C$55 -> 0.125 | BA43: =IF($C$50="Yes", SQRT(AZ43^(2)+ABS(AX43-AY43)^(2)), NA()) -> 1209384.1
B44: Total Bulk Output Capacitance ESL | C44: =C39/$C$41 -> 0.20833333 | D44: nH | Z44: 40 | AA44: {=_xlfn.IFS(AND($C$64="Yes",$C$78="Yes",$C$92="Yes",$C$50="Yes"),1/((1/AG44)+(1/AL44)+(1/AQ44)+(1/AV44)+(1/BA44)),AND($C$64="Yes",$C$78="Yes",$C$92="Yes",$C$50="No"),1/((1/AG44)+(1/AL44)+(1/AQ44)+(1/AV44)),AND($C$64="Yes",$C$78="Yes",$C$92="No",$C$50="No"),1/((1/AG44)+(1/AL44)+(1/AQ44)),AND($C$64="Yes",$C$78="No",$C$92="No",$C$50="No"),1/((1/AG44)+(1/AL44)),AND($C$64="No",$C$78="No",$C$92="No",$C$50="No"),1/((1/AG44)),AND($C$64="Yes",$C$78="No",$C$92="No",$C$50="Yes"),1/((1/AG44)+(1/AL44)+(1/BA44)), AND($C$64="No",$C$78="No",$C$92="No",$C$50="Yes"),1/((1/AG44)+(1/BA44)), AND($C$64="No",$C$78="Yes",$C$92="No",$C$50="Yes"),1/((1/AG44)+(1/AQ44)+(1/BA44)))} -> 741.80678 | AB44: =$C$29 -> 0.79935872 | AD44: =1000/(2*PI()*$Z44*$C$41*$C$37*0.000001) -> 753.57454 | AE44: =2*PI()*$Z44*((0.000000001*$C$39)/$C$41)*1000 -> 5.2359878e-05 | AF44: =($C$38)/$C$41 -> 0.25 | AG44: =SQRT(AF44^(2)+ABS(AD44-AE44)^(2)) -> 753.57453 | AI44: =1000/(2*PI()*$Z44*$C$69*$C$65*0.000001) -> 49735.92 | AJ44: =2*PI()*$Z44*((0.000000001*$C$67)/$C$69)*1000 -> 1.8849556e-06 | AK44: =($C$66)/$C$69 -> 0.125 | AL44: =IF($C$64="Yes", SQRT(AK44^(2)+ABS(AI44-AJ44)^(2)), NA()) -> 49735.92 | AN44: =1000/(2*PI()*$Z44*$C$82*$C$79*0.000001) -> 397887.36 | AO44: =2*PI()*$Z44*((0.000000001*$C$81)/$C$82)*1000 -> 0.00015079645 | AP44: =($C$80)/$C$82 -> 10 | AQ44: =IF($C$78="Yes", SQRT(AP44^(2)+ABS(AN44-AO44)^(2)), NA()) -> #N/A | AS44: =1000/(2*PI()*$Z44*$C$97*$C$93*0.000001) -> 6028596.3 | AT44: =2*PI()*$Z44*((0.000000001*$C$95)/$C$97)*1000 -> 7.5398224e-05 | AU44: =($C$94)/$C$97 -> 5 | AV44: =IF($C$92="Yes", SQRT(AU44^(2)+ABS(AS44-AT44)^(2)), NA()) -> #N/A | AX44: =1000/(2*PI()*$Z44*$C$55*$C$51*0.000001) -> 1058211.1 | AY44: =2*PI()*$Z44*((0.000000001*$C$53)/$C$55)*1000 -> 1.8849556e-06 | AZ44: =($C$52)/$C$55 -> 0.125 | BA44: =IF($C$50="Yes", SQRT(AZ44^(2)+ABS(AX44-AY44)^(2)), NA()) -> 1058211.1
B45: Bulk Capacitor Resonance | C45: =(1/(2*PI()*(SQRT($C$37*0.000001*$C$39*0.000000001))))*0.000001 -> 0.15174828 | D45: MHz | Z45: 45 | AA45: {=_xlfn.IFS(AND($C$64="Yes",$C$78="Yes",$C$92="Yes",$C$50="Yes"),1/((1/AG45)+(1/AL45)+(1/AQ45)+(1/AV45)+(1/BA45)),AND($C$64="Yes",$C$78="Yes",$C$92="Yes",$C$50="No"),1/((1/AG45)+(1/AL45)+(1/AQ45)+(1/AV45)),AND($C$64="Yes",$C$78="Yes",$C$92="No",$C$50="No"),1/((1/AG45)+(1/AL45)+(1/AQ45)),AND($C$64="Yes",$C$78="No",$C$92="No",$C$50="No"),1/((1/AG45)+(1/AL45)),AND($C$64="No",$C$78="No",$C$92="No",$C$50="No"),1/((1/AG45)),AND($C$64="Yes",$C$78="No",$C$92="No",$C$50="Yes"),1/((1/AG45)+(1/AL45)+(1/BA45)), AND($C$64="No",$C$78="No",$C$92="No",$C$50="Yes"),1/((1/AG45)+(1/BA45)), AND($C$64="No",$C$78="Yes",$C$92="No",$C$50="Yes"),1/((1/AG45)+(1/AQ45)+(1/BA45)))} -> 659.3838 | AB45: =$C$29 -> 0.79935872 | AD45: =1000/(2*PI()*$Z45*$C$41*$C$37*0.000001) -> 669.84404 | AE45: =2*PI()*$Z45*((0.000000001*$C$39)/$C$41)*1000 -> 5.8904862e-05 | AF45: =($C$38)/$C$41 -> 0.25 | AG45: =SQRT(AF45^(2)+ABS(AD45-AE45)^(2)) -> 669.84402 | AI45: =1000/(2*PI()*$Z45*$C$69*$C$65*0.000001) -> 44209.706 | AJ45: =2*PI()*$Z45*((0.000000001*$C$67)/$C$69)*1000 -> 2.120575e-06 | AK45: =($C$66)/$C$69 -> 0.125 | AL45: =IF($C$64="Yes", SQRT(AK45^(2)+ABS(AI45-AJ45)^(2)), NA()) -> 44209.706 | AN45: =1000/(2*PI()*$Z45*$C$82*$C$79*0.000001) -> 353677.65 | AO45: =2*PI()*$Z45*((0.000000001*$C$81)/$C$82)*1000 -> 0.000169646 | AP45: =($C$80)/$C$82 -> 10 | AQ45: =IF($C$78="Yes", SQRT(AP45^(2)+ABS(AN45-AO45)^(2)), NA()) -> #N/A | AS45: =1000/(2*PI()*$Z45*$C$97*$C$93*0.000001) -> 5358752.3 | AT45: =2*PI()*$Z45*((0.000000001*$C$95)/$C$97)*1000 -> 8.4823002e-05 | AU45: =($C$94)/$C$97 -> 5 | AV45: =IF($C$92="Yes", SQRT(AU45^(2)+ABS(AS45-AT45)^(2)), NA()) -> #N/A | AX45: =1000/(2*PI()*$Z45*$C$55*$C$51*0.000001) -> 940632.05 | AY45: =2*PI()*$Z45*((0.000000001*$C$53)/$C$55)*1000 -> 2.120575e-06 | AZ45: =($C$52)/$C$55 -> 0.125 | BA45: =IF($C$50="Yes", SQRT(AZ45^(2)+ABS(AX45-AY45)^(2)), NA()) -> 940632.05
B46: Total Bulk Capacitor Capacitive Reactance @fSW | C46: =1000/(2*PI()*$C$33*1000*C42*0.000001) -> 0.060285963 | D46: mΩ | Z46: 50 | AA46: {=_xlfn.IFS(AND($C$64="Yes",$C$78="Yes",$C$92="Yes",$C$50="Yes"),1/((1/AG46)+(1/AL46)+(1/AQ46)+(1/AV46)+(1/BA46)),AND($C$64="Yes",$C$78="Yes",$C$92="Yes",$C$50="No"),1/((1/AG46)+(1/AL46)+(1/AQ46)+(1/AV46)),AND($C$64="Yes",$C$78="Yes",$C$92="No",$C$50="No"),1/((1/AG46)+(1/AL46)+(1/AQ46)),AND($C$64="Yes",$C$78="No",$C$92="No",$C$50="No"),1/((1/AG46)+(1/AL46)),AND($C$64="No",$C$78="No",$C$92="No",$C$50="No"),1/((1/AG46)),AND($C$64="Yes",$C$78="No",$C$92="No",$C$50="Yes"),1/((1/AG46)+(1/AL46)+(1/BA46)), AND($C$64="No",$C$78="No",$C$92="No",$C$50="Yes"),1/((1/AG46)+(1/BA46)), AND($C$64="No",$C$78="Yes",$C$92="No",$C$50="Yes"),1/((1/AG46)+(1/AQ46)+(1/BA46)))} -> 593.44542 | AB46: =$C$29 -> 0.79935872 | AD46: =1000/(2*PI()*$Z46*$C$41*$C$37*0.000001) -> 602.85963 | AE46: =2*PI()*$Z46*((0.000000001*$C$39)/$C$41)*1000 -> 6.5449847e-05 | AF46: =($C$38)/$C$41 -> 0.25 | AG46: =SQRT(AF46^(2)+ABS(AD46-AE46)^(2)) -> 602.85962 | AI46: =1000/(2*PI()*$Z46*$C$69*$C$65*0.000001) -> 39788.736 | AJ46: =2*PI()*$Z46*((0.000000001*$C$67)/$C$69)*1000 -> 2.3561945e-06 | AK46: =($C$66)/$C$69 -> 0.125 | AL46: =IF($C$64="Yes", SQRT(AK46^(2)+ABS(AI46-AJ46)^(2)), NA()) -> 39788.736 | AN46: =1000/(2*PI()*$Z46*$C$82*$C$79*0.000001) -> 318309.89 | AO46: =2*PI()*$Z46*((0.000000001*$C$81)/$C$82)*1000 -> 0.00018849556 | AP46: =($C$80)/$C$82 -> 10 | AQ46: =IF($C$78="Yes", SQRT(AP46^(2)+ABS(AN46-AO46)^(2)), NA()) -> #N/A | AS46: =1000/(2*PI()*$Z46*$C$97*$C$93*0.000001) -> 4822877.1 | AT46: =2*PI()*$Z46*((0.000000001*$C$95)/$C$97)*1000 -> 9.424778e-05 | AU46: =($C$94)/$C$97 -> 5 | AV46: =IF($C$92="Yes", SQRT(AU46^(2)+ABS(AS46-AT46)^(2)), NA()) -> #N/A | AX46: =1000/(2*PI()*$Z46*$C$55*$C$51*0.000001) -> 846568.85 | AY46: =2*PI()*$Z46*((0.000000001*$C$53)/$C$55)*1000 -> 2.3561945e-06 | AZ46: =($C$52)/$C$55 -> 0.125 | BA46: =IF($C$50="Yes", SQRT(AZ46^(2)+ABS(AX46-AY46)^(2)), NA()) -> 846568.85
B47: Total Bulk Capacitor ESL Reactance @fSW | C47: =2*PI()*C44*0.000000001*$C$33*1000*1000 -> 0.65449847 | D47: mΩ | Z47: 55 | AA47: {=_xlfn.IFS(AND($C$64="Yes",$C$78="Yes",$C$92="Yes",$C$50="Yes"),1/((1/AG47)+(1/AL47)+(1/AQ47)+(1/AV47)+(1/BA47)),AND($C$64="Yes",$C$78="Yes",$C$92="Yes",$C$50="No"),1/((1/AG47)+(1/AL47)+(1/AQ47)+(1/AV47)),AND($C$64="Yes",$C$78="Yes",$C$92="No",$C$50="No"),1/((1/AG47)+(1/AL47)+(1/AQ47)),AND($C$64="Yes",$C$78="No",$C$92="No",$C$50="No"),1/((1/AG47)+(1/AL47)),AND($C$64="No",$C$78="No",$C$92="No",$C$50="No"),1/((1/AG47)),AND($C$64="Yes",$C$78="No",$C$92="No",$C$50="Yes"),1/((1/AG47)+(1/AL47)+(1/BA47)), AND($C$64="No",$C$78="No",$C$92="No",$C$50="Yes"),1/((1/AG47)+(1/BA47)), AND($C$64="No",$C$78="Yes",$C$92="No",$C$50="Yes"),1/((1/AG47)+(1/AQ47)+(1/BA47)))} -> 539.49583 | AB47: =$C$29 -> 0.79935872 | AD47: =1000/(2*PI()*$Z47*$C$41*$C$37*0.000001) -> 548.05421 | AE47: =2*PI()*$Z47*((0.000000001*$C$39)/$C$41)*1000 -> 7.1994832e-05 | AF47: =($C$38)/$C$41 -> 0.25 | AG47: =SQRT(AF47^(2)+ABS(AD47-AE47)^(2)) -> 548.0542 | AI47: =1000/(2*PI()*$Z47*$C$69*$C$65*0.000001) -> 36171.578 | AJ47: =2*PI()*$Z47*((0.000000001*$C$67)/$C$69)*1000 -> 2.5918139e-06 | AK47: =($C$66)/$C$69 -> 0.125 | AL47: =IF($C$64="Yes", SQRT(AK47^(2)+ABS(AI47-AJ47)^(2)), NA()) -> 36171.578 | AN47: =1000/(2*PI()*$Z47*$C$82*$C$79*0.000001) -> 289372.62 | AO47: =2*PI()*$Z47*((0.000000001*$C$81)/$C$82)*1000 -> 0.00020734512 | AP47: =($C$80)/$C$82 -> 10 | AQ47: =IF($C$78="Yes", SQRT(AP47^(2)+ABS(AN47-AO47)^(2)), NA()) -> #N/A | AS47: =1000/(2*PI()*$Z47*$C$97*$C$93*0.000001) -> 4384433.7 | AT47: =2*PI()*$Z47*((0.000000001*$C$95)/$C$97)*1000 -> 0.00010367256 | AU47: =($C$94)/$C$97 -> 5 | AV47: =IF($C$92="Yes", SQRT(AU47^(2)+ABS(AS47-AT47)^(2)), NA()) -> #N/A | AX47: =1000/(2*PI()*$Z47*$C$55*$C$51*0.000001) -> 769608.04 | AY47: =2*PI()*$Z47*((0.000000001*$C$53)/$C$55)*1000 -> 2.5918139e-06 | AZ47: =($C$52)/$C$55 -> 0.125 | BA47: =IF($C$50="Yes", SQRT(AZ47^(2)+ABS(AX47-AY47)^(2)), NA()) -> 769608.04
B48: Total Bulk Capacitor Impedance @fSW | C48: =SQRT(C43^(2)+ABS(C46-C47)^(2)) -> 0.64466154 | D48: mΩ | Z48: 60 | AA48: {=_xlfn.IFS(AND($C$64="Yes",$C$78="Yes",$C$92="Yes",$C$50="Yes"),1/((1/AG48)+(1/AL48)+(1/AQ48)+(1/AV48)+(1/BA48)),AND($C$64="Yes",$C$78="Yes",$C$92="Yes",$C$50="No"),1/((1/AG48)+(1/AL48)+(1/AQ48)+(1/AV48)),AND($C$64="Yes",$C$78="Yes",$C$92="No",$C$50="No"),1/((1/AG48)+(1/AL48)+(1/AQ48)),AND($C$64="Yes",$C$78="No",$C$92="No",$C$50="No"),1/((1/AG48)+(1/AL48)),AND($C$64="No",$C$78="No",$C$92="No",$C$50="No"),1/((1/AG48)),AND($C$64="Yes",$C$78="No",$C$92="No",$C$50="Yes"),1/((1/AG48)+(1/AL48)+(1/BA48)), AND($C$64="No",$C$78="No",$C$92="No",$C$50="Yes"),1/((1/AG48)+(1/BA48)), AND($C$64="No",$C$78="Yes",$C$92="No",$C$50="Yes"),1/((1/AG48)+(1/AQ48)+(1/BA48)))} -> 494.53784 | AB48: =$C$29 -> 0.79935872 | AD48: =1000/(2*PI()*$Z48*$C$41*$C$37*0.000001) -> 502.38303 | AE48: =2*PI()*$Z48*((0.000000001*$C$39)/$C$41)*1000 -> 7.8539816e-05 | AF48: =($C$38)/$C$41 -> 0.25 | AG48: =SQRT(AF48^(2)+ABS(AD48-AE48)^(2)) -> 502.38301 | AI48: =1000/(2*PI()*$Z48*$C$69*$C$65*0.000001) -> 33157.28 | AJ48: =2*PI()*$Z48*((0.000000001*$C$67)/$C$69)*1000 -> 2.8274334e-06 | AK48: =($C$66)/$C$69 -> 0.125 | AL48: =IF($C$64="Yes", SQRT(AK48^(2)+ABS(AI48-AJ48)^(2)), NA()) -> 33157.28 | AN48: =1000/(2*PI()*$Z48*$C$82*$C$79*0.000001) -> 265258.24 | AO48: =2*PI()*$Z48*((0.000000001*$C$81)/$C$82)*1000 -> 0.00022619467 | AP48: =($C$80)/$C$82 -> 10 | AQ48: =IF($C$78="Yes", SQRT(AP48^(2)+ABS(AN48-AO48)^(2)), NA()) -> #N/A | AS48: =1000/(2*PI()*$Z48*$C$97*$C$93*0.000001) -> 4019064.2 | AT48: =2*PI()*$Z48*((0.000000001*$C$95)/$C$97)*1000 -> 0.00011309734 | AU48: =($C$94)/$C$97 -> 5 | AV48: =IF($C$92="Yes", SQRT(AU48^(2)+ABS(AS48-AT48)^(2)), NA()) -> #N/A | AX48: =1000/(2*PI()*$Z48*$C$55*$C$51*0.000001) -> 705474.04 | AY48: =2*PI()*$Z48*((0.000000001*$C$53)/$C$55)*1000 -> 2.8274334e-06 | AZ48: =($C$52)/$C$55 -> 0.125 | BA48: =IF($C$50="Yes", SQRT(AZ48^(2)+ABS(AX48-AY48)^(2)), NA()) -> 705474.04
Z49: 65 | AA49: {=_xlfn.IFS(AND($C$64="Yes",$C$78="Yes",$C$92="Yes",$C$50="Yes"),1/((1/AG49)+(1/AL49)+(1/AQ49)+(1/AV49)+(1/BA49)),AND($C$64="Yes",$C$78="Yes",$C$92="Yes",$C$50="No"),1/((1/AG49)+(1/AL49)+(1/AQ49)+(1/AV49)),AND($C$64="Yes",$C$78="Yes",$C$92="No",$C$50="No"),1/((1/AG49)+(1/AL49)+(1/AQ49)),AND($C$64="Yes",$C$78="No",$C$92="No",$C$50="No"),1/((1/AG49)+(1/AL49)),AND($C$64="No",$C$78="No",$C$92="No",$C$50="No"),1/((1/AG49)),AND($C$64="Yes",$C$78="No",$C$92="No",$C$50="Yes"),1/((1/AG49)+(1/AL49)+(1/BA49)), AND($C$64="No",$C$78="No",$C$92="No",$C$50="Yes"),1/((1/AG49)+(1/BA49)), AND($C$64="No",$C$78="Yes",$C$92="No",$C$50="Yes"),1/((1/AG49)+(1/AQ49)+(1/BA49)))} -> 456.49647 | AB49: =$C$29 -> 0.79935872 | AD49: =1000/(2*PI()*$Z49*$C$41*$C$37*0.000001) -> 463.73818 | AE49: =2*PI()*$Z49*((0.000000001*$C$39)/$C$41)*1000 -> 8.5084801e-05 | AF49: =($C$38)/$C$41 -> 0.25 | AG49: =SQRT(AF49^(2)+ABS(AD49-AE49)^(2)) -> 463.73816 | AI49: =1000/(2*PI()*$Z49*$C$69*$C$65*0.000001) -> 30606.72 | AJ49: =2*PI()*$Z49*((0.000000001*$C$67)/$C$69)*1000 -> 3.0630528e-06 | AK49: =($C$66)/$C$69 -> 0.125 | AL49: =IF($C$64="Yes", SQRT(AK49^(2)+ABS(AI49-AJ49)^(2)), NA()) -> 30606.72 | AN49: =1000/(2*PI()*$Z49*$C$82*$C$79*0.000001) -> 244853.76 | AO49: =2*PI()*$Z49*((0.000000001*$C$81)/$C$82)*1000 -> 0.00024504423 | AP49: =($C$80)/$C$82 -> 10 | AQ49: =IF($C$78="Yes", SQRT(AP49^(2)+ABS(AN49-AO49)^(2)), NA()) -> #N/A | AS49: =1000/(2*PI()*$Z49*$C$97*$C$93*0.000001) -> 3709905.4 | AT49: =2*PI()*$Z49*((0.000000001*$C$95)/$C$97)*1000 -> 0.00012252211 | AU49: =($C$94)/$C$97 -> 5 | AV49: =IF($C$92="Yes", SQRT(AU49^(2)+ABS(AS49-AT49)^(2)), NA()) -> #N/A | AX49: =1000/(2*PI()*$Z49*$C$55*$C$51*0.000001) -> 651206.8 | AY49: =2*PI()*$Z49*((0.000000001*$C$53)/$C$55)*1000 -> 3.0630528e-06 | AZ49: =($C$52)/$C$55 -> 0.125 | BA49: =IF($C$50="Yes", SQRT(AZ49^(2)+ABS(AX49-AY49)^(2)), NA()) -> 651206.8
B50: Use COUT(HF)? | C50: Yes | Z50: 70 | AA50: {=_xlfn.IFS(AND($C$64="Yes",$C$78="Yes",$C$92="Yes",$C$50="Yes"),1/((1/AG50)+(1/AL50)+(1/AQ50)+(1/AV50)+(1/BA50)),AND($C$64="Yes",$C$78="Yes",$C$92="Yes",$C$50="No"),1/((1/AG50)+(1/AL50)+(1/AQ50)+(1/AV50)),AND($C$64="Yes",$C$78="Yes",$C$92="No",$C$50="No"),1/((1/AG50)+(1/AL50)+(1/AQ50)),AND($C$64="Yes",$C$78="No",$C$92="No",$C$50="No"),1/((1/AG50)+(1/AL50)),AND($C$64="No",$C$78="No",$C$92="No",$C$50="No"),1/((1/AG50)),AND($C$64="Yes",$C$78="No",$C$92="No",$C$50="Yes"),1/((1/AG50)+(1/AL50)+(1/BA50)), AND($C$64="No",$C$78="No",$C$92="No",$C$50="Yes"),1/((1/AG50)+(1/BA50)), AND($C$64="No",$C$78="Yes",$C$92="No",$C$50="Yes"),1/((1/AG50)+(1/AQ50)+(1/BA50)))} -> 423.88957 | AB50: =$C$29 -> 0.79935872 | AD50: =1000/(2*PI()*$Z50*$C$41*$C$37*0.000001) -> 430.61402 | AE50: =2*PI()*$Z50*((0.000000001*$C$39)/$C$41)*1000 -> 9.1629786e-05 | AF50: =($C$38)/$C$41 -> 0.25 | AG50: =SQRT(AF50^(2)+ABS(AD50-AE50)^(2)) -> 430.614 | AI50: =1000/(2*PI()*$Z50*$C$69*$C$65*0.000001) -> 28420.526 | AJ50: =2*PI()*$Z50*((0.000000001*$C$67)/$C$69)*1000 -> 3.2986723e-06 | AK50: =($C$66)/$C$69 -> 0.125 | AL50: =IF($C$64="Yes", SQRT(AK50^(2)+ABS(AI50-AJ50)^(2)), NA()) -> 28420.526 | AN50: =1000/(2*PI()*$Z50*$C$82*$C$79*0.000001) -> 227364.2 | AO50: =2*PI()*$Z50*((0.000000001*$C$81)/$C$82)*1000 -> 0.00026389378 | AP50: =($C$80)/$C$82 -> 10 | AQ50: =IF($C$78="Yes", SQRT(AP50^(2)+ABS(AN50-AO50)^(2)), NA()) -> #N/A | AS50: =1000/(2*PI()*$Z50*$C$97*$C$93*0.000001) -> 3444912.2 | AT50: =2*PI()*$Z50*((0.000000001*$C$95)/$C$97)*1000 -> 0.00013194689 | AU50: =($C$94)/$C$97 -> 5 | AV50: =IF($C$92="Yes", SQRT(AU50^(2)+ABS(AS50-AT50)^(2)), NA()) -> #N/A | AX50: =1000/(2*PI()*$Z50*$C$55*$C$51*0.000001) -> 604692.03 | AY50: =2*PI()*$Z50*((0.000000001*$C$53)/$C$55)*1000 -> 3.2986723e-06 | AZ50: =($C$52)/$C$55 -> 0.125 | BA50: =IF($C$50="Yes", SQRT(AZ50^(2)+ABS(AX50-AY50)^(2)), NA()) -> 604692.03
B51: High Frequency Capacitor Value (COUT(HF)) | C51: 0.047 | D51: µF | Z51: 75 | AA51: {=_xlfn.IFS(AND($C$64="Yes",$C$78="Yes",$C$92="Yes",$C$50="Yes"),1/((1/AG51)+(1/AL51)+(1/AQ51)+(1/AV51)+(1/BA51)),AND($C$64="Yes",$C$78="Yes",$C$92="Yes",$C$50="No"),1/((1/AG51)+(1/AL51)+(1/AQ51)+(1/AV51)),AND($C$64="Yes",$C$78="Yes",$C$92="No",$C$50="No"),1/((1/AG51)+(1/AL51)+(1/AQ51)),AND($C$64="Yes",$C$78="No",$C$92="No",$C$50="No"),1/((1/AG51)+(1/AL51)),AND($C$64="No",$C$78="No",$C$92="No",$C$50="No"),1/((1/AG51)),AND($C$64="Yes",$C$78="No",$C$92="No",$C$50="Yes"),1/((1/AG51)+(1/AL51)+(1/BA51)), AND($C$64="No",$C$78="No",$C$92="No",$C$50="Yes"),1/((1/AG51)+(1/BA51)), AND($C$64="No",$C$78="Yes",$C$92="No",$C$50="Yes"),1/((1/AG51)+(1/AQ51)+(1/BA51)))} -> 395.63027 | AB51: =$C$29 -> 0.79935872 | AD51: =1000/(2*PI()*$Z51*$C$41*$C$37*0.000001) -> 401.90642 | AE51: =2*PI()*$Z51*((0.000000001*$C$39)/$C$41)*1000 -> 9.817477e-05 | AF51: =($C$38)/$C$41 -> 0.25 | AG51: =SQRT(AF51^(2)+ABS(AD51-AE51)^(2)) -> 401.9064 | AI51: =1000/(2*PI()*$Z51*$C$69*$C$65*0.000001) -> 26525.824 | AJ51: =2*PI()*$Z51*((0.000000001*$C$67)/$C$69)*1000 -> 3.5342917e-06 | AK51: =($C$66)/$C$69 -> 0.125 | AL51: =IF($C$64="Yes", SQRT(AK51^(2)+ABS(AI51-AJ51)^(2)), NA()) -> 26525.824 | AN51: =1000/(2*PI()*$Z51*$C$82*$C$79*0.000001) -> 212206.59 | AO51: =2*PI()*$Z51*((0.000000001*$C$81)/$C$82)*1000 -> 0.00028274334 | AP51: =($C$80)/$C$82 -> 10 | AQ51: =IF($C$78="Yes", SQRT(AP51^(2)+ABS(AN51-AO51)^(2)), NA()) -> #N/A | AS51: =1000/(2*PI()*$Z51*$C$97*$C$93*0.000001) -> 3215251.4 | AT51: =2*PI()*$Z51*((0.000000001*$C$95)/$C$97)*1000 -> 0.00014137167 | AU51: =($C$94)/$C$97 -> 5 | AV51: =IF($C$92="Yes", SQRT(AU51^(2)+ABS(AS51-AT51)^(2)), NA()) -> #N/A | AX51: =1000/(2*PI()*$Z51*$C$55*$C$51*0.000001) -> 564379.23 | AY51: =2*PI()*$Z51*((0.000000001*$C$53)/$C$55)*1000 -> 3.5342917e-06 | AZ51: =($C$52)/$C$55 -> 0.125 | BA51: =IF($C$50="Yes", SQRT(AZ51^(2)+ABS(AX51-AY51)^(2)), NA()) -> 564379.23
B52: High Frequency Capacitor ESR | C52: 10 | D52: mΩ | Z52: 80 | AA52: {=_xlfn.IFS(AND($C$64="Yes",$C$78="Yes",$C$92="Yes",$C$50="Yes"),1/((1/AG52)+(1/AL52)+(1/AQ52)+(1/AV52)+(1/BA52)),AND($C$64="Yes",$C$78="Yes",$C$92="Yes",$C$50="No"),1/((1/AG52)+(1/AL52)+(1/AQ52)+(1/AV52)),AND($C$64="Yes",$C$78="Yes",$C$92="No",$C$50="No"),1/((1/AG52)+(1/AL52)+(1/AQ52)),AND($C$64="Yes",$C$78="No",$C$92="No",$C$50="No"),1/((1/AG52)+(1/AL52)),AND($C$64="No",$C$78="No",$C$92="No",$C$50="No"),1/((1/AG52)),AND($C$64="Yes",$C$78="No",$C$92="No",$C$50="Yes"),1/((1/AG52)+(1/AL52)+(1/BA52)), AND($C$64="No",$C$78="No",$C$92="No",$C$50="Yes"),1/((1/AG52)+(1/BA52)), AND($C$64="No",$C$78="Yes",$C$92="No",$C$50="Yes"),1/((1/AG52)+(1/AQ52)+(1/BA52)))} -> 370.90337 | AB52: =$C$29 -> 0.79935872 | AD52: =1000/(2*PI()*$Z52*$C$41*$C$37*0.000001) -> 376.78727 | AE52: =2*PI()*$Z52*((0.000000001*$C$39)/$C$41)*1000 -> 0.00010471976 | AF52: =($C$38)/$C$41 -> 0.25 | AG52: =SQRT(AF52^(2)+ABS(AD52-AE52)^(2)) -> 376.78725 | AI52: =1000/(2*PI()*$Z52*$C$69*$C$65*0.000001) -> 24867.96 | AJ52: =2*PI()*$Z52*((0.000000001*$C$67)/$C$69)*1000 -> 3.7699112e-06 | AK52: =($C$66)/$C$69 -> 0.125 | AL52: =IF($C$64="Yes", SQRT(AK52^(2)+ABS(AI52-AJ52)^(2)), NA()) -> 24867.96 | AN52: =1000/(2*PI()*$Z52*$C$82*$C$79*0.000001) -> 198943.68 | AO52: =2*PI()*$Z52*((0.000000001*$C$81)/$C$82)*1000 -> 0.00030159289 | AP52: =($C$80)/$C$82 -> 10 | AQ52: =IF($C$78="Yes", SQRT(AP52^(2)+ABS(AN52-AO52)^(2)), NA()) -> #N/A | AS52: =1000/(2*PI()*$Z52*$C$97*$C$93*0.000001) -> 3014298.2 | AT52: =2*PI()*$Z52*((0.000000001*$C$95)/$C$97)*1000 -> 0.00015079645 | AU52: =($C$94)/$C$97 -> 5 | AV52: =IF($C$92="Yes", SQRT(AU52^(2)+ABS(AS52-AT52)^(2)), NA()) -> #N/A | AX52: =1000/(2*PI()*$Z52*$C$55*$C$51*0.000001) -> 529105.53 | AY52: =2*PI()*$Z52*((0.000000001*$C$53)/$C$55)*1000 -> 3.7699112e-06 | AZ52: =($C$52)/$C$55 -> 0.125 | BA52: =IF($C$50="Yes", SQRT(AZ52^(2)+ABS(AX52-AY52)^(2)), NA()) -> 529105.53
B53: High Frequency Capacitor ESL | C53: 0.6 | D53: nH | Z53: 85 | AA53: {=_xlfn.IFS(AND($C$64="Yes",$C$78="Yes",$C$92="Yes",$C$50="Yes"),1/((1/AG53)+(1/AL53)+(1/AQ53)+(1/AV53)+(1/BA53)),AND($C$64="Yes",$C$78="Yes",$C$92="Yes",$C$50="No"),1/((1/AG53)+(1/AL53)+(1/AQ53)+(1/AV53)),AND($C$64="Yes",$C$78="Yes",$C$92="No",$C$50="No"),1/((1/AG53)+(1/AL53)+(1/AQ53)),AND($C$64="Yes",$C$78="No",$C$92="No",$C$50="No"),1/((1/AG53)+(1/AL53)),AND($C$64="No",$C$78="No",$C$92="No",$C$50="No"),1/((1/AG53)),AND($C$64="Yes",$C$78="No",$C$92="No",$C$50="Yes"),1/((1/AG53)+(1/AL53)+(1/BA53)), AND($C$64="No",$C$78="No",$C$92="No",$C$50="Yes"),1/((1/AG53)+(1/BA53)), AND($C$64="No",$C$78="Yes",$C$92="No",$C$50="Yes"),1/((1/AG53)+(1/AQ53)+(1/BA53)))} -> 349.08552 | AB53: =$C$29 -> 0.79935872 | AD53: =1000/(2*PI()*$Z53*$C$41*$C$37*0.000001) -> 354.62331 | AE53: =2*PI()*$Z53*((0.000000001*$C$39)/$C$41)*1000 -> 0.00011126474 | AF53: =($C$38)/$C$41 -> 0.25 | AG53: =SQRT(AF53^(2)+ABS(AD53-AE53)^(2)) -> 354.62329 | AI53: =1000/(2*PI()*$Z53*$C$69*$C$65*0.000001) -> 23405.139 | AJ53: =2*PI()*$Z53*((0.000000001*$C$67)/$C$69)*1000 -> 4.0055306e-06 | AK53: =($C$66)/$C$69 -> 0.125 | AL53: =IF($C$64="Yes", SQRT(AK53^(2)+ABS(AI53-AJ53)^(2)), NA()) -> 23405.139 | AN53: =1000/(2*PI()*$Z53*$C$82*$C$79*0.000001) -> 187241.11 | AO53: =2*PI()*$Z53*((0.000000001*$C$81)/$C$82)*1000 -> 0.00032044245 | AP53: =($C$80)/$C$82 -> 10 | AQ53: =IF($C$78="Yes", SQRT(AP53^(2)+ABS(AN53-AO53)^(2)), NA()) -> #N/A | AS53: =1000/(2*PI()*$Z53*$C$97*$C$93*0.000001) -> 2836986.5 | AT53: =2*PI()*$Z53*((0.000000001*$C$95)/$C$97)*1000 -> 0.00016022123 | AU53: =($C$94)/$C$97 -> 5 | AV53: =IF($C$92="Yes", SQRT(AU53^(2)+ABS(AS53-AT53)^(2)), NA()) -> #N/A | AX53: =1000/(2*PI()*$Z53*$C$55*$C$51*0.000001) -> 497981.67 | AY53: =2*PI()*$Z53*((0.000000001*$C$53)/$C$55)*1000 -> 4.0055306e-06 | AZ53: =($C$52)/$C$55 -> 0.125 | BA53: =IF($C$50="Yes", SQRT(AZ53^(2)+ABS(AX53-AY53)^(2)), NA()) -> 497981.67
B54: Quantity per Phase | C54: 40 | Z54: 90 | AA54: {=_xlfn.IFS(AND($C$64="Yes",$C$78="Yes",$C$92="Yes",$C$50="Yes"),1/((1/AG54)+(1/AL54)+(1/AQ54)+(1/AV54)+(1/BA54)),AND($C$64="Yes",$C$78="Yes",$C$92="Yes",$C$50="No"),1/((1/AG54)+(1/AL54)+(1/AQ54)+(1/AV54)),AND($C$64="Yes",$C$78="Yes",$C$92="No",$C$50="No"),1/((1/AG54)+(1/AL54)+(1/AQ54)),AND($C$64="Yes",$C$78="No",$C$92="No",$C$50="No"),1/((1/AG54)+(1/AL54)),AND($C$64="No",$C$78="No",$C$92="No",$C$50="No"),1/((1/AG54)),AND($C$64="Yes",$C$78="No",$C$92="No",$C$50="Yes"),1/((1/AG54)+(1/AL54)+(1/BA54)), AND($C$64="No",$C$78="No",$C$92="No",$C$50="Yes"),1/((1/AG54)+(1/BA54)), AND($C$64="No",$C$78="Yes",$C$92="No",$C$50="Yes"),1/((1/AG54)+(1/AQ54)+(1/BA54)))} -> 329.69188 | AB54: =$C$29 -> 0.79935872 | AD54: =1000/(2*PI()*$Z54*$C$41*$C$37*0.000001) -> 334.92202 | AE54: =2*PI()*$Z54*((0.000000001*$C$39)/$C$41)*1000 -> 0.00011780972 | AF54: =($C$38)/$C$41 -> 0.25 | AG54: =SQRT(AF54^(2)+ABS(AD54-AE54)^(2)) -> 334.92199 | AI54: =1000/(2*PI()*$Z54*$C$69*$C$65*0.000001) -> 22104.853 | AJ54: =2*PI()*$Z54*((0.000000001*$C$67)/$C$69)*1000 -> 4.2411501e-06 | AK54: =($C$66)/$C$69 -> 0.125 | AL54: =IF($C$64="Yes", SQRT(AK54^(2)+ABS(AI54-AJ54)^(2)), NA()) -> 22104.853 | AN54: =1000/(2*PI()*$Z54*$C$82*$C$79*0.000001) -> 176838.83 | AO54: =2*PI()*$Z54*((0.000000001*$C$81)/$C$82)*1000 -> 0.00033929201 | AP54: =($C$80)/$C$82 -> 10 | AQ54: =IF($C$78="Yes", SQRT(AP54^(2)+ABS(AN54-AO54)^(2)), NA()) -> #N/A | AS54: =1000/(2*PI()*$Z54*$C$97*$C$93*0.000001) -> 2679376.1 | AT54: =2*PI()*$Z54*((0.000000001*$C$95)/$C$97)*1000 -> 0.000169646 | AU54: =($C$94)/$C$97 -> 5 | AV54: =IF($C$92="Yes", SQRT(AU54^(2)+ABS(AS54-AT54)^(2)), NA()) -> #N/A | AX54: =1000/(2*PI()*$Z54*$C$55*$C$51*0.000001) -> 470316.03 | AY54: =2*PI()*$Z54*((0.000000001*$C$53)/$C$55)*1000 -> 4.2411501e-06 | AZ54: =($C$52)/$C$55 -> 0.125 | BA54: =IF($C$50="Yes", SQRT(AZ54^(2)+ABS(AX54-AY54)^(2)), NA()) -> 470316.03
