Workbook
Name CCOMP_MIN: #REF!
Name CDROOP: #REF!
Name COUT_MIN: #REF!
Name COUT_QTY: #REF!
Name COUT_ZERO: #REF!
Name CPOLE_MIN: #REF!
Name ESR_EQUIV: #REF!
Name ft: #REF!
Name RCOMP: #REF!
Name RDROOP: #REF!
Name Ripple_percent: #REF!
Name RSEN: #REF!
Name RSLOPE: #REF!

Sheet Main
G1: Error Log: | H1: =IF(C19="Yes","You have an ON/OFF Time Problem. Decrease your VIN-VOUT difference or decrease your fSW","")
H2: =IF(C20="Yes","You have a Switching Frequency Problem. Acceptable fSW Range is 250kHz to 1.5MHz","")
H3: =IF(C41="Yes","You have an RSLOPE issue. RSLOPE should be 25kohm to 100kohm. Try adjusting LOUT.","")
A4: ISL73847x Design Tool (Rev 5.1)
B6: These cells are inputs
B7: These cells are the output
B9: Input Voltage (VIN) | C9: 12 | D9: V | F9: Use DROOP? | G9: Yes
B10: Output Voltage (VOUT) | C10: 1 | D10: V | F10: Target Output Load Step (ΔISTEP) | G10: 25 | H10: A
B11: Max Output Current (IOUT(MAX)) | C11: 50 | D11: A | F11: Target ΔVOUT peak-peak Transient (ΔVOUT(TRANSIENT)) | G11: 4 | H11: %
B12: Switching Frequency (fSW) | C12: 500 | D12: kHz | F12: Target DROOP at ISTEP (DRPpercent@ISTEP) | G12: 2 | H12: % | I12: Ignore if not using DROOP
B13: Oscillator Frequency (fOSC= 2•fSW) | C13: =2*C12 -> 1000 | D13: kHz | F13: ΔVOUT Transient Overshoot | G13: =IF(G9="Yes",IF((G11/2)-G12<0,"Too much DROOP",(G11/2)-G12),(G11/2)) -> 0 | H13: %
B14: Number of Phases (N) | C14: 2 | F14: ΔVOUT Transient Undershoot | G14: =IF(G9="Yes",IF((G11/2)-G12<0,"Too much DROOP",(G11/2)),(G11/2)) -> 2 | H14: %
B15: Number of Controllers | C15: =ROUNDUP(C14/2, 0) -> 1 | F15: Expected ΔVOUT peak-peak Transient (ΔVOUT(TRANSIENT)) | G15: =IF(G9="Yes", IF(G13="Too much DROOP", "Too much DROOP", G14+G13), G11) -> 2 | H15: %
B16: Duty Cycle (D) | C16: =(C10/C9)*100 -> 8.3333333 | D16: % | F16: DROOP at IOUT(MAX) (DRPpercent@IOUT(MAX)) | G16: =IF(G9="Yes",(C11/G10)*G12,"No DROOP") -> 4 | H16: %
B17: Max ON Time (tON) | C17: =((C16*0.01)/C12)*1000000 -> 166.66667 | D17: ns | F17: DC Output Voltage at No-Load (VOUT@No-Load) | G17: =C27 -> 0.9991984 | H17: V
B18: Max OFF Time (tOFF) | C18: =((1-(C16*0.01))/C12)*1000000 -> 1833.3333 | D18: ns | F18: DC Output Voltage at ISTEP (VOUT@ISTEP) | G18: =IF(G9="Yes", (1-G12/100)*G17, C27) -> 0.97921443 | H18: V
B19: ON/OFF Time Problem? | C19: =IF(OR(C17<'DS Parameters'!C10,Main!C18<'DS Parameters'!C11), "Yes", "No") -> No | F19: DC Output Voltage at IOUT(MAX) (VOUT@IOUT(MAX)) | G19: =IF(G9="Yes",(1-G16/100)*G17,C27) -> 0.95923046 | H19: V
B20: Switching Frequency Problem? (250kHz ≤ fSW ≤ 1,500kHz) | C20: =IF(OR(C12<250, C12>1500), "Yes", "No") -> No
F21: Recommended DROOP Resistance per Controller (RDROOP) | G21: =IF(G9="Yes",(G16*0.01*'DS Parameters'!C5)/('DS Parameters'!C14*0.000001*C14)*C15, "0") -> 603.01508 | H21: Ω
B22: Use External Clock on SYNC-I (fOSC-15%)? | C22: No | F22: DROOP Capacitor (CDROOP) | G22: =IF(G9="Yes",((G26*1000*G34*0.000000001)/(G21))*1000000000,"Open") -> 69.107276 | H22: nF
B23: Frequency Select Resistor (RFS) | C23: =IF(C22="No",IF(C12=250, 'DS Parameters'!C16, IF(C12=500, 'DS Parameters'!C17, IF(C12=1000, 'DS Parameters'!C18, IF(C12=1500, 'DS Parameters'!C19, (56497/C12)-20.96)))), (56497/(C12*85%)-20.96)) -> 94.2 | D23: kΩ
B24: Bottom Output Feedback Resistor (RFB(BOT)) | C24: 4.99 | D24: kΩ | F24: Equivalent Load-Line Output Impedance (ZOUT(MIN)) | G24: =((G14*0.01*C27)/G10)*1000 -> 0.79935872 | H24: mΩ
B25: Recommended Top Feedback Resistor (RFB(TOP)) | C25: =((C10/'DS Parameters'!C5)-1)*C24 -> 3.3266667 | D25: kΩ | F25: Recommended Compensation Resistor (RCOMP) | G25: =((C27*C30*0.001*'DS Parameters'!C7)/(C14*G24*0.001*'DS Parameters'!C5*'DS Parameters'!C6*0.001))/1000 -> 4.1666667 | H25: kΩ
B26: Selected Top Feedback Resistor (RFB(BOT)) | C26: 3.32 | D26: kΩ | F26: Selected Compensation Resistor (RCOMP) | G26: 4.22 | H26: kΩ
B27: Calculated Output Voltage (VOUT) | C27: ='DS Parameters'!C5*(1+(C26/C24)) -> 0.9991984 | D27: V
F28: Minimum Output Capacitance (COUT(BULK,MIN)) | G28: =((C14*'DS Parameters'!C5*'DS Parameters'!C6*0.001*G26*1000)/(2*PI()*(C12/10)*1000*C27*C30*0.001*'DS Parameters'!C7))*1000000 -> 4033.0361 | H28: µF
B29: Recommended Current Sense Resistor (RSEN) | C29: =(('DS Parameters'!C12*0.001*C14)/C11)*1000 -> 2 | D29: mΩ | F29: Selected Output Capacitance (COUT(BULK,MIN)) | G29: ='COUT Network Design'!C42 -> 5280 | H29: µF | I29: View COUT Network Design Tab
B30: Selected Current Sense Resistor (RSEN) | C30: 2 | D30: mΩ | F30: Crossover Frequency (fT) | G30: =((C14*'DS Parameters'!C5*'DS Parameters'!C6*0.001*G26*1000)/(2*PI()*G29*0.000001*C27*C30*0.001*'DS Parameters'!C7))/1000 -> 38.191629 | H30: kHz
B31: Over-Current Protection 1 Threshold per phase (OC1) | C31: ='DS Parameters'!C13/Main!C30 -> 37.5 | D31: A | F31: Bulk Capacitor ESR Equivalent (ESRTOTAL,MIN) | G31: ='COUT Network Design'!C43 -> 0.25 | H31: mΩ | I31: View COUT Network Design Tab
B32: RSEN Power Dissipation @ OCP1 (PRSEN) | C32: =C31^2*C30*0.001 -> 2.8125 | D32: W | F32: Bulk Output COUT/ESR Zero Frequency (fZ) | G32: =(1/(2*PI()*G29*0.000001*G31*0.001))/1000 -> 120.57193 | H32: kHz
F33: Recommended Pole Capacitor (CPOLE) | G33: =((G29*0.000001*G31*0.001)/(G26*1000))*1000000000000 -> 312.79621 | H33: pF
B34: Target Ripple Current (ΔIL) | C34: 33 | D34: % | F34: Recommended Compensation Capacitor (CCOMP) | G34: =(1/(2*PI()*G26*1000*(G30/10)*1000))*1000000000 -> 9.8750543 | H34: nF
B35: Recommended Inductor Value (LREC) | C35: =(((C9-C27)*C16*0.01*C14)/(C12*1000*C11*C34*0.01))*1000000000 -> 222.23842 | D35: nH
F36: Target In-Rush Current (IRUSH) | G36: 0.5 | H36: A
B37: Selected Inductor Value (LSEL) | C37: 220 | D37: nH | F37: Recommended Soft-Start Capacitor (CSS) | G37: =((G29*0.000001*C27*'DS Parameters'!C15*0.000001*C16*0.01)/(G36*'DS Parameters'!C5))*1000000000 -> 14.65491 | H37: nF
B38: Inductor (LSEL) Ripple Current (ΔIL) | C38: =(((C9-C10)*C16*0.01*C14)/(C37*0.000000001*C12*1000*C11))*100 -> 33.333333 | D38: % | F38: Soft-Start Time (tSS) | G38: =(G37*0.000000001*'DS Parameters'!C5/('DS Parameters'!C15*0.000001))*1000 -> 0.87929459 | H38: ms
B39: Inductor (LSEL) Ripple Current per phase (ΔIL(phase)) | C39: =(C11*C38*0.01)/C14 -> 8.3333333 | D39: A
B40: Slope Resistor (RSLOPE) | C40: =((C30*0.001*C23*1000*C27)/(25000*C37*0.000000001))/1000 -> 34.227087 | D40: kΩ | F40: Target IMON Voltage @ OC1 (VMON) | G40: 0.6 | H40: V
B41: Slope Resistor Problem? (25kΩ ≤ RSLOPE ≤ 100kΩ) | C41: =IF(OR(C40<25, C40>100), "Yes", "No") -> No | F41: IMON Current (IMON) | G41: =C14*C31*C30*0.001*'DS Parameters'!C8*0.001*1000000 -> 58.5 | H41: µA
F42: IMON Resistor (RMON) | G42: =G40/(G41*0.000001)*0.001 -> 10.25641 | H42: kΩ
B44: This tool uses nominal design targets to calculate the schematic component values for the ISL73847SEH, ISL73847SLH and ISL73847M. The numbers produced by this tool are a starting point for design with the expectation that the values will be adjusted to meet the final application requirements. It is the responsibility of the consumer to make sure that the values produced by this tool meets the requirements of their given application. Software License Agreement The software supplied herewith by Renesas Electronics America Inc. (the "Company") is intended and supplied to you, the Company's customer, for use solely and exclusively on Renesas' Intersil family of products. The software is owned by the Company and/or its supplier, and is protected under applicable copyright laws. All rights are reserved. Any use in violation of the foregoing restrictions may subject the user to criminal sanctions under applicable laws, as well as to civil liability for the breach of the terms and conditions of this license. THIS SOFTWARE IS PROVIDED IN AN "AS IS" CONDITION. NO WARRANTIES, WHETHER EXPRESS, IMPLIED OR STATUTORY, INCLUDING, BUT NOT LIMITED TO, IMPLIED WARRANTIES OF MERCHANTABILITY AND FITNESS FOR A PARTICULAR PURPOSE APPLY TO THIS SOFTWARE. THE COMPANY SHALL NOT, IN ANY CIRCUMSTANCES, BE LIABLE FOR SPECIAL, INCIDENTAL OR CONSEQUENTIAL DAMAGES, FOR ANY REASON WHATSOEVER.

Sheet COUT Network Design
F4: ZOUT(TOTAL) @ fSW | G4: {=_xlfn.IFS(AND($C$64="Yes",$C$78="Yes",$C$92="Yes",$C$50="Yes"),1/((1/C48)+(1/C76)+(1/C90)+(1/C104)+(1/C62)),AND($C$64="Yes",$C$78="Yes",$C$92="Yes",$C$50="No"),1/((1/C48)+(1/C76)+(1/C90)+(1/C104)),AND($C$64="Yes",$C$78="Yes",$C$92="No",$C$50="No"),1/((1/C48)+(1/C76)+(1/C90)),AND($C$64="Yes",$C$78="No",$C$92="No",$C$50="No"),1/((1/C48)+(1/C76)),AND($C$64="No",$C$78="No",$C$92="No",$C$50="No"),1/((1/C48)),AND($C$64="Yes",$C$78="No",$C$92="No",$C$50="Yes"),1/((1/C48)+(1/C76)+(1/C62)), AND($C$64="No",$C$78="No",$C$92="No",$C$50="Yes"),1/((1/C48)+(1/C62)), AND($C$64="No",$C$78="Yes",$C$92="No",$C$50="Yes"),1/((1/C48)+(1/C90)+(1/C62)))} -> 0.55074703 | H4: mΩ
F5: ΔVOUT(RIPPLE) @ fSW | G5: =G4*C35 -> 4.5895585 | H5: mV
F6: ΔVOUT(RIPPLE) @ fSW | G6: =G5/1000/C31*100 -> 0.45932405 | H6: %
B23: These cells are inputs
B24: These cells are the output
B25: These cells are automatically copied from the Main tab for convenience
B28: Max Load Step Rise-Time (tSTEP) | C28: 10 | D28: ns | Z28: FREQ (Hz) | AA28: ZOUT(TOTAL) | AB28: ZOUT(MIN) | AD28: XC(BULK) (mΩ) | AE28: XL(BULK) (mΩ) | AF28: R(BULK) (mΩ) | AG28: Z(BULK) | AI28: XC(MF1) (mΩ) | AJ28: XL(MF1) (mΩ) | AK28: R(MF1) (mΩ) | AL28: Z(MF1) | AN28: XC(MF2) (mΩ) | AO28: XL(MF2) (mΩ) | AP28: R(MF2) (mΩ) | AQ28: Z(MF2) | AS28: XC(MF3) (mΩ) | AT28: XL(MF3) (mΩ) | AU28: R(MF3) (mΩ) | AV28: Z(MF3) | AX28: XC(HF) (Ω) | AY28: XL(HF) (mΩ) | AZ28: R(HF) (mΩ) | BA28: Z(HF) | BC28: fT | BD28: y-value
B29: Target Minimum Output Impedance (ZOUT(MIN)) | C29: =Main!G24 -> 0.79935872 | D29: mΩ | Z29: 1 | AA29: {=_xlfn.IFS(AND($C$64="Yes",$C$78="Yes",$C$92="Yes",$C$50="Yes"),1/((1/AG29)+(1/AL29)+(1/AQ29)+(1/AV29)+(1/BA29)),AND($C$64="Yes",$C$78="Yes",$C$92="Yes",$C$50="No"),1/((1/AG29)+(1/AL29)+(1/AQ29)+(1/AV29)),AND($C$64="Yes",$C$78="Yes",$C$92="No",$C$50="No"),1/((1/AG29)+(1/AL29)+(1/AQ29)),AND($C$64="Yes",$C$78="No",$C$92="No",$C$50="No"),1/((1/AG29)+(1/AL29)),AND($C$64="No",$C$78="No",$C$92="No",$C$50="No"),1/((1/AG29)),AND($C$64="Yes",$C$78="No",$C$92="No",$C$50="Yes"),1/((1/AG29)+(1/AL29)+(1/BA29)), AND($C$64="No",$C$78="No",$C$92="No",$C$50="Yes"),1/((1/AG29)+(1/BA29)), AND($C$64="No",$C$78="Yes",$C$92="No",$C$50="Yes"),1/((1/AG29)+(1/AQ29)+(1/BA29)))} -> 29672.272 | AB29: =$C$29 -> 0.79935872 | AD29: =1000/(2*PI()*$Z29*$C$41*$C$37*0.000001) -> 30142.982 | AE29: =2*PI()*$Z29*((0.000000001*$C$39)/$C$41)*1000 -> 1.3089969e-06 | AF29: =($C$38)/$C$41 -> 0.25 | AG29: =SQRT(AF29^(2)+ABS(AD29-AE29)^(2)) -> 30142.982 | AI29: =1000/(2*PI()*$Z29*$C$69*$C$65*0.000001) -> 1989436.8 | AJ29: =2*PI()*$Z29*((0.000000001*$C$67)/$C$69)*1000 -> 4.712389e-08 | AK29: =($C$66)/$C$69 -> 0.125 | AL29: =IF($C$64="Yes", SQRT(AK29^(2)+ABS(AI29-AJ29)^(2)), NA()) -> 1989436.8 | AN29: =1000/(2*PI()*$Z29*$C$82*$C$79*0.000001) -> 15915494 | AO29: =2*PI()*$Z29*((0.000000001*$C$81)/$C$82)*1000 -> 3.7699112e-06 | AP29: =($C$80)/$C$82 -> 10 | AQ29: =IF($C$78="Yes", SQRT(AP29^(2)+ABS(AN29-AO29)^(2)), NA()) -> #N/A | AS29: =1000/(2*PI()*$Z29*$C$97*$C$93*0.000001) -> 2.4114385e+08 | AT29: =2*PI()*$Z29*((0.000000001*$C$95)/$C$97)*1000 -> 1.8849556e-06 | AU29: =($C$94)/$C$97 -> 5 | AV29: =IF($C$92="Yes", SQRT(AU29^(2)+ABS(AS29-AT29)^(2)), NA()) -> #N/A | AX29: =1000/(2*PI()*$Z29*$C$55*$C$51*0.000001) -> 42328442 | AY29: =2*PI()*$Z29*((0.000000001*$C$53)/$C$55)*1000 -> 4.712389e-08 | AZ29: =($C$52)/$C$55 -> 0.125 | BA29: =IF($C$50="Yes", SQRT(AZ29^(2)+ABS(AX29-AY29)^(2)), NA()) -> 42328442 | BC29: =C30*1000 -> 38191.629 | BD29: 1e-05
B30: Crossover Frequency (fT) | C30: =Main!G30 -> 38.191629 | D30: kHz | Z30: 2 | AA30: {=_xlfn.IFS(AND($C$64="Yes",$C$78="Yes",$C$92="Yes",$C$50="Yes"),1/((1/AG30)+(1/AL30)+(1/AQ30)+(1/AV30)+(1/BA30)),AND($C$64="Yes",$C$78="Yes",$C$92="Yes",$C$50="No"),1/((1/AG30)+(1/AL30)+(1/AQ30)+(1/AV30)),AND($C$64="Yes",$C$78="Yes",$C$92="No",$C$50="No"),1/((1/AG30)+(1/AL30)+(1/AQ30)),AND($C$64="Yes",$C$78="No",$C$92="No",$C$50="No"),1/((1/AG30)+(1/AL30)),AND($C$64="No",$C$78="No",$C$92="No",$C$50="No"),1/((1/AG30)),AND($C$64="Yes",$C$78="No",$C$92="No",$C$50="Yes"),1/((1/AG30)+(1/AL30)+(1/BA30)), AND($C$64="No",$C$78="No",$C$92="No",$C$50="Yes"),1/((1/AG30)+(1/BA30)), AND($C$64="No",$C$78="Yes",$C$92="No",$C$50="Yes"),1/((1/AG30)+(1/AQ30)+(1/BA30)))} -> 14836.136 | AB30: =$C$29 -> 0.79935872 | AD30: =1000/(2*PI()*$Z30*$C$41*$C$37*0.000001) -> 15071.491 | AE30: =2*PI()*$Z30*((0.000000001*$C$39)/$C$41)*1000 -> 2.6179939e-06 | AF30: =($C$38)/$C$41 -> 0.25 | AG30: =SQRT(AF30^(2)+ABS(AD30-AE30)^(2)) -> 15071.491 | AI30: =1000/(2*PI()*$Z30*$C$69*$C$65*0.000001) -> 994718.39 | AJ30: =2*PI()*$Z30*((0.000000001*$C$67)/$C$69)*1000 -> 9.424778e-08 | AK30: =($C$66)/$C$69 -> 0.125 | AL30: =IF($C$64="Yes", SQRT(AK30^(2)+ABS(AI30-AJ30)^(2)), NA()) -> 994718.39 | AN30: =1000/(2*PI()*$Z30*$C$82*$C$79*0.000001) -> 7957747.2 | AO30: =2*PI()*$Z30*((0.000000001*$C$81)/$C$82)*1000 -> 7.5398224e-06 | AP30: =($C$80)/$C$82 -> 10 | AQ30: =IF($C$78="Yes", SQRT(AP30^(2)+ABS(AN30-AO30)^(2)), NA()) -> #N/A | AS30: =1000/(2*PI()*$Z30*$C$97*$C$93*0.000001) -> 1.2057193e+08 | AT30: =2*PI()*$Z30*((0.000000001*$C$95)/$C$97)*1000 -> 3.7699112e-06 | AU30: =($C$94)/$C$97 -> 5 | AV30: =IF($C$92="Yes", SQRT(AU30^(2)+ABS(AS30-AT30)^(2)), NA()) -> #N/A | AX30: =1000/(2*PI()*$Z30*$C$55*$C$51*0.000001) -> 21164221 | AY30: =2*PI()*$Z30*((0.000000001*$C$53)/$C$55)*1000 -> 9.424778e-08 | AZ30: =($C$52)/$C$55 -> 0.125 | BA30: =IF($C$50="Yes", SQRT(AZ30^(2)+ABS(AX30-AY30)^(2)), NA()) -> 21164221
B31: Output Voltage (VOUT) | C31: =Main!C27 -> 0.9991984 | D31: V | Z31: 3 | AA31: {=_xlfn.IFS(AND($C$64="Yes",$C$78="Yes",$C$92="Yes",$C$50="Yes"),1/((1/AG31)+(1/AL31)+(1/AQ31)+(1/AV31)+(1/BA31)),AND($C$64="Yes",$C$78="Yes",$C$92="Yes",$C$50="No"),1/((1/AG31)+(1/AL31)+(1/AQ31)+(1/AV31)),AND($C$64="Yes",$C$78="Yes",$C$92="No",$C$50="No"),1/((1/AG31)+(1/AL31)+(1/AQ31)),AND($C$64="Yes",$C$78="No",$C$92="No",$C$50="No"),1/((1/AG31)+(1/AL31)),AND($C$64="No",$C$78="No",$C$92="No",$C$50="No"),1/((1/AG31)),AND($C$64="Yes",$C$78="No",$C$92="No",$C$50="Yes"),1/((1/AG31)+(1/AL31)+(1/BA31)), AND($C$64="No",$C$78="No",$C$92="No",$C$50="Yes"),1/((1/AG31)+(1/BA31)), AND($C$64="No",$C$78="Yes",$C$92="No",$C$50="Yes"),1/((1/AG31)+(1/AQ31)+(1/BA31)))} -> 9890.7572 | AB31: =$C$29 -> 0.79935872 | AD31: =1000/(2*PI()*$Z31*$C$41*$C$37*0.000001) -> 10047.661 | AE31: =2*PI()*$Z31*((0.000000001*$C$39)/$C$41)*1000 -> 3.9269908e-06 | AF31: =($C$38)/$C$41 -> 0.25 | AG31: =SQRT(AF31^(2)+ABS(AD31-AE31)^(2)) -> 10047.661 | AI31: =1000/(2*PI()*$Z31*$C$69*$C$65*0.000001) -> 663145.6 | AJ31: =2*PI()*$Z31*((0.000000001*$C$67)/$C$69)*1000 -> 1.4137167e-07 | AK31: =($C$66)/$C$69 -> 0.125 | AL31: =IF($C$64="Yes", SQRT(AK31^(2)+ABS(AI31-AJ31)^(2)), NA()) -> 663145.6 | AN31: =1000/(2*PI()*$Z31*$C$82*$C$79*0.000001) -> 5305164.8 | AO31: =2*PI()*$Z31*((0.000000001*$C$81)/$C$82)*1000 -> 1.1309734e-05 | AP31: =($C$80)/$C$82 -> 10 | AQ31: =IF($C$78="Yes", SQRT(AP31^(2)+ABS(AN31-AO31)^(2)), NA()) -> #N/A | AS31: =1000/(2*PI()*$Z31*$C$97*$C$93*0.000001) -> 80381284 | AT31: =2*PI()*$Z31*((0.000000001*$C$95)/$C$97)*1000 -> 5.6548668e-06 | AU31: =($C$94)/$C$97 -> 5 | AV31: =IF($C$92="Yes", SQRT(AU31^(2)+ABS(AS31-AT31)^(2)), NA()) -> #N/A | AX31: =1000/(2*PI()*$Z31*$C$55*$C$51*0.000001) -> 14109481 | AY31: =2*PI()*$Z31*((0.000000001*$C$53)/$C$55)*1000 -> 1.4137167e-07 | AZ31: =($C$52)/$C$55 -> 0.125 | BA31: =IF($C$50="Yes", SQRT(AZ31^(2)+ABS(AX31-AY31)^(2)), NA()) -> 14109481 | BC31: fSTEP | BD31: y-value
B32: Number of Phases (N) | C32: =Main!C14 -> 2 | Z32: 4 | AA32: {=_xlfn.IFS(AND($C$64="Yes",$C$78="Yes",$C$92="Yes",$C$50="Yes"),1/((1/AG32)+(1/AL32)+(1/AQ32)+(1/AV32)+(1/BA32)),AND($C$64="Yes",$C$78="Yes",$C$92="Yes",$C$50="No"),1/((1/AG32)+(1/AL32)+(1/AQ32)+(1/AV32)),AND($C$64="Yes",$C$78="Yes",$C$92="No",$C$50="No"),1/((1/AG32)+(1/AL32)+(1/AQ32)),AND($C$64="Yes",$C$78="No",$C$92="No",$C$50="No"),1/((1/AG32)+(1/AL32)),AND($C$64="No",$C$78="No",$C$92="No",$C$50="No"),1/((1/AG32)),AND($C$64="Yes",$C$78="No",$C$92="No",$C$50="Yes"),1/((1/AG32)+(1/AL32)+(1/BA32)), AND($C$64="No",$C$78="No",$C$92="No",$C$50="Yes"),1/((1/AG32)+(1/BA32)), AND($C$64="No",$C$78="Yes",$C$92="No",$C$50="Yes"),1/((1/AG32)+(1/AQ32)+(1/BA32)))} -> 7418.0679 | AB32: =$C$29 -> 0.79935872 | AD32: =1000/(2*PI()*$Z32*$C$41*$C$37*0.000001) -> 7535.7454 | AE32: =2*PI()*$Z32*((0.000000001*$C$39)/$C$41)*1000 -> 5.2359878e-06 | AF32: =($C$38)/$C$41 -> 0.25 | AG32: =SQRT(AF32^(2)+ABS(AD32-AE32)^(2)) -> 7535.7454 | AI32: =1000/(2*PI()*$Z32*$C$69*$C$65*0.000001) -> 497359.2 | AJ32: =2*PI()*$Z32*((0.000000001*$C$67)/$C$69)*1000 -> 1.8849556e-07 | AK32: =($C$66)/$C$69 -> 0.125 | AL32: =IF($C$64="Yes", SQRT(AK32^(2)+ABS(AI32-AJ32)^(2)), NA()) -> 497359.2 | AN32: =1000/(2*PI()*$Z32*$C$82*$C$79*0.000001) -> 3978873.6 | AO32: =2*PI()*$Z32*((0.000000001*$C$81)/$C$82)*1000 -> 1.5079645e-05 | AP32: =($C$80)/$C$82 -> 10 | AQ32: =IF($C$78="Yes", SQRT(AP32^(2)+ABS(AN32-AO32)^(2)), NA()) -> #N/A | AS32: =1000/(2*PI()*$Z32*$C$97*$C$93*0.000001) -> 60285963 | AT32: =2*PI()*$Z32*((0.000000001*$C$95)/$C$97)*1000 -> 7.5398224e-06 | AU32: =($C$94)/$C$97 -> 5 | AV32: =IF($C$92="Yes", SQRT(AU32^(2)+ABS(AS32-AT32)^(2)), NA()) -> #N/A | AX32: =1000/(2*PI()*$Z32*$C$55*$C$51*0.000001) -> 10582111 | AY32: =2*PI()*$Z32*((0.000000001*$C$53)/$C$55)*1000 -> 1.8849556e-07 | AZ32: =($C$52)/$C$55 -> 0.125 | BA32: =IF($C$50="Yes", SQRT(AZ32^(2)+ABS(AX32-AY32)^(2)), NA()) -> 10582111 | BC32: =0.35/(C28*0.000000001) -> 35000000 | BD32: 1e-05
B33: Switching Frequency (fSW) | C33: =Main!C12 -> 500 | D33: kHz | Z33: 5 | AA33: {=_xlfn.IFS(AND($C$64="Yes",$C$78="Yes",$C$92="Yes",$C$50="Yes"),1/((1/AG33)+(1/AL33)+(1/AQ33)+(1/AV33)+(1/BA33)),AND($C$64="Yes",$C$78="Yes",$C$92="Yes",$C$50="No"),1/((1/AG33)+(1/AL33)+(1/AQ33)+(1/AV33)),AND($C$64="Yes",$C$78="Yes",$C$92="No",$C$50="No"),1/((1/AG33)+(1/AL33)+(1/AQ33)),AND($C$64="Yes",$C$78="No",$C$92="No",$C$50="No"),1/((1/AG33)+(1/AL33)),AND($C$64="No",$C$78="No",$C$92="No",$C$50="No"),1/((1/AG33)),AND($C$64="Yes",$C$78="No",$C$92="No",$C$50="Yes"),1/((1/AG33)+(1/AL33)+(1/BA33)), AND($C$64="No",$C$78="No",$C$92="No",$C$50="Yes"),1/((1/AG33)+(1/BA33)), AND($C$64="No",$C$78="Yes",$C$92="No",$C$50="Yes"),1/((1/AG33)+(1/AQ33)+(1/BA33)))} -> 5934.4543 | AB33: =$C$29 -> 0.79935872 | AD33: =1000/(2*PI()*$Z33*$C$41*$C$37*0.000001) -> 6028.5963 | AE33: =2*PI()*$Z33*((0.000000001*$C$39)/$C$41)*1000 -> 6.5449847e-06 | AF33: =($C$38)/$C$41 -> 0.25 | AG33: =SQRT(AF33^(2)+ABS(AD33-AE33)^(2)) -> 6028.5963 | AI33: =1000/(2*PI()*$Z33*$C$69*$C$65*0.000001) -> 397887.36 | AJ33: =2*PI()*$Z33*((0.000000001*$C$67)/$C$69)*1000 -> 2.3561945e-07 | AK33: =($C$66)/$C$69 -> 0.125 | AL33: =IF($C$64="Yes", SQRT(AK33^(2)+ABS(AI33-AJ33)^(2)), NA()) -> 397887.36 | AN33: =1000/(2*PI()*$Z33*$C$82*$C$79*0.000001) -> 3183098.9 | AO33: =2*PI()*$Z33*((0.000000001*$C$81)/$C$82)*1000 -> 1.8849556e-05 | AP33: =($C$80)/$C$82 -> 10 | AQ33: =IF($C$78="Yes", SQRT(AP33^(2)+ABS(AN33-AO33)^(2)), NA()) -> #N/A | AS33: =1000/(2*PI()*$Z33*$C$97*$C$93*0.000001) -> 48228771 | AT33: =2*PI()*$Z33*((0.000000001*$C$95)/$C$97)*1000 -> 9.424778e-06 | AU33: =($C$94)/$C$97 -> 5 | AV33: =IF($C$92="Yes", SQRT(AU33^(2)+ABS(AS33-AT33)^(2)), NA()) -> #N/A | AX33: =1000/(2*PI()*$Z33*$C$55*$C$51*0.000001) -> 8465688.5 | AY33: =2*PI()*$Z33*((0.000000001*$C$53)/$C$55)*1000 -> 2.3561945e-07 | AZ33: =($C$52)/$C$55 -> 0.125 | BA33: =IF($C$50="Yes", SQRT(AZ33^(2)+ABS(AX33-AY33)^(2)), NA()) -> 8465688.5
B34: Minimum Bulk Output Capacitance (COUT(BULK, MIN)) | C34: =Main!G28 -> 4033.0361 | D34: µF | Z34: 6 | AA34: {=_xlfn.IFS(AND($C$64="Yes",$C$78="Yes",$C$92="Yes",$C$50="Yes"),1/((1/AG34)+(1/AL34)+(1/AQ34)+(1/AV34)+(1/BA34)),AND($C$64="Yes",$C$78="Yes",$C$92="Yes",$C$50="No"),1/((1/AG34)+(1/AL34)+(1/AQ34)+(1/AV34)),AND($C$64="Yes",$C$78="Yes",$C$92="No",$C$50="No"),1/((1/AG34)+(1/AL34)+(1/AQ34)),AND($C$64="Yes",$C$78="No",$C$92="No",$C$50="No"),1/((1/AG34)+(1/AL34)),AND($C$64="No",$C$78="No",$C$92="No",$C$50="No"),1/((1/AG34)),AND($C$64="Yes",$C$78="No",$C$92="No",$C$50="Yes"),1/((1/AG34)+(1/AL34)+(1/BA34)), AND($C$64="No",$C$78="No",$C$92="No",$C$50="Yes"),1/((1/AG34)+(1/BA34)), AND($C$64="No",$C$78="Yes",$C$92="No",$C$50="Yes"),1/((1/AG34)+(1/AQ34)+(1/BA34)))} -> 4945.3786 | AB34: =$C$29 -> 0.79935872 | AD34: =1000/(2*PI()*$Z34*$C$41*$C$37*0.000001) -> 5023.8303 | AE34: =2*PI()*$Z34*((0.000000001*$C$39)/$C$41)*1000 -> 7.8539816e-06 | AF34: =($C$38)/$C$41 -> 0.25 | AG34: =SQRT(AF34^(2)+ABS(AD34-AE34)^(2)) -> 5023.8303 | AI34: =1000/(2*PI()*$Z34*$C$69*$C$65*0.000001) -> 331572.8 | AJ34: =2*PI()*$Z34*((0.000000001*$C$67)/$C$69)*1000 -> 2.8274334e-07 | AK34: =($C$66)/$C$69 -> 0.125 | AL34: =IF($C$64="Yes", SQRT(AK34^(2)+ABS(AI34-AJ34)^(2)), NA()) -> 331572.8 | AN34: =1000/(2*PI()*$Z34*$C$82*$C$79*0.000001) -> 2652582.4 | AO34: =2*PI()*$Z34*((0.000000001*$C$81)/$C$82)*1000 -> 2.2619467e-05 | AP34: =($C$80)/$C$82 -> 10 | AQ34: =IF($C$78="Yes", SQRT(AP34^(2)+ABS(AN34-AO34)^(2)), NA()) -> #N/A | AS34: =1000/(2*PI()*$Z34*$C$97*$C$93*0.000001) -> 40190642 | AT34: =2*PI()*$Z34*((0.000000001*$C$95)/$C$97)*1000 -> 1.1309734e-05 | AU34: =($C$94)/$C$97 -> 5 | AV34: =IF($C$92="Yes", SQRT(AU34^(2)+ABS(AS34-AT34)^(2)), NA()) -> #N/A | AX34: =1000/(2*PI()*$Z34*$C$55*$C$51*0.000001) -> 7054740.4 | AY34: =2*PI()*$Z34*((0.000000001*$C$53)/$C$55)*1000 -> 2.8274334e-07 | AZ34: =($C$52)/$C$55 -> 0.125 | BA34: =IF($C$50="Yes", SQRT(AZ34^(2)+ABS(AX34-AY34)^(2)), NA()) -> 7054740.4 | BC34: fSW | BD34: y-value
B35: Inductor (LSEL) Ripple Current per phase (ΔIL(phase)) | C35: =Main!C39 -> 8.3333333 | D35: A | Z35: 7 | AA35: {=_xlfn.IFS(AND($C$64="Yes",$C$78="Yes",$C$92="Yes",$C$50="Yes"),1/((1/AG35)+(1/AL35)+(1/AQ35)+(1/AV35)+(1/BA35)),AND($C$64="Yes",$C$78="Yes",$C$92="Yes",$C$50="No"),1/((1/AG35)+(1/AL35)+(1/AQ35)+(1/AV35)),AND($C$64="Yes",$C$78="Yes",$C$92="No",$C$50="No"),1/((1/AG35)+(1/AL35)+(1/AQ35)),AND($C$64="Yes",$C$78="No",$C$92="No",$C$50="No"),1/((1/AG35)+(1/AL35)),AND($C$64="No",$C$78="No",$C$92="No",$C$50="No"),1/((1/AG35)),AND($C$64="Yes",$C$78="No",$C$92="No",$C$50="Yes"),1/((1/AG35)+(1/AL35)+(1/BA35)), AND($C$64="No",$C$78="No",$C$92="No",$C$50="Yes"),1/((1/AG35)+(1/BA35)), AND($C$64="No",$C$78="Yes",$C$92="No",$C$50="Yes"),1/((1/AG35)+(1/AQ35)+(1/BA35)))} -> 4238.8959 | AB35: =$C$29 -> 0.79935872 | AD35: =1000/(2*PI()*$Z35*$C$41*$C$37*0.000001) -> 4306.1402 | AE35: =2*PI()*$Z35*((0.000000001*$C$39)/$C$41)*1000 -> 9.1629786e-06 | AF35: =($C$38)/$C$41 -> 0.25 | AG35: =SQRT(AF35^(2)+ABS(AD35-AE35)^(2)) -> 4306.1402 | AI35: =1000/(2*PI()*$Z35*$C$69*$C$65*0.000001) -> 284205.26 | AJ35: =2*PI()*$Z35*((0.000000001*$C$67)/$C$69)*1000 -> 3.2986723e-07 | AK35: =($C$66)/$C$69 -> 0.125 | AL35: =IF($C$64="Yes", SQRT(AK35^(2)+ABS(AI35-AJ35)^(2)), NA()) -> 284205.26 | AN35: =1000/(2*PI()*$Z35*$C$82*$C$79*0.000001) -> 2273642 | AO35: =2*PI()*$Z35*((0.000000001*$C$81)/$C$82)*1000 -> 2.6389378e-05 | AP35: =($C$80)/$C$82 -> 10 | AQ35: =IF($C$78="Yes", SQRT(AP35^(2)+ABS(AN35-AO35)^(2)), NA()) -> #N/A | AS35: =1000/(2*PI()*$Z35*$C$97*$C$93*0.000001) -> 34449122 | AT35: =2*PI()*$Z35*((0.000000001*$C$95)/$C$97)*1000 -> 1.3194689e-05 | AU35: =($C$94)/$C$97 -> 5 | AV35: =IF($C$92="Yes", SQRT(AU35^(2)+ABS(AS35-AT35)^(2)), NA()) -> #N/A | AX35: =1000/(2*PI()*$Z35*$C$55*$C$51*0.000001) -> 6046920.3 | AY35: =2*PI()*$Z35*((0.000000001*$C$53)/$C$55)*1000 -> 3.2986723e-07 | AZ35: =($C$52)/$C$55 -> 0.125 | BA35: =IF($C$50="Yes", SQRT(AZ35^(2)+ABS(AX35-AY35)^(2)), NA()) -> 6046920.3 | BC35: =$C$33*1000 -> 500000 | BD35: 1e-05
H36: MFR PN | I36: T530D227M010ATE006 | Z36: 8 | AA36: {=_xlfn.IFS(AND($C$64="Yes",$C$78="Yes",$C$92="Yes",$C$50="Yes"),1/((1/AG36)+(1/AL36)+(1/AQ36)+(1/AV36)+(1/BA36)),AND($C$64="Yes",$C$78="Yes",$C$92="Yes",$C$50="No"),1/((1/AG36)+(1/AL36)+(1/AQ36)+(1/AV36)),AND($C$64="Yes",$C$78="Yes",$C$92="No",$C$50="No"),1/((1/AG36)+(1/AL36)+(1/AQ36)),AND($C$64="Yes",$C$78="No",$C$92="No",$C$50="No"),1/((1/AG36)+(1/AL36)),AND($C$64="No",$C$78="No",$C$92="No",$C$50="No"),1/((1/AG36)),AND($C$64="Yes",$C$78="No",$C$92="No",$C$50="Yes"),1/((1/AG36)+(1/AL36)+(1/BA36)), AND($C$64="No",$C$78="No",$C$92="No",$C$50="Yes"),1/((1/AG36)+(1/BA36)), AND($C$64="No",$C$78="Yes",$C$92="No",$C$50="Yes"),1/((1/AG36)+(1/AQ36)+(1/BA36)))} -> 3709.0339 | AB36: =$C$29 -> 0.79935872 | AD36: =1000/(2*PI()*$Z36*$C$41*$C$37*0.000001) -> 3767.8727 | AE36: =2*PI()*$Z36*((0.000000001*$C$39)/$C$41)*1000 -> 1.0471976e-05 | AF36: =($C$38)/$C$41 -> 0.25 | AG36: =SQRT(AF36^(2)+ABS(AD36-AE36)^(2)) -> 3767.8727 | AI36: =1000/(2*PI()*$Z36*$C$69*$C$65*0.000001) -> 248679.6 | AJ36: =2*PI()*$Z36*((0.000000001*$C$67)/$C$69)*1000 -> 3.7699112e-07 | AK36: =($C$66)/$C$69 -> 0.125 | AL36: =IF($C$64="Yes", SQRT(AK36^(2)+ABS(AI36-AJ36)^(2)), NA()) -> 248679.6 | AN36: =1000/(2*PI()*$Z36*$C$82*$C$79*0.000001) -> 1989436.8 | AO36: =2*PI()*$Z36*((0.000000001*$C$81)/$C$82)*1000 -> 3.0159289e-05 | AP36: =($C$80)/$C$82 -> 10 | AQ36: =IF($C$78="Yes", SQRT(AP36^(2)+ABS(AN36-AO36)^(2)), NA()) -> #N/A | AS36: =1000/(2*PI()*$Z36*$C$97*$C$93*0.000001) -> 30142982 | AT36: =2*PI()*$Z36*((0.000000001*$C$95)/$C$97)*1000 -> 1.5079645e-05 | AU36: =($C$94)/$C$97 -> 5 | AV36: =IF($C$92="Yes", SQRT(AU36^(2)+ABS(AS36-AT36)^(2)), NA()) -> #N/A | AX36: =1000/(2*PI()*$Z36*$C$55*$C$51*0.000001) -> 5291055.3 | AY36: =2*PI()*$Z36*((0.000000001*$C$53)/$C$55)*1000 -> 3.7699112e-07 | AZ36: =($C$52)/$C$55 -> 0.125 | BA36: =IF($C$50="Yes", SQRT(AZ36^(2)+ABS(AX36-AY36)^(2)), NA()) -> 5291055.3
B37: Bulk Output Capacitor Value (COUT(BULK)) | C37: 220 | D37: µF | H37: CAP (µF) | I37: 220 | Z37: 9 | AA37: {=_xlfn.IFS(AND($C$64="Yes",$C$78="Yes",$C$92="Yes",$C$50="Yes"),1/((1/AG37)+(1/AL37)+(1/AQ37)+(1/AV37)+(1/BA37)),AND($C$64="Yes",$C$78="Yes",$C$92="Yes",$C$50="No"),1/((1/AG37)+(1/AL37)+(1/AQ37)+(1/AV37)),AND($C$64="Yes",$C$78="Yes",$C$92="No",$C$50="No"),1/((1/AG37)+(1/AL37)+(1/AQ37)),AND($C$64="Yes",$C$78="No",$C$92="No",$C$50="No"),1/((1/AG37)+(1/AL37)),AND($C$64="No",$C$78="No",$C$92="No",$C$50="No"),1/((1/AG37)),AND($C$64="Yes",$C$78="No",$C$92="No",$C$50="Yes"),1/((1/AG37)+(1/AL37)+(1/BA37)), AND($C$64="No",$C$78="No",$C$92="No",$C$50="Yes"),1/((1/AG37)+(1/BA37)), AND($C$64="No",$C$78="Yes",$C$92="No",$C$50="Yes"),1/((1/AG37)+(1/AQ37)+(1/BA37)))} -> 3296.9191 | AB37: =$C$29 -> 0.79935872 | AD37: =1000/(2*PI()*$Z37*$C$41*$C$37*0.000001) -> 3349.2202 | AE37: =2*PI()*$Z37*((0.000000001*$C$39)/$C$41)*1000 -> 1.1780972e-05 | AF37: =($C$38)/$C$41 -> 0.25 | AG37: =SQRT(AF37^(2)+ABS(AD37-AE37)^(2)) -> 3349.2202 | AI37: =1000/(2*PI()*$Z37*$C$69*$C$65*0.000001) -> 221048.53 | AJ37: =2*PI()*$Z37*((0.000000001*$C$67)/$C$69)*1000 -> 4.2411501e-07 | AK37: =($C$66)/$C$69 -> 0.125 | AL37: =IF($C$64="Yes", SQRT(AK37^(2)+ABS(AI37-AJ37)^(2)), NA()) -> 221048.53 | AN37: =1000/(2*PI()*$Z37*$C$82*$C$79*0.000001) -> 1768388.3 | AO37: =2*PI()*$Z37*((0.000000001*$C$81)/$C$82)*1000 -> 3.3929201e-05 | AP37: =($C$80)/$C$82 -> 10 | AQ37: =IF($C$78="Yes", SQRT(AP37^(2)+ABS(AN37-AO37)^(2)), NA()) -> #N/A | AS37: =1000/(2*PI()*$Z37*$C$97*$C$93*0.000001) -> 26793761 | AT37: =2*PI()*$Z37*((0.000000001*$C$95)/$C$97)*1000 -> 1.69646e-05 | AU37: =($C$94)/$C$97 -> 5 | AV37: =IF($C$92="Yes", SQRT(AU37^(2)+ABS(AS37-AT37)^(2)), NA()) -> #N/A | AX37: =1000/(2*PI()*$Z37*$C$55*$C$51*0.000001) -> 4703160.3 | AY37: =2*PI()*$Z37*((0.000000001*$C$53)/$C$55)*1000 -> 4.2411501e-07 | AZ37: =($C$52)/$C$55 -> 0.125 | BA37: =IF($C$50="Yes", SQRT(AZ37^(2)+ABS(AX37-AY37)^(2)), NA()) -> 4703160.3
B38: Bulk Output Capacitor ESR | C38: 6 | D38: mΩ | H38: ESR (mΩ) | I38: 6 | Z38: 10 | AA38: {=_xlfn.IFS(AND($C$64="Yes",$C$78="Yes",$C$92="Yes",$C$50="Yes"),1/((1/AG38)+(1/AL38)+(1/AQ38)+(1/AV38)+(1/BA38)),AND($C$64="Yes",$C$78="Yes",$C$92="Yes",$C$50="No"),1/((1/AG38)+(1/AL38)+(1/AQ38)+(1/AV38)),AND($C$64="Yes",$C$78="Yes",$C$92="No",$C$50="No"),1/((1/AG38)+(1/AL38)+(1/AQ38)),AND($C$64="Yes",$C$78="No",$C$92="No",$C$50="No"),1/((1/AG38)+(1/AL38)),AND($C$64="No",$C$78="No",$C$92="No",$C$50="No"),1/((1/AG38)),AND($C$64="Yes",$C$78="No",$C$92="No",$C$50="Yes"),1/((1/AG38)+(1/AL38)+(1/BA38)), AND($C$64="No",$C$78="No",$C$92="No",$C$50="Yes"),1/((1/AG38)+(1/BA38)), AND($C$64="No",$C$78="Yes",$C$92="No",$C$50="Yes"),1/((1/AG38)+(1/AQ38)+(1/BA38)))} -> 2967.2271 | AB38: =$C$29 -> 0.79935872 | AD38: =1000/(2*PI()*$Z38*$C$41*$C$37*0.000001) -> 3014.2982 | AE38: =2*PI()*$Z38*((0.000000001*$C$39)/$C$41)*1000 -> 1.3089969e-05 | AF38: =($C$38)/$C$41 -> 0.25 | AG38: =SQRT(AF38^(2)+ABS(AD38-AE38)^(2)) -> 3014.2982 | AI38: =1000/(2*PI()*$Z38*$C$69*$C$65*0.000001) -> 198943.68 | AJ38: =2*PI()*$Z38*((0.000000001*$C$67)/$C$69)*1000 -> 4.712389e-07 | AK38: =($C$66)/$C$69 -> 0.125 | AL38: =IF($C$64="Yes", SQRT(AK38^(2)+ABS(AI38-AJ38)^(2)), NA()) -> 198943.68 | AN38: =1000/(2*PI()*$Z38*$C$82*$C$79*0.000001) -> 1591549.4 | AO38: =2*PI()*$Z38*((0.000000001*$C$81)/$C$82)*1000 -> 3.7699112e-05 | AP38: =($C$80)/$C$82 -> 10 | AQ38: =IF($C$78="Yes", SQRT(AP38^(2)+ABS(AN38-AO38)^(2)), NA()) -> #N/A | AS38: =1000/(2*PI()*$Z38*$C$97*$C$93*0.000001) -> 24114385 | AT38: =2*PI()*$Z38*((0.000000001*$C$95)/$C$97)*1000 -> 1.8849556e-05 | AU38: =($C$94)/$C$97 -> 5 | AV38: =IF($C$92="Yes", SQRT(AU38^(2)+ABS(AS38-AT38)^(2)), NA()) -> #N/A | AX38: =1000/(2*PI()*$Z38*$C$55*$C$51*0.000001) -> 4232844.2 | AY38: =2*PI()*$Z38*((0.000000001*$C$53)/$C$55)*1000 -> 4.712389e-07 | AZ38: =($C$52)/$C$55 -> 0.125 | BA38: =IF($C$50="Yes", SQRT(AZ38^(2)+ABS(AX38-AY38)^(2)), NA()) -> 4232844.2
B39: Bulk Output Capacitor ESL | C39: 5 | D39: nH | H39: Volt Rating (V) | I39: 10 | Z39: 15 | AA39: {=_xlfn.IFS(AND($C$64="Yes",$C$78="Yes",$C$92="Yes",$C$50="Yes"),1/((1/AG39)+(1/AL39)+(1/AQ39)+(1/AV39)+(1/BA39)),AND($C$64="Yes",$C$78="Yes",$C$92="Yes",$C$50="No"),1/((1/AG39)+(1/AL39)+(1/AQ39)+(1/AV39)),AND($C$64="Yes",$C$78="Yes",$C$92="No",$C$50="No"),1/((1/AG39)+(1/AL39)+(1/AQ39)),AND($C$64="Yes",$C$78="No",$C$92="No",$C$50="No"),1/((1/AG39)+(1/AL39)),AND($C$64="No",$C$78="No",$C$92="No",$C$50="No"),1/((1/AG39)),AND($C$64="Yes",$C$78="No",$C$92="No",$C$50="Yes"),1/((1/AG39)+(1/AL39)+(1/BA39)), AND($C$64="No",$C$78="No",$C$92="No",$C$50="Yes"),1/((1/AG39)+(1/BA39)), AND($C$64="No",$C$78="Yes",$C$92="No",$C$50="Yes"),1/((1/AG39)+(1/AQ39)+(1/BA39)))} -> 1978.1514 | AB39: =$C$29 -> 0.79935872 | AD39: =1000/(2*PI()*$Z39*$C$41*$C$37*0.000001) -> 2009.5321 | AE39: =2*PI()*$Z39*((0.000000001*$C$39)/$C$41)*1000 -> 1.9634954e-05 | AF39: =($C$38)/$C$41 -> 0.25 | AG39: =SQRT(AF39^(2)+ABS(AD39-AE39)^(2)) -> 2009.5321 | AI39: =1000/(2*PI()*$Z39*$C$69*$C$65*0.000001) -> 132629.12 | AJ39: =2*PI()*$Z39*((0.000000001*$C$67)/$C$69)*1000 -> 7.0685835e-07 | AK39: =($C$66)/$C$69 -> 0.125 | AL39: =IF($C$64="Yes", SQRT(AK39^(2)+ABS(AI39-AJ39)^(2)), NA()) -> 132629.12 | AN39: =1000/(2*PI()*$Z39*$C$82*$C$79*0.000001) -> 1061033 | AO39: =2*PI()*$Z39*((0.000000001*$C$81)/$C$82)*1000 -> 5.6548668e-05 | AP39: =($C$80)/$C$82 -> 10 | AQ39: =IF($C$78="Yes", SQRT(AP39^(2)+ABS(AN39-AO39)^(2)), NA()) -> #N/A | AS39: =1000/(2*PI()*$Z39*$C$97*$C$93*0.000001) -> 16076257 | AT39: =2*PI()*$Z39*((0.000000001*$C$95)/$C$97)*1000 -> 2.8274334e-05 | AU39: =($C$94)/$C$97 -> 5 | AV39: =IF($C$92="Yes", SQRT(AU39^(2)+ABS(AS39-AT39)^(2)), NA()) -> #N/A | AX39: =1000/(2*PI()*$Z39*$C$55*$C$51*0.000001) -> 2821896.2 | AY39: =2*PI()*$Z39*((0.000000001*$C$53)/$C$55)*1000 -> 7.0685835e-07 | AZ39: =($C$52)/$C$55 -> 0.125 | BA39: =IF($C$50="Yes", SQRT(AZ39^(2)+ABS(AX39-AY39)^(2)), NA()) -> 2821896.2
B40: Quantity per Phase | C40: 12 | H40: RMS Voltage @ 85C (V) | Z40: 20 | AA40: {=_xlfn.IFS(AND($C$64="Yes",$C$78="Yes",$C$92="Yes",$C$50="Yes"),1/((1/AG40)+(1/AL40)+(1/AQ40)+(1/AV40)+(1/BA40)),AND($C$64="Yes",$C$78="Yes",$C$92="Yes",$C$50="No"),1/((1/AG40)+(1/AL40)+(1/AQ40)+(1/AV40)),AND($C$64="Yes",$C$78="Yes",$C$92="No",$C$50="No"),1/((1/AG40)+(1/AL40)+(1/AQ40)),AND($C$64="Yes",$C$78="No",$C$92="No",$C$50="No"),1/((1/AG40)+(1/AL40)),AND($C$64="No",$C$78="No",$C$92="No",$C$50="No"),1/((1/AG40)),AND($C$64="Yes",$C$78="No",$C$92="No",$C$50="Yes"),1/((1/AG40)+(1/AL40)+(1/BA40)), AND($C$64="No",$C$78="No",$C$92="No",$C$50="Yes"),1/((1/AG40)+(1/BA40)), AND($C$64="No",$C$78="Yes",$C$92="No",$C$50="Yes"),1/((1/AG40)+(1/AQ40)+(1/BA40)))} -> 1483.6136 | AB40: =$C$29 -> 0.79935872 | AD40: =1000/(2*PI()*$Z40*$C$41*$C$37*0.000001) -> 1507.1491 | AE40: =2*PI()*$Z40*((0.000000001*$C$39)/$C$41)*1000 -> 2.6179939e-05 | AF40: =($C$38)/$C$41 -> 0.25 | AG40: =SQRT(AF40^(2)+ABS(AD40-AE40)^(2)) -> 1507.1491 | AI40: =1000/(2*PI()*$Z40*$C$69*$C$65*0.000001) -> 99471.839 | AJ40: =2*PI()*$Z40*((0.000000001*$C$67)/$C$69)*1000 -> 9.424778e-07 | AK40: =($C$66)/$C$69 -> 0.125 | AL40: =IF($C$64="Yes", SQRT(AK40^(2)+ABS(AI40-AJ40)^(2)), NA()) -> 99471.839 | AN40: =1000/(2*PI()*$Z40*$C$82*$C$79*0.000001) -> 795774.72 | AO40: =2*PI()*$Z40*((0.000000001*$C$81)/$C$82)*1000 -> 7.5398224e-05 | AP40: =($C$80)/$C$82 -> 10 | AQ40: =IF($C$78="Yes", SQRT(AP40^(2)+ABS(AN40-AO40)^(2)), NA()) -> #N/A | AS40: =1000/(2*PI()*$Z40*$C$97*$C$93*0.000001) -> 12057193 | AT40: =2*PI()*$Z40*((0.000000001*$C$95)/$C$97)*1000 -> 3.7699112e-05 | AU40: =($C$94)/$C$97 -> 5 | AV40: =IF($C$92="Yes", SQRT(AU40^(2)+ABS(AS40-AT40)^(2)), NA()) -> #N/A | AX40: =1000/(2*PI()*$Z40*$C$55*$C$51*0.000001) -> 2116422.1 | AY40: =2*PI()*$Z40*((0.000000001*$C$53)/$C$55)*1000 -> 9.424778e-07 | AZ40: =($C$52)/$C$55 -> 0.125 | BA40: =IF($C$50="Yes", SQRT(AZ40^(2)+ABS(AX40-AY40)^(2)), NA()) -> 2116422.1
B41: Total Quantity | C41: =$C$32*C40 -> 24 | H41: RMS Current @ 85C (A) | Z41: 25 | AA41: {=_xlfn.IFS(AND($C$64="Yes",$C$78="Yes",$C$92="Yes",$C$50="Yes"),1/((1/AG41)+(1/AL41)+(1/AQ41)+(1/AV41)+(1/BA41)),AND($C$64="Yes",$C$78="Yes",$C$92="Yes",$C$50="No"),1/((1/AG41)+(1/AL41)+(1/AQ41)+(1/AV41)),AND($C$64="Yes",$C$78="Yes",$C$92="No",$C$50="No"),1/((1/AG41)+(1/AL41)+(1/AQ41)),AND($C$64="Yes",$C$78="No",$C$92="No",$C$50="No"),1/((1/AG41)+(1/AL41)),AND($C$64="No",$C$78="No",$C$92="No",$C$50="No"),1/((1/AG41)),AND($C$64="Yes",$C$78="No",$C$92="No",$C$50="Yes"),1/((1/AG41)+(1/AL41)+(1/BA41)), AND($C$64="No",$C$78="No",$C$92="No",$C$50="Yes"),1/((1/AG41)+(1/BA41)), AND($C$64="No",$C$78="Yes",$C$92="No",$C$50="Yes"),1/((1/AG41)+(1/AQ41)+(1/BA41)))} -> 1186.8909 | AB41: =$C$29 -> 0.79935872 | AD41: =1000/(2*PI()*$Z41*$C$41*$C$37*0.000001) -> 1205.7193 | AE41: =2*PI()*$Z41*((0.000000001*$C$39)/$C$41)*1000 -> 3.2724923e-05 | AF41: =($C$38)/$C$41 -> 0.25 | AG41: =SQRT(AF41^(2)+ABS(AD41-AE41)^(2)) -> 1205.7193 | AI41: =1000/(2*PI()*$Z41*$C$69*$C$65*0.000001) -> 79577.472 | AJ41: =2*PI()*$Z41*((0.000000001*$C$67)/$C$69)*1000 -> 1.1780972e-06 | AK41: =($C$66)/$C$69 -> 0.125 | AL41: =IF($C$64="Yes", SQRT(AK41^(2)+ABS(AI41-AJ41)^(2)), NA()) -> 79577.472 | AN41: =1000/(2*PI()*$Z41*$C$82*$C$79*0.000001) -> 636619.77 | AO41: =2*PI()*$Z41*((0.000000001*$C$81)/$C$82)*1000 -> 9.424778e-05 | AP41: =($C$80)/$C$82 -> 10 | AQ41: =IF($C$78="Yes", SQRT(AP41^(2)+ABS(AN41-AO41)^(2)), NA()) -> #N/A | AS41: =1000/(2*PI()*$Z41*$C$97*$C$93*0.000001) -> 9645754.1 | AT41: =2*PI()*$Z41*((0.000000001*$C$95)/$C$97)*1000 -> 4.712389e-05 | AU41: =($C$94)/$C$97 -> 5 | AV41: =IF($C$92="Yes", SQRT(AU41^(2)+ABS(AS41-AT41)^(2)), NA()) -> #N/A | AX41: =1000/(2*PI()*$Z41*$C$55*$C$51*0.000001) -> 1693137.7 | AY41: =2*PI()*$Z41*((0.000000001*$C$53)/$C$55)*1000 -> 1.1780972e-06 | AZ41: =($C$52)/$C$55 -> 0.125 | BA41: =IF($C$50="Yes", SQRT(AZ41^(2)+ABS(AX41-AY41)^(2)), NA()) -> 1693137.7
B42: Total Bulk Output Capacitance (COUT(TOTAL, BULK)) | C42: =C41*C37 -> 5280 | D42: µF | H42: DLA/ESCC | Z42: 30 | AA42: {=_xlfn.IFS(AND($C$64="Yes",$C$78="Yes",$C$92="Yes",$C$50="Yes"),1/((1/AG42)+(1/AL42)+(1/AQ42)+(1/AV42)+(1/BA42)),AND($C$64="Yes",$C$78="Yes",$C$92="Yes",$C$50="No"),1/((1/AG42)+(1/AL42)+(1/AQ42)+(1/AV42)),AND($C$64="Yes",$C$78="Yes",$C$92="No",$C$50="No"),1/((1/AG42)+(1/AL42)+(1/AQ42)),AND($C$64="Yes",$C$78="No",$C$92="No",$C$50="No"),1/((1/AG42)+(1/AL42)),AND($C$64="No",$C$78="No",$C$92="No",$C$50="No"),1/((1/AG42)),AND($C$64="Yes",$C$78="No",$C$92="No",$C$50="Yes"),1/((1/AG42)+(1/AL42)+(1/BA42)), AND($C$64="No",$C$78="No",$C$92="No",$C$50="Yes"),1/((1/AG42)+(1/BA42)), AND($C$64="No",$C$78="Yes",$C$92="No",$C$50="Yes"),1/((1/AG42)+(1/AQ42)+(1/BA42)))} -> 989.07571 | AB42: =$C$29 -> 0.79935872 | AD42: =1000/(2*PI()*$Z42*$C$41*$C$37*0.000001) -> 1004.7661 | AE42: =2*PI()*$Z42*((0.000000001*$C$39)/$C$41)*1000 -> 3.9269908e-05 | AF42: =($C$38)/$C$41 -> 0.25 | AG42: =SQRT(AF42^(2)+ABS(AD42-AE42)^(2)) -> 1004.766 | AI42: =1000/(2*PI()*$Z42*$C$69*$C$65*0.000001) -> 66314.56 | AJ42: =2*PI()*$Z42*((0.000000001*$C$67)/$C$69)*1000 -> 1.4137167e-06 | AK42: =($C$66)/$C$69 -> 0.125 | AL42: =IF($C$64="Yes", SQRT(AK42^(2)+ABS(AI42-AJ42)^(2)), NA()) -> 66314.56 | AN42: =1000/(2*PI()*$Z42*$C$82*$C$79*0.000001) -> 530516.48 | AO42: =2*PI()*$Z42*((0.000000001*$C$81)/$C$82)*1000 -> 0.00011309734 | AP42: =($C$80)/$C$82 -> 10 | AQ42: =IF($C$78="Yes", SQRT(AP42^(2)+ABS(AN42-AO42)^(2)), NA()) -> #N/A | AS42: =1000/(2*PI()*$Z42*$C$97*$C$93*0.000001) -> 8038128.4 | AT42: =2*PI()*$Z42*((0.000000001*$C$95)/$C$97)*1000 -> 5.6548668e-05 | AU42: =($C$94)/$C$97 -> 5 | AV42: =IF($C$92="Yes", SQRT(AU42^(2)+ABS(AS42-AT42)^(2)), NA()) -> #N/A | AX42: =1000/(2*PI()*$Z42*$C$55*$C$51*0.000001) -> 1410948.1 | AY42: =2*PI()*$Z42*((0.000000001*$C$53)/$C$55)*1000 -> 1.4137167e-06 | AZ42: =($C$52)/$C$55 -> 0.125 | BA42: =IF($C$50="Yes", SQRT(AZ42^(2)+ABS(AX42-AY42)^(2)), NA()) -> 1410948.1
B43: Total Bulk Output Capacitance ESR | C43: =C38/$C$41 -> 0.25 | D43: mΩ | Z43: 35 | AA43: {=_xlfn.IFS(AND($C$64="Yes",$C$78="Yes",$C$92="Yes",$C$50="Yes"),1/((1/AG43)+(1/AL43)+(1/AQ43)+(1/AV43)+(1/BA43)),AND($C$64="Yes",$C$78="Yes",$C$92="Yes",$C$50="No"),1/((1/AG43)+(1/AL43)+(1/AQ43)+(1/AV43)),AND($C$64="Yes",$C$78="Yes",$C$92="No",$C$50="No"),1/((1/AG43)+(1/AL43)+(1/AQ43)),AND($C$64="Yes",$C$78="No",$C$92="No",$C$50="No"),1/((1/AG43)+(1/AL43)),AND($C$64="No",$C$78="No",$C$92="No",$C$50="No"),1/((1/AG43)),AND($C$64="Yes",$C$78="No",$C$92="No",$C$50="Yes"),1/((1/AG43)+(1/AL43)+(1/BA43)), AND($C$64="No",$C$78="No",$C$92="No",$C$50="Yes"),1/((1/AG43)+(1/BA43)), AND($C$64="No",$C$78="Yes",$C$92="No",$C$50="Yes"),1/((1/AG43)+(1/AQ43)+(1/BA43)))} -> 847.77918 | AB43: =$C$29 -> 0.79935872 | AD43: =1000/(2*PI()*$Z43*$C$41*$C$37*0.000001) -> 861.22805 | AE43: =2*PI()*$Z43*((0.000000001*$C$39)/$C$41)*1000 -> 4.5814893e-05 | AF43: =($C$38)/$C$41 -> 0.25 | AG43: =SQRT(AF43^(2)+ABS(AD43-AE43)^(2)) -> 861.22804 | AI43: =1000/(2*PI()*$Z43*$C$69*$C$65*0.000001) -> 56841.051 | AJ43: =2*PI()*$Z43*((0.000000001*$C$67)/$C$69)*1000 -> 1.6493361e-06 | AK43: =($C$66)/$C$69 -> 0.125 | AL43: =IF($C$64="Yes", SQRT(AK43^(2)+ABS(AI43-AJ43)^(2)), NA()) -> 56841.051 | AN43: =1000/(2*PI()*$Z43*$C$82*$C$79*0.000001) -> 454728.41 | AO43: =2*PI()*$Z43*((0.000000001*$C$81)/$C$82)*1000 -> 0.00013194689 | AP43: =($C$80)/$C$82 -> 10 | AQ43: =IF($C$78="Yes", SQRT(AP43^(2)+ABS(AN43-AO43)^(2)), NA()) -> #N/A | AS43: =1000/(2*PI()*$Z43*$C$97*$C$93*0.000001) -> 6889824.4 | AT43: =2*PI()*$Z43*((0.000000001*$C$95)/$C$97)*1000 -> 6.5973446e-05 | AU43: =($C$94)/$C$97 -> 5 | AV43: =IF($C$92="Yes", SQRT(AU43^(2)+ABS(AS43-AT43)^(2)), NA()) -> #N/A | AX43: =1000/(2*PI()*$Z43*$C$55*$C$51*0.000001) -> 1209384.1 | AY43: =2*PI()*$Z43*((0.000000001*$C$53)/$C$55)*1000 -> 1.6493361e-06 | AZ43: =($C$52)/$C$55 -> 0.125 | BA43: =IF($C$50="Yes", SQRT(AZ43^(2)+ABS(AX43-AY43)^(2)), NA()) -> 1209384.1
B44: Total Bulk Output Capacitance ESL | C44: =C39/$C$41 -> 0.20833333 | D44: nH | Z44: 40 | AA44: {=_xlfn.IFS(AND($C$64="Yes",$C$78="Yes",$C$92="Yes",$C$50="Yes"),1/((1/AG44)+(1/AL44)+(1/AQ44)+(1/AV44)+(1/BA44)),AND($C$64="Yes",$C$78="Yes",$C$92="Yes",$C$50="No"),1/((1/AG44)+(1/AL44)+(1/AQ44)+(1/AV44)),AND($C$64="Yes",$C$78="Yes",$C$92="No",$C$50="No"),1/((1/AG44)+(1/AL44)+(1/AQ44)),AND($C$64="Yes",$C$78="No",$C$92="No",$C$50="No"),1/((1/AG44)+(1/AL44)),AND($C$64="No",$C$78="No",$C$92="No",$C$50="No"),1/((1/AG44)),AND($C$64="Yes",$C$78="No",$C$92="No",$C$50="Yes"),1/((1/AG44)+(1/AL44)+(1/BA44)), AND($C$64="No",$C$78="No",$C$92="No",$C$50="Yes"),1/((1/AG44)+(1/BA44)), AND($C$64="No",$C$78="Yes",$C$92="No",$C$50="Yes"),1/((1/AG44)+(1/AQ44)+(1/BA44)))} -> 741.80678 | AB44: =$C$29 -> 0.79935872 | AD44: =1000/(2*PI()*$Z44*$C$41*$C$37*0.000001) -> 753.57454 | AE44: =2*PI()*$Z44*((0.000000001*$C$39)/$C$41)*1000 -> 5.2359878e-05 | AF44: =($C$38)/$C$41 -> 0.25 | AG44: =SQRT(AF44^(2)+ABS(AD44-AE44)^(2)) -> 753.57453 | AI44: =1000/(2*PI()*$Z44*$C$69*$C$65*0.000001) -> 49735.92 | AJ44: =2*PI()*$Z44*((0.000000001*$C$67)/$C$69)*1000 -> 1.8849556e-06 | AK44: =($C$66)/$C$69 -> 0.125 | AL44: =IF($C$64="Yes", SQRT(AK44^(2)+ABS(AI44-AJ44)^(2)), NA()) -> 49735.92 | AN44: =1000/(2*PI()*$Z44*$C$82*$C$79*0.000001) -> 397887.36 | AO44: =2*PI()*$Z44*((0.000000001*$C$81)/$C$82)*1000 -> 0.00015079645 | AP44: =($C$80)/$C$82 -> 10 | AQ44: =IF($C$78="Yes", SQRT(AP44^(2)+ABS(AN44-AO44)^(2)), NA()) -> #N/A | AS44: =1000/(2*PI()*$Z44*$C$97*$C$93*0.000001) -> 6028596.3 | AT44: =2*PI()*$Z44*((0.000000001*$C$95)/$C$97)*1000 -> 7.5398224e-05 | AU44: =($C$94)/$C$97 -> 5 | AV44: =IF($C$92="Yes", SQRT(AU44^(2)+ABS(AS44-AT44)^(2)), NA()) -> #N/A | AX44: =1000/(2*PI()*$Z44*$C$55*$C$51*0.000001) -> 1058211.1 | AY44: =2*PI()*$Z44*((0.000000001*$C$53)/$C$55)*1000 -> 1.8849556e-06 | AZ44: =($C$52)/$C$55 -> 0.125 | BA44: =IF($C$50="Yes", SQRT(AZ44^(2)+ABS(AX44-AY44)^(2)), NA()) -> 1058211.1
B45: Bulk Capacitor Resonance | C45: =(1/(2*PI()*(SQRT($C$37*0.000001*$C$39*0.000000001))))*0.000001 -> 0.15174828 | D45: MHz | Z45: 45 | AA45: {=_xlfn.IFS(AND($C$64="Yes",$C$78="Yes",$C$92="Yes",$C$50="Yes"),1/((1/AG45)+(1/AL45)+(1/AQ45)+(1/AV45)+(1/BA45)),AND($C$64="Yes",$C$78="Yes",$C$92="Yes",$C$50="No"),1/((1/AG45)+(1/AL45)+(1/AQ45)+(1/AV45)),AND($C$64="Yes",$C$78="Yes",$C$92="No",$C$50="No"),1/((1/AG45)+(1/AL45)+(1/AQ45)),AND($C$64="Yes",$C$78="No",$C$92="No",$C$50="No"),1/((1/AG45)+(1/AL45)),AND($C$64="No",$C$78="No",$C$92="No",$C$50="No"),1/((1/AG45)),AND($C$64="Yes",$C$78="No",$C$92="No",$C$50="Yes"),1/((1/AG45)+(1/AL45)+(1/BA45)), AND($C$64="No",$C$78="No",$C$92="No",$C$50="Yes"),1/((1/AG45)+(1/BA45)), AND($C$64="No",$C$78="Yes",$C$92="No",$C$50="Yes"),1/((1/AG45)+(1/AQ45)+(1/BA45)))} -> 659.3838 | AB45: =$C$29 -> 0.79935872 | AD45: =1000/(2*PI()*$Z45*$C$41*$C$37*0.000001) -> 669.84404 | AE45: =2*PI()*$Z45*((0.000000001*$C$39)/$C$41)*1000 -> 5.8904862e-05 | AF45: =($C$38)/$C$41 -> 0.25 | AG45: =SQRT(AF45^(2)+ABS(AD45-AE45)^(2)) -> 669.84402 | AI45: =1000/(2*PI()*$Z45*$C$69*$C$65*0.000001) -> 44209.706 | AJ45: =2*PI()*$Z45*((0.000000001*$C$67)/$C$69)*1000 -> 2.120575e-06 | AK45: =($C$66)/$C$69 -> 0.125 | AL45: =IF($C$64="Yes", SQRT(AK45^(2)+ABS(AI45-AJ45)^(2)), NA()) -> 44209.706 | AN45: =1000/(2*PI()*$Z45*$C$82*$C$79*0.000001) -> 353677.65 | AO45: =2*PI()*$Z45*((0.000000001*$C$81)/$C$82)*1000 -> 0.000169646 | AP45: =($C$80)/$C$82 -> 10 | AQ45: =IF($C$78="Yes", SQRT(AP45^(2)+ABS(AN45-AO45)^(2)), NA()) -> #N/A | AS45: =1000/(2*PI()*$Z45*$C$97*$C$93*0.000001) -> 5358752.3 | AT45: =2*PI()*$Z45*((0.000000001*$C$95)/$C$97)*1000 -> 8.4823002e-05 | AU45: =($C$94)/$C$97 -> 5 | AV45: =IF($C$92="Yes", SQRT(AU45^(2)+ABS(AS45-AT45)^(2)), NA()) -> #N/A | AX45: =1000/(2*PI()*$Z45*$C$55*$C$51*0.000001) -> 940632.05 | AY45: =2*PI()*$Z45*((0.000000001*$C$53)/$C$55)*1000 -> 2.120575e-06 | AZ45: =($C$52)/$C$55 -> 0.125 | BA45: =IF($C$50="Yes", SQRT(AZ45^(2)+ABS(AX45-AY45)^(2)), NA()) -> 940632.05
B46: Total Bulk Capacitor Capacitive Reactance @fSW | C46: =1000/(2*PI()*$C$33*1000*C42*0.000001) -> 0.060285963 | D46: mΩ | Z46: 50 | AA46: {=_xlfn.IFS(AND($C$64="Yes",$C$78="Yes",$C$92="Yes",$C$50="Yes"),1/((1/AG46)+(1/AL46)+(1/AQ46)+(1/AV46)+(1/BA46)),AND($C$64="Yes",$C$78="Yes",$C$92="Yes",$C$50="No"),1/((1/AG46)+(1/AL46)+(1/AQ46)+(1/AV46)),AND($C$64="Yes",$C$78="Yes",$C$92="No",$C$50="No"),1/((1/AG46)+(1/AL46)+(1/AQ46)),AND($C$64="Yes",$C$78="No",$C$92="No",$C$50="No"),1/((1/AG46)+(1/AL46)),AND($C$64="No",$C$78="No",$C$92="No",$C$50="No"),1/((1/AG46)),AND($C$64="Yes",$C$78="No",$C$92="No",$C$50="Yes"),1/((1/AG46)+(1/AL46)+(1/BA46)), AND($C$64="No",$C$78="No",$C$92="No",$C$50="Yes"),1/((1/AG46)+(1/BA46)), AND($C$64="No",$C$78="Yes",$C$92="No",$C$50="Yes"),1/((1/AG46)+(1/AQ46)+(1/BA46)))} -> 593.44542 | AB46: =$C$29 -> 0.79935872 | AD46: =1000/(2*PI()*$Z46*$C$41*$C$37*0.000001) -> 602.85963 | AE46: =2*PI()*$Z46*((0.000000001*$C$39)/$C$41)*1000 -> 6.5449847e-05 | AF46: =($C$38)/$C$41 -> 0.25 | AG46: =SQRT(AF46^(2)+ABS(AD46-AE46)^(2)) -> 602.85962 | AI46: =1000/(2*PI()*$Z46*$C$69*$C$65*0.000001) -> 39788.736 | AJ46: =2*PI()*$Z46*((0.000000001*$C$67)/$C$69)*1000 -> 2.3561945e-06 | AK46: =($C$66)/$C$69 -> 0.125 | AL46: =IF($C$64="Yes", SQRT(AK46^(2)+ABS(AI46-AJ46)^(2)), NA()) -> 39788.736 | AN46: =1000/(2*PI()*$Z46*$C$82*$C$79*0.000001) -> 318309.89 | AO46: =2*PI()*$Z46*((0.000000001*$C$81)/$C$82)*1000 -> 0.00018849556 | AP46: =($C$80)/$C$82 -> 10 | AQ46: =IF($C$78="Yes", SQRT(AP46^(2)+ABS(AN46-AO46)^(2)), NA()) -> #N/A | AS46: =1000/(2*PI()*$Z46*$C$97*$C$93*0.000001) -> 4822877.1 | AT46: =2*PI()*$Z46*((0.000000001*$C$95)/$C$97)*1000 -> 9.424778e-05 | AU46: =($C$94)/$C$97 -> 5 | AV46: =IF($C$92="Yes", SQRT(AU46^(2)+ABS(AS46-AT46)^(2)), NA()) -> #N/A | AX46: =1000/(2*PI()*$Z46*$C$55*$C$51*0.000001) -> 846568.85 | AY46: =2*PI()*$Z46*((0.000000001*$C$53)/$C$55)*1000 -> 2.3561945e-06 | AZ46: =($C$52)/$C$55 -> 0.125 | BA46: =IF($C$50="Yes", SQRT(AZ46^(2)+ABS(AX46-AY46)^(2)), NA()) -> 846568.85
B47: Total Bulk Capacitor ESL Reactance @fSW | C47: =2*PI()*C44*0.000000001*$C$33*1000*1000 -> 0.65449847 | D47: mΩ | Z47: 55 | AA47: {=_xlfn.IFS(AND($C$64="Yes",$C$78="Yes",$C$92="Yes",$C$50="Yes"),1/((1/AG47)+(1/AL47)+(1/AQ47)+(1/AV47)+(1/BA47)),AND($C$64="Yes",$C$78="Yes",$C$92="Yes",$C$50="No"),1/((1/AG47)+(1/AL47)+(1/AQ47)+(1/AV47)),AND($C$64="Yes",$C$78="Yes",$C$92="No",$C$50="No"),1/((1/AG47)+(1/AL47)+(1/AQ47)),AND($C$64="Yes",$C$78="No",$C$92="No",$C$50="No"),1/((1/AG47)+(1/AL47)),AND($C$64="No",$C$78="No",$C$92="No",$C$50="No"),1/((1/AG47)),AND($C$64="Yes",$C$78="No",$C$92="No",$C$50="Yes"),1/((1/AG47)+(1/AL47)+(1/BA47)), AND($C$64="No",$C$78="No",$C$92="No",$C$50="Yes"),1/((1/AG47)+(1/BA47)), AND($C$64="No",$C$78="Yes",$C$92="No",$C$50="Yes"),1/((1/AG47)+(1/AQ47)+(1/BA47)))} -> 539.49583 | AB47: =$C$29 -> 0.79935872 | AD47: =1000/(2*PI()*$Z47*$C$41*$C$37*0.000001) -> 548.05421 | AE47: =2*PI()*$Z47*((0.000000001*$C$39)/$C$41)*1000 -> 7.1994832e-05 | AF47: =($C$38)/$C$41 -> 0.25 | AG47: =SQRT(AF47^(2)+ABS(AD47-AE47)^(2)) -> 548.0542 | AI47: =1000/(2*PI()*$Z47*$C$69*$C$65*0.000001) -> 36171.578 | AJ47: =2*PI()*$Z47*((0.000000001*$C$67)/$C$69)*1000 -> 2.5918139e-06 | AK47: =($C$66)/$C$69 -> 0.125 | AL47: =IF($C$64="Yes", SQRT(AK47^(2)+ABS(AI47-AJ47)^(2)), NA()) -> 36171.578 | AN47: =1000/(2*PI()*$Z47*$C$82*$C$79*0.000001) -> 289372.62 | AO47: =2*PI()*$Z47*((0.000000001*$C$81)/$C$82)*1000 -> 0.00020734512 | AP47: =($C$80)/$C$82 -> 10 | AQ47: =IF($C$78="Yes", SQRT(AP47^(2)+ABS(AN47-AO47)^(2)), NA()) -> #N/A | AS47: =1000/(2*PI()*$Z47*$C$97*$C$93*0.000001) -> 4384433.7 | AT47: =2*PI()*$Z47*((0.000000001*$C$95)/$C$97)*1000 -> 0.00010367256 | AU47: =($C$94)/$C$97 -> 5 | AV47: =IF($C$92="Yes", SQRT(AU47^(2)+ABS(AS47-AT47)^(2)), NA()) -> #N/A | AX47: =1000/(2*PI()*$Z47*$C$55*$C$51*0.000001) -> 769608.04 | AY47: =2*PI()*$Z47*((0.000000001*$C$53)/$C$55)*1000 -> 2.5918139e-06 | AZ47: =($C$52)/$C$55 -> 0.125 | BA47: =IF($C$50="Yes", SQRT(AZ47^(2)+ABS(AX47-AY47)^(2)), NA()) -> 769608.04
B48: Total Bulk Capacitor Impedance @fSW | C48: =SQRT(C43^(2)+ABS(C46-C47)^(2)) -> 0.64466154 | D48: mΩ | Z48: 60 | AA48: {=_xlfn.IFS(AND($C$64="Yes",$C$78="Yes",$C$92="Yes",$C$50="Yes"),1/((1/AG48)+(1/AL48)+(1/AQ48)+(1/AV48)+(1/BA48)),AND($C$64="Yes",$C$78="Yes",$C$92="Yes",$C$50="No"),1/((1/AG48)+(1/AL48)+(1/AQ48)+(1/AV48)),AND($C$64="Yes",$C$78="Yes",$C$92="No",$C$50="No"),1/((1/AG48)+(1/AL48)+(1/AQ48)),AND($C$64="Yes",$C$78="No",$C$92="No",$C$50="No"),1/((1/AG48)+(1/AL48)),AND($C$64="No",$C$78="No",$C$92="No",$C$50="No"),1/((1/AG48)),AND($C$64="Yes",$C$78="No",$C$92="No",$C$50="Yes"),1/((1/AG48)+(1/AL48)+(1/BA48)), AND($C$64="No",$C$78="No",$C$92="No",$C$50="Yes"),1/((1/AG48)+(1/BA48)), AND($C$64="No",$C$78="Yes",$C$92="No",$C$50="Yes"),1/((1/AG48)+(1/AQ48)+(1/BA48)))} -> 494.53784 | AB48: =$C$29 -> 0.79935872 | AD48: =1000/(2*PI()*$Z48*$C$41*$C$37*0.000001) -> 502.38303 | AE48: =2*PI()*$Z48*((0.000000001*$C$39)/$C$41)*1000 -> 7.8539816e-05 | AF48: =($C$38)/$C$41 -> 0.25 | AG48: =SQRT(AF48^(2)+ABS(AD48-AE48)^(2)) -> 502.38301 | AI48: =1000/(2*PI()*$Z48*$C$69*$C$65*0.000001) -> 33157.28 | AJ48: =2*PI()*$Z48*((0.000000001*$C$67)/$C$69)*1000 -> 2.8274334e-06 | AK48: =($C$66)/$C$69 -> 0.125 | AL48: =IF($C$64="Yes", SQRT(AK48^(2)+ABS(AI48-AJ48)^(2)), NA()) -> 33157.28 | AN48: =1000/(2*PI()*$Z48*$C$82*$C$79*0.000001) -> 265258.24 | AO48: =2*PI()*$Z48*((0.000000001*$C$81)/$C$82)*1000 -> 0.00022619467 | AP48: =($C$80)/$C$82 -> 10 | AQ48: =IF($C$78="Yes", SQRT(AP48^(2)+ABS(AN48-AO48)^(2)), NA()) -> #N/A | AS48: =1000/(2*PI()*$Z48*$C$97*$C$93*0.000001) -> 4019064.2 | AT48: =2*PI()*$Z48*((0.000000001*$C$95)/$C$97)*1000 -> 0.00011309734 | AU48: =($C$94)/$C$97 -> 5 | AV48: =IF($C$92="Yes", SQRT(AU48^(2)+ABS(AS48-AT48)^(2)), NA()) -> #N/A | AX48: =1000/(2*PI()*$Z48*$C$55*$C$51*0.000001) -> 705474.04 | AY48: =2*PI()*$Z48*((0.000000001*$C$53)/$C$55)*1000 -> 2.8274334e-06 | AZ48: =($C$52)/$C$55 -> 0.125 | BA48: =IF($C$50="Yes", SQRT(AZ48^(2)+ABS(AX48-AY48)^(2)), NA()) -> 705474.04
Z49: 65 | AA49: {=_xlfn.IFS(AND($C$64="Yes",$C$78="Yes",$C$92="Yes",$C$50="Yes"),1/((1/AG49)+(1/AL49)+(1/AQ49)+(1/AV49)+(1/BA49)),AND($C$64="Yes",$C$78="Yes",$C$92="Yes",$C$50="No"),1/((1/AG49)+(1/AL49)+(1/AQ49)+(1/AV49)),AND($C$64="Yes",$C$78="Yes",$C$92="No",$C$50="No"),1/((1/AG49)+(1/AL49)+(1/AQ49)),AND($C$64="Yes",$C$78="No",$C$92="No",$C$50="No"),1/((1/AG49)+(1/AL49)),AND($C$64="No",$C$78="No",$C$92="No",$C$50="No"),1/((1/AG49)),AND($C$64="Yes",$C$78="No",$C$92="No",$C$50="Yes"),1/((1/AG49)+(1/AL49)+(1/BA49)), AND($C$64="No",$C$78="No",$C$92="No",$C$50="Yes"),1/((1/AG49)+(1/BA49)), AND($C$64="No",$C$78="Yes",$C$92="No",$C$50="Yes"),1/((1/AG49)+(1/AQ49)+(1/BA49)))} -> 456.49647 | AB49: =$C$29 -> 0.79935872 | AD49: =1000/(2*PI()*$Z49*$C$41*$C$37*0.000001) -> 463.73818 | AE49: =2*PI()*$Z49*((0.000000001*$C$39)/$C$41)*1000 -> 8.5084801e-05 | AF49: =($C$38)/$C$41 -> 0.25 | AG49: =SQRT(AF49^(2)+ABS(AD49-AE49)^(2)) -> 463.73816 | AI49: =1000/(2*PI()*$Z49*$C$69*$C$65*0.000001) -> 30606.72 | AJ49: =2*PI()*$Z49*((0.000000001*$C$67)/$C$69)*1000 -> 3.0630528e-06 | AK49: =($C$66)/$C$69 -> 0.125 | AL49: =IF($C$64="Yes", SQRT(AK49^(2)+ABS(AI49-AJ49)^(2)), NA()) -> 30606.72 | AN49: =1000/(2*PI()*$Z49*$C$82*$C$79*0.000001) -> 244853.76 | AO49: =2*PI()*$Z49*((0.000000001*$C$81)/$C$82)*1000 -> 0.00024504423 | AP49: =($C$80)/$C$82 -> 10 | AQ49: =IF($C$78="Yes", SQRT(AP49^(2)+ABS(AN49-AO49)^(2)), NA()) -> #N/A | AS49: =1000/(2*PI()*$Z49*$C$97*$C$93*0.000001) -> 3709905.4 | AT49: =2*PI()*$Z49*((0.000000001*$C$95)/$C$97)*1000 -> 0.00012252211 | AU49: =($C$94)/$C$97 -> 5 | AV49: =IF($C$92="Yes", SQRT(AU49^(2)+ABS(AS49-AT49)^(2)), NA()) -> #N/A | AX49: =1000/(2*PI()*$Z49*$C$55*$C$51*0.000001) -> 651206.8 | AY49: =2*PI()*$Z49*((0.000000001*$C$53)/$C$55)*1000 -> 3.0630528e-06 | AZ49: =($C$52)/$C$55 -> 0.125 | BA49: =IF($C$50="Yes", SQRT(AZ49^(2)+ABS(AX49-AY49)^(2)), NA()) -> 651206.8
B50: Use COUT(HF)? | C50: Yes | Z50: 70 | AA50: {=_xlfn.IFS(AND($C$64="Yes",$C$78="Yes",$C$92="Yes",$C$50="Yes"),1/((1/AG50)+(1/AL50)+(1/AQ50)+(1/AV50)+(1/BA50)),AND($C$64="Yes",$C$78="Yes",$C$92="Yes",$C$50="No"),1/((1/AG50)+(1/AL50)+(1/AQ50)+(1/AV50)),AND($C$64="Yes",$C$78="Yes",$C$92="No",$C$50="No"),1/((1/AG50)+(1/AL50)+(1/AQ50)),AND($C$64="Yes",$C$78="No",$C$92="No",$C$50="No"),1/((1/AG50)+(1/AL50)),AND($C$64="No",$C$78="No",$C$92="No",$C$50="No"),1/((1/AG50)),AND($C$64="Yes",$C$78="No",$C$92="No",$C$50="Yes"),1/((1/AG50)+(1/AL50)+(1/BA50)), AND($C$64="No",$C$78="No",$C$92="No",$C$50="Yes"),1/((1/AG50)+(1/BA50)), AND($C$64="No",$C$78="Yes",$C$92="No",$C$50="Yes"),1/((1/AG50)+(1/AQ50)+(1/BA50)))} -> 423.88957 | AB50: =$C$29 -> 0.79935872 | AD50: =1000/(2*PI()*$Z50*$C$41*$C$37*0.000001) -> 430.61402 | AE50: =2*PI()*$Z50*((0.000000001*$C$39)/$C$41)*1000 -> 9.1629786e-05 | AF50: =($C$38)/$C$41 -> 0.25 | AG50: =SQRT(AF50^(2)+ABS(AD50-AE50)^(2)) -> 430.614 | AI50: =1000/(2*PI()*$Z50*$C$69*$C$65*0.000001) -> 28420.526 | AJ50: =2*PI()*$Z50*((0.000000001*$C$67)/$C$69)*1000 -> 3.2986723e-06 | AK50: =($C$66)/$C$69 -> 0.125 | AL50: =IF($C$64="Yes", SQRT(AK50^(2)+ABS(AI50-AJ50)^(2)), NA()) -> 28420.526 | AN50: =1000/(2*PI()*$Z50*$C$82*$C$79*0.000001) -> 227364.2 | AO50: =2*PI()*$Z50*((0.000000001*$C$81)/$C$82)*1000 -> 0.00026389378 | AP50: =($C$80)/$C$82 -> 10 | AQ50: =IF($C$78="Yes", SQRT(AP50^(2)+ABS(AN50-AO50)^(2)), NA()) -> #N/A | AS50: =1000/(2*PI()*$Z50*$C$97*$C$93*0.000001) -> 3444912.2 | AT50: =2*PI()*$Z50*((0.000000001*$C$95)/$C$97)*1000 -> 0.00013194689 | AU50: =($C$94)/$C$97 -> 5 | AV50: =IF($C$92="Yes", SQRT(AU50^(2)+ABS(AS50-AT50)^(2)), NA()) -> #N/A | AX50: =1000/(2*PI()*$Z50*$C$55*$C$51*0.000001) -> 604692.03 | AY50: =2*PI()*$Z50*((0.000000001*$C$53)/$C$55)*1000 -> 3.2986723e-06 | AZ50: =($C$52)/$C$55 -> 0.125 | BA50: =IF($C$50="Yes", SQRT(AZ50^(2)+ABS(AX50-AY50)^(2)), NA()) -> 604692.03
B51: High Frequency Capacitor Value (COUT(HF)) | C51: 0.047 | D51: µF | Z51: 75 | AA51: {=_xlfn.IFS(AND($C$64="Yes",$C$78="Yes",$C$92="Yes",$C$50="Yes"),1/((1/AG51)+(1/AL51)+(1/AQ51)+(1/AV51)+(1/BA51)),AND($C$64="Yes",$C$78="Yes",$C$92="Yes",$C$50="No"),1/((1/AG51)+(1/AL51)+(1/AQ51)+(1/AV51)),AND($C$64="Yes",$C$78="Yes",$C$92="No",$C$50="No"),1/((1/AG51)+(1/AL51)+(1/AQ51)),AND($C$64="Yes",$C$78="No",$C$92="No",$C$50="No"),1/((1/AG51)+(1/AL51)),AND($C$64="No",$C$78="No",$C$92="No",$C$50="No"),1/((1/AG51)),AND($C$64="Yes",$C$78="No",$C$92="No",$C$50="Yes"),1/((1/AG51)+(1/AL51)+(1/BA51)), AND($C$64="No",$C$78="No",$C$92="No",$C$50="Yes"),1/((1/AG51)+(1/BA51)), AND($C$64="No",$C$78="Yes",$C$92="No",$C$50="Yes"),1/((1/AG51)+(1/AQ51)+(1/BA51)))} -> 395.63027 | AB51: =$C$29 -> 0.79935872 | AD51: =1000/(2*PI()*$Z51*$C$41*$C$37*0.000001) -> 401.90642 | AE51: =2*PI()*$Z51*((0.000000001*$C$39)/$C$41)*1000 -> 9.817477e-05 | AF51: =($C$38)/$C$41 -> 0.25 | AG51: =SQRT(AF51^(2)+ABS(AD51-AE51)^(2)) -> 401.9064 | AI51: =1000/(2*PI()*$Z51*$C$69*$C$65*0.000001) -> 26525.824 | AJ51: =2*PI()*$Z51*((0.000000001*$C$67)/$C$69)*1000 -> 3.5342917e-06 | AK51: =($C$66)/$C$69 -> 0.125 | AL51: =IF($C$64="Yes", SQRT(AK51^(2)+ABS(AI51-AJ51)^(2)), NA()) -> 26525.824 | AN51: =1000/(2*PI()*$Z51*$C$82*$C$79*0.000001) -> 212206.59 | AO51: =2*PI()*$Z51*((0.000000001*$C$81)/$C$82)*1000 -> 0.00028274334 | AP51: =($C$80)/$C$82 -> 10 | AQ51: =IF($C$78="Yes", SQRT(AP51^(2)+ABS(AN51-AO51)^(2)), NA()) -> #N/A | AS51: =1000/(2*PI()*$Z51*$C$97*$C$93*0.000001) -> 3215251.4 | AT51: =2*PI()*$Z51*((0.000000001*$C$95)/$C$97)*1000 -> 0.00014137167 | AU51: =($C$94)/$C$97 -> 5 | AV51: =IF($C$92="Yes", SQRT(AU51^(2)+ABS(AS51-AT51)^(2)), NA()) -> #N/A | AX51: =1000/(2*PI()*$Z51*$C$55*$C$51*0.000001) -> 564379.23 | AY51: =2*PI()*$Z51*((0.000000001*$C$53)/$C$55)*1000 -> 3.5342917e-06 | AZ51: =($C$52)/$C$55 -> 0.125 | BA51: =IF($C$50="Yes", SQRT(AZ51^(2)+ABS(AX51-AY51)^(2)), NA()) -> 564379.23
B52: High Frequency Capacitor ESR | C52: 10 | D52: mΩ | Z52: 80 | AA52: {=_xlfn.IFS(AND($C$64="Yes",$C$78="Yes",$C$92="Yes",$C$50="Yes"),1/((1/AG52)+(1/AL52)+(1/AQ52)+(1/AV52)+(1/BA52)),AND($C$64="Yes",$C$78="Yes",$C$92="Yes",$C$50="No"),1/((1/AG52)+(1/AL52)+(1/AQ52)+(1/AV52)),AND($C$64="Yes",$C$78="Yes",$C$92="No",$C$50="No"),1/((1/AG52)+(1/AL52)+(1/AQ52)),AND($C$64="Yes",$C$78="No",$C$92="No",$C$50="No"),1/((1/AG52)+(1/AL52)),AND($C$64="No",$C$78="No",$C$92="No",$C$50="No"),1/((1/AG52)),AND($C$64="Yes",$C$78="No",$C$92="No",$C$50="Yes"),1/((1/AG52)+(1/AL52)+(1/BA52)), AND($C$64="No",$C$78="No",$C$92="No",$C$50="Yes"),1/((1/AG52)+(1/BA52)), AND($C$64="No",$C$78="Yes",$C$92="No",$C$50="Yes"),1/((1/AG52)+(1/AQ52)+(1/BA52)))} -> 370.90337 | AB52: =$C$29 -> 0.79935872 | AD52: =1000/(2*PI()*$Z52*$C$41*$C$37*0.000001) -> 376.78727 | AE52: =2*PI()*$Z52*((0.000000001*$C$39)/$C$41)*1000 -> 0.00010471976 | AF52: =($C$38)/$C$41 -> 0.25 | AG52: =SQRT(AF52^(2)+ABS(AD52-AE52)^(2)) -> 376.78725 | AI52: =1000/(2*PI()*$Z52*$C$69*$C$65*0.000001) -> 24867.96 | AJ52: =2*PI()*$Z52*((0.000000001*$C$67)/$C$69)*1000 -> 3.7699112e-06 | AK52: =($C$66)/$C$69 -> 0.125 | AL52: =IF($C$64="Yes", SQRT(AK52^(2)+ABS(AI52-AJ52)^(2)), NA()) -> 24867.96 | AN52: =1000/(2*PI()*$Z52*$C$82*$C$79*0.000001) -> 198943.68 | AO52: =2*PI()*$Z52*((0.000000001*$C$81)/$C$82)*1000 -> 0.00030159289 | AP52: =($C$80)/$C$82 -> 10 | AQ52: =IF($C$78="Yes", SQRT(AP52^(2)+ABS(AN52-AO52)^(2)), NA()) -> #N/A | AS52: =1000/(2*PI()*$Z52*$C$97*$C$93*0.000001) -> 3014298.2 | AT52: =2*PI()*$Z52*((0.000000001*$C$95)/$C$97)*1000 -> 0.00015079645 | AU52: =($C$94)/$C$97 -> 5 | AV52: =IF($C$92="Yes", SQRT(AU52^(2)+ABS(AS52-AT52)^(2)), NA()) -> #N/A | AX52: =1000/(2*PI()*$Z52*$C$55*$C$51*0.000001) -> 529105.53 | AY52: =2*PI()*$Z52*((0.000000001*$C$53)/$C$55)*1000 -> 3.7699112e-06 | AZ52: =($C$52)/$C$55 -> 0.125 | BA52: =IF($C$50="Yes", SQRT(AZ52^(2)+ABS(AX52-AY52)^(2)), NA()) -> 529105.53
B53: High Frequency Capacitor ESL | C53: 0.6 | D53: nH | Z53: 85 | AA53: {=_xlfn.IFS(AND($C$64="Yes",$C$78="Yes",$C$92="Yes",$C$50="Yes"),1/((1/AG53)+(1/AL53)+(1/AQ53)+(1/AV53)+(1/BA53)),AND($C$64="Yes",$C$78="Yes",$C$92="Yes",$C$50="No"),1/((1/AG53)+(1/AL53)+(1/AQ53)+(1/AV53)),AND($C$64="Yes",$C$78="Yes",$C$92="No",$C$50="No"),1/((1/AG53)+(1/AL53)+(1/AQ53)),AND($C$64="Yes",$C$78="No",$C$92="No",$C$50="No"),1/((1/AG53)+(1/AL53)),AND($C$64="No",$C$78="No",$C$92="No",$C$50="No"),1/((1/AG53)),AND($C$64="Yes",$C$78="No",$C$92="No",$C$50="Yes"),1/((1/AG53)+(1/AL53)+(1/BA53)), AND($C$64="No",$C$78="No",$C$92="No",$C$50="Yes"),1/((1/AG53)+(1/BA53)), AND($C$64="No",$C$78="Yes",$C$92="No",$C$50="Yes"),1/((1/AG53)+(1/AQ53)+(1/BA53)))} -> 349.08552 | AB53: =$C$29 -> 0.79935872 | AD53: =1000/(2*PI()*$Z53*$C$41*$C$37*0.000001) -> 354.62331 | AE53: =2*PI()*$Z53*((0.000000001*$C$39)/$C$41)*1000 -> 0.00011126474 | AF53: =($C$38)/$C$41 -> 0.25 | AG53: =SQRT(AF53^(2)+ABS(AD53-AE53)^(2)) -> 354.62329 | AI53: =1000/(2*PI()*$Z53*$C$69*$C$65*0.000001) -> 23405.139 | AJ53: =2*PI()*$Z53*((0.000000001*$C$67)/$C$69)*1000 -> 4.0055306e-06 | AK53: =($C$66)/$C$69 -> 0.125 | AL53: =IF($C$64="Yes", SQRT(AK53^(2)+ABS(AI53-AJ53)^(2)), NA()) -> 23405.139 | AN53: =1000/(2*PI()*$Z53*$C$82*$C$79*0.000001) -> 187241.11 | AO53: =2*PI()*$Z53*((0.000000001*$C$81)/$C$82)*1000 -> 0.00032044245 | AP53: =($C$80)/$C$82 -> 10 | AQ53: =IF($C$78="Yes", SQRT(AP53^(2)+ABS(AN53-AO53)^(2)), NA()) -> #N/A | AS53: =1000/(2*PI()*$Z53*$C$97*$C$93*0.000001) -> 2836986.5 | AT53: =2*PI()*$Z53*((0.000000001*$C$95)/$C$97)*1000 -> 0.00016022123 | AU53: =($C$94)/$C$97 -> 5 | AV53: =IF($C$92="Yes", SQRT(AU53^(2)+ABS(AS53-AT53)^(2)), NA()) -> #N/A | AX53: =1000/(2*PI()*$Z53*$C$55*$C$51*0.000001) -> 497981.67 | AY53: =2*PI()*$Z53*((0.000000001*$C$53)/$C$55)*1000 -> 4.0055306e-06 | AZ53: =($C$52)/$C$55 -> 0.125 | BA53: =IF($C$50="Yes", SQRT(AZ53^(2)+ABS(AX53-AY53)^(2)), NA()) -> 497981.67
B54: Quantity per Phase | C54: 40 | Z54: 90 | AA54: {=_xlfn.IFS(AND($C$64="Yes",$C$78="Yes",$C$92="Yes",$C$50="Yes"),1/((1/AG54)+(1/AL54)+(1/AQ54)+(1/AV54)+(1/BA54)),AND($C$64="Yes",$C$78="Yes",$C$92="Yes",$C$50="No"),1/((1/AG54)+(1/AL54)+(1/AQ54)+(1/AV54)),AND($C$64="Yes",$C$78="Yes",$C$92="No",$C$50="No"),1/((1/AG54)+(1/AL54)+(1/AQ54)),AND($C$64="Yes",$C$78="No",$C$92="No",$C$50="No"),1/((1/AG54)+(1/AL54)),AND($C$64="No",$C$78="No",$C$92="No",$C$50="No"),1/((1/AG54)),AND($C$64="Yes",$C$78="No",$C$92="No",$C$50="Yes"),1/((1/AG54)+(1/AL54)+(1/BA54)), AND($C$64="No",$C$78="No",$C$92="No",$C$50="Yes"),1/((1/AG54)+(1/BA54)), AND($C$64="No",$C$78="Yes",$C$92="No",$C$50="Yes"),1/((1/AG54)+(1/AQ54)+(1/BA54)))} -> 329.69188 | AB54: =$C$29 -> 0.79935872 | AD54: =1000/(2*PI()*$Z54*$C$41*$C$37*0.000001) -> 334.92202 | AE54: =2*PI()*$Z54*((0.000000001*$C$39)/$C$41)*1000 -> 0.00011780972 | AF54: =($C$38)/$C$41 -> 0.25 | AG54: =SQRT(AF54^(2)+ABS(AD54-AE54)^(2)) -> 334.92199 | AI54: =1000/(2*PI()*$Z54*$C$69*$C$65*0.000001) -> 22104.853 | AJ54: =2*PI()*$Z54*((0.000000001*$C$67)/$C$69)*1000 -> 4.2411501e-06 | AK54: =($C$66)/$C$69 -> 0.125 | AL54: =IF($C$64="Yes", SQRT(AK54^(2)+ABS(AI54-AJ54)^(2)), NA()) -> 22104.853 | AN54: =1000/(2*PI()*$Z54*$C$82*$C$79*0.000001) -> 176838.83 | AO54: =2*PI()*$Z54*((0.000000001*$C$81)/$C$82)*1000 -> 0.00033929201 | AP54: =($C$80)/$C$82 -> 10 | AQ54: =IF($C$78="Yes", SQRT(AP54^(2)+ABS(AN54-AO54)^(2)), NA()) -> #N/A | AS54: =1000/(2*PI()*$Z54*$C$97*$C$93*0.000001) -> 2679376.1 | AT54: =2*PI()*$Z54*((0.000000001*$C$95)/$C$97)*1000 -> 0.000169646 | AU54: =($C$94)/$C$97 -> 5 | AV54: =IF($C$92="Yes", SQRT(AU54^(2)+ABS(AS54-AT54)^(2)), NA()) -> #N/A | AX54: =1000/(2*PI()*$Z54*$C$55*$C$51*0.000001) -> 470316.03 | AY54: =2*PI()*$Z54*((0.000000001*$C$53)/$C$55)*1000 -> 4.2411501e-06 | AZ54: =($C$52)/$C$55 -> 0.125 | BA54: =IF($C$50="Yes", SQRT(AZ54^(2)+ABS(AX54-AY54)^(2)), NA()) -> 470316.03
B55: Total Quantity | C55: =C54*$C$32 -> 80 | Z55: 95 | AA55: {=_xlfn.IFS(AND($C$64="Yes",$C$78="Yes",$C$92="Yes",$C$50="Yes"),1/((1/AG55)+(1/AL55)+(1/AQ55)+(1/AV55)+(1/BA55)),AND($C$64="Yes",$C$78="Yes",$C$92="Yes",$C$50="No"),1/((1/AG55)+(1/AL55)+(1/AQ55)+(1/AV55)),AND($C$64="Yes",$C$78="Yes",$C$92="No",$C$50="No"),1/((1/AG55)+(1/AL55)+(1/AQ55)),AND($C$64="Yes",$C$78="No",$C$92="No",$C$50="No"),1/((1/AG55)+(1/AL55)),AND($C$64="No",$C$78="No",$C$92="No",$C$50="No"),1/((1/AG55)),AND($C$64="Yes",$C$78="No",$C$92="No",$C$50="Yes"),1/((1/AG55)+(1/AL55)+(1/BA55)), AND($C$64="No",$C$78="No",$C$92="No",$C$50="Yes"),1/((1/AG55)+(1/BA55)), AND($C$64="No",$C$78="Yes",$C$92="No",$C$50="Yes"),1/((1/AG55)+(1/AQ55)+(1/BA55)))} -> 312.33968 | AB55: =$C$29 -> 0.79935872 | AD55: =1000/(2*PI()*$Z55*$C$41*$C$37*0.000001) -> 317.29454 | AE55: =2*PI()*$Z55*((0.000000001*$C$39)/$C$41)*1000 -> 0.00012435471 | AF55: =($C$38)/$C$41 -> 0.25 | AG55: =SQRT(AF55^(2)+ABS(AD55-AE55)^(2)) -> 317.29452 | AI55: =1000/(2*PI()*$Z55*$C$69*$C$65*0.000001) -> 20941.44 | AJ55: =2*PI()*$Z55*((0.000000001*$C$67)/$C$69)*1000 -> 4.4767695e-06 | AK55: =($C$66)/$C$69 -> 0.125 | AL55: =IF($C$64="Yes", SQRT(AK55^(2)+ABS(AI55-AJ55)^(2)), NA()) -> 20941.44 | AN55: =1000/(2*PI()*$Z55*$C$82*$C$79*0.000001) -> 167531.52 | AO55: =2*PI()*$Z55*((0.000000001*$C$81)/$C$82)*1000 -> 0.00035814156 | AP55: =($C$80)/$C$82 -> 10 | AQ55: =IF($C$78="Yes", SQRT(AP55^(2)+ABS(AN55-AO55)^(2)), NA()) -> #N/A | AS55: =1000/(2*PI()*$Z55*$C$97*$C$93*0.000001) -> 2538356.3 | AT55: =2*PI()*$Z55*((0.000000001*$C$95)/$C$97)*1000 -> 0.00017907078 | AU55: =($C$94)/$C$97 -> 5 | AV55: =IF($C$92="Yes", SQRT(AU55^(2)+ABS(AS55-AT55)^(2)), NA()) -> #N/A | AX55: =1000/(2*PI()*$Z55*$C$55*$C$51*0.000001) -> 445562.55 | AY55: =2*PI()*$Z55*((0.000000001*$C$53)/$C$55)*1000 -> 4.4767695e-06 | AZ55: =($C$52)/$C$55 -> 0.125 | BA55: =IF($C$50="Yes", SQRT(AZ55^(2)+ABS(AX55-AY55)^(2)), NA()) -> 445562.55
B56: Total High Frequency Capacitance (COUT(TOTAL, HF)) | C56: =C51*$C$55 -> 3.76 | D56: µF | Z56: 100 | AA56: {=_xlfn.IFS(AND($C$64="Yes",$C$78="Yes",$C$92="Yes",$C$50="Yes"),1/((1/AG56)+(1/AL56)+(1/AQ56)+(1/AV56)+(1/BA56)),AND($C$64="Yes",$C$78="Yes",$C$92="Yes",$C$50="No"),1/((1/AG56)+(1/AL56)+(1/AQ56)+(1/AV56)),AND($C$64="Yes",$C$78="Yes",$C$92="No",$C$50="No"),1/((1/AG56)+(1/AL56)+(1/AQ56)),AND($C$64="Yes",$C$78="No",$C$92="No",$C$50="No"),1/((1/AG56)+(1/AL56)),AND($C$64="No",$C$78="No",$C$92="No",$C$50="No"),1/((1/AG56)),AND($C$64="Yes",$C$78="No",$C$92="No",$C$50="Yes"),1/((1/AG56)+(1/AL56)+(1/BA56)), AND($C$64="No",$C$78="No",$C$92="No",$C$50="Yes"),1/((1/AG56)+(1/BA56)), AND($C$64="No",$C$78="Yes",$C$92="No",$C$50="Yes"),1/((1/AG56)+(1/AQ56)+(1/BA56)))} -> 296.72269 | AB56: =$C$29 -> 0.79935872 | AD56: =1000/(2*PI()*$Z56*$C$41*$C$37*0.000001) -> 301.42982 | AE56: =2*PI()*$Z56*((0.000000001*$C$39)/$C$41)*1000 -> 0.00013089969 | AF56: =($C$38)/$C$41 -> 0.25 | AG56: =SQRT(AF56^(2)+ABS(AD56-AE56)^(2)) -> 301.42979 | AI56: =1000/(2*PI()*$Z56*$C$69*$C$65*0.000001) -> 19894.368 | AJ56: =2*PI()*$Z56*((0.000000001*$C$67)/$C$69)*1000 -> 4.712389e-06 | AK56: =($C$66)/$C$69 -> 0.125 | AL56: =IF($C$64="Yes", SQRT(AK56^(2)+ABS(AI56-AJ56)^(2)), NA()) -> 19894.368 | AN56: =1000/(2*PI()*$Z56*$C$82*$C$79*0.000001) -> 159154.94 | AO56: =2*PI()*$Z56*((0.000000001*$C$81)/$C$82)*1000 -> 0.00037699112 | AP56: =($C$80)/$C$82 -> 10 | AQ56: =IF($C$78="Yes", SQRT(AP56^(2)+ABS(AN56-AO56)^(2)), NA()) -> #N/A | AS56: =1000/(2*PI()*$Z56*$C$97*$C$93*0.000001) -> 2411438.5 | AT56: =2*PI()*$Z56*((0.000000001*$C$95)/$C$97)*1000 -> 0.00018849556 | AU56: =($C$94)/$C$97 -> 5 | AV56: =IF($C$92="Yes", SQRT(AU56^(2)+ABS(AS56-AT56)^(2)), NA()) -> #N/A | AX56: =1000/(2*PI()*$Z56*$C$55*$C$51*0.000001) -> 423284.42 | AY56: =2*PI()*$Z56*((0.000000001*$C$53)/$C$55)*1000 -> 4.712389e-06 | AZ56: =($C$52)/$C$55 -> 0.125 | BA56: =IF($C$50="Yes", SQRT(AZ56^(2)+ABS(AX56-AY56)^(2)), NA()) -> 423284.42
B57: Total High Frequency Capacitance ESR | C57: =C52/$C$55 -> 0.125 | D57: mΩ | Z57: 150 | AA57: {=_xlfn.IFS(AND($C$64="Yes",$C$78="Yes",$C$92="Yes",$C$50="Yes"),1/((1/AG57)+(1/AL57)+(1/AQ57)+(1/AV57)+(1/BA57)),AND($C$64="Yes",$C$78="Yes",$C$92="Yes",$C$50="No"),1/((1/AG57)+(1/AL57)+(1/AQ57)+(1/AV57)),AND($C$64="Yes",$C$78="Yes",$C$92="No",$C$50="No"),1/((1/AG57)+(1/AL57)+(1/AQ57)),AND($C$64="Yes",$C$78="No",$C$92="No",$C$50="No"),1/((1/AG57)+(1/AL57)),AND($C$64="No",$C$78="No",$C$92="No",$C$50="No"),1/((1/AG57)),AND($C$64="Yes",$C$78="No",$C$92="No",$C$50="Yes"),1/((1/AG57)+(1/AL57)+(1/BA57)), AND($C$64="No",$C$78="No",$C$92="No",$C$50="Yes"),1/((1/AG57)+(1/BA57)), AND($C$64="No",$C$78="Yes",$C$92="No",$C$50="Yes"),1/((1/AG57)+(1/AQ57)+(1/BA57)))} -> 197.8151 | AB57: =$C$29 -> 0.79935872 | AD57: =1000/(2*PI()*$Z57*$C$41*$C$37*0.000001) -> 200.95321 | AE57: =2*PI()*$Z57*((0.000000001*$C$39)/$C$41)*1000 -> 0.00019634954 | AF57: =($C$38)/$C$41 -> 0.25 | AG57: =SQRT(AF57^(2)+ABS(AD57-AE57)^(2)) -> 200.95317 | AI57: =1000/(2*PI()*$Z57*$C$69*$C$65*0.000001) -> 13262.912 | AJ57: =2*PI()*$Z57*((0.000000001*$C$67)/$C$69)*1000 -> 7.0685835e-06 | AK57: =($C$66)/$C$69 -> 0.125 | AL57: =IF($C$64="Yes", SQRT(AK57^(2)+ABS(AI57-AJ57)^(2)), NA()) -> 13262.912 | AN57: =1000/(2*PI()*$Z57*$C$82*$C$79*0.000001) -> 106103.3 | AO57: =2*PI()*$Z57*((0.000000001*$C$81)/$C$82)*1000 -> 0.00056548668 | AP57: =($C$80)/$C$82 -> 10 | AQ57: =IF($C$78="Yes", SQRT(AP57^(2)+ABS(AN57-AO57)^(2)), NA()) -> #N/A | AS57: =1000/(2*PI()*$Z57*$C$97*$C$93*0.000001) -> 1607625.7 | AT57: =2*PI()*$Z57*((0.000000001*$C$95)/$C$97)*1000 -> 0.00028274334 | AU57: =($C$94)/$C$97 -> 5 | AV57: =IF($C$92="Yes", SQRT(AU57^(2)+ABS(AS57-AT57)^(2)), NA()) -> #N/A | AX57: =1000/(2*PI()*$Z57*$C$55*$C$51*0.000001) -> 282189.62 | AY57: =2*PI()*$Z57*((0.000000001*$C$53)/$C$55)*1000 -> 7.0685835e-06 | AZ57: =($C$52)/$C$55 -> 0.125 | BA57: =IF($C$50="Yes", SQRT(AZ57^(2)+ABS(AX57-AY57)^(2)), NA()) -> 282189.62
B58: Total High Frequency Capacitance ESL | C58: =C53/$C$55 -> 0.0075 | D58: nH | Z58: 200 | AA58: {=_xlfn.IFS(AND($C$64="Yes",$C$78="Yes",$C$92="Yes",$C$50="Yes"),1/((1/AG58)+(1/AL58)+(1/AQ58)+(1/AV58)+(1/BA58)),AND($C$64="Yes",$C$78="Yes",$C$92="Yes",$C$50="No"),1/((1/AG58)+(1/AL58)+(1/AQ58)+(1/AV58)),AND($C$64="Yes",$C$78="Yes",$C$92="No",$C$50="No"),1/((1/AG58)+(1/AL58)+(1/AQ58)),AND($C$64="Yes",$C$78="No",$C$92="No",$C$50="No"),1/((1/AG58)+(1/AL58)),AND($C$64="No",$C$78="No",$C$92="No",$C$50="No"),1/((1/AG58)),AND($C$64="Yes",$C$78="No",$C$92="No",$C$50="Yes"),1/((1/AG58)+(1/AL58)+(1/BA58)), AND($C$64="No",$C$78="No",$C$92="No",$C$50="Yes"),1/((1/AG58)+(1/BA58)), AND($C$64="No",$C$78="Yes",$C$92="No",$C$50="Yes"),1/((1/AG58)+(1/AQ58)+(1/BA58)))} -> 148.3613 | AB58: =$C$29 -> 0.79935872 | AD58: =1000/(2*PI()*$Z58*$C$41*$C$37*0.000001) -> 150.71491 | AE58: =2*PI()*$Z58*((0.000000001*$C$39)/$C$41)*1000 -> 0.00026179939 | AF58: =($C$38)/$C$41 -> 0.25 | AG58: =SQRT(AF58^(2)+ABS(AD58-AE58)^(2)) -> 150.71485 | AI58: =1000/(2*PI()*$Z58*$C$69*$C$65*0.000001) -> 9947.1839 | AJ58: =2*PI()*$Z58*((0.000000001*$C$67)/$C$69)*1000 -> 9.424778e-06 | AK58: =($C$66)/$C$69 -> 0.125 | AL58: =IF($C$64="Yes", SQRT(AK58^(2)+ABS(AI58-AJ58)^(2)), NA()) -> 9947.1839 | AN58: =1000/(2*PI()*$Z58*$C$82*$C$79*0.000001) -> 79577.472 | AO58: =2*PI()*$Z58*((0.000000001*$C$81)/$C$82)*1000 -> 0.00075398224 | AP58: =($C$80)/$C$82 -> 10 | AQ58: =IF($C$78="Yes", SQRT(AP58^(2)+ABS(AN58-AO58)^(2)), NA()) -> #N/A | AS58: =1000/(2*PI()*$Z58*$C$97*$C$93*0.000001) -> 1205719.3 | AT58: =2*PI()*$Z58*((0.000000001*$C$95)/$C$97)*1000 -> 0.00037699112 | AU58: =($C$94)/$C$97 -> 5 | AV58: =IF($C$92="Yes", SQRT(AU58^(2)+ABS(AS58-AT58)^(2)), NA()) -> #N/A | AX58: =1000/(2*PI()*$Z58*$C$55*$C$51*0.000001) -> 211642.21 | AY58: =2*PI()*$Z58*((0.000000001*$C$53)/$C$55)*1000 -> 9.424778e-06 | AZ58: =($C$52)/$C$55 -> 0.125 | BA58: =IF($C$50="Yes", SQRT(AZ58^(2)+ABS(AX58-AY58)^(2)), NA()) -> 211642.21
B59: High Frequency Capacitor Resonance | C59: =(1/(2*PI()*(SQRT($C$51*0.000001*$C$53*0.000000001))))*0.000001 -> 29.97061 | D59: MHz | Z59: 250 | AA59: {=_xlfn.IFS(AND($C$64="Yes",$C$78="Yes",$C$92="Yes",$C$50="Yes"),1/((1/AG59)+(1/AL59)+(1/AQ59)+(1/AV59)+(1/BA59)),AND($C$64="Yes",$C$78="Yes",$C$92="Yes",$C$50="No"),1/((1/AG59)+(1/AL59)+(1/AQ59)+(1/AV59)),AND($C$64="Yes",$C$78="Yes",$C$92="No",$C$50="No"),1/((1/AG59)+(1/AL59)+(1/AQ59)),AND($C$64="Yes",$C$78="No",$C$92="No",$C$50="No"),1/((1/AG59)+(1/AL59)),AND($C$64="No",$C$78="No",$C$92="No",$C$50="No"),1/((1/AG59)),AND($C$64="Yes",$C$78="No",$C$92="No",$C$50="Yes"),1/((1/AG59)+(1/AL59)+(1/BA59)), AND($C$64="No",$C$78="No",$C$92="No",$C$50="Yes"),1/((1/AG59)+(1/BA59)), AND($C$64="No",$C$78="Yes",$C$92="No",$C$50="Yes"),1/((1/AG59)+(1/AQ59)+(1/BA59)))} -> 118.68902 | AB59: =$C$29 -> 0.79935872 | AD59: =1000/(2*PI()*$Z59*$C$41*$C$37*0.000001) -> 120.57193 | AE59: =2*PI()*$Z59*((0.000000001*$C$39)/$C$41)*1000 -> 0.00032724923 | AF59: =($C$38)/$C$41 -> 0.25 | AG59: =SQRT(AF59^(2)+ABS(AD59-AE59)^(2)) -> 120.57186 | AI59: =1000/(2*PI()*$Z59*$C$69*$C$65*0.000001) -> 7957.7472 | AJ59: =2*PI()*$Z59*((0.000000001*$C$67)/$C$69)*1000 -> 1.1780972e-05 | AK59: =($C$66)/$C$69 -> 0.125 | AL59: =IF($C$64="Yes", SQRT(AK59^(2)+ABS(AI59-AJ59)^(2)), NA()) -> 7957.7471 | AN59: =1000/(2*PI()*$Z59*$C$82*$C$79*0.000001) -> 63661.977 | AO59: =2*PI()*$Z59*((0.000000001*$C$81)/$C$82)*1000 -> 0.0009424778 | AP59: =($C$80)/$C$82 -> 10 | AQ59: =IF($C$78="Yes", SQRT(AP59^(2)+ABS(AN59-AO59)^(2)), NA()) -> #N/A | AS59: =1000/(2*PI()*$Z59*$C$97*$C$93*0.000001) -> 964575.41 | AT59: =2*PI()*$Z59*((0.000000001*$C$95)/$C$97)*1000 -> 0.0004712389 | AU59: =($C$94)/$C$97 -> 5 | AV59: =IF($C$92="Yes", SQRT(AU59^(2)+ABS(AS59-AT59)^(2)), NA()) -> #N/A | AX59: =1000/(2*PI()*$Z59*$C$55*$C$51*0.000001) -> 169313.77 | AY59: =2*PI()*$Z59*((0.000000001*$C$53)/$C$55)*1000 -> 1.1780972e-05 | AZ59: =($C$52)/$C$55 -> 0.125 | BA59: =IF($C$50="Yes", SQRT(AZ59^(2)+ABS(AX59-AY59)^(2)), NA()) -> 169313.77
B60: Total HF Capacitor Capacitive Reactance @fSW | C60: =1000/(2*PI()*$C$33*1000*C56*0.000001) -> 84.656885 | D60: mΩ | Z60: 300 | AA60: {=_xlfn.IFS(AND($C$64="Yes",$C$78="Yes",$C$92="Yes",$C$50="Yes"),1/((1/AG60)+(1/AL60)+(1/AQ60)+(1/AV60)+(1/BA60)),AND($C$64="Yes",$C$78="Yes",$C$92="Yes",$C$50="No"),1/((1/AG60)+(1/AL60)+(1/AQ60)+(1/AV60)),AND($C$64="Yes",$C$78="Yes",$C$92="No",$C$50="No"),1/((1/AG60)+(1/AL60)+(1/AQ60)),AND($C$64="Yes",$C$78="No",$C$92="No",$C$50="No"),1/((1/AG60)+(1/AL60)),AND($C$64="No",$C$78="No",$C$92="No",$C$50="No"),1/((1/AG60)),AND($C$64="Yes",$C$78="No",$C$92="No",$C$50="Yes"),1/((1/AG60)+(1/AL60)+(1/BA60)), AND($C$64="No",$C$78="No",$C$92="No",$C$50="Yes"),1/((1/AG60)+(1/BA60)), AND($C$64="No",$C$78="Yes",$C$92="No",$C$50="Yes"),1/((1/AG60)+(1/AQ60)+(1/BA60)))} -> 98.907493 | AB60: =$C$29 -> 0.79935872 | AD60: =1000/(2*PI()*$Z60*$C$41*$C$37*0.000001) -> 100.47661 | AE60: =2*PI()*$Z60*((0.000000001*$C$39)/$C$41)*1000 -> 0.00039269908 | AF60: =($C$38)/$C$41 -> 0.25 | AG60: =SQRT(AF60^(2)+ABS(AD60-AE60)^(2)) -> 100.47652 | AI60: =1000/(2*PI()*$Z60*$C$69*$C$65*0.000001) -> 6631.456 | AJ60: =2*PI()*$Z60*((0.000000001*$C$67)/$C$69)*1000 -> 1.4137167e-05 | AK60: =($C$66)/$C$69 -> 0.125 | AL60: =IF($C$64="Yes", SQRT(AK60^(2)+ABS(AI60-AJ60)^(2)), NA()) -> 6631.4559 | AN60: =1000/(2*PI()*$Z60*$C$82*$C$79*0.000001) -> 53051.648 | AO60: =2*PI()*$Z60*((0.000000001*$C$81)/$C$82)*1000 -> 0.0011309734 | AP60: =($C$80)/$C$82 -> 10 | AQ60: =IF($C$78="Yes", SQRT(AP60^(2)+ABS(AN60-AO60)^(2)), NA()) -> #N/A | AS60: =1000/(2*PI()*$Z60*$C$97*$C$93*0.000001) -> 803812.84 | AT60: =2*PI()*$Z60*((0.000000001*$C$95)/$C$97)*1000 -> 0.00056548668 | AU60: =($C$94)/$C$97 -> 5 | AV60: =IF($C$92="Yes", SQRT(AU60^(2)+ABS(AS60-AT60)^(2)), NA()) -> #N/A | AX60: =1000/(2*PI()*$Z60*$C$55*$C$51*0.000001) -> 141094.81 | AY60: =2*PI()*$Z60*((0.000000001*$C$53)/$C$55)*1000 -> 1.4137167e-05 | AZ60: =($C$52)/$C$55 -> 0.125 | BA60: =IF($C$50="Yes", SQRT(AZ60^(2)+ABS(AX60-AY60)^(2)), NA()) -> 141094.81
B61: Total HF Capacitor ESL Reactance @fSW | C61: =2*PI()*C58*0.000000001*$C$33*1000*1000 -> 0.023561945 | D61: mΩ | Z61: 350 | AA61: {=_xlfn.IFS(AND($C$64="Yes",$C$78="Yes",$C$92="Yes",$C$50="Yes"),1/((1/AG61)+(1/AL61)+(1/AQ61)+(1/AV61)+(1/BA61)),AND($C$64="Yes",$C$78="Yes",$C$92="Yes",$C$50="No"),1/((1/AG61)+(1/AL61)+(1/AQ61)+(1/AV61)),AND($C$64="Yes",$C$78="Yes",$C$92="No",$C$50="No"),1/((1/AG61)+(1/AL61)+(1/AQ61)),AND($C$64="Yes",$C$78="No",$C$92="No",$C$50="No"),1/((1/AG61)+(1/AL61)),AND($C$64="No",$C$78="No",$C$92="No",$C$50="No"),1/((1/AG61)),AND($C$64="Yes",$C$78="No",$C$92="No",$C$50="Yes"),1/((1/AG61)+(1/AL61)+(1/BA61)), AND($C$64="No",$C$78="No",$C$92="No",$C$50="Yes"),1/((1/AG61)+(1/BA61)), AND($C$64="No",$C$78="Yes",$C$92="No",$C$50="Yes"),1/((1/AG61)+(1/AQ61)+(1/BA61)))} -> 84.777826 | AB61: =$C$29 -> 0.79935872 | AD61: =1000/(2*PI()*$Z61*$C$41*$C$37*0.000001) -> 86.122805 | AE61: =2*PI()*$Z61*((0.000000001*$C$39)/$C$41)*1000 -> 0.00045814893 | AF61: =($C$38)/$C$41 -> 0.25 | AG61: =SQRT(AF61^(2)+ABS(AD61-AE61)^(2)) -> 86.122709 | AI61: =1000/(2*PI()*$Z61*$C$69*$C$65*0.000001) -> 5684.1051 | AJ61: =2*PI()*$Z61*((0.000000001*$C$67)/$C$69)*1000 -> 1.6493361e-05 | AK61: =($C$66)/$C$69 -> 0.125 | AL61: =IF($C$64="Yes", SQRT(AK61^(2)+ABS(AI61-AJ61)^(2)), NA()) -> 5684.1051 | AN61: =1000/(2*PI()*$Z61*$C$82*$C$79*0.000001) -> 45472.841 | AO61: =2*PI()*$Z61*((0.000000001*$C$81)/$C$82)*1000 -> 0.0013194689 | AP61: =($C$80)/$C$82 -> 10 | AQ61: =IF($C$78="Yes", SQRT(AP61^(2)+ABS(AN61-AO61)^(2)), NA()) -> #N/A | AS61: =1000/(2*PI()*$Z61*$C$97*$C$93*0.000001) -> 688982.44 | AT61: =2*PI()*$Z61*((0.000000001*$C$95)/$C$97)*1000 -> 0.00065973446 | AU61: =($C$94)/$C$97 -> 5 | AV61: =IF($C$92="Yes", SQRT(AU61^(2)+ABS(AS61-AT61)^(2)), NA()) -> #N/A | AX61: =1000/(2*PI()*$Z61*$C$55*$C$51*0.000001) -> 120938.41 | AY61: =2*PI()*$Z61*((0.000000001*$C$53)/$C$55)*1000 -> 1.6493361e-05 | AZ61: =($C$52)/$C$55 -> 0.125 | BA61: =IF($C$50="Yes", SQRT(AZ61^(2)+ABS(AX61-AY61)^(2)), NA()) -> 120938.41
B62: Total HF Capacitor Impedance @fSW | C62: =SQRT(C57^(2)+ABS(C60-C61)^(2)) -> 84.633415 | D62: mΩ | Z62: 400 | AA62: {=_xlfn.IFS(AND($C$64="Yes",$C$78="Yes",$C$92="Yes",$C$50="Yes"),1/((1/AG62)+(1/AL62)+(1/AQ62)+(1/AV62)+(1/BA62)),AND($C$64="Yes",$C$78="Yes",$C$92="Yes",$C$50="No"),1/((1/AG62)+(1/AL62)+(1/AQ62)+(1/AV62)),AND($C$64="Yes",$C$78="Yes",$C$92="No",$C$50="No"),1/((1/AG62)+(1/AL62)+(1/AQ62)),AND($C$64="Yes",$C$78="No",$C$92="No",$C$50="No"),1/((1/AG62)+(1/AL62)),AND($C$64="No",$C$78="No",$C$92="No",$C$50="No"),1/((1/AG62)),AND($C$64="Yes",$C$78="No",$C$92="No",$C$50="Yes"),1/((1/AG62)+(1/AL62)+(1/BA62)), AND($C$64="No",$C$78="No",$C$92="No",$C$50="Yes"),1/((1/AG62)+(1/BA62)), AND($C$64="No",$C$78="Yes",$C$92="No",$C$50="Yes"),1/((1/AG62)+(1/AQ62)+(1/BA62)))} -> 74.180573 | AB62: =$C$29 -> 0.79935872 | AD62: =1000/(2*PI()*$Z62*$C$41*$C$37*0.000001) -> 75.357454 | AE62: =2*PI()*$Z62*((0.000000001*$C$39)/$C$41)*1000 -> 0.00052359878 | AF62: =($C$38)/$C$41 -> 0.25 | AG62: =SQRT(AF62^(2)+ABS(AD62-AE62)^(2)) -> 75.357345 | AI62: =1000/(2*PI()*$Z62*$C$69*$C$65*0.000001) -> 4973.592 | AJ62: =2*PI()*$Z62*((0.000000001*$C$67)/$C$69)*1000 -> 1.8849556e-05 | AK62: =($C$66)/$C$69 -> 0.125 | AL62: =IF($C$64="Yes", SQRT(AK62^(2)+ABS(AI62-AJ62)^(2)), NA()) -> 4973.592 | AN62: =1000/(2*PI()*$Z62*$C$82*$C$79*0.000001) -> 39788.736 | AO62: =2*PI()*$Z62*((0.000000001*$C$81)/$C$82)*1000 -> 0.0015079645 | AP62: =($C$80)/$C$82 -> 10 | AQ62: =IF($C$78="Yes", SQRT(AP62^(2)+ABS(AN62-AO62)^(2)), NA()) -> #N/A | AS62: =1000/(2*PI()*$Z62*$C$97*$C$93*0.000001) -> 602859.63 | AT62: =2*PI()*$Z62*((0.000000001*$C$95)/$C$97)*1000 -> 0.00075398224 | AU62: =($C$94)/$C$97 -> 5 | AV62: =IF($C$92="Yes", SQRT(AU62^(2)+ABS(AS62-AT62)^(2)), NA()) -> #N/A | AX62: =1000/(2*PI()*$Z62*$C$55*$C$51*0.000001) -> 105821.11 | AY62: =2*PI()*$Z62*((0.000000001*$C$53)/$C$55)*1000 -> 1.8849556e-05 | AZ62: =($C$52)/$C$55 -> 0.125 | BA62: =IF($C$50="Yes", SQRT(AZ62^(2)+ABS(AX62-AY62)^(2)), NA()) -> 105821.11
Z63: 450 | AA63: {=_xlfn.IFS(AND($C$64="Yes",$C$78="Yes",$C$92="Yes",$C$50="Yes"),1/((1/AG63)+(1/AL63)+(1/AQ63)+(1/AV63)+(1/BA63)),AND($C$64="Yes",$C$78="Yes",$C$92="Yes",$C$50="No"),1/((1/AG63)+(1/AL63)+(1/AQ63)+(1/AV63)),AND($C$64="Yes",$C$78="Yes",$C$92="No",$C$50="No"),1/((1/AG63)+(1/AL63)+(1/AQ63)),AND($C$64="Yes",$C$78="No",$C$92="No",$C$50="No"),1/((1/AG63)+(1/AL63)),AND($C$64="No",$C$78="No",$C$92="No",$C$50="No"),1/((1/AG63)),AND($C$64="Yes",$C$78="No",$C$92="No",$C$50="Yes"),1/((1/AG63)+(1/AL63)+(1/BA63)), AND($C$64="No",$C$78="No",$C$92="No",$C$50="Yes"),1/((1/AG63)+(1/BA63)), AND($C$64="No",$C$78="Yes",$C$92="No",$C$50="Yes"),1/((1/AG63)+(1/AQ63)+(1/BA63)))} -> 65.938262 | AB63: =$C$29 -> 0.79935872 | AD63: =1000/(2*PI()*$Z63*$C$41*$C$37*0.000001) -> 66.984404 | AE63: =2*PI()*$Z63*((0.000000001*$C$39)/$C$41)*1000 -> 0.00058904862 | AF63: =($C$38)/$C$41 -> 0.25 | AG63: =SQRT(AF63^(2)+ABS(AD63-AE63)^(2)) -> 66.984281 | AI63: =1000/(2*PI()*$Z63*$C$69*$C$65*0.000001) -> 4420.9706 | AJ63: =2*PI()*$Z63*((0.000000001*$C$67)/$C$69)*1000 -> 2.120575e-05 | AK63: =($C$66)/$C$69 -> 0.125 | AL63: =IF($C$64="Yes", SQRT(AK63^(2)+ABS(AI63-AJ63)^(2)), NA()) -> 4420.9706 | AN63: =1000/(2*PI()*$Z63*$C$82*$C$79*0.000001) -> 35367.765 | AO63: =2*PI()*$Z63*((0.000000001*$C$81)/$C$82)*1000 -> 0.00169646 | AP63: =($C$80)/$C$82 -> 10 | AQ63: =IF($C$78="Yes", SQRT(AP63^(2)+ABS(AN63-AO63)^(2)), NA()) -> #N/A | AS63: =1000/(2*PI()*$Z63*$C$97*$C$93*0.000001) -> 535875.23 | AT63: =2*PI()*$Z63*((0.000000001*$C$95)/$C$97)*1000 -> 0.00084823002 | AU63: =($C$94)/$C$97 -> 5 | AV63: =IF($C$92="Yes", SQRT(AU63^(2)+ABS(AS63-AT63)^(2)), NA()) -> #N/A | AX63: =1000/(2*PI()*$Z63*$C$55*$C$51*0.000001) -> 94063.205 | AY63: =2*PI()*$Z63*((0.000000001*$C$53)/$C$55)*1000 -> 2.120575e-05 | AZ63: =($C$52)/$C$55 -> 0.125 | BA63: =IF($C$50="Yes", SQRT(AZ63^(2)+ABS(AX63-AY63)^(2)), NA()) -> 94063.205
B64: Use COUT(MF1)? | C64: Yes | Z64: 500 | AA64: {=_xlfn.IFS(AND($C$64="Yes",$C$78="Yes",$C$92="Yes",$C$50="Yes"),1/((1/AG64)+(1/AL64)+(1/AQ64)+(1/AV64)+(1/BA64)),AND($C$64="Yes",$C$78="Yes",$C$92="Yes",$C$50="No"),1/((1/AG64)+(1/AL64)+(1/AQ64)+(1/AV64)),AND($C$64="Yes",$C$78="Yes",$C$92="No",$C$50="No"),1/((1/AG64)+(1/AL64)+(1/AQ64)),AND($C$64="Yes",$C$78="No",$C$92="No",$C$50="No"),1/((1/AG64)+(1/AL64)),AND($C$64="No",$C$78="No",$C$92="No",$C$50="No"),1/((1/AG64)),AND($C$64="Yes",$C$78="No",$C$92="No",$C$50="Yes"),1/((1/AG64)+(1/AL64)+(1/BA64)), AND($C$64="No",$C$78="No",$C$92="No",$C$50="Yes"),1/((1/AG64)+(1/BA64)), AND($C$64="No",$C$78="Yes",$C$92="No",$C$50="Yes"),1/((1/AG64)+(1/AQ64)+(1/BA64)))} -> 59.344411 | AB64: =$C$29 -> 0.79935872 | AD64: =1000/(2*PI()*$Z64*$C$41*$C$37*0.000001) -> 60.285963 | AE64: =2*PI()*$Z64*((0.000000001*$C$39)/$C$41)*1000 -> 0.00065449847 | AF64: =($C$38)/$C$41 -> 0.25 | AG64: =SQRT(AF64^(2)+ABS(AD64-AE64)^(2)) -> 60.285827 | AI64: =1000/(2*PI()*$Z64*$C$69*$C$65*0.000001) -> 3978.8736 | AJ64: =2*PI()*$Z64*((0.000000001*$C$67)/$C$69)*1000 -> 2.3561945e-05 | AK64: =($C$66)/$C$69 -> 0.125 | AL64: =IF($C$64="Yes", SQRT(AK64^(2)+ABS(AI64-AJ64)^(2)), NA()) -> 3978.8736 | AN64: =1000/(2*PI()*$Z64*$C$82*$C$79*0.000001) -> 31830.989 | AO64: =2*PI()*$Z64*((0.000000001*$C$81)/$C$82)*1000 -> 0.0018849556 | AP64: =($C$80)/$C$82 -> 10 | AQ64: =IF($C$78="Yes", SQRT(AP64^(2)+ABS(AN64-AO64)^(2)), NA()) -> #N/A | AS64: =1000/(2*PI()*$Z64*$C$97*$C$93*0.000001) -> 482287.71 | AT64: =2*PI()*$Z64*((0.000000001*$C$95)/$C$97)*1000 -> 0.0009424778 | AU64: =($C$94)/$C$97 -> 5 | AV64: =IF($C$92="Yes", SQRT(AU64^(2)+ABS(AS64-AT64)^(2)), NA()) -> #N/A | AX64: =1000/(2*PI()*$Z64*$C$55*$C$51*0.000001) -> 84656.885 | AY64: =2*PI()*$Z64*((0.000000001*$C$53)/$C$55)*1000 -> 2.3561945e-05 | AZ64: =($C$52)/$C$55 -> 0.125 | BA64: =IF($C$50="Yes", SQRT(AZ64^(2)+ABS(AX64-AY64)^(2)), NA()) -> 84656.885
B65: Mid Frequency 1 Capacitor Value (COUT(MF1)) | C65: 1 | D65: µF | Z65: 550 | AA65: {=_xlfn.IFS(AND($C$64="Yes",$C$78="Yes",$C$92="Yes",$C$50="Yes"),1/((1/AG65)+(1/AL65)+(1/AQ65)+(1/AV65)+(1/BA65)),AND($C$64="Yes",$C$78="Yes",$C$92="Yes",$C$50="No"),1/((1/AG65)+(1/AL65)+(1/AQ65)+(1/AV65)),AND($C$64="Yes",$C$78="Yes",$C$92="No",$C$50="No"),1/((1/AG65)+(1/AL65)+(1/AQ65)),AND($C$64="Yes",$C$78="No",$C$92="No",$C$50="No"),1/((1/AG65)+(1/AL65)),AND($C$64="No",$C$78="No",$C$92="No",$C$50="No"),1/((1/AG65)),AND($C$64="Yes",$C$78="No",$C$92="No",$C$50="Yes"),1/((1/AG65)+(1/AL65)+(1/BA65)), AND($C$64="No",$C$78="No",$C$92="No",$C$50="Yes"),1/((1/AG65)+(1/BA65)), AND($C$64="No",$C$78="Yes",$C$92="No",$C$50="Yes"),1/((1/AG65)+(1/AQ65)+(1/BA65)))} -> 53.949439 | AB65: =$C$29 -> 0.79935872 | AD65: =1000/(2*PI()*$Z65*$C$41*$C$37*0.000001) -> 54.805421 | AE65: =2*PI()*$Z65*((0.000000001*$C$39)/$C$41)*1000 -> 0.00071994832 | AF65: =($C$38)/$C$41 -> 0.25 | AG65: =SQRT(AF65^(2)+ABS(AD65-AE65)^(2)) -> 54.805271 | AI65: =1000/(2*PI()*$Z65*$C$69*$C$65*0.000001) -> 3617.1578 | AJ65: =2*PI()*$Z65*((0.000000001*$C$67)/$C$69)*1000 -> 2.5918139e-05 | AK65: =($C$66)/$C$69 -> 0.125 | AL65: =IF($C$64="Yes", SQRT(AK65^(2)+ABS(AI65-AJ65)^(2)), NA()) -> 3617.1578 | AN65: =1000/(2*PI()*$Z65*$C$82*$C$79*0.000001) -> 28937.262 | AO65: =2*PI()*$Z65*((0.000000001*$C$81)/$C$82)*1000 -> 0.0020734512 | AP65: =($C$80)/$C$82 -> 10 | AQ65: =IF($C$78="Yes", SQRT(AP65^(2)+ABS(AN65-AO65)^(2)), NA()) -> #N/A | AS65: =1000/(2*PI()*$Z65*$C$97*$C$93*0.000001) -> 438443.37 | AT65: =2*PI()*$Z65*((0.000000001*$C$95)/$C$97)*1000 -> 0.0010367256 | AU65: =($C$94)/$C$97 -> 5 | AV65: =IF($C$92="Yes", SQRT(AU65^(2)+ABS(AS65-AT65)^(2)), NA()) -> #N/A | AX65: =1000/(2*PI()*$Z65*$C$55*$C$51*0.000001) -> 76960.804 | AY65: =2*PI()*$Z65*((0.000000001*$C$53)/$C$55)*1000 -> 2.5918139e-05 | AZ65: =($C$52)/$C$55 -> 0.125 | BA65: =IF($C$50="Yes", SQRT(AZ65^(2)+ABS(AX65-AY65)^(2)), NA()) -> 76960.804
B66: Mid Frequency 1 Capacitor ESR | C66: 10 | D66: mΩ | Z66: 600 | AA66: {=_xlfn.IFS(AND($C$64="Yes",$C$78="Yes",$C$92="Yes",$C$50="Yes"),1/((1/AG66)+(1/AL66)+(1/AQ66)+(1/AV66)+(1/BA66)),AND($C$64="Yes",$C$78="Yes",$C$92="Yes",$C$50="No"),1/((1/AG66)+(1/AL66)+(1/AQ66)+(1/AV66)),AND($C$64="Yes",$C$78="Yes",$C$92="No",$C$50="No"),1/((1/AG66)+(1/AL66)+(1/AQ66)),AND($C$64="Yes",$C$78="No",$C$92="No",$C$50="No"),1/((1/AG66)+(1/AL66)),AND($C$64="No",$C$78="No",$C$92="No",$C$50="No"),1/((1/AG66)),AND($C$64="Yes",$C$78="No",$C$92="No",$C$50="Yes"),1/((1/AG66)+(1/AL66)+(1/BA66)), AND($C$64="No",$C$78="No",$C$92="No",$C$50="Yes"),1/((1/AG66)+(1/BA66)), AND($C$64="No",$C$78="Yes",$C$92="No",$C$50="Yes"),1/((1/AG66)+(1/AQ66)+(1/BA66)))} -> 49.453628 | AB66: =$C$29 -> 0.79935872 | AD66: =1000/(2*PI()*$Z66*$C$41*$C$37*0.000001) -> 50.238303 | AE66: =2*PI()*$Z66*((0.000000001*$C$39)/$C$41)*1000 -> 0.00078539816 | AF66: =($C$38)/$C$41 -> 0.25 | AG66: =SQRT(AF66^(2)+ABS(AD66-AE66)^(2)) -> 50.238139 | AI66: =1000/(2*PI()*$Z66*$C$69*$C$65*0.000001) -> 3315.728 | AJ66: =2*PI()*$Z66*((0.000000001*$C$67)/$C$69)*1000 -> 2.8274334e-05 | AK66: =($C$66)/$C$69 -> 0.125 | AL66: =IF($C$64="Yes", SQRT(AK66^(2)+ABS(AI66-AJ66)^(2)), NA()) -> 3315.728 | AN66: =1000/(2*PI()*$Z66*$C$82*$C$79*0.000001) -> 26525.824 | AO66: =2*PI()*$Z66*((0.000000001*$C$81)/$C$82)*1000 -> 0.0022619467 | AP66: =($C$80)/$C$82 -> 10 | AQ66: =IF($C$78="Yes", SQRT(AP66^(2)+ABS(AN66-AO66)^(2)), NA()) -> #N/A | AS66: =1000/(2*PI()*$Z66*$C$97*$C$93*0.000001) -> 401906.42 | AT66: =2*PI()*$Z66*((0.000000001*$C$95)/$C$97)*1000 -> 0.0011309734 | AU66: =($C$94)/$C$97 -> 5 | AV66: =IF($C$92="Yes", SQRT(AU66^(2)+ABS(AS66-AT66)^(2)), NA()) -> #N/A | AX66: =1000/(2*PI()*$Z66*$C$55*$C$51*0.000001) -> 70547.404 | AY66: =2*PI()*$Z66*((0.000000001*$C$53)/$C$55)*1000 -> 2.8274334e-05 | AZ66: =($C$52)/$C$55 -> 0.125 | BA66: =IF($C$50="Yes", SQRT(AZ66^(2)+ABS(AX66-AY66)^(2)), NA()) -> 70547.404
B67: Mid Frequency 1 Capacitor ESL | C67: 0.6 | D67: nH | Z67: 650 | AA67: {=_xlfn.IFS(AND($C$64="Yes",$C$78="Yes",$C$92="Yes",$C$50="Yes"),1/((1/AG67)+(1/AL67)+(1/AQ67)+(1/AV67)+(1/BA67)),AND($C$64="Yes",$C$78="Yes",$C$92="Yes",$C$50="No"),1/((1/AG67)+(1/AL67)+(1/AQ67)+(1/AV67)),AND($C$64="Yes",$C$78="Yes",$C$92="No",$C$50="No"),1/((1/AG67)+(1/AL67)+(1/AQ67)),AND($C$64="Yes",$C$78="No",$C$92="No",$C$50="No"),1/((1/AG67)+(1/AL67)),AND($C$64="No",$C$78="No",$C$92="No",$C$50="No"),1/((1/AG67)),AND($C$64="Yes",$C$78="No",$C$92="No",$C$50="Yes"),1/((1/AG67)+(1/AL67)+(1/BA67)), AND($C$64="No",$C$78="No",$C$92="No",$C$50="Yes"),1/((1/AG67)+(1/BA67)), AND($C$64="No",$C$78="Yes",$C$92="No",$C$50="Yes"),1/((1/AG67)+(1/AQ67)+(1/BA67)))} -> 45.649477 | AB67: =$C$29 -> 0.79935872 | AD67: =1000/(2*PI()*$Z67*$C$41*$C$37*0.000001) -> 46.373818 | AE67: =2*PI()*$Z67*((0.000000001*$C$39)/$C$41)*1000 -> 0.00085084801 | AF67: =($C$38)/$C$41 -> 0.25 | AG67: =SQRT(AF67^(2)+ABS(AD67-AE67)^(2)) -> 46.373641 | AI67: =1000/(2*PI()*$Z67*$C$69*$C$65*0.000001) -> 3060.672 | AJ67: =2*PI()*$Z67*((0.000000001*$C$67)/$C$69)*1000 -> 3.0630528e-05 | AK67: =($C$66)/$C$69 -> 0.125 | AL67: =IF($C$64="Yes", SQRT(AK67^(2)+ABS(AI67-AJ67)^(2)), NA()) -> 3060.672 | AN67: =1000/(2*PI()*$Z67*$C$82*$C$79*0.000001) -> 24485.376 | AO67: =2*PI()*$Z67*((0.000000001*$C$81)/$C$82)*1000 -> 0.0024504423 | AP67: =($C$80)/$C$82 -> 10 | AQ67: =IF($C$78="Yes", SQRT(AP67^(2)+ABS(AN67-AO67)^(2)), NA()) -> #N/A | AS67: =1000/(2*PI()*$Z67*$C$97*$C$93*0.000001) -> 370990.54 | AT67: =2*PI()*$Z67*((0.000000001*$C$95)/$C$97)*1000 -> 0.0012252211 | AU67: =($C$94)/$C$97 -> 5 | AV67: =IF($C$92="Yes", SQRT(AU67^(2)+ABS(AS67-AT67)^(2)), NA()) -> #N/A | AX67: =1000/(2*PI()*$Z67*$C$55*$C$51*0.000001) -> 65120.68 | AY67: =2*PI()*$Z67*((0.000000001*$C$53)/$C$55)*1000 -> 3.0630528e-05 | AZ67: =($C$52)/$C$55 -> 0.125 | BA67: =IF($C$50="Yes", SQRT(AZ67^(2)+ABS(AX67-AY67)^(2)), NA()) -> 65120.68
B68: Quantity per Phase | C68: 40 | Z68: 700 | AA68: {=_xlfn.IFS(AND($C$64="Yes",$C$78="Yes",$C$92="Yes",$C$50="Yes"),1/((1/AG68)+(1/AL68)+(1/AQ68)+(1/AV68)+(1/BA68)),AND($C$64="Yes",$C$78="Yes",$C$92="Yes",$C$50="No"),1/((1/AG68)+(1/AL68)+(1/AQ68)+(1/AV68)),AND($C$64="Yes",$C$78="Yes",$C$92="No",$C$50="No"),1/((1/AG68)+(1/AL68)+(1/AQ68)),AND($C$64="Yes",$C$78="No",$C$92="No",$C$50="No"),1/((1/AG68)+(1/AL68)),AND($C$64="No",$C$78="No",$C$92="No",$C$50="No"),1/((1/AG68)),AND($C$64="Yes",$C$78="No",$C$92="No",$C$50="Yes"),1/((1/AG68)+(1/AL68)+(1/BA68)), AND($C$64="No",$C$78="No",$C$92="No",$C$50="Yes"),1/((1/AG68)+(1/BA68)), AND($C$64="No",$C$78="Yes",$C$92="No",$C$50="Yes"),1/((1/AG68)+(1/AQ68)+(1/BA68)))} -> 42.388775 | AB68: =$C$29 -> 0.79935872 | AD68: =1000/(2*PI()*$Z68*$C$41*$C$37*0.000001) -> 43.061402 | AE68: =2*PI()*$Z68*((0.000000001*$C$39)/$C$41)*1000 -> 0.00091629786 | AF68: =($C$38)/$C$41 -> 0.25 | AG68: =SQRT(AF68^(2)+ABS(AD68-AE68)^(2)) -> 43.061212 | AI68: =1000/(2*PI()*$Z68*$C$69*$C$65*0.000001) -> 2842.0526 | AJ68: =2*PI()*$Z68*((0.000000001*$C$67)/$C$69)*1000 -> 3.2986723e-05 | AK68: =($C$66)/$C$69 -> 0.125 | AL68: =IF($C$64="Yes", SQRT(AK68^(2)+ABS(AI68-AJ68)^(2)), NA()) -> 2842.0525 | AN68: =1000/(2*PI()*$Z68*$C$82*$C$79*0.000001) -> 22736.42 | AO68: =2*PI()*$Z68*((0.000000001*$C$81)/$C$82)*1000 -> 0.0026389378 | AP68: =($C$80)/$C$82 -> 10 | AQ68: =IF($C$78="Yes", SQRT(AP68^(2)+ABS(AN68-AO68)^(2)), NA()) -> #N/A | AS68: =1000/(2*PI()*$Z68*$C$97*$C$93*0.000001) -> 344491.22 | AT68: =2*PI()*$Z68*((0.000000001*$C$95)/$C$97)*1000 -> 0.0013194689 | AU68: =($C$94)/$C$97 -> 5 | AV68: =IF($C$92="Yes", SQRT(AU68^(2)+ABS(AS68-AT68)^(2)), NA()) -> #N/A | AX68: =1000/(2*PI()*$Z68*$C$55*$C$51*0.000001) -> 60469.203 | AY68: =2*PI()*$Z68*((0.000000001*$C$53)/$C$55)*1000 -> 3.2986723e-05 | AZ68: =($C$52)/$C$55 -> 0.125 | BA68: =IF($C$50="Yes", SQRT(AZ68^(2)+ABS(AX68-AY68)^(2)), NA()) -> 60469.203
B69: Total Quantity | C69: =C68*$C$32 -> 80 | Z69: 750 | AA69: {=_xlfn.IFS(AND($C$64="Yes",$C$78="Yes",$C$92="Yes",$C$50="Yes"),1/((1/AG69)+(1/AL69)+(1/AQ69)+(1/AV69)+(1/BA69)),AND($C$64="Yes",$C$78="Yes",$C$92="Yes",$C$50="No"),1/((1/AG69)+(1/AL69)+(1/AQ69)+(1/AV69)),AND($C$64="Yes",$C$78="Yes",$C$92="No",$C$50="No"),1/((1/AG69)+(1/AL69)+(1/AQ69)),AND($C$64="Yes",$C$78="No",$C$92="No",$C$50="No"),1/((1/AG69)+(1/AL69)),AND($C$64="No",$C$78="No",$C$92="No",$C$50="No"),1/((1/AG69)),AND($C$64="Yes",$C$78="No",$C$92="No",$C$50="Yes"),1/((1/AG69)+(1/AL69)+(1/BA69)), AND($C$64="No",$C$78="No",$C$92="No",$C$50="Yes"),1/((1/AG69)+(1/BA69)), AND($C$64="No",$C$78="Yes",$C$92="No",$C$50="Yes"),1/((1/AG69)+(1/AQ69)+(1/BA69)))} -> 39.562831 | AB69: =$C$29 -> 0.79935872 | AD69: =1000/(2*PI()*$Z69*$C$41*$C$37*0.000001) -> 40.190642 | AE69: =2*PI()*$Z69*((0.000000001*$C$39)/$C$41)*1000 -> 0.0009817477 | AF69: =($C$38)/$C$41 -> 0.25 | AG69: =SQRT(AF69^(2)+ABS(AD69-AE69)^(2)) -> 40.190438 | AI69: =1000/(2*PI()*$Z69*$C$69*$C$65*0.000001) -> 2652.5824 | AJ69: =2*PI()*$Z69*((0.000000001*$C$67)/$C$69)*1000 -> 3.5342917e-05 | AK69: =($C$66)/$C$69 -> 0.125 | AL69: =IF($C$64="Yes", SQRT(AK69^(2)+ABS(AI69-AJ69)^(2)), NA()) -> 2652.5824 | AN69: =1000/(2*PI()*$Z69*$C$82*$C$79*0.000001) -> 21220.659 | AO69: =2*PI()*$Z69*((0.000000001*$C$81)/$C$82)*1000 -> 0.0028274334 | AP69: =($C$80)/$C$82 -> 10 | AQ69: =IF($C$78="Yes", SQRT(AP69^(2)+ABS(AN69-AO69)^(2)), NA()) -> #N/A | AS69: =1000/(2*PI()*$Z69*$C$97*$C$93*0.000001) -> 321525.14 | AT69: =2*PI()*$Z69*((0.000000001*$C$95)/$C$97)*1000 -> 0.0014137167 | AU69: =($C$94)/$C$97 -> 5 | AV69: =IF($C$92="Yes", SQRT(AU69^(2)+ABS(AS69-AT69)^(2)), NA()) -> #N/A | AX69: =1000/(2*PI()*$Z69*$C$55*$C$51*0.000001) -> 56437.923 | AY69: =2*PI()*$Z69*((0.000000001*$C$53)/$C$55)*1000 -> 3.5342917e-05 | AZ69: =($C$52)/$C$55 -> 0.125 | BA69: =IF($C$50="Yes", SQRT(AZ69^(2)+ABS(AX69-AY69)^(2)), NA()) -> 56437.923
B70: Total Mid Frequency 1 Capacitance (COUT(TOTAL, MF1)) | C70: =C65*$C$69 -> 80 | D70: µF | Z70: 800 | AA70: {=_xlfn.IFS(AND($C$64="Yes",$C$78="Yes",$C$92="Yes",$C$50="Yes"),1/((1/AG70)+(1/AL70)+(1/AQ70)+(1/AV70)+(1/BA70)),AND($C$64="Yes",$C$78="Yes",$C$92="Yes",$C$50="No"),1/((1/AG70)+(1/AL70)+(1/AQ70)+(1/AV70)),AND($C$64="Yes",$C$78="Yes",$C$92="No",$C$50="No"),1/((1/AG70)+(1/AL70)+(1/AQ70)),AND($C$64="Yes",$C$78="No",$C$92="No",$C$50="No"),1/((1/AG70)+(1/AL70)),AND($C$64="No",$C$78="No",$C$92="No",$C$50="No"),1/((1/AG70)),AND($C$64="Yes",$C$78="No",$C$92="No",$C$50="Yes"),1/((1/AG70)+(1/AL70)+(1/BA70)), AND($C$64="No",$C$78="No",$C$92="No",$C$50="Yes"),1/((1/AG70)+(1/BA70)), AND($C$64="No",$C$78="Yes",$C$92="No",$C$50="Yes"),1/((1/AG70)+(1/AQ70)+(1/BA70)))} -> 37.090128 | AB70: =$C$29 -> 0.79935872 | AD70: =1000/(2*PI()*$Z70*$C$41*$C$37*0.000001) -> 37.678727 | AE70: =2*PI()*$Z70*((0.000000001*$C$39)/$C$41)*1000 -> 0.0010471976 | AF70: =($C$38)/$C$41 -> 0.25 | AG70: =SQRT(AF70^(2)+ABS(AD70-AE70)^(2)) -> 37.678509 | AI70: =1000/(2*PI()*$Z70*$C$69*$C$65*0.000001) -> 2486.796 | AJ70: =2*PI()*$Z70*((0.000000001*$C$67)/$C$69)*1000 -> 3.7699112e-05 | AK70: =($C$66)/$C$69 -> 0.125 | AL70: =IF($C$64="Yes", SQRT(AK70^(2)+ABS(AI70-AJ70)^(2)), NA()) -> 2486.796 | AN70: =1000/(2*PI()*$Z70*$C$82*$C$79*0.000001) -> 19894.368 | AO70: =2*PI()*$Z70*((0.000000001*$C$81)/$C$82)*1000 -> 0.0030159289 | AP70: =($C$80)/$C$82 -> 10 | AQ70: =IF($C$78="Yes", SQRT(AP70^(2)+ABS(AN70-AO70)^(2)), NA()) -> #N/A | AS70: =1000/(2*PI()*$Z70*$C$97*$C$93*0.000001) -> 301429.82 | AT70: =2*PI()*$Z70*((0.000000001*$C$95)/$C$97)*1000 -> 0.0015079645 | AU70: =($C$94)/$C$97 -> 5 | AV70: =IF($C$92="Yes", SQRT(AU70^(2)+ABS(AS70-AT70)^(2)), NA()) -> #N/A | AX70: =1000/(2*PI()*$Z70*$C$55*$C$51*0.000001) -> 52910.553 | AY70: =2*PI()*$Z70*((0.000000001*$C$53)/$C$55)*1000 -> 3.7699112e-05 | AZ70: =($C$52)/$C$55 -> 0.125 | BA70: =IF($C$50="Yes", SQRT(AZ70^(2)+ABS(AX70-AY70)^(2)), NA()) -> 52910.553
B71: Total Mid Frequency 1 Capacitance ESR | C71: =C66/$C$69 -> 0.125 | D71: mΩ | Z71: 850 | AA71: {=_xlfn.IFS(AND($C$64="Yes",$C$78="Yes",$C$92="Yes",$C$50="Yes"),1/((1/AG71)+(1/AL71)+(1/AQ71)+(1/AV71)+(1/BA71)),AND($C$64="Yes",$C$78="Yes",$C$92="Yes",$C$50="No"),1/((1/AG71)+(1/AL71)+(1/AQ71)+(1/AV71)),AND($C$64="Yes",$C$78="Yes",$C$92="No",$C$50="No"),1/((1/AG71)+(1/AL71)+(1/AQ71)),AND($C$64="Yes",$C$78="No",$C$92="No",$C$50="No"),1/((1/AG71)+(1/AL71)),AND($C$64="No",$C$78="No",$C$92="No",$C$50="No"),1/((1/AG71)),AND($C$64="Yes",$C$78="No",$C$92="No",$C$50="Yes"),1/((1/AG71)+(1/AL71)+(1/BA71)), AND($C$64="No",$C$78="No",$C$92="No",$C$50="Yes"),1/((1/AG71)+(1/BA71)), AND($C$64="No",$C$78="Yes",$C$92="No",$C$50="Yes"),1/((1/AG71)+(1/AQ71)+(1/BA71)))} -> 34.90833 | AB71: =$C$29 -> 0.79935872 | AD71: =1000/(2*PI()*$Z71*$C$41*$C$37*0.000001) -> 35.462331 | AE71: =2*PI()*$Z71*((0.000000001*$C$39)/$C$41)*1000 -> 0.0011126474 | AF71: =($C$38)/$C$41 -> 0.25 | AG71: =SQRT(AF71^(2)+ABS(AD71-AE71)^(2)) -> 35.4621 | AI71: =1000/(2*PI()*$Z71*$C$69*$C$65*0.000001) -> 2340.5139 | AJ71: =2*PI()*$Z71*((0.000000001*$C$67)/$C$69)*1000 -> 4.0055306e-05 | AK71: =($C$66)/$C$69 -> 0.125 | AL71: =IF($C$64="Yes", SQRT(AK71^(2)+ABS(AI71-AJ71)^(2)), NA()) -> 2340.5138 | AN71: =1000/(2*PI()*$Z71*$C$82*$C$79*0.000001) -> 18724.111 | AO71: =2*PI()*$Z71*((0.000000001*$C$81)/$C$82)*1000 -> 0.0032044245 | AP71: =($C$80)/$C$82 -> 10 | AQ71: =IF($C$78="Yes", SQRT(AP71^(2)+ABS(AN71-AO71)^(2)), NA()) -> #N/A | AS71: =1000/(2*PI()*$Z71*$C$97*$C$93*0.000001) -> 283698.65 | AT71: =2*PI()*$Z71*((0.000000001*$C$95)/$C$97)*1000 -> 0.0016022123 | AU71: =($C$94)/$C$97 -> 5 | AV71: =IF($C$92="Yes", SQRT(AU71^(2)+ABS(AS71-AT71)^(2)), NA()) -> #N/A | AX71: =1000/(2*PI()*$Z71*$C$55*$C$51*0.000001) -> 49798.167 | AY71: =2*PI()*$Z71*((0.000000001*$C$53)/$C$55)*1000 -> 4.0055306e-05 | AZ71: =($C$52)/$C$55 -> 0.125 | BA71: =IF($C$50="Yes", SQRT(AZ71^(2)+ABS(AX71-AY71)^(2)), NA()) -> 49798.167
B72: Total Mid Frequency 1 Capacitance ESL | C72: =C67/$C$69 -> 0.0075 | D72: nH | Z72: 900 | AA72: {=_xlfn.IFS(AND($C$64="Yes",$C$78="Yes",$C$92="Yes",$C$50="Yes"),1/((1/AG72)+(1/AL72)+(1/AQ72)+(1/AV72)+(1/BA72)),AND($C$64="Yes",$C$78="Yes",$C$92="Yes",$C$50="No"),1/((1/AG72)+(1/AL72)+(1/AQ72)+(1/AV72)),AND($C$64="Yes",$C$78="Yes",$C$92="No",$C$50="No"),1/((1/AG72)+(1/AL72)+(1/AQ72)),AND($C$64="Yes",$C$78="No",$C$92="No",$C$50="No"),1/((1/AG72)+(1/AL72)),AND($C$64="No",$C$78="No",$C$92="No",$C$50="No"),1/((1/AG72)),AND($C$64="Yes",$C$78="No",$C$92="No",$C$50="Yes"),1/((1/AG72)+(1/AL72)+(1/BA72)), AND($C$64="No",$C$78="No",$C$92="No",$C$50="Yes"),1/((1/AG72)+(1/BA72)), AND($C$64="No",$C$78="Yes",$C$92="No",$C$50="Yes"),1/((1/AG72)+(1/AQ72)+(1/BA72)))} -> 32.968953 | AB72: =$C$29 -> 0.79935872 | AD72: =1000/(2*PI()*$Z72*$C$41*$C$37*0.000001) -> 33.492202 | AE72: =2*PI()*$Z72*((0.000000001*$C$39)/$C$41)*1000 -> 0.0011780972 | AF72: =($C$38)/$C$41 -> 0.25 | AG72: =SQRT(AF72^(2)+ABS(AD72-AE72)^(2)) -> 33.491957 | AI72: =1000/(2*PI()*$Z72*$C$69*$C$65*0.000001) -> 2210.4853 | AJ72: =2*PI()*$Z72*((0.000000001*$C$67)/$C$69)*1000 -> 4.2411501e-05 | AK72: =($C$66)/$C$69 -> 0.125 | AL72: =IF($C$64="Yes", SQRT(AK72^(2)+ABS(AI72-AJ72)^(2)), NA()) -> 2210.4853 | AN72: =1000/(2*PI()*$Z72*$C$82*$C$79*0.000001) -> 17683.883 | AO72: =2*PI()*$Z72*((0.000000001*$C$81)/$C$82)*1000 -> 0.0033929201 | AP72: =($C$80)/$C$82 -> 10 | AQ72: =IF($C$78="Yes", SQRT(AP72^(2)+ABS(AN72-AO72)^(2)), NA()) -> #N/A | AS72: =1000/(2*PI()*$Z72*$C$97*$C$93*0.000001) -> 267937.61 | AT72: =2*PI()*$Z72*((0.000000001*$C$95)/$C$97)*1000 -> 0.00169646 | AU72: =($C$94)/$C$97 -> 5 | AV72: =IF($C$92="Yes", SQRT(AU72^(2)+ABS(AS72-AT72)^(2)), NA()) -> #N/A | AX72: =1000/(2*PI()*$Z72*$C$55*$C$51*0.000001) -> 47031.603 | AY72: =2*PI()*$Z72*((0.000000001*$C$53)/$C$55)*1000 -> 4.2411501e-05 | AZ72: =($C$52)/$C$55 -> 0.125 | BA72: =IF($C$50="Yes", SQRT(AZ72^(2)+ABS(AX72-AY72)^(2)), NA()) -> 47031.603
B73: Mid Frequency 1 Capacitor Resonance | C73: =(1/(2*PI()*(SQRT($C$65*0.000001*$C$67*0.000000001))))*0.000001 -> 6.4974733 | D73: MHz | Z73: 950 | AA73: {=_xlfn.IFS(AND($C$64="Yes",$C$78="Yes",$C$92="Yes",$C$50="Yes"),1/((1/AG73)+(1/AL73)+(1/AQ73)+(1/AV73)+(1/BA73)),AND($C$64="Yes",$C$78="Yes",$C$92="Yes",$C$50="No"),1/((1/AG73)+(1/AL73)+(1/AQ73)+(1/AV73)),AND($C$64="Yes",$C$78="Yes",$C$92="No",$C$50="No"),1/((1/AG73)+(1/AL73)+(1/AQ73)),AND($C$64="Yes",$C$78="No",$C$92="No",$C$50="No"),1/((1/AG73)+(1/AL73)),AND($C$64="No",$C$78="No",$C$92="No",$C$50="No"),1/((1/AG73)),AND($C$64="Yes",$C$78="No",$C$92="No",$C$50="Yes"),1/((1/AG73)+(1/AL73)+(1/BA73)), AND($C$64="No",$C$78="No",$C$92="No",$C$50="Yes"),1/((1/AG73)+(1/BA73)), AND($C$64="No",$C$78="Yes",$C$92="No",$C$50="Yes"),1/((1/AG73)+(1/AQ73)+(1/BA73)))} -> 31.233719 | AB73: =$C$29 -> 0.79935872 | AD73: =1000/(2*PI()*$Z73*$C$41*$C$37*0.000001) -> 31.729454 | AE73: =2*PI()*$Z73*((0.000000001*$C$39)/$C$41)*1000 -> 0.0012435471 | AF73: =($C$38)/$C$41 -> 0.25 | AG73: =SQRT(AF73^(2)+ABS(AD73-AE73)^(2)) -> 31.729196 | AI73: =1000/(2*PI()*$Z73*$C$69*$C$65*0.000001) -> 2094.144 | AJ73: =2*PI()*$Z73*((0.000000001*$C$67)/$C$69)*1000 -> 4.4767695e-05 | AK73: =($C$66)/$C$69 -> 0.125 | AL73: =IF($C$64="Yes", SQRT(AK73^(2)+ABS(AI73-AJ73)^(2)), NA()) -> 2094.1439 | AN73: =1000/(2*PI()*$Z73*$C$82*$C$79*0.000001) -> 16753.152 | AO73: =2*PI()*$Z73*((0.000000001*$C$81)/$C$82)*1000 -> 0.0035814156 | AP73: =($C$80)/$C$82 -> 10 | AQ73: =IF($C$78="Yes", SQRT(AP73^(2)+ABS(AN73-AO73)^(2)), NA()) -> #N/A | AS73: =1000/(2*PI()*$Z73*$C$97*$C$93*0.000001) -> 253835.63 | AT73: =2*PI()*$Z73*((0.000000001*$C$95)/$C$97)*1000 -> 0.0017907078 | AU73: =($C$94)/$C$97 -> 5 | AV73: =IF($C$92="Yes", SQRT(AU73^(2)+ABS(AS73-AT73)^(2)), NA()) -> #N/A | AX73: =1000/(2*PI()*$Z73*$C$55*$C$51*0.000001) -> 44556.255 | AY73: =2*PI()*$Z73*((0.000000001*$C$53)/$C$55)*1000 -> 4.4767695e-05 | AZ73: =($C$52)/$C$55 -> 0.125 | BA73: =IF($C$50="Yes", SQRT(AZ73^(2)+ABS(AX73-AY73)^(2)), NA()) -> 44556.255
B74: Total MF1 Capacitor Capacitive Reactance @fSW | C74: =1000/(2*PI()*$C$33*1000*C70*0.000001) -> 3.9788736 | D74: mΩ | Z74: 1000 | AA74: {=_xlfn.IFS(AND($C$64="Yes",$C$78="Yes",$C$92="Yes",$C$50="Yes"),1/((1/AG74)+(1/AL74)+(1/AQ74)+(1/AV74)+(1/BA74)),AND($C$64="Yes",$C$78="Yes",$C$92="Yes",$C$50="No"),1/((1/AG74)+(1/AL74)+(1/AQ74)+(1/AV74)),AND($C$64="Yes",$C$78="Yes",$C$92="No",$C$50="No"),1/((1/AG74)+(1/AL74)+(1/AQ74)),AND($C$64="Yes",$C$78="No",$C$92="No",$C$50="No"),1/((1/AG74)+(1/AL74)),AND($C$64="No",$C$78="No",$C$92="No",$C$50="No"),1/((1/AG74)),AND($C$64="Yes",$C$78="No",$C$92="No",$C$50="Yes"),1/((1/AG74)+(1/AL74)+(1/BA74)), AND($C$64="No",$C$78="No",$C$92="No",$C$50="Yes"),1/((1/AG74)+(1/BA74)), AND($C$64="No",$C$78="Yes",$C$92="No",$C$50="Yes"),1/((1/AG74)+(1/AQ74)+(1/BA74)))} -> 29.672008 | AB74: =$C$29 -> 0.79935872 | AD74: =1000/(2*PI()*$Z74*$C$41*$C$37*0.000001) -> 30.142982 | AE74: =2*PI()*$Z74*((0.000000001*$C$39)/$C$41)*1000 -> 0.0013089969 | AF74: =($C$38)/$C$41 -> 0.25 | AG74: =SQRT(AF74^(2)+ABS(AD74-AE74)^(2)) -> 30.142709 | AI74: =1000/(2*PI()*$Z74*$C$69*$C$65*0.000001) -> 1989.4368 | AJ74: =2*PI()*$Z74*((0.000000001*$C$67)/$C$69)*1000 -> 4.712389e-05 | AK74: =($C$66)/$C$69 -> 0.125 | AL74: =IF($C$64="Yes", SQRT(AK74^(2)+ABS(AI74-AJ74)^(2)), NA()) -> 1989.4367 | AN74: =1000/(2*PI()*$Z74*$C$82*$C$79*0.000001) -> 15915.494 | AO74: =2*PI()*$Z74*((0.000000001*$C$81)/$C$82)*1000 -> 0.0037699112 | AP74: =($C$80)/$C$82 -> 10 | AQ74: =IF($C$78="Yes", SQRT(AP74^(2)+ABS(AN74-AO74)^(2)), NA()) -> #N/A | AS74: =1000/(2*PI()*$Z74*$C$97*$C$93*0.000001) -> 241143.85 | AT74: =2*PI()*$Z74*((0.000000001*$C$95)/$C$97)*1000 -> 0.0018849556 | AU74: =($C$94)/$C$97 -> 5 | AV74: =IF($C$92="Yes", SQRT(AU74^(2)+ABS(AS74-AT74)^(2)), NA()) -> #N/A | AX74: =1000/(2*PI()*$Z74*$C$55*$C$51*0.000001) -> 42328.442 | AY74: =2*PI()*$Z74*((0.000000001*$C$53)/$C$55)*1000 -> 4.712389e-05 | AZ74: =($C$52)/$C$55 -> 0.125 | BA74: =IF($C$50="Yes", SQRT(AZ74^(2)+ABS(AX74-AY74)^(2)), NA()) -> 42328.442
B75: Total MF1 Capacitor ESL Reactance @fSW | C75: =2*PI()*C72*0.000000001*$C$33*1000*1000 -> 0.023561945 | D75: mΩ | Z75: 1500 | AA75: {=_xlfn.IFS(AND($C$64="Yes",$C$78="Yes",$C$92="Yes",$C$50="Yes"),1/((1/AG75)+(1/AL75)+(1/AQ75)+(1/AV75)+(1/BA75)),AND($C$64="Yes",$C$78="Yes",$C$92="Yes",$C$50="No"),1/((1/AG75)+(1/AL75)+(1/AQ75)+(1/AV75)),AND($C$64="Yes",$C$78="Yes",$C$92="No",$C$50="No"),1/((1/AG75)+(1/AL75)+(1/AQ75)),AND($C$64="Yes",$C$78="No",$C$92="No",$C$50="No"),1/((1/AG75)+(1/AL75)),AND($C$64="No",$C$78="No",$C$92="No",$C$50="No"),1/((1/AG75)),AND($C$64="Yes",$C$78="No",$C$92="No",$C$50="Yes"),1/((1/AG75)+(1/AL75)+(1/BA75)), AND($C$64="No",$C$78="No",$C$92="No",$C$50="Yes"),1/((1/AG75)+(1/BA75)), AND($C$64="No",$C$78="Yes",$C$92="No",$C$50="Yes"),1/((1/AG75)+(1/AQ75)+(1/BA75)))} -> 19.781119 | AB75: =$C$29 -> 0.79935872 | AD75: =1000/(2*PI()*$Z75*$C$41*$C$37*0.000001) -> 20.095321 | AE75: =2*PI()*$Z75*((0.000000001*$C$39)/$C$41)*1000 -> 0.0019634954 | AF75: =($C$38)/$C$41 -> 0.25 | AG75: =SQRT(AF75^(2)+ABS(AD75-AE75)^(2)) -> 20.094913 | AI75: =1000/(2*PI()*$Z75*$C$69*$C$65*0.000001) -> 1326.2912 | AJ75: =2*PI()*$Z75*((0.000000001*$C$67)/$C$69)*1000 -> 7.0685835e-05 | AK75: =($C$66)/$C$69 -> 0.125 | AL75: =IF($C$64="Yes", SQRT(AK75^(2)+ABS(AI75-AJ75)^(2)), NA()) -> 1326.2911 | AN75: =1000/(2*PI()*$Z75*$C$82*$C$79*0.000001) -> 10610.33 | AO75: =2*PI()*$Z75*((0.000000001*$C$81)/$C$82)*1000 -> 0.0056548668 | AP75: =($C$80)/$C$82 -> 10 | AQ75: =IF($C$78="Yes", SQRT(AP75^(2)+ABS(AN75-AO75)^(2)), NA()) -> #N/A | AS75: =1000/(2*PI()*$Z75*$C$97*$C$93*0.000001) -> 160762.57 | AT75: =2*PI()*$Z75*((0.000000001*$C$95)/$C$97)*1000 -> 0.0028274334 | AU75: =($C$94)/$C$97 -> 5 | AV75: =IF($C$92="Yes", SQRT(AU75^(2)+ABS(AS75-AT75)^(2)), NA()) -> #N/A | AX75: =1000/(2*PI()*$Z75*$C$55*$C$51*0.000001) -> 28218.962 | AY75: =2*PI()*$Z75*((0.000000001*$C$53)/$C$55)*1000 -> 7.0685835e-05 | AZ75: =($C$52)/$C$55 -> 0.125 | BA75: =IF($C$50="Yes", SQRT(AZ75^(2)+ABS(AX75-AY75)^(2)), NA()) -> 28218.961
B76: Total MF1 Capacitor Impedance @fSW | C76: =SQRT(C71^(2)+ABS(C74-C75)^(2)) -> 3.9572863 | D76: mΩ | Z76: 2000 | AA76: {=_xlfn.IFS(AND($C$64="Yes",$C$78="Yes",$C$92="Yes",$C$50="Yes"),1/((1/AG76)+(1/AL76)+(1/AQ76)+(1/AV76)+(1/BA76)),AND($C$64="Yes",$C$78="Yes",$C$92="Yes",$C$50="No"),1/((1/AG76)+(1/AL76)+(1/AQ76)+(1/AV76)),AND($C$64="Yes",$C$78="Yes",$C$92="No",$C$50="No"),1/((1/AG76)+(1/AL76)+(1/AQ76)),AND($C$64="Yes",$C$78="No",$C$92="No",$C$50="No"),1/((1/AG76)+(1/AL76)),AND($C$64="No",$C$78="No",$C$92="No",$C$50="No"),1/((1/AG76)),AND($C$64="Yes",$C$78="No",$C$92="No",$C$50="Yes"),1/((1/AG76)+(1/AL76)+(1/BA76)), AND($C$64="No",$C$78="No",$C$92="No",$C$50="Yes"),1/((1/AG76)+(1/BA76)), AND($C$64="No",$C$78="Yes",$C$92="No",$C$50="Yes"),1/((1/AG76)+(1/AQ76)+(1/BA76)))} -> 14.835608 | AB76: =$C$29 -> 0.79935872 | AD76: =1000/(2*PI()*$Z76*$C$41*$C$37*0.000001) -> 15.071491 | AE76: =2*PI()*$Z76*((0.000000001*$C$39)/$C$41)*1000 -> 0.0026179939 | AF76: =($C$38)/$C$41 -> 0.25 | AG76: =SQRT(AF76^(2)+ABS(AD76-AE76)^(2)) -> 15.070946 | AI76: =1000/(2*PI()*$Z76*$C$69*$C$65*0.000001) -> 994.71839 | AJ76: =2*PI()*$Z76*((0.000000001*$C$67)/$C$69)*1000 -> 9.424778e-05 | AK76: =($C$66)/$C$69 -> 0.125 | AL76: =IF($C$64="Yes", SQRT(AK76^(2)+ABS(AI76-AJ76)^(2)), NA()) -> 994.71831 | AN76: =1000/(2*PI()*$Z76*$C$82*$C$79*0.000001) -> 7957.7472 | AO76: =2*PI()*$Z76*((0.000000001*$C$81)/$C$82)*1000 -> 0.0075398224 | AP76: =($C$80)/$C$82 -> 10 | AQ76: =IF($C$78="Yes", SQRT(AP76^(2)+ABS(AN76-AO76)^(2)), NA()) -> #N/A | AS76: =1000/(2*PI()*$Z76*$C$97*$C$93*0.000001) -> 120571.93 | AT76: =2*PI()*$Z76*((0.000000001*$C$95)/$C$97)*1000 -> 0.0037699112 | AU76: =($C$94)/$C$97 -> 5 | AV76: =IF($C$92="Yes", SQRT(AU76^(2)+ABS(AS76-AT76)^(2)), NA()) -> #N/A | AX76: =1000/(2*PI()*$Z76*$C$55*$C$51*0.000001) -> 21164.221 | AY76: =2*PI()*$Z76*((0.000000001*$C$53)/$C$55)*1000 -> 9.424778e-05 | AZ76: =($C$52)/$C$55 -> 0.125 | BA76: =IF($C$50="Yes", SQRT(AZ76^(2)+ABS(AX76-AY76)^(2)), NA()) -> 21164.221
Z77: 2500 | AA77: {=_xlfn.IFS(AND($C$64="Yes",$C$78="Yes",$C$92="Yes",$C$50="Yes"),1/((1/AG77)+(1/AL77)+(1/AQ77)+(1/AV77)+(1/BA77)),AND($C$64="Yes",$C$78="Yes",$C$92="Yes",$C$50="No"),1/((1/AG77)+(1/AL77)+(1/AQ77)+(1/AV77)),AND($C$64="Yes",$C$78="Yes",$C$92="No",$C$50="No"),1/((1/AG77)+(1/AL77)+(1/AQ77)),AND($C$64="Yes",$C$78="No",$C$92="No",$C$50="No"),1/((1/AG77)+(1/AL77)),AND($C$64="No",$C$78="No",$C$92="No",$C$50="No"),1/((1/AG77)),AND($C$64="Yes",$C$78="No",$C$92="No",$C$50="Yes"),1/((1/AG77)+(1/AL77)+(1/BA77)), AND($C$64="No",$C$78="No",$C$92="No",$C$50="Yes"),1/((1/AG77)+(1/BA77)), AND($C$64="No",$C$78="Yes",$C$92="No",$C$50="Yes"),1/((1/AG77)+(1/AQ77)+(1/BA77)))} -> 11.868249 | AB77: =$C$29 -> 0.79935872 | AD77: =1000/(2*PI()*$Z77*$C$41*$C$37*0.000001) -> 12.057193 | AE77: =2*PI()*$Z77*((0.000000001*$C$39)/$C$41)*1000 -> 0.0032724923 | AF77: =($C$38)/$C$41 -> 0.25 | AG77: =SQRT(AF77^(2)+ABS(AD77-AE77)^(2)) -> 12.056512 | AI77: =1000/(2*PI()*$Z77*$C$69*$C$65*0.000001) -> 795.77472 | AJ77: =2*PI()*$Z77*((0.000000001*$C$67)/$C$69)*1000 -> 0.00011780972 | AK77: =($C$66)/$C$69 -> 0.125 | AL77: =IF($C$64="Yes", SQRT(AK77^(2)+ABS(AI77-AJ77)^(2)), NA()) -> 795.77461 | AN77: =1000/(2*PI()*$Z77*$C$82*$C$79*0.000001) -> 6366.1977 | AO77: =2*PI()*$Z77*((0.000000001*$C$81)/$C$82)*1000 -> 0.009424778 | AP77: =($C$80)/$C$82 -> 10 | AQ77: =IF($C$78="Yes", SQRT(AP77^(2)+ABS(AN77-AO77)^(2)), NA()) -> #N/A | AS77: =1000/(2*PI()*$Z77*$C$97*$C$93*0.000001) -> 96457.541 | AT77: =2*PI()*$Z77*((0.000000001*$C$95)/$C$97)*1000 -> 0.004712389 | AU77: =($C$94)/$C$97 -> 5 | AV77: =IF($C$92="Yes", SQRT(AU77^(2)+ABS(AS77-AT77)^(2)), NA()) -> #N/A | AX77: =1000/(2*PI()*$Z77*$C$55*$C$51*0.000001) -> 16931.377 | AY77: =2*PI()*$Z77*((0.000000001*$C$53)/$C$55)*1000 -> 0.00011780972 | AZ77: =($C$52)/$C$55 -> 0.125 | BA77: =IF($C$50="Yes", SQRT(AZ77^(2)+ABS(AX77-AY77)^(2)), NA()) -> 16931.377
B78: Use COUT(MF2)? | C78: No | Z78: 3000 | AA78: {=_xlfn.IFS(AND($C$64="Yes",$C$78="Yes",$C$92="Yes",$C$50="Yes"),1/((1/AG78)+(1/AL78)+(1/AQ78)+(1/AV78)+(1/BA78)),AND($C$64="Yes",$C$78="Yes",$C$92="Yes",$C$50="No"),1/((1/AG78)+(1/AL78)+(1/AQ78)+(1/AV78)),AND($C$64="Yes",$C$78="Yes",$C$92="No",$C$50="No"),1/((1/AG78)+(1/AL78)+(1/AQ78)),AND($C$64="Yes",$C$78="No",$C$92="No",$C$50="No"),1/((1/AG78)+(1/AL78)),AND($C$64="No",$C$78="No",$C$92="No",$C$50="No"),1/((1/AG78)),AND($C$64="Yes",$C$78="No",$C$92="No",$C$50="Yes"),1/((1/AG78)+(1/AL78)+(1/BA78)), AND($C$64="No",$C$78="No",$C$92="No",$C$50="Yes"),1/((1/AG78)+(1/BA78)), AND($C$64="No",$C$78="Yes",$C$92="No",$C$50="Yes"),1/((1/AG78)+(1/AQ78)+(1/BA78)))} -> 9.8899664 | AB78: =$C$29 -> 0.79935872 | AD78: =1000/(2*PI()*$Z78*$C$41*$C$37*0.000001) -> 10.047661 | AE78: =2*PI()*$Z78*((0.000000001*$C$39)/$C$41)*1000 -> 0.0039269908 | AF78: =($C$38)/$C$41 -> 0.25 | AG78: =SQRT(AF78^(2)+ABS(AD78-AE78)^(2)) -> 10.046844 | AI78: =1000/(2*PI()*$Z78*$C$69*$C$65*0.000001) -> 663.1456 | AJ78: =2*PI()*$Z78*((0.000000001*$C$67)/$C$69)*1000 -> 0.00014137167 | AK78: =($C$66)/$C$69 -> 0.125 | AL78: =IF($C$64="Yes", SQRT(AK78^(2)+ABS(AI78-AJ78)^(2)), NA()) -> 663.14547 | AN78: =1000/(2*PI()*$Z78*$C$82*$C$79*0.000001) -> 5305.1648 | AO78: =2*PI()*$Z78*((0.000000001*$C$81)/$C$82)*1000 -> 0.011309734 | AP78: =($C$80)/$C$82 -> 10 | AQ78: =IF($C$78="Yes", SQRT(AP78^(2)+ABS(AN78-AO78)^(2)), NA()) -> #N/A | AS78: =1000/(2*PI()*$Z78*$C$97*$C$93*0.000001) -> 80381.284 | AT78: =2*PI()*$Z78*((0.000000001*$C$95)/$C$97)*1000 -> 0.0056548668 | AU78: =($C$94)/$C$97 -> 5 | AV78: =IF($C$92="Yes", SQRT(AU78^(2)+ABS(AS78-AT78)^(2)), NA()) -> #N/A | AX78: =1000/(2*PI()*$Z78*$C$55*$C$51*0.000001) -> 14109.481 | AY78: =2*PI()*$Z78*((0.000000001*$C$53)/$C$55)*1000 -> 0.00014137167 | AZ78: =($C$52)/$C$55 -> 0.125 | BA78: =IF($C$50="Yes", SQRT(AZ78^(2)+ABS(AX78-AY78)^(2)), NA()) -> 14109.481
B79: Mid Frequency 2 Capacitor Value (COUT(MF2)) | C79: 10 | D79: µF | Z79: 3500 | AA79: {=_xlfn.IFS(AND($C$64="Yes",$C$78="Yes",$C$92="Yes",$C$50="Yes"),1/((1/AG79)+(1/AL79)+(1/AQ79)+(1/AV79)+(1/BA79)),AND($C$64="Yes",$C$78="Yes",$C$92="Yes",$C$50="No"),1/((1/AG79)+(1/AL79)+(1/AQ79)+(1/AV79)),AND($C$64="Yes",$C$78="Yes",$C$92="No",$C$50="No"),1/((1/AG79)+(1/AL79)+(1/AQ79)),AND($C$64="Yes",$C$78="No",$C$92="No",$C$50="No"),1/((1/AG79)+(1/AL79)),AND($C$64="No",$C$78="No",$C$92="No",$C$50="No"),1/((1/AG79)),AND($C$64="Yes",$C$78="No",$C$92="No",$C$50="Yes"),1/((1/AG79)+(1/AL79)+(1/BA79)), AND($C$64="No",$C$78="No",$C$92="No",$C$50="Yes"),1/((1/AG79)+(1/BA79)), AND($C$64="No",$C$78="Yes",$C$92="No",$C$50="Yes"),1/((1/AG79)+(1/AQ79)+(1/BA79)))} -> 8.4768695 | AB79: =$C$29 -> 0.79935872 | AD79: =1000/(2*PI()*$Z79*$C$41*$C$37*0.000001) -> 8.6122805 | AE79: =2*PI()*$Z79*((0.000000001*$C$39)/$C$41)*1000 -> 0.0045814893 | AF79: =($C$38)/$C$41 -> 0.25 | AG79: =SQRT(AF79^(2)+ABS(AD79-AE79)^(2)) -> 8.6113287 | AI79: =1000/(2*PI()*$Z79*$C$69*$C$65*0.000001) -> 568.41051 | AJ79: =2*PI()*$Z79*((0.000000001*$C$67)/$C$69)*1000 -> 0.00016493361 | AK79: =($C$66)/$C$69 -> 0.125 | AL79: =IF($C$64="Yes", SQRT(AK79^(2)+ABS(AI79-AJ79)^(2)), NA()) -> 568.41036 | AN79: =1000/(2*PI()*$Z79*$C$82*$C$79*0.000001) -> 4547.2841 | AO79: =2*PI()*$Z79*((0.000000001*$C$81)/$C$82)*1000 -> 0.013194689 | AP79: =($C$80)/$C$82 -> 10 | AQ79: =IF($C$78="Yes", SQRT(AP79^(2)+ABS(AN79-AO79)^(2)), NA()) -> #N/A | AS79: =1000/(2*PI()*$Z79*$C$97*$C$93*0.000001) -> 68898.244 | AT79: =2*PI()*$Z79*((0.000000001*$C$95)/$C$97)*1000 -> 0.0065973446 | AU79: =($C$94)/$C$97 -> 5 | AV79: =IF($C$92="Yes", SQRT(AU79^(2)+ABS(AS79-AT79)^(2)), NA()) -> #N/A | AX79: =1000/(2*PI()*$Z79*$C$55*$C$51*0.000001) -> 12093.841 | AY79: =2*PI()*$Z79*((0.000000001*$C$53)/$C$55)*1000 -> 0.00016493361 | AZ79: =($C$52)/$C$55 -> 0.125 | BA79: =IF($C$50="Yes", SQRT(AZ79^(2)+ABS(AX79-AY79)^(2)), NA()) -> 12093.84
B80: Mid Frequency 2 Capacitor ESR | C80: 10 | D80: mΩ | Z80: 4000 | AA80: {=_xlfn.IFS(AND($C$64="Yes",$C$78="Yes",$C$92="Yes",$C$50="Yes"),1/((1/AG80)+(1/AL80)+(1/AQ80)+(1/AV80)+(1/BA80)),AND($C$64="Yes",$C$78="Yes",$C$92="Yes",$C$50="No"),1/((1/AG80)+(1/AL80)+(1/AQ80)+(1/AV80)),AND($C$64="Yes",$C$78="Yes",$C$92="No",$C$50="No"),1/((1/AG80)+(1/AL80)+(1/AQ80)),AND($C$64="Yes",$C$78="No",$C$92="No",$C$50="No"),1/((1/AG80)+(1/AL80)),AND($C$64="No",$C$78="No",$C$92="No",$C$50="No"),1/((1/AG80)),AND($C$64="Yes",$C$78="No",$C$92="No",$C$50="Yes"),1/((1/AG80)+(1/AL80)+(1/BA80)), AND($C$64="No",$C$78="No",$C$92="No",$C$50="Yes"),1/((1/AG80)+(1/BA80)), AND($C$64="No",$C$78="Yes",$C$92="No",$C$50="Yes"),1/((1/AG80)+(1/AQ80)+(1/BA80)))} -> 7.4170142 | AB80: =$C$29 -> 0.79935872 | AD80: =1000/(2*PI()*$Z80*$C$41*$C$37*0.000001) -> 7.5357454 | AE80: =2*PI()*$Z80*((0.000000001*$C$39)/$C$41)*1000 -> 0.0052359878 | AF80: =($C$38)/$C$41 -> 0.25 | AG80: =SQRT(AF80^(2)+ABS(AD80-AE80)^(2)) -> 7.5346581 | AI80: =1000/(2*PI()*$Z80*$C$69*$C$65*0.000001) -> 497.3592 | AJ80: =2*PI()*$Z80*((0.000000001*$C$67)/$C$69)*1000 -> 0.00018849556 | AK80: =($C$66)/$C$69 -> 0.125 | AL80: =IF($C$64="Yes", SQRT(AK80^(2)+ABS(AI80-AJ80)^(2)), NA()) -> 497.35902 | AN80: =1000/(2*PI()*$Z80*$C$82*$C$79*0.000001) -> 3978.8736 | AO80: =2*PI()*$Z80*((0.000000001*$C$81)/$C$82)*1000 -> 0.015079645 | AP80: =($C$80)/$C$82 -> 10 | AQ80: =IF($C$78="Yes", SQRT(AP80^(2)+ABS(AN80-AO80)^(2)), NA()) -> #N/A | AS80: =1000/(2*PI()*$Z80*$C$97*$C$93*0.000001) -> 60285.963 | AT80: =2*PI()*$Z80*((0.000000001*$C$95)/$C$97)*1000 -> 0.0075398224 | AU80: =($C$94)/$C$97 -> 5 | AV80: =IF($C$92="Yes", SQRT(AU80^(2)+ABS(AS80-AT80)^(2)), NA()) -> #N/A | AX80: =1000/(2*PI()*$Z80*$C$55*$C$51*0.000001) -> 10582.111 | AY80: =2*PI()*$Z80*((0.000000001*$C$53)/$C$55)*1000 -> 0.00018849556 | AZ80: =($C$52)/$C$55 -> 0.125 | BA80: =IF($C$50="Yes", SQRT(AZ80^(2)+ABS(AX80-AY80)^(2)), NA()) -> 10582.11
B81: Mid Frequency 2 Capacitor ESL | C81: 0.6 | D81: nH | Z81: 4500 | AA81: {=_xlfn.IFS(AND($C$64="Yes",$C$78="Yes",$C$92="Yes",$C$50="Yes"),1/((1/AG81)+(1/AL81)+(1/AQ81)+(1/AV81)+(1/BA81)),AND($C$64="Yes",$C$78="Yes",$C$92="Yes",$C$50="No"),1/((1/AG81)+(1/AL81)+(1/AQ81)+(1/AV81)),AND($C$64="Yes",$C$78="Yes",$C$92="No",$C$50="No"),1/((1/AG81)+(1/AL81)+(1/AQ81)),AND($C$64="Yes",$C$78="No",$C$92="No",$C$50="No"),1/((1/AG81)+(1/AL81)),AND($C$64="No",$C$78="No",$C$92="No",$C$50="No"),1/((1/AG81)),AND($C$64="Yes",$C$78="No",$C$92="No",$C$50="Yes"),1/((1/AG81)+(1/AL81)+(1/BA81)), AND($C$64="No",$C$78="No",$C$92="No",$C$50="Yes"),1/((1/AG81)+(1/BA81)), AND($C$64="No",$C$78="Yes",$C$92="No",$C$50="Yes"),1/((1/AG81)+(1/AQ81)+(1/BA81)))} -> 6.5926532 | AB81: =$C$29 -> 0.79935872 | AD81: =1000/(2*PI()*$Z81*$C$41*$C$37*0.000001) -> 6.6984404 | AE81: =2*PI()*$Z81*((0.000000001*$C$39)/$C$41)*1000 -> 0.0058904862 | AF81: =($C$38)/$C$41 -> 0.25 | AG81: =SQRT(AF81^(2)+ABS(AD81-AE81)^(2)) -> 6.6972176 | AI81: =1000/(2*PI()*$Z81*$C$69*$C$65*0.000001) -> 442.09706 | AJ81: =2*PI()*$Z81*((0.000000001*$C$67)/$C$69)*1000 -> 0.0002120575 | AK81: =($C$66)/$C$69 -> 0.125 | AL81: =IF($C$64="Yes", SQRT(AK81^(2)+ABS(AI81-AJ81)^(2)), NA()) -> 442.09687 | AN81: =1000/(2*PI()*$Z81*$C$82*$C$79*0.000001) -> 3536.7765 | AO81: =2*PI()*$Z81*((0.000000001*$C$81)/$C$82)*1000 -> 0.0169646 | AP81: =($C$80)/$C$82 -> 10 | AQ81: =IF($C$78="Yes", SQRT(AP81^(2)+ABS(AN81-AO81)^(2)), NA()) -> #N/A | AS81: =1000/(2*PI()*$Z81*$C$97*$C$93*0.000001) -> 53587.523 | AT81: =2*PI()*$Z81*((0.000000001*$C$95)/$C$97)*1000 -> 0.0084823002 | AU81: =($C$94)/$C$97 -> 5 | AV81: =IF($C$92="Yes", SQRT(AU81^(2)+ABS(AS81-AT81)^(2)), NA()) -> #N/A | AX81: =1000/(2*PI()*$Z81*$C$55*$C$51*0.000001) -> 9406.3205 | AY81: =2*PI()*$Z81*((0.000000001*$C$53)/$C$55)*1000 -> 0.0002120575 | AZ81: =($C$52)/$C$55 -> 0.125 | BA81: =IF($C$50="Yes", SQRT(AZ81^(2)+ABS(AX81-AY81)^(2)), NA()) -> 9406.3203
B82: Quantity per Phase | C82: 1 | Z82: 5000 | AA82: {=_xlfn.IFS(AND($C$64="Yes",$C$78="Yes",$C$92="Yes",$C$50="Yes"),1/((1/AG82)+(1/AL82)+(1/AQ82)+(1/AV82)+(1/BA82)),AND($C$64="Yes",$C$78="Yes",$C$92="Yes",$C$50="No"),1/((1/AG82)+(1/AL82)+(1/AQ82)+(1/AV82)),AND($C$64="Yes",$C$78="Yes",$C$92="No",$C$50="No"),1/((1/AG82)+(1/AL82)+(1/AQ82)),AND($C$64="Yes",$C$78="No",$C$92="No",$C$50="No"),1/((1/AG82)+(1/AL82)),AND($C$64="No",$C$78="No",$C$92="No",$C$50="No"),1/((1/AG82)),AND($C$64="Yes",$C$78="No",$C$92="No",$C$50="Yes"),1/((1/AG82)+(1/AL82)+(1/BA82)), AND($C$64="No",$C$78="No",$C$92="No",$C$50="Yes"),1/((1/AG82)+(1/BA82)), AND($C$64="No",$C$78="Yes",$C$92="No",$C$50="Yes"),1/((1/AG82)+(1/AQ82)+(1/BA82)))} -> 5.9331384 | AB82: =$C$29 -> 0.79935872 | AD82: =1000/(2*PI()*$Z82*$C$41*$C$37*0.000001) -> 6.0285963 | AE82: =2*PI()*$Z82*((0.000000001*$C$39)/$C$41)*1000 -> 0.0065449847 | AF82: =($C$38)/$C$41 -> 0.25 | AG82: =SQRT(AF82^(2)+ABS(AD82-AE82)^(2)) -> 6.0272384 | AI82: =1000/(2*PI()*$Z82*$C$69*$C$65*0.000001) -> 397.88736 | AJ82: =2*PI()*$Z82*((0.000000001*$C$67)/$C$69)*1000 -> 0.00023561945 | AK82: =($C$66)/$C$69 -> 0.125 | AL82: =IF($C$64="Yes", SQRT(AK82^(2)+ABS(AI82-AJ82)^(2)), NA()) -> 397.88714 | AN82: =1000/(2*PI()*$Z82*$C$82*$C$79*0.000001) -> 3183.0989 | AO82: =2*PI()*$Z82*((0.000000001*$C$81)/$C$82)*1000 -> 0.018849556 | AP82: =($C$80)/$C$82 -> 10 | AQ82: =IF($C$78="Yes", SQRT(AP82^(2)+ABS(AN82-AO82)^(2)), NA()) -> #N/A | AS82: =1000/(2*PI()*$Z82*$C$97*$C$93*0.000001) -> 48228.771 | AT82: =2*PI()*$Z82*((0.000000001*$C$95)/$C$97)*1000 -> 0.009424778 | AU82: =($C$94)/$C$97 -> 5 | AV82: =IF($C$92="Yes", SQRT(AU82^(2)+ABS(AS82-AT82)^(2)), NA()) -> #N/A | AX82: =1000/(2*PI()*$Z82*$C$55*$C$51*0.000001) -> 8465.6885 | AY82: =2*PI()*$Z82*((0.000000001*$C$53)/$C$55)*1000 -> 0.00023561945 | AZ82: =($C$52)/$C$55 -> 0.125 | BA82: =IF($C$50="Yes", SQRT(AZ82^(2)+ABS(AX82-AY82)^(2)), NA()) -> 8465.6882
B83: Total Quantity | C83: =C82*$C$32 -> 2 | Z83: 5500 | AA83: {=_xlfn.IFS(AND($C$64="Yes",$C$78="Yes",$C$92="Yes",$C$50="Yes"),1/((1/AG83)+(1/AL83)+(1/AQ83)+(1/AV83)+(1/BA83)),AND($C$64="Yes",$C$78="Yes",$C$92="Yes",$C$50="No"),1/((1/AG83)+(1/AL83)+(1/AQ83)+(1/AV83)),AND($C$64="Yes",$C$78="Yes",$C$92="No",$C$50="No"),1/((1/AG83)+(1/AL83)+(1/AQ83)),AND($C$64="Yes",$C$78="No",$C$92="No",$C$50="No"),1/((1/AG83)+(1/AL83)),AND($C$64="No",$C$78="No",$C$92="No",$C$50="No"),1/((1/AG83)),AND($C$64="Yes",$C$78="No",$C$92="No",$C$50="Yes"),1/((1/AG83)+(1/AL83)+(1/BA83)), AND($C$64="No",$C$78="No",$C$92="No",$C$50="Yes"),1/((1/AG83)+(1/BA83)), AND($C$64="No",$C$78="Yes",$C$92="No",$C$50="Yes"),1/((1/AG83)+(1/AQ83)+(1/BA83)))} -> 5.3935117 | AB83: =$C$29 -> 0.79935872 | AD83: =1000/(2*PI()*$Z83*$C$41*$C$37*0.000001) -> 5.4805421 | AE83: =2*PI()*$Z83*((0.000000001*$C$39)/$C$41)*1000 -> 0.0071994832 | AF83: =($C$38)/$C$41 -> 0.25 | AG83: =SQRT(AF83^(2)+ABS(AD83-AE83)^(2)) -> 5.4790492 | AI83: =1000/(2*PI()*$Z83*$C$69*$C$65*0.000001) -> 361.71578 | AJ83: =2*PI()*$Z83*((0.000000001*$C$67)/$C$69)*1000 -> 0.00025918139 | AK83: =($C$66)/$C$69 -> 0.125 | AL83: =IF($C$64="Yes", SQRT(AK83^(2)+ABS(AI83-AJ83)^(2)), NA()) -> 361.71554 | AN83: =1000/(2*PI()*$Z83*$C$82*$C$79*0.000001) -> 2893.7262 | AO83: =2*PI()*$Z83*((0.000000001*$C$81)/$C$82)*1000 -> 0.020734512 | AP83: =($C$80)/$C$82 -> 10 | AQ83: =IF($C$78="Yes", SQRT(AP83^(2)+ABS(AN83-AO83)^(2)), NA()) -> #N/A | AS83: =1000/(2*PI()*$Z83*$C$97*$C$93*0.000001) -> 43844.337 | AT83: =2*PI()*$Z83*((0.000000001*$C$95)/$C$97)*1000 -> 0.010367256 | AU83: =($C$94)/$C$97 -> 5 | AV83: =IF($C$92="Yes", SQRT(AU83^(2)+ABS(AS83-AT83)^(2)), NA()) -> #N/A | AX83: =1000/(2*PI()*$Z83*$C$55*$C$51*0.000001) -> 7696.0804 | AY83: =2*PI()*$Z83*((0.000000001*$C$53)/$C$55)*1000 -> 0.00025918139 | AZ83: =($C$52)/$C$55 -> 0.125 | BA83: =IF($C$50="Yes", SQRT(AZ83^(2)+ABS(AX83-AY83)^(2)), NA()) -> 7696.0802
B84: Total Mid Frequency 2 Capacitance (COUT(TOTAL, MF2)) | C84: =C79*$C$83 -> 20 | D84: µF | Z84: 6000 | AA84: {=_xlfn.IFS(AND($C$64="Yes",$C$78="Yes",$C$92="Yes",$C$50="Yes"),1/((1/AG84)+(1/AL84)+(1/AQ84)+(1/AV84)+(1/BA84)),AND($C$64="Yes",$C$78="Yes",$C$92="Yes",$C$50="No"),1/((1/AG84)+(1/AL84)+(1/AQ84)+(1/AV84)),AND($C$64="Yes",$C$78="Yes",$C$92="No",$C$50="No"),1/((1/AG84)+(1/AL84)+(1/AQ84)),AND($C$64="Yes",$C$78="No",$C$92="No",$C$50="No"),1/((1/AG84)+(1/AL84)),AND($C$64="No",$C$78="No",$C$92="No",$C$50="No"),1/((1/AG84)),AND($C$64="Yes",$C$78="No",$C$92="No",$C$50="Yes"),1/((1/AG84)+(1/AL84)+(1/BA84)), AND($C$64="No",$C$78="No",$C$92="No",$C$50="Yes"),1/((1/AG84)+(1/BA84)), AND($C$64="No",$C$78="Yes",$C$92="No",$C$50="Yes"),1/((1/AG84)+(1/AQ84)+(1/BA84)))} -> 4.9438012 | AB84: =$C$29 -> 0.79935872 | AD84: =1000/(2*PI()*$Z84*$C$41*$C$37*0.000001) -> 5.0238303 | AE84: =2*PI()*$Z84*((0.000000001*$C$39)/$C$41)*1000 -> 0.0078539816 | AF84: =($C$38)/$C$41 -> 0.25 | AG84: =SQRT(AF84^(2)+ABS(AD84-AE84)^(2)) -> 5.0222025 | AI84: =1000/(2*PI()*$Z84*$C$69*$C$65*0.000001) -> 331.5728 | AJ84: =2*PI()*$Z84*((0.000000001*$C$67)/$C$69)*1000 -> 0.00028274334 | AK84: =($C$66)/$C$69 -> 0.125 | AL84: =IF($C$64="Yes", SQRT(AK84^(2)+ABS(AI84-AJ84)^(2)), NA()) -> 331.57254 | AN84: =1000/(2*PI()*$Z84*$C$82*$C$79*0.000001) -> 2652.5824 | AO84: =2*PI()*$Z84*((0.000000001*$C$81)/$C$82)*1000 -> 0.022619467 | AP84: =($C$80)/$C$82 -> 10 | AQ84: =IF($C$78="Yes", SQRT(AP84^(2)+ABS(AN84-AO84)^(2)), NA()) -> #N/A | AS84: =1000/(2*PI()*$Z84*$C$97*$C$93*0.000001) -> 40190.642 | AT84: =2*PI()*$Z84*((0.000000001*$C$95)/$C$97)*1000 -> 0.011309734 | AU84: =($C$94)/$C$97 -> 5 | AV84: =IF($C$92="Yes", SQRT(AU84^(2)+ABS(AS84-AT84)^(2)), NA()) -> #N/A | AX84: =1000/(2*PI()*$Z84*$C$55*$C$51*0.000001) -> 7054.7404 | AY84: =2*PI()*$Z84*((0.000000001*$C$53)/$C$55)*1000 -> 0.00028274334 | AZ84: =($C$52)/$C$55 -> 0.125 | BA84: =IF($C$50="Yes", SQRT(AZ84^(2)+ABS(AX84-AY84)^(2)), NA()) -> 7054.7401
B85: Total Mid Frequency 2 Capacitance ESR | C85: =C80/$C$83 -> 5 | D85: mΩ | Z85: 6500 | AA85: {=_xlfn.IFS(AND($C$64="Yes",$C$78="Yes",$C$92="Yes",$C$50="Yes"),1/((1/AG85)+(1/AL85)+(1/AQ85)+(1/AV85)+(1/BA85)),AND($C$64="Yes",$C$78="Yes",$C$92="Yes",$C$50="No"),1/((1/AG85)+(1/AL85)+(1/AQ85)+(1/AV85)),AND($C$64="Yes",$C$78="Yes",$C$92="No",$C$50="No"),1/((1/AG85)+(1/AL85)+(1/AQ85)),AND($C$64="Yes",$C$78="No",$C$92="No",$C$50="No"),1/((1/AG85)+(1/AL85)),AND($C$64="No",$C$78="No",$C$92="No",$C$50="No"),1/((1/AG85)),AND($C$64="Yes",$C$78="No",$C$92="No",$C$50="Yes"),1/((1/AG85)+(1/AL85)+(1/BA85)), AND($C$64="No",$C$78="No",$C$92="No",$C$50="Yes"),1/((1/AG85)+(1/BA85)), AND($C$64="No",$C$78="Yes",$C$92="No",$C$50="Yes"),1/((1/AG85)+(1/AQ85)+(1/BA85)))} -> 4.5632571 | AB85: =$C$29 -> 0.79935872 | AD85: =1000/(2*PI()*$Z85*$C$41*$C$37*0.000001) -> 4.6373818 | AE85: =2*PI()*$Z85*((0.000000001*$C$39)/$C$41)*1000 -> 0.0085084801 | AF85: =($C$38)/$C$41 -> 0.25 | AG85: =SQRT(AF85^(2)+ABS(AD85-AE85)^(2)) -> 4.6356195 | AI85: =1000/(2*PI()*$Z85*$C$69*$C$65*0.000001) -> 306.0672 | AJ85: =2*PI()*$Z85*((0.000000001*$C$67)/$C$69)*1000 -> 0.00030630528 | AK85: =($C$66)/$C$69 -> 0.125 | AL85: =IF($C$64="Yes", SQRT(AK85^(2)+ABS(AI85-AJ85)^(2)), NA()) -> 306.06692 | AN85: =1000/(2*PI()*$Z85*$C$82*$C$79*0.000001) -> 2448.5376 | AO85: =2*PI()*$Z85*((0.000000001*$C$81)/$C$82)*1000 -> 0.024504423 | AP85: =($C$80)/$C$82 -> 10 | AQ85: =IF($C$78="Yes", SQRT(AP85^(2)+ABS(AN85-AO85)^(2)), NA()) -> #N/A | AS85: =1000/(2*PI()*$Z85*$C$97*$C$93*0.000001) -> 37099.054 | AT85: =2*PI()*$Z85*((0.000000001*$C$95)/$C$97)*1000 -> 0.012252211 | AU85: =($C$94)/$C$97 -> 5 | AV85: =IF($C$92="Yes", SQRT(AU85^(2)+ABS(AS85-AT85)^(2)), NA()) -> #N/A | AX85: =1000/(2*PI()*$Z85*$C$55*$C$51*0.000001) -> 6512.068 | AY85: =2*PI()*$Z85*((0.000000001*$C$53)/$C$55)*1000 -> 0.00030630528 | AZ85: =($C$52)/$C$55 -> 0.125 | BA85: =IF($C$50="Yes", SQRT(AZ85^(2)+ABS(AX85-AY85)^(2)), NA()) -> 6512.0677
B86: Total Mid Frequency 2 Capacitance ESL | C86: =C81/$C$83 -> 0.3 | D86: nH | Z86: 7000 | AA86: {=_xlfn.IFS(AND($C$64="Yes",$C$78="Yes",$C$92="Yes",$C$50="Yes"),1/((1/AG86)+(1/AL86)+(1/AQ86)+(1/AV86)+(1/BA86)),AND($C$64="Yes",$C$78="Yes",$C$92="Yes",$C$50="No"),1/((1/AG86)+(1/AL86)+(1/AQ86)+(1/AV86)),AND($C$64="Yes",$C$78="Yes",$C$92="No",$C$50="No"),1/((1/AG86)+(1/AL86)+(1/AQ86)),AND($C$64="Yes",$C$78="No",$C$92="No",$C$50="No"),1/((1/AG86)+(1/AL86)),AND($C$64="No",$C$78="No",$C$92="No",$C$50="No"),1/((1/AG86)),AND($C$64="Yes",$C$78="No",$C$92="No",$C$50="Yes"),1/((1/AG86)+(1/AL86)+(1/BA86)), AND($C$64="No",$C$78="No",$C$92="No",$C$50="Yes"),1/((1/AG86)+(1/BA86)), AND($C$64="No",$C$78="Yes",$C$92="No",$C$50="Yes"),1/((1/AG86)+(1/AQ86)+(1/BA86)))} -> 4.2370581 | AB86: =$C$29 -> 0.79935872 | AD86: =1000/(2*PI()*$Z86*$C$41*$C$37*0.000001) -> 4.3061402 | AE86: =2*PI()*$Z86*((0.000000001*$C$39)/$C$41)*1000 -> 0.0091629786 | AF86: =($C$38)/$C$41 -> 0.25 | AG86: =SQRT(AF86^(2)+ABS(AD86-AE86)^(2)) -> 4.3042437 | AI86: =1000/(2*PI()*$Z86*$C$69*$C$65*0.000001) -> 284.20526 | AJ86: =2*PI()*$Z86*((0.000000001*$C$67)/$C$69)*1000 -> 0.00032986723 | AK86: =($C$66)/$C$69 -> 0.125 | AL86: =IF($C$64="Yes", SQRT(AK86^(2)+ABS(AI86-AJ86)^(2)), NA()) -> 284.20495 | AN86: =1000/(2*PI()*$Z86*$C$82*$C$79*0.000001) -> 2273.642 | AO86: =2*PI()*$Z86*((0.000000001*$C$81)/$C$82)*1000 -> 0.026389378 | AP86: =($C$80)/$C$82 -> 10 | AQ86: =IF($C$78="Yes", SQRT(AP86^(2)+ABS(AN86-AO86)^(2)), NA()) -> #N/A | AS86: =1000/(2*PI()*$Z86*$C$97*$C$93*0.000001) -> 34449.122 | AT86: =2*PI()*$Z86*((0.000000001*$C$95)/$C$97)*1000 -> 0.013194689 | AU86: =($C$94)/$C$97 -> 5 | AV86: =IF($C$92="Yes", SQRT(AU86^(2)+ABS(AS86-AT86)^(2)), NA()) -> #N/A | AX86: =1000/(2*PI()*$Z86*$C$55*$C$51*0.000001) -> 6046.9203 | AY86: =2*PI()*$Z86*((0.000000001*$C$53)/$C$55)*1000 -> 0.00032986723 | AZ86: =($C$52)/$C$55 -> 0.125 | BA86: =IF($C$50="Yes", SQRT(AZ86^(2)+ABS(AX86-AY86)^(2)), NA()) -> 6046.92
B87: Mid Frequency 2 Capacitor Resonance | C87: =(1/(2*PI()*(SQRT($C$79*0.000001*$C$81*0.000000001))))*0.000001 -> 2.0546815 | D87: MHz | Z87: 7500 | AA87: {=_xlfn.IFS(AND($C$64="Yes",$C$78="Yes",$C$92="Yes",$C$50="Yes"),1/((1/AG87)+(1/AL87)+(1/AQ87)+(1/AV87)+(1/BA87)),AND($C$64="Yes",$C$78="Yes",$C$92="Yes",$C$50="No"),1/((1/AG87)+(1/AL87)+(1/AQ87)+(1/AV87)),AND($C$64="Yes",$C$78="Yes",$C$92="No",$C$50="No"),1/((1/AG87)+(1/AL87)+(1/AQ87)),AND($C$64="Yes",$C$78="No",$C$92="No",$C$50="No"),1/((1/AG87)+(1/AL87)),AND($C$64="No",$C$78="No",$C$92="No",$C$50="No"),1/((1/AG87)),AND($C$64="Yes",$C$78="No",$C$92="No",$C$50="Yes"),1/((1/AG87)+(1/AL87)+(1/BA87)), AND($C$64="No",$C$78="No",$C$92="No",$C$50="Yes"),1/((1/AG87)+(1/BA87)), AND($C$64="No",$C$78="Yes",$C$92="No",$C$50="Yes"),1/((1/AG87)+(1/AQ87)+(1/BA87)))} -> 3.9543351 | AB87: =$C$29 -> 0.79935872 | AD87: =1000/(2*PI()*$Z87*$C$41*$C$37*0.000001) -> 4.0190642 | AE87: =2*PI()*$Z87*((0.000000001*$C$39)/$C$41)*1000 -> 0.009817477 | AF87: =($C$38)/$C$41 -> 0.25 | AG87: =SQRT(AF87^(2)+ABS(AD87-AE87)^(2)) -> 4.0170337 | AI87: =1000/(2*PI()*$Z87*$C$69*$C$65*0.000001) -> 265.25824 | AJ87: =2*PI()*$Z87*((0.000000001*$C$67)/$C$69)*1000 -> 0.00035342917 | AK87: =($C$66)/$C$69 -> 0.125 | AL87: =IF($C$64="Yes", SQRT(AK87^(2)+ABS(AI87-AJ87)^(2)), NA()) -> 265.25791 | AN87: =1000/(2*PI()*$Z87*$C$82*$C$79*0.000001) -> 2122.0659 | AO87: =2*PI()*$Z87*((0.000000001*$C$81)/$C$82)*1000 -> 0.028274334 | AP87: =($C$80)/$C$82 -> 10 | AQ87: =IF($C$78="Yes", SQRT(AP87^(2)+ABS(AN87-AO87)^(2)), NA()) -> #N/A | AS87: =1000/(2*PI()*$Z87*$C$97*$C$93*0.000001) -> 32152.514 | AT87: =2*PI()*$Z87*((0.000000001*$C$95)/$C$97)*1000 -> 0.014137167 | AU87: =($C$94)/$C$97 -> 5 | AV87: =IF($C$92="Yes", SQRT(AU87^(2)+ABS(AS87-AT87)^(2)), NA()) -> #N/A | AX87: =1000/(2*PI()*$Z87*$C$55*$C$51*0.000001) -> 5643.7923 | AY87: =2*PI()*$Z87*((0.000000001*$C$53)/$C$55)*1000 -> 0.00035342917 | AZ87: =($C$52)/$C$55 -> 0.125 | BA87: =IF($C$50="Yes", SQRT(AZ87^(2)+ABS(AX87-AY87)^(2)), NA()) -> 5643.792
B88: Total MF2 Capacitor Capacitive Reactance @fSW | C88: =1000/(2*PI()*$C$33*1000*C84*0.000001) -> 15.915494 | D88: mΩ | Z88: 8000 | AA88: {=_xlfn.IFS(AND($C$64="Yes",$C$78="Yes",$C$92="Yes",$C$50="Yes"),1/((1/AG88)+(1/AL88)+(1/AQ88)+(1/AV88)+(1/BA88)),AND($C$64="Yes",$C$78="Yes",$C$92="Yes",$C$50="No"),1/((1/AG88)+(1/AL88)+(1/AQ88)+(1/AV88)),AND($C$64="Yes",$C$78="Yes",$C$92="No",$C$50="No"),1/((1/AG88)+(1/AL88)+(1/AQ88)),AND($C$64="Yes",$C$78="No",$C$92="No",$C$50="No"),1/((1/AG88)+(1/AL88)),AND($C$64="No",$C$78="No",$C$92="No",$C$50="No"),1/((1/AG88)),AND($C$64="Yes",$C$78="No",$C$92="No",$C$50="Yes"),1/((1/AG88)+(1/AL88)+(1/BA88)), AND($C$64="No",$C$78="No",$C$92="No",$C$50="Yes"),1/((1/AG88)+(1/BA88)), AND($C$64="No",$C$78="Yes",$C$92="No",$C$50="Yes"),1/((1/AG88)+(1/AQ88)+(1/BA88)))} -> 3.7069367 | AB88: =$C$29 -> 0.79935872 | AD88: =1000/(2*PI()*$Z88*$C$41*$C$37*0.000001) -> 3.7678727 | AE88: =2*PI()*$Z88*((0.000000001*$C$39)/$C$41)*1000 -> 0.010471976 | AF88: =($C$38)/$C$41 -> 0.25 | AG88: =SQRT(AF88^(2)+ABS(AD88-AE88)^(2)) -> 3.7657085 | AI88: =1000/(2*PI()*$Z88*$C$69*$C$65*0.000001) -> 248.6796 | AJ88: =2*PI()*$Z88*((0.000000001*$C$67)/$C$69)*1000 -> 0.00037699112 | AK88: =($C$66)/$C$69 -> 0.125 | AL88: =IF($C$64="Yes", SQRT(AK88^(2)+ABS(AI88-AJ88)^(2)), NA()) -> 248.67925 | AN88: =1000/(2*PI()*$Z88*$C$82*$C$79*0.000001) -> 1989.4368 | AO88: =2*PI()*$Z88*((0.000000001*$C$81)/$C$82)*1000 -> 0.030159289 | AP88: =($C$80)/$C$82 -> 10 | AQ88: =IF($C$78="Yes", SQRT(AP88^(2)+ABS(AN88-AO88)^(2)), NA()) -> #N/A | AS88: =1000/(2*PI()*$Z88*$C$97*$C$93*0.000001) -> 30142.982 | AT88: =2*PI()*$Z88*((0.000000001*$C$95)/$C$97)*1000 -> 0.015079645 | AU88: =($C$94)/$C$97 -> 5 | AV88: =IF($C$92="Yes", SQRT(AU88^(2)+ABS(AS88-AT88)^(2)), NA()) -> #N/A | AX88: =1000/(2*PI()*$Z88*$C$55*$C$51*0.000001) -> 5291.0553 | AY88: =2*PI()*$Z88*((0.000000001*$C$53)/$C$55)*1000 -> 0.00037699112 | AZ88: =($C$52)/$C$55 -> 0.125 | BA88: =IF($C$50="Yes", SQRT(AZ88^(2)+ABS(AX88-AY88)^(2)), NA()) -> 5291.0549
B89: Total MF2 Capacitor ESL Reactance @fSW | C89: =2*PI()*C86*0.000000001*$C$33*1000*1000 -> 0.9424778 | D89: mΩ | Z89: 8500 | AA89: {=_xlfn.IFS(AND($C$64="Yes",$C$78="Yes",$C$92="Yes",$C$50="Yes"),1/((1/AG89)+(1/AL89)+(1/AQ89)+(1/AV89)+(1/BA89)),AND($C$64="Yes",$C$78="Yes",$C$92="Yes",$C$50="No"),1/((1/AG89)+(1/AL89)+(1/AQ89)+(1/AV89)),AND($C$64="Yes",$C$78="Yes",$C$92="No",$C$50="No"),1/((1/AG89)+(1/AL89)+(1/AQ89)),AND($C$64="Yes",$C$78="No",$C$92="No",$C$50="No"),1/((1/AG89)+(1/AL89)),AND($C$64="No",$C$78="No",$C$92="No",$C$50="No"),1/((1/AG89)),AND($C$64="Yes",$C$78="No",$C$92="No",$C$50="Yes"),1/((1/AG89)+(1/AL89)+(1/BA89)), AND($C$64="No",$C$78="No",$C$92="No",$C$50="Yes"),1/((1/AG89)+(1/BA89)), AND($C$64="No",$C$78="Yes",$C$92="No",$C$50="Yes"),1/((1/AG89)+(1/AQ89)+(1/BA89)))} -> 3.488629 | AB89: =$C$29 -> 0.79935872 | AD89: =1000/(2*PI()*$Z89*$C$41*$C$37*0.000001) -> 3.5462331 | AE89: =2*PI()*$Z89*((0.000000001*$C$39)/$C$41)*1000 -> 0.011126474 | AF89: =($C$38)/$C$41 -> 0.25 | AG89: =SQRT(AF89^(2)+ABS(AD89-AE89)^(2)) -> 3.5439355 | AI89: =1000/(2*PI()*$Z89*$C$69*$C$65*0.000001) -> 234.05139 | AJ89: =2*PI()*$Z89*((0.000000001*$C$67)/$C$69)*1000 -> 0.00040055306 | AK89: =($C$66)/$C$69 -> 0.125 | AL89: =IF($C$64="Yes", SQRT(AK89^(2)+ABS(AI89-AJ89)^(2)), NA()) -> 234.05102 | AN89: =1000/(2*PI()*$Z89*$C$82*$C$79*0.000001) -> 1872.4111 | AO89: =2*PI()*$Z89*((0.000000001*$C$81)/$C$82)*1000 -> 0.032044245 | AP89: =($C$80)/$C$82 -> 10 | AQ89: =IF($C$78="Yes", SQRT(AP89^(2)+ABS(AN89-AO89)^(2)), NA()) -> #N/A | AS89: =1000/(2*PI()*$Z89*$C$97*$C$93*0.000001) -> 28369.865 | AT89: =2*PI()*$Z89*((0.000000001*$C$95)/$C$97)*1000 -> 0.016022123 | AU89: =($C$94)/$C$97 -> 5 | AV89: =IF($C$92="Yes", SQRT(AU89^(2)+ABS(AS89-AT89)^(2)), NA()) -> #N/A | AX89: =1000/(2*PI()*$Z89*$C$55*$C$51*0.000001) -> 4979.8167 | AY89: =2*PI()*$Z89*((0.000000001*$C$53)/$C$55)*1000 -> 0.00040055306 | AZ89: =($C$52)/$C$55 -> 0.125 | BA89: =IF($C$50="Yes", SQRT(AZ89^(2)+ABS(AX89-AY89)^(2)), NA()) -> 4979.8163
B90: Total MF2 Capacitor Impedance @fSW | C90: =SQRT(C85^(2)+ABS(C88-C89)^(2)) -> 15.785792 | D90: mΩ | Z90: 9000 | AA90: {=_xlfn.IFS(AND($C$64="Yes",$C$78="Yes",$C$92="Yes",$C$50="Yes"),1/((1/AG90)+(1/AL90)+(1/AQ90)+(1/AV90)+(1/BA90)),AND($C$64="Yes",$C$78="Yes",$C$92="Yes",$C$50="No"),1/((1/AG90)+(1/AL90)+(1/AQ90)+(1/AV90)),AND($C$64="Yes",$C$78="Yes",$C$92="No",$C$50="No"),1/((1/AG90)+(1/AL90)+(1/AQ90)),AND($C$64="Yes",$C$78="No",$C$92="No",$C$50="No"),1/((1/AG90)+(1/AL90)),AND($C$64="No",$C$78="No",$C$92="No",$C$50="No"),1/((1/AG90)),AND($C$64="Yes",$C$78="No",$C$92="No",$C$50="Yes"),1/((1/AG90)+(1/AL90)+(1/BA90)), AND($C$64="No",$C$78="No",$C$92="No",$C$50="Yes"),1/((1/AG90)+(1/BA90)), AND($C$64="No",$C$78="Yes",$C$92="No",$C$50="Yes"),1/((1/AG90)+(1/AQ90)+(1/BA90)))} -> 3.2945637 | AB90: =$C$29 -> 0.79935872 | AD90: =1000/(2*PI()*$Z90*$C$41*$C$37*0.000001) -> 3.3492202 | AE90: =2*PI()*$Z90*((0.000000001*$C$39)/$C$41)*1000 -> 0.011780972 | AF90: =($C$38)/$C$41 -> 0.25 | AG90: =SQRT(AF90^(2)+ABS(AD90-AE90)^(2)) -> 3.3467896 | AI90: =1000/(2*PI()*$Z90*$C$69*$C$65*0.000001) -> 221.04853 | AJ90: =2*PI()*$Z90*((0.000000001*$C$67)/$C$69)*1000 -> 0.00042411501 | AK90: =($C$66)/$C$69 -> 0.125 | AL90: =IF($C$64="Yes", SQRT(AK90^(2)+ABS(AI90-AJ90)^(2)), NA()) -> 221.04814 | AN90: =1000/(2*PI()*$Z90*$C$82*$C$79*0.000001) -> 1768.3883 | AO90: =2*PI()*$Z90*((0.000000001*$C$81)/$C$82)*1000 -> 0.033929201 | AP90: =($C$80)/$C$82 -> 10 | AQ90: =IF($C$78="Yes", SQRT(AP90^(2)+ABS(AN90-AO90)^(2)), NA()) -> #N/A | AS90: =1000/(2*PI()*$Z90*$C$97*$C$93*0.000001) -> 26793.761 | AT90: =2*PI()*$Z90*((0.000000001*$C$95)/$C$97)*1000 -> 0.0169646 | AU90: =($C$94)/$C$97 -> 5 | AV90: =IF($C$92="Yes", SQRT(AU90^(2)+ABS(AS90-AT90)^(2)), NA()) -> #N/A | AX90: =1000/(2*PI()*$Z90*$C$55*$C$51*0.000001) -> 4703.1603 | AY90: =2*PI()*$Z90*((0.000000001*$C$53)/$C$55)*1000 -> 0.00042411501 | AZ90: =($C$52)/$C$55 -> 0.125 | BA90: =IF($C$50="Yes", SQRT(AZ90^(2)+ABS(AX90-AY90)^(2)), NA()) -> 4703.1598
Z91: 9500 | AA91: {=_xlfn.IFS(AND($C$64="Yes",$C$78="Yes",$C$92="Yes",$C$50="Yes"),1/((1/AG91)+(1/AL91)+(1/AQ91)+(1/AV91)+(1/BA91)),AND($C$64="Yes",$C$78="Yes",$C$92="Yes",$C$50="No"),1/((1/AG91)+(1/AL91)+(1/AQ91)+(1/AV91)),AND($C$64="Yes",$C$78="Yes",$C$92="No",$C$50="No"),1/((1/AG91)+(1/AL91)+(1/AQ91)),AND($C$64="Yes",$C$78="No",$C$92="No",$C$50="No"),1/((1/AG91)+(1/AL91)),AND($C$64="No",$C$78="No",$C$92="No",$C$50="No"),1/((1/AG91)),AND($C$64="Yes",$C$78="No",$C$92="No",$C$50="Yes"),1/((1/AG91)+(1/AL91)+(1/BA91)), AND($C$64="No",$C$78="No",$C$92="No",$C$50="Yes"),1/((1/AG91)+(1/BA91)), AND($C$64="No",$C$78="Yes",$C$92="No",$C$50="Yes"),1/((1/AG91)+(1/AQ91)+(1/BA91)))} -> 3.1209131 | AB91: =$C$29 -> 0.79935872 | AD91: =1000/(2*PI()*$Z91*$C$41*$C$37*0.000001) -> 3.1729454 | AE91: =2*PI()*$Z91*((0.000000001*$C$39)/$C$41)*1000 -> 0.012435471 | AF91: =($C$38)/$C$41 -> 0.25 | AG91: =SQRT(AF91^(2)+ABS(AD91-AE91)^(2)) -> 3.1703822 | AI91: =1000/(2*PI()*$Z91*$C$69*$C$65*0.000001) -> 209.4144 | AJ91: =2*PI()*$Z91*((0.000000001*$C$67)/$C$69)*1000 -> 0.00044767695 | AK91: =($C$66)/$C$69 -> 0.125 | AL91: =IF($C$64="Yes", SQRT(AK91^(2)+ABS(AI91-AJ91)^(2)), NA()) -> 209.41399 | AN91: =1000/(2*PI()*$Z91*$C$82*$C$79*0.000001) -> 1675.3152 | AO91: =2*PI()*$Z91*((0.000000001*$C$81)/$C$82)*1000 -> 0.035814156 | AP91: =($C$80)/$C$82 -> 10 | AQ91: =IF($C$78="Yes", SQRT(AP91^(2)+ABS(AN91-AO91)^(2)), NA()) -> #N/A | AS91: =1000/(2*PI()*$Z91*$C$97*$C$93*0.000001) -> 25383.563 | AT91: =2*PI()*$Z91*((0.000000001*$C$95)/$C$97)*1000 -> 0.017907078 | AU91: =($C$94)/$C$97 -> 5 | AV91: =IF($C$92="Yes", SQRT(AU91^(2)+ABS(AS91-AT91)^(2)), NA()) -> #N/A | AX91: =1000/(2*PI()*$Z91*$C$55*$C$51*0.000001) -> 4455.6255 | AY91: =2*PI()*$Z91*((0.000000001*$C$53)/$C$55)*1000 -> 0.00044767695 | AZ91: =($C$52)/$C$55 -> 0.125 | BA91: =IF($C$50="Yes", SQRT(AZ91^(2)+ABS(AX91-AY91)^(2)), NA()) -> 4455.6251
B92: Use COUT(MF3)? | C92: No | Z92: 10000 | AA92: {=_xlfn.IFS(AND($C$64="Yes",$C$78="Yes",$C$92="Yes",$C$50="Yes"),1/((1/AG92)+(1/AL92)+(1/AQ92)+(1/AV92)+(1/BA92)),AND($C$64="Yes",$C$78="Yes",$C$92="Yes",$C$50="No"),1/((1/AG92)+(1/AL92)+(1/AQ92)+(1/AV92)),AND($C$64="Yes",$C$78="Yes",$C$92="No",$C$50="No"),1/((1/AG92)+(1/AL92)+(1/AQ92)),AND($C$64="Yes",$C$78="No",$C$92="No",$C$50="No"),1/((1/AG92)+(1/AL92)),AND($C$64="No",$C$78="No",$C$92="No",$C$50="No"),1/((1/AG92)),AND($C$64="Yes",$C$78="No",$C$92="No",$C$50="Yes"),1/((1/AG92)+(1/AL92)+(1/BA92)), AND($C$64="No",$C$78="No",$C$92="No",$C$50="Yes"),1/((1/AG92)+(1/BA92)), AND($C$64="No",$C$78="Yes",$C$92="No",$C$50="Yes"),1/((1/AG92)+(1/AQ92)+(1/BA92)))} -> 2.9646151 | AB92: =$C$29 -> 0.79935872 | AD92: =1000/(2*PI()*$Z92*$C$41*$C$37*0.000001) -> 3.0142982 | AE92: =2*PI()*$Z92*((0.000000001*$C$39)/$C$41)*1000 -> 0.013089969 | AF92: =($C$38)/$C$41 -> 0.25 | AG92: =SQRT(AF92^(2)+ABS(AD92-AE92)^(2)) -> 3.0116027 | AI92: =1000/(2*PI()*$Z92*$C$69*$C$65*0.000001) -> 198.94368 | AJ92: =2*PI()*$Z92*((0.000000001*$C$67)/$C$69)*1000 -> 0.0004712389 | AK92: =($C$66)/$C$69 -> 0.125 | AL92: =IF($C$64="Yes", SQRT(AK92^(2)+ABS(AI92-AJ92)^(2)), NA()) -> 198.94325 | AN92: =1000/(2*PI()*$Z92*$C$82*$C$79*0.000001) -> 1591.5494 | AO92: =2*PI()*$Z92*((0.000000001*$C$81)/$C$82)*1000 -> 0.037699112 | AP92: =($C$80)/$C$82 -> 10 | AQ92: =IF($C$78="Yes", SQRT(AP92^(2)+ABS(AN92-AO92)^(2)), NA()) -> #N/A | AS92: =1000/(2*PI()*$Z92*$C$97*$C$93*0.000001) -> 24114.385 | AT92: =2*PI()*$Z92*((0.000000001*$C$95)/$C$97)*1000 -> 0.018849556 | AU92: =($C$94)/$C$97 -> 5 | AV92: =IF($C$92="Yes", SQRT(AU92^(2)+ABS(AS92-AT92)^(2)), NA()) -> #N/A | AX92: =1000/(2*PI()*$Z92*$C$55*$C$51*0.000001) -> 4232.8442 | AY92: =2*PI()*$Z92*((0.000000001*$C$53)/$C$55)*1000 -> 0.0004712389 | AZ92: =($C$52)/$C$55 -> 0.125 | BA92: =IF($C$50="Yes", SQRT(AZ92^(2)+ABS(AX92-AY92)^(2)), NA()) -> 4232.8438
B93: Mid Frequency 3 Capacitor Value (COUT(MF3)) | C93: 0.33 | D93: µF | Z93: 15000 | AA93: {=_xlfn.IFS(AND($C$64="Yes",$C$78="Yes",$C$92="Yes",$C$50="Yes"),1/((1/AG93)+(1/AL93)+(1/AQ93)+(1/AV93)+(1/BA93)),AND($C$64="Yes",$C$78="Yes",$C$92="Yes",$C$50="No"),1/((1/AG93)+(1/AL93)+(1/AQ93)+(1/AV93)),AND($C$64="Yes",$C$78="Yes",$C$92="No",$C$50="No"),1/((1/AG93)+(1/AL93)+(1/AQ93)),AND($C$64="Yes",$C$78="No",$C$92="No",$C$50="No"),1/((1/AG93)+(1/AL93)),AND($C$64="No",$C$78="No",$C$92="No",$C$50="No"),1/((1/AG93)),AND($C$64="Yes",$C$78="No",$C$92="No",$C$50="Yes"),1/((1/AG93)+(1/AL93)+(1/BA93)), AND($C$64="No",$C$78="No",$C$92="No",$C$50="Yes"),1/((1/AG93)+(1/BA93)), AND($C$64="No",$C$78="Yes",$C$92="No",$C$50="Yes"),1/((1/AG93)+(1/AQ93)+(1/BA93)))} -> 1.9742828 | AB93: =$C$29 -> 0.79935872 | AD93: =1000/(2*PI()*$Z93*$C$41*$C$37*0.000001) -> 2.0095321 | AE93: =2*PI()*$Z93*((0.000000001*$C$39)/$C$41)*1000 -> 0.019634954 | AF93: =($C$38)/$C$41 -> 0.25 | AG93: =SQRT(AF93^(2)+ABS(AD93-AE93)^(2)) -> 2.00554 | AI93: =1000/(2*PI()*$Z93*$C$69*$C$65*0.000001) -> 132.62912 | AJ93: =2*PI()*$Z93*((0.000000001*$C$67)/$C$69)*1000 -> 0.00070685835 | AK93: =($C$66)/$C$69 -> 0.125 | AL93: =IF($C$64="Yes", SQRT(AK93^(2)+ABS(AI93-AJ93)^(2)), NA()) -> 132.62847 | AN93: =1000/(2*PI()*$Z93*$C$82*$C$79*0.000001) -> 1061.033 | AO93: =2*PI()*$Z93*((0.000000001*$C$81)/$C$82)*1000 -> 0.056548668 | AP93: =($C$80)/$C$82 -> 10 | AQ93: =IF($C$78="Yes", SQRT(AP93^(2)+ABS(AN93-AO93)^(2)), NA()) -> #N/A | AS93: =1000/(2*PI()*$Z93*$C$97*$C$93*0.000001) -> 16076.257 | AT93: =2*PI()*$Z93*((0.000000001*$C$95)/$C$97)*1000 -> 0.028274334 | AU93: =($C$94)/$C$97 -> 5 | AV93: =IF($C$92="Yes", SQRT(AU93^(2)+ABS(AS93-AT93)^(2)), NA()) -> #N/A | AX93: =1000/(2*PI()*$Z93*$C$55*$C$51*0.000001) -> 2821.8962 | AY93: =2*PI()*$Z93*((0.000000001*$C$53)/$C$55)*1000 -> 0.00070685835 | AZ93: =($C$52)/$C$55 -> 0.125 | BA93: =IF($C$50="Yes", SQRT(AZ93^(2)+ABS(AX93-AY93)^(2)), NA()) -> 2821.8955
B94: Mid Frequency 3 Capacitor ESR | C94: 10 | D94: mΩ | Z94: 20000 | AA94: {=_xlfn.IFS(AND($C$64="Yes",$C$78="Yes",$C$92="Yes",$C$50="Yes"),1/((1/AG94)+(1/AL94)+(1/AQ94)+(1/AV94)+(1/BA94)),AND($C$64="Yes",$C$78="Yes",$C$92="Yes",$C$50="No"),1/((1/AG94)+(1/AL94)+(1/AQ94)+(1/AV94)),AND($C$64="Yes",$C$78="Yes",$C$92="No",$C$50="No"),1/((1/AG94)+(1/AL94)+(1/AQ94)),AND($C$64="Yes",$C$78="No",$C$92="No",$C$50="No"),1/((1/AG94)+(1/AL94)),AND($C$64="No",$C$78="No",$C$92="No",$C$50="No"),1/((1/AG94)),AND($C$64="Yes",$C$78="No",$C$92="No",$C$50="Yes"),1/((1/AG94)+(1/AL94)+(1/BA94)), AND($C$64="No",$C$78="No",$C$92="No",$C$50="Yes"),1/((1/AG94)+(1/BA94)), AND($C$64="No",$C$78="Yes",$C$92="No",$C$50="Yes"),1/((1/AG94)+(1/AQ94)+(1/BA94)))} -> 1.478548 | AB94: =$C$29 -> 0.79935872 | AD94: =1000/(2*PI()*$Z94*$C$41*$C$37*0.000001) -> 1.5071491 | AE94: =2*PI()*$Z94*((0.000000001*$C$39)/$C$41)*1000 -> 0.026179939 | AF94: =($C$38)/$C$41 -> 0.25 | AG94: =SQRT(AF94^(2)+ABS(AD94-AE94)^(2)) -> 1.501922 | AI94: =1000/(2*PI()*$Z94*$C$69*$C$65*0.000001) -> 99.471839 | AJ94: =2*PI()*$Z94*((0.000000001*$C$67)/$C$69)*1000 -> 0.0009424778 | AK94: =($C$66)/$C$69 -> 0.125 | AL94: =IF($C$64="Yes", SQRT(AK94^(2)+ABS(AI94-AJ94)^(2)), NA()) -> 99.470975 | AN94: =1000/(2*PI()*$Z94*$C$82*$C$79*0.000001) -> 795.77472 | AO94: =2*PI()*$Z94*((0.000000001*$C$81)/$C$82)*1000 -> 0.075398224 | AP94: =($C$80)/$C$82 -> 10 | AQ94: =IF($C$78="Yes", SQRT(AP94^(2)+ABS(AN94-AO94)^(2)), NA()) -> #N/A | AS94: =1000/(2*PI()*$Z94*$C$97*$C$93*0.000001) -> 12057.193 | AT94: =2*PI()*$Z94*((0.000000001*$C$95)/$C$97)*1000 -> 0.037699112 | AU94: =($C$94)/$C$97 -> 5 | AV94: =IF($C$92="Yes", SQRT(AU94^(2)+ABS(AS94-AT94)^(2)), NA()) -> #N/A | AX94: =1000/(2*PI()*$Z94*$C$55*$C$51*0.000001) -> 2116.4221 | AY94: =2*PI()*$Z94*((0.000000001*$C$53)/$C$55)*1000 -> 0.0009424778 | AZ94: =($C$52)/$C$55 -> 0.125 | BA94: =IF($C$50="Yes", SQRT(AZ94^(2)+ABS(AX94-AY94)^(2)), NA()) -> 2116.4212
B95: Mid Frequency 3 Capacitor ESL | C95: 0.6 | D95: nH | Z95: 25000 | AA95: {=_xlfn.IFS(AND($C$64="Yes",$C$78="Yes",$C$92="Yes",$C$50="Yes"),1/((1/AG95)+(1/AL95)+(1/AQ95)+(1/AV95)+(1/BA95)),AND($C$64="Yes",$C$78="Yes",$C$92="Yes",$C$50="No"),1/((1/AG95)+(1/AL95)+(1/AQ95)+(1/AV95)),AND($C$64="Yes",$C$78="Yes",$C$92="No",$C$50="No"),1/((1/AG95)+(1/AL95)+(1/AQ95)),AND($C$64="Yes",$C$78="No",$C$92="No",$C$50="No"),1/((1/AG95)+(1/AL95)),AND($C$64="No",$C$78="No",$C$92="No",$C$50="No"),1/((1/AG95)),AND($C$64="Yes",$C$78="No",$C$92="No",$C$50="Yes"),1/((1/AG95)+(1/AL95)+(1/BA95)), AND($C$64="No",$C$78="No",$C$92="No",$C$50="Yes"),1/((1/AG95)+(1/BA95)), AND($C$64="No",$C$78="Yes",$C$92="No",$C$50="Yes"),1/((1/AG95)+(1/AQ95)+(1/BA95)))} -> 1.1807082 | AB95: =$C$29 -> 0.79935872 | AD95: =1000/(2*PI()*$Z95*$C$41*$C$37*0.000001) -> 1.2057193 | AE95: =2*PI()*$Z95*((0.000000001*$C$39)/$C$41)*1000 -> 0.032724923 | AF95: =($C$38)/$C$41 -> 0.25 | AG95: =SQRT(AF95^(2)+ABS(AD95-AE95)^(2)) -> 1.1993397 | AI95: =1000/(2*PI()*$Z95*$C$69*$C$65*0.000001) -> 79.577472 | AJ95: =2*PI()*$Z95*((0.000000001*$C$67)/$C$69)*1000 -> 0.0011780972 | AK95: =($C$66)/$C$69 -> 0.125 | AL95: =IF($C$64="Yes", SQRT(AK95^(2)+ABS(AI95-AJ95)^(2)), NA()) -> 79.576392 | AN95: =1000/(2*PI()*$Z95*$C$82*$C$79*0.000001) -> 636.61977 | AO95: =2*PI()*$Z95*((0.000000001*$C$81)/$C$82)*1000 -> 0.09424778 | AP95: =($C$80)/$C$82 -> 10 | AQ95: =IF($C$78="Yes", SQRT(AP95^(2)+ABS(AN95-AO95)^(2)), NA()) -> #N/A | AS95: =1000/(2*PI()*$Z95*$C$97*$C$93*0.000001) -> 9645.7541 | AT95: =2*PI()*$Z95*((0.000000001*$C$95)/$C$97)*1000 -> 0.04712389 | AU95: =($C$94)/$C$97 -> 5 | AV95: =IF($C$92="Yes", SQRT(AU95^(2)+ABS(AS95-AT95)^(2)), NA()) -> #N/A | AX95: =1000/(2*PI()*$Z95*$C$55*$C$51*0.000001) -> 1693.1377 | AY95: =2*PI()*$Z95*((0.000000001*$C$53)/$C$55)*1000 -> 0.0011780972 | AZ95: =($C$52)/$C$55 -> 0.125 | BA95: =IF($C$50="Yes", SQRT(AZ95^(2)+ABS(AX95-AY95)^(2)), NA()) -> 1693.1365
B96: Quantity per Phase | C96: 1 | Z96: 30000 | AA96: {=_xlfn.IFS(AND($C$64="Yes",$C$78="Yes",$C$92="Yes",$C$50="Yes"),1/((1/AG96)+(1/AL96)+(1/AQ96)+(1/AV96)+(1/BA96)),AND($C$64="Yes",$C$78="Yes",$C$92="Yes",$C$50="No"),1/((1/AG96)+(1/AL96)+(1/AQ96)+(1/AV96)),AND($C$64="Yes",$C$78="Yes",$C$92="No",$C$50="No"),1/((1/AG96)+(1/AL96)+(1/AQ96)),AND($C$64="Yes",$C$78="No",$C$92="No",$C$50="No"),1/((1/AG96)+(1/AL96)),AND($C$64="No",$C$78="No",$C$92="No",$C$50="No"),1/((1/AG96)),AND($C$64="Yes",$C$78="No",$C$92="No",$C$50="Yes"),1/((1/AG96)+(1/AL96)+(1/BA96)), AND($C$64="No",$C$78="No",$C$92="No",$C$50="Yes"),1/((1/AG96)+(1/BA96)), AND($C$64="No",$C$78="Yes",$C$92="No",$C$50="Yes"),1/((1/AG96)+(1/AQ96)+(1/BA96)))} -> 0.98187659 | AB96: =$C$29 -> 0.79935872 | AD96: =1000/(2*PI()*$Z96*$C$41*$C$37*0.000001) -> 1.0047661 | AE96: =2*PI()*$Z96*((0.000000001*$C$39)/$C$41)*1000 -> 0.039269908 | AF96: =($C$38)/$C$41 -> 0.25 | AG96: =SQRT(AF96^(2)+ABS(AD96-AE96)^(2)) -> 0.99733786 | AI96: =1000/(2*PI()*$Z96*$C$69*$C$65*0.000001) -> 66.31456 | AJ96: =2*PI()*$Z96*((0.000000001*$C$67)/$C$69)*1000 -> 0.0014137167 | AK96: =($C$66)/$C$69 -> 0.125 | AL96: =IF($C$64="Yes", SQRT(AK96^(2)+ABS(AI96-AJ96)^(2)), NA()) -> 66.313264 | AN96: =1000/(2*PI()*$Z96*$C$82*$C$79*0.000001) -> 530.51648 | AO96: =2*PI()*$Z96*((0.000000001*$C$81)/$C$82)*1000 -> 0.11309734 | AP96: =($C$80)/$C$82 -> 10 | AQ96: =IF($C$78="Yes", SQRT(AP96^(2)+ABS(AN96-AO96)^(2)), NA()) -> #N/A | AS96: =1000/(2*PI()*$Z96*$C$97*$C$93*0.000001) -> 8038.1284 | AT96: =2*PI()*$Z96*((0.000000001*$C$95)/$C$97)*1000 -> 0.056548668 | AU96: =($C$94)/$C$97 -> 5 | AV96: =IF($C$92="Yes", SQRT(AU96^(2)+ABS(AS96-AT96)^(2)), NA()) -> #N/A | AX96: =1000/(2*PI()*$Z96*$C$55*$C$51*0.000001) -> 1410.9481 | AY96: =2*PI()*$Z96*((0.000000001*$C$53)/$C$55)*1000 -> 0.0014137167 | AZ96: =($C$52)/$C$55 -> 0.125 | BA96: =IF($C$50="Yes", SQRT(AZ96^(2)+ABS(AX96-AY96)^(2)), NA()) -> 1410.9467
B97: Total Quantity | C97: =C96*$C$32 -> 2 | Z97: 35000 | AA97: {=_xlfn.IFS(AND($C$64="Yes",$C$78="Yes",$C$92="Yes",$C$50="Yes"),1/((1/AG97)+(1/AL97)+(1/AQ97)+(1/AV97)+(1/BA97)),AND($C$64="Yes",$C$78="Yes",$C$92="Yes",$C$50="No"),1/((1/AG97)+(1/AL97)+(1/AQ97)+(1/AV97)),AND($C$64="Yes",$C$78="Yes",$C$92="No",$C$50="No"),1/((1/AG97)+(1/AL97)+(1/AQ97)),AND($C$64="Yes",$C$78="No",$C$92="No",$C$50="No"),1/((1/AG97)+(1/AL97)),AND($C$64="No",$C$78="No",$C$92="No",$C$50="No"),1/((1/AG97)),AND($C$64="Yes",$C$78="No",$C$92="No",$C$50="Yes"),1/((1/AG97)+(1/AL97)+(1/BA97)), AND($C$64="No",$C$78="No",$C$92="No",$C$50="Yes"),1/((1/AG97)+(1/BA97)), AND($C$64="No",$C$78="Yes",$C$92="No",$C$50="Yes"),1/((1/AG97)+(1/AQ97)+(1/BA97)))} -> 0.83968504 | AB97: =$C$29 -> 0.79935872 | AD97: =1000/(2*PI()*$Z97*$C$41*$C$37*0.000001) -> 0.86122805 | AE97: =2*PI()*$Z97*((0.000000001*$C$39)/$C$41)*1000 -> 0.045814893 | AF97: =($C$38)/$C$41 -> 0.25 | AG97: =SQRT(AF97^(2)+ABS(AD97-AE97)^(2)) -> 0.85287667 | AI97: =1000/(2*PI()*$Z97*$C$69*$C$65*0.000001) -> 56.841051 | AJ97: =2*PI()*$Z97*((0.000000001*$C$67)/$C$69)*1000 -> 0.0016493361 | AK97: =($C$66)/$C$69 -> 0.125 | AL97: =IF($C$64="Yes", SQRT(AK97^(2)+ABS(AI97-AJ97)^(2)), NA()) -> 56.839539 | AN97: =1000/(2*PI()*$Z97*$C$82*$C$79*0.000001) -> 454.72841 | AO97: =2*PI()*$Z97*((0.000000001*$C$81)/$C$82)*1000 -> 0.13194689 | AP97: =($C$80)/$C$82 -> 10 | AQ97: =IF($C$78="Yes", SQRT(AP97^(2)+ABS(AN97-AO97)^(2)), NA()) -> #N/A | AS97: =1000/(2*PI()*$Z97*$C$97*$C$93*0.000001) -> 6889.8244 | AT97: =2*PI()*$Z97*((0.000000001*$C$95)/$C$97)*1000 -> 0.065973446 | AU97: =($C$94)/$C$97 -> 5 | AV97: =IF($C$92="Yes", SQRT(AU97^(2)+ABS(AS97-AT97)^(2)), NA()) -> #N/A | AX97: =1000/(2*PI()*$Z97*$C$55*$C$51*0.000001) -> 1209.3841 | AY97: =2*PI()*$Z97*((0.000000001*$C$53)/$C$55)*1000 -> 0.0016493361 | AZ97: =($C$52)/$C$55 -> 0.125 | BA97: =IF($C$50="Yes", SQRT(AZ97^(2)+ABS(AX97-AY97)^(2)), NA()) -> 1209.3824
B98: Total Mid Frequency 3 Capacitance (COUT(TOTAL, MF3)) | C98: =C93*$C$97 -> 0.66 | D98: µF | Z98: 40000 | AA98: {=_xlfn.IFS(AND($C$64="Yes",$C$78="Yes",$C$92="Yes",$C$50="Yes"),1/((1/AG98)+(1/AL98)+(1/AQ98)+(1/AV98)+(1/BA98)),AND($C$64="Yes",$C$78="Yes",$C$92="Yes",$C$50="No"),1/((1/AG98)+(1/AL98)+(1/AQ98)+(1/AV98)),AND($C$64="Yes",$C$78="Yes",$C$92="No",$C$50="No"),1/((1/AG98)+(1/AL98)+(1/AQ98)),AND($C$64="Yes",$C$78="No",$C$92="No",$C$50="No"),1/((1/AG98)+(1/AL98)),AND($C$64="No",$C$78="No",$C$92="No",$C$50="No"),1/((1/AG98)),AND($C$64="Yes",$C$78="No",$C$92="No",$C$50="Yes"),1/((1/AG98)+(1/AL98)+(1/BA98)), AND($C$64="No",$C$78="No",$C$92="No",$C$50="Yes"),1/((1/AG98)+(1/BA98)), AND($C$64="No",$C$78="Yes",$C$92="No",$C$50="Yes"),1/((1/AG98)+(1/AQ98)+(1/BA98)))} -> 0.73296048 | AB98: =$C$29 -> 0.79935872 | AD98: =1000/(2*PI()*$Z98*$C$41*$C$37*0.000001) -> 0.75357454 | AE98: =2*PI()*$Z98*((0.000000001*$C$39)/$C$41)*1000 -> 0.052359878 | AF98: =($C$38)/$C$41 -> 0.25 | AG98: =SQRT(AF98^(2)+ABS(AD98-AE98)^(2)) -> 0.74444745 | AI98: =1000/(2*PI()*$Z98*$C$69*$C$65*0.000001) -> 49.73592 | AJ98: =2*PI()*$Z98*((0.000000001*$C$67)/$C$69)*1000 -> 0.0018849556 | AK98: =($C$66)/$C$69 -> 0.125 | AL98: =IF($C$64="Yes", SQRT(AK98^(2)+ABS(AI98-AJ98)^(2)), NA()) -> 49.734192 | AN98: =1000/(2*PI()*$Z98*$C$82*$C$79*0.000001) -> 397.88736 | AO98: =2*PI()*$Z98*((0.000000001*$C$81)/$C$82)*1000 -> 0.15079645 | AP98: =($C$80)/$C$82 -> 10 | AQ98: =IF($C$78="Yes", SQRT(AP98^(2)+ABS(AN98-AO98)^(2)), NA()) -> #N/A | AS98: =1000/(2*PI()*$Z98*$C$97*$C$93*0.000001) -> 6028.5963 | AT98: =2*PI()*$Z98*((0.000000001*$C$95)/$C$97)*1000 -> 0.075398224 | AU98: =($C$94)/$C$97 -> 5 | AV98: =IF($C$92="Yes", SQRT(AU98^(2)+ABS(AS98-AT98)^(2)), NA()) -> #N/A | AX98: =1000/(2*PI()*$Z98*$C$55*$C$51*0.000001) -> 1058.2111 | AY98: =2*PI()*$Z98*((0.000000001*$C$53)/$C$55)*1000 -> 0.0018849556 | AZ98: =($C$52)/$C$55 -> 0.125 | BA98: =IF($C$50="Yes", SQRT(AZ98^(2)+ABS(AX98-AY98)^(2)), NA()) -> 1058.2092
B99: Total Mid Frequency 3 Capacitance ESR | C99: =C94/$C$97 -> 5 | D99: mΩ | Z99: 45000 | AA99: {=_xlfn.IFS(AND($C$64="Yes",$C$78="Yes",$C$92="Yes",$C$50="Yes"),1/((1/AG99)+(1/AL99)+(1/AQ99)+(1/AV99)+(1/BA99)),AND($C$64="Yes",$C$78="Yes",$C$92="Yes",$C$50="No"),1/((1/AG99)+(1/AL99)+(1/AQ99)+(1/AV99)),AND($C$64="Yes",$C$78="Yes",$C$92="No",$C$50="No"),1/((1/AG99)+(1/AL99)+(1/AQ99)),AND($C$64="Yes",$C$78="No",$C$92="No",$C$50="No"),1/((1/AG99)+(1/AL99)),AND($C$64="No",$C$78="No",$C$92="No",$C$50="No"),1/((1/AG99)),AND($C$64="Yes",$C$78="No",$C$92="No",$C$50="Yes"),1/((1/AG99)+(1/AL99)+(1/BA99)), AND($C$64="No",$C$78="No",$C$92="No",$C$50="Yes"),1/((1/AG99)+(1/BA99)), AND($C$64="No",$C$78="Yes",$C$92="No",$C$50="Yes"),1/((1/AG99)+(1/AQ99)+(1/BA99)))} -> 0.64994992 | AB99: =$C$29 -> 0.79935872 | AD99: =1000/(2*PI()*$Z99*$C$41*$C$37*0.000001) -> 0.66984404 | AE99: =2*PI()*$Z99*((0.000000001*$C$39)/$C$41)*1000 -> 0.058904862 | AF99: =($C$38)/$C$41 -> 0.25 | AG99: =SQRT(AF99^(2)+ABS(AD99-AE99)^(2)) -> 0.66011111 | AI99: =1000/(2*PI()*$Z99*$C$69*$C$65*0.000001) -> 44.209706 | AJ99: =2*PI()*$Z99*((0.000000001*$C$67)/$C$69)*1000 -> 0.002120575 | AK99: =($C$66)/$C$69 -> 0.125 | AL99: =IF($C$64="Yes", SQRT(AK99^(2)+ABS(AI99-AJ99)^(2)), NA()) -> 44.207763 | AN99: =1000/(2*PI()*$Z99*$C$82*$C$79*0.000001) -> 353.67765 | AO99: =2*PI()*$Z99*((0.000000001*$C$81)/$C$82)*1000 -> 0.169646 | AP99: =($C$80)/$C$82 -> 10 | AQ99: =IF($C$78="Yes", SQRT(AP99^(2)+ABS(AN99-AO99)^(2)), NA()) -> #N/A | AS99: =1000/(2*PI()*$Z99*$C$97*$C$93*0.000001) -> 5358.7523 | AT99: =2*PI()*$Z99*((0.000000001*$C$95)/$C$97)*1000 -> 0.084823002 | AU99: =($C$94)/$C$97 -> 5 | AV99: =IF($C$92="Yes", SQRT(AU99^(2)+ABS(AS99-AT99)^(2)), NA()) -> #N/A | AX99: =1000/(2*PI()*$Z99*$C$55*$C$51*0.000001) -> 940.63205 | AY99: =2*PI()*$Z99*((0.000000001*$C$53)/$C$55)*1000 -> 0.002120575 | AZ99: =($C$52)/$C$55 -> 0.125 | BA99: =IF($C$50="Yes", SQRT(AZ99^(2)+ABS(AX99-AY99)^(2)), NA()) -> 940.62994
B100: Total Mid Frequency 3 Capacitance ESL | C100: =C95/$C$97 -> 0.3 | D100: nH | Z100: 50000 | AA100: {=_xlfn.IFS(AND($C$64="Yes",$C$78="Yes",$C$92="Yes",$C$50="Yes"),1/((1/AG100)+(1/AL100)+(1/AQ100)+(1/AV100)+(1/BA100)),AND($C$64="Yes",$C$78="Yes",$C$92="Yes",$C$50="No"),1/((1/AG100)+(1/AL100)+(1/AQ100)+(1/AV100)),AND($C$64="Yes",$C$78="Yes",$C$92="No",$C$50="No"),1/((1/AG100)+(1/AL100)+(1/AQ100)),AND($C$64="Yes",$C$78="No",$C$92="No",$C$50="No"),1/((1/AG100)+(1/AL100)),AND($C$64="No",$C$78="No",$C$92="No",$C$50="No"),1/((1/AG100)),AND($C$64="Yes",$C$78="No",$C$92="No",$C$50="Yes"),1/((1/AG100)+(1/AL100)+(1/BA100)), AND($C$64="No",$C$78="No",$C$92="No",$C$50="Yes"),1/((1/AG100)+(1/BA100)), AND($C$64="No",$C$78="Yes",$C$92="No",$C$50="Yes"),1/((1/AG100)+(1/AQ100)+(1/BA100)))} -> 0.58361064 | AB100: =$C$29 -> 0.79935872 | AD100: =1000/(2*PI()*$Z100*$C$41*$C$37*0.000001) -> 0.60285963 | AE100: =2*PI()*$Z100*((0.000000001*$C$39)/$C$41)*1000 -> 0.065449847 | AF100: =($C$38)/$C$41 -> 0.25 | AG100: =SQRT(AF100^(2)+ABS(AD100-AE100)^(2)) -> 0.59271349 | AI100: =1000/(2*PI()*$Z100*$C$69*$C$65*0.000001) -> 39.788736 | AJ100: =2*PI()*$Z100*((0.000000001*$C$67)/$C$69)*1000 -> 0.0023561945 | AK100: =($C$66)/$C$69 -> 0.125 | AL100: =IF($C$64="Yes", SQRT(AK100^(2)+ABS(AI100-AJ100)^(2)), NA()) -> 39.786576 | AN100: =1000/(2*PI()*$Z100*$C$82*$C$79*0.000001) -> 318.30989 | AO100: =2*PI()*$Z100*((0.000000001*$C$81)/$C$82)*1000 -> 0.18849556 | AP100: =($C$80)/$C$82 -> 10 | AQ100: =IF($C$78="Yes", SQRT(AP100^(2)+ABS(AN100-AO100)^(2)), NA()) -> #N/A | AS100: =1000/(2*PI()*$Z100*$C$97*$C$93*0.000001) -> 4822.8771 | AT100: =2*PI()*$Z100*((0.000000001*$C$95)/$C$97)*1000 -> 0.09424778 | AU100: =($C$94)/$C$97 -> 5 | AV100: =IF($C$92="Yes", SQRT(AU100^(2)+ABS(AS100-AT100)^(2)), NA()) -> #N/A | AX100: =1000/(2*PI()*$Z100*$C$55*$C$51*0.000001) -> 846.56885 | AY100: =2*PI()*$Z100*((0.000000001*$C$53)/$C$55)*1000 -> 0.0023561945 | AZ100: =($C$52)/$C$55 -> 0.125 | BA100: =IF($C$50="Yes", SQRT(AZ100^(2)+ABS(AX100-AY100)^(2)), NA()) -> 846.5665
B101: Mid Frequency 3 Capacitor Resonance | C101: =(1/(2*PI()*(SQRT($C$93*0.000001*$C$95*0.000000001))))*0.000001 -> 11.310649 | D101: MHz | Z101: 55000 | AA101: {=_xlfn.IFS(AND($C$64="Yes",$C$78="Yes",$C$92="Yes",$C$50="Yes"),1/((1/AG101)+(1/AL101)+(1/AQ101)+(1/AV101)+(1/BA101)),AND($C$64="Yes",$C$78="Yes",$C$92="Yes",$C$50="No"),1/((1/AG101)+(1/AL101)+(1/AQ101)+(1/AV101)),AND($C$64="Yes",$C$78="Yes",$C$92="No",$C$50="No"),1/((1/AG101)+(1/AL101)+(1/AQ101)),AND($C$64="Yes",$C$78="No",$C$92="No",$C$50="No"),1/((1/AG101)+(1/AL101)),AND($C$64="No",$C$78="No",$C$92="No",$C$50="No"),1/((1/AG101)),AND($C$64="Yes",$C$78="No",$C$92="No",$C$50="Yes"),1/((1/AG101)+(1/AL101)+(1/BA101)), AND($C$64="No",$C$78="No",$C$92="No",$C$50="Yes"),1/((1/AG101)+(1/BA101)), AND($C$64="No",$C$78="Yes",$C$92="No",$C$50="Yes"),1/((1/AG101)+(1/AQ101)+(1/BA101)))} -> 0.52946916 | AB101: =$C$29 -> 0.79935872 | AD101: =1000/(2*PI()*$Z101*$C$41*$C$37*0.000001) -> 0.54805421 | AE101: =2*PI()*$Z101*((0.000000001*$C$39)/$C$41)*1000 -> 0.071994832 | AF101: =($C$38)/$C$41 -> 0.25 | AG101: =SQRT(AF101^(2)+ABS(AD101-AE101)^(2)) -> 0.53771045 | AI101: =1000/(2*PI()*$Z101*$C$69*$C$65*0.000001) -> 36.171578 | AJ101: =2*PI()*$Z101*((0.000000001*$C$67)/$C$69)*1000 -> 0.0025918139 | AK101: =($C$66)/$C$69 -> 0.125 | AL101: =IF($C$64="Yes", SQRT(AK101^(2)+ABS(AI101-AJ101)^(2)), NA()) -> 36.169202 | AN101: =1000/(2*PI()*$Z101*$C$82*$C$79*0.000001) -> 289.37262 | AO101: =2*PI()*$Z101*((0.000000001*$C$81)/$C$82)*1000 -> 0.20734512 | AP101: =($C$80)/$C$82 -> 10 | AQ101: =IF($C$78="Yes", SQRT(AP101^(2)+ABS(AN101-AO101)^(2)), NA()) -> #N/A | AS101: =1000/(2*PI()*$Z101*$C$97*$C$93*0.000001) -> 4384.4337 | AT101: =2*PI()*$Z101*((0.000000001*$C$95)/$C$97)*1000 -> 0.10367256 | AU101: =($C$94)/$C$97 -> 5 | AV101: =IF($C$92="Yes", SQRT(AU101^(2)+ABS(AS101-AT101)^(2)), NA()) -> #N/A | AX101: =1000/(2*PI()*$Z101*$C$55*$C$51*0.000001) -> 769.60804 | AY101: =2*PI()*$Z101*((0.000000001*$C$53)/$C$55)*1000 -> 0.0025918139 | AZ101: =($C$52)/$C$55 -> 0.125 | BA101: =IF($C$50="Yes", SQRT(AZ101^(2)+ABS(AX101-AY101)^(2)), NA()) -> 769.60546
B102: Total MF3 Capacitor Capacitive Reactance @fSW | C102: =1000/(2*PI()*$C$33*1000*C98*0.000001) -> 482.28771 | D102: mΩ | Z102: 60000 | AA102: {=_xlfn.IFS(AND($C$64="Yes",$C$78="Yes",$C$92="Yes",$C$50="Yes"),1/((1/AG102)+(1/AL102)+(1/AQ102)+(1/AV102)+(1/BA102)),AND($C$64="Yes",$C$78="Yes",$C$92="Yes",$C$50="No"),1/((1/AG102)+(1/AL102)+(1/AQ102)+(1/AV102)),AND($C$64="Yes",$C$78="Yes",$C$92="No",$C$50="No"),1/((1/AG102)+(1/AL102)+(1/AQ102)),AND($C$64="Yes",$C$78="No",$C$92="No",$C$50="No"),1/((1/AG102)+(1/AL102)),AND($C$64="No",$C$78="No",$C$92="No",$C$50="No"),1/((1/AG102)),AND($C$64="Yes",$C$78="No",$C$92="No",$C$50="Yes"),1/((1/AG102)+(1/AL102)+(1/BA102)), AND($C$64="No",$C$78="No",$C$92="No",$C$50="Yes"),1/((1/AG102)+(1/BA102)), AND($C$64="No",$C$78="Yes",$C$92="No",$C$50="Yes"),1/((1/AG102)+(1/AQ102)+(1/BA102)))} -> 0.48455068 | AB102: =$C$29 -> 0.79935872 | AD102: =1000/(2*PI()*$Z102*$C$41*$C$37*0.000001) -> 0.50238303 | AE102: =2*PI()*$Z102*((0.000000001*$C$39)/$C$41)*1000 -> 0.078539816 | AF102: =($C$38)/$C$41 -> 0.25 | AG102: =SQRT(AF102^(2)+ABS(AD102-AE102)^(2)) -> 0.49208035 | AI102: =1000/(2*PI()*$Z102*$C$69*$C$65*0.000001) -> 33.15728 | AJ102: =2*PI()*$Z102*((0.000000001*$C$67)/$C$69)*1000 -> 0.0028274334 | AK102: =($C$66)/$C$69 -> 0.125 | AL102: =IF($C$64="Yes", SQRT(AK102^(2)+ABS(AI102-AJ102)^(2)), NA()) -> 33.154688 | AN102: =1000/(2*PI()*$Z102*$C$82*$C$79*0.000001) -> 265.25824 | AO102: =2*PI()*$Z102*((0.000000001*$C$81)/$C$82)*1000 -> 0.22619467 | AP102: =($C$80)/$C$82 -> 10 | AQ102: =IF($C$78="Yes", SQRT(AP102^(2)+ABS(AN102-AO102)^(2)), NA()) -> #N/A | AS102: =1000/(2*PI()*$Z102*$C$97*$C$93*0.000001) -> 4019.0642 | AT102: =2*PI()*$Z102*((0.000000001*$C$95)/$C$97)*1000 -> 0.11309734 | AU102: =($C$94)/$C$97 -> 5 | AV102: =IF($C$92="Yes", SQRT(AU102^(2)+ABS(AS102-AT102)^(2)), NA()) -> #N/A | AX102: =1000/(2*PI()*$Z102*$C$55*$C$51*0.000001) -> 705.47404 | AY102: =2*PI()*$Z102*((0.000000001*$C$53)/$C$55)*1000 -> 0.0028274334 | AZ102: =($C$52)/$C$55 -> 0.125 | BA102: =IF($C$50="Yes", SQRT(AZ102^(2)+ABS(AX102-AY102)^(2)), NA()) -> 705.47122
B103: Total MF3 Capacitor ESL Reactance @fSW | C103: =2*PI()*C100*0.000000001*$C$33*1000*1000 -> 0.9424778 | D103: mΩ | Z103: 65000 | AA103: {=_xlfn.IFS(AND($C$64="Yes",$C$78="Yes",$C$92="Yes",$C$50="Yes"),1/((1/AG103)+(1/AL103)+(1/AQ103)+(1/AV103)+(1/BA103)),AND($C$64="Yes",$C$78="Yes",$C$92="Yes",$C$50="No"),1/((1/AG103)+(1/AL103)+(1/AQ103)+(1/AV103)),AND($C$64="Yes",$C$78="Yes",$C$92="No",$C$50="No"),1/((1/AG103)+(1/AL103)+(1/AQ103)),AND($C$64="Yes",$C$78="No",$C$92="No",$C$50="No"),1/((1/AG103)+(1/AL103)),AND($C$64="No",$C$78="No",$C$92="No",$C$50="No"),1/((1/AG103)),AND($C$64="Yes",$C$78="No",$C$92="No",$C$50="Yes"),1/((1/AG103)+(1/AL103)+(1/BA103)), AND($C$64="No",$C$78="No",$C$92="No",$C$50="Yes"),1/((1/AG103)+(1/BA103)), AND($C$64="No",$C$78="Yes",$C$92="No",$C$50="Yes"),1/((1/AG103)+(1/AQ103)+(1/BA103)))} -> 0.44680255 | AB103: =$C$29 -> 0.79935872 | AD103: =1000/(2*PI()*$Z103*$C$41*$C$37*0.000001) -> 0.46373818 | AE103: =2*PI()*$Z103*((0.000000001*$C$39)/$C$41)*1000 -> 0.085084801 | AF103: =($C$38)/$C$41 -> 0.25 | AG103: =SQRT(AF103^(2)+ABS(AD103-AE103)^(2)) -> 0.45373823 | AI103: =1000/(2*PI()*$Z103*$C$69*$C$65*0.000001) -> 30.60672 | AJ103: =2*PI()*$Z103*((0.000000001*$C$67)/$C$69)*1000 -> 0.0030630528 | AK103: =($C$66)/$C$69 -> 0.125 | AL103: =IF($C$64="Yes", SQRT(AK103^(2)+ABS(AI103-AJ103)^(2)), NA()) -> 30.603912 | AN103: =1000/(2*PI()*$Z103*$C$82*$C$79*0.000001) -> 244.85376 | AO103: =2*PI()*$Z103*((0.000000001*$C$81)/$C$82)*1000 -> 0.24504423 | AP103: =($C$80)/$C$82 -> 10 | AQ103: =IF($C$78="Yes", SQRT(AP103^(2)+ABS(AN103-AO103)^(2)), NA()) -> #N/A | AS103: =1000/(2*PI()*$Z103*$C$97*$C$93*0.000001) -> 3709.9054 | AT103: =2*PI()*$Z103*((0.000000001*$C$95)/$C$97)*1000 -> 0.12252211 | AU103: =($C$94)/$C$97 -> 5 | AV103: =IF($C$92="Yes", SQRT(AU103^(2)+ABS(AS103-AT103)^(2)), NA()) -> #N/A | AX103: =1000/(2*PI()*$Z103*$C$55*$C$51*0.000001) -> 651.2068 | AY103: =2*PI()*$Z103*((0.000000001*$C$53)/$C$55)*1000 -> 0.0030630528 | AZ103: =($C$52)/$C$55 -> 0.125 | BA103: =IF($C$50="Yes", SQRT(AZ103^(2)+ABS(AX103-AY103)^(2)), NA()) -> 651.20375
B104: Total MF3 Capacitor Impedance @fSW | C104: =SQRT(C99^(2)+ABS(C102-C103)^(2)) -> 481.3712 | D104: mΩ | Z104: 70000 | AA104: {=_xlfn.IFS(AND($C$64="Yes",$C$78="Yes",$C$92="Yes",$C$50="Yes"),1/((1/AG104)+(1/AL104)+(1/AQ104)+(1/AV104)+(1/BA104)),AND($C$64="Yes",$C$78="Yes",$C$92="Yes",$C$50="No"),1/((1/AG104)+(1/AL104)+(1/AQ104)+(1/AV104)),AND($C$64="Yes",$C$78="Yes",$C$92="No",$C$50="No"),1/((1/AG104)+(1/AL104)+(1/AQ104)),AND($C$64="Yes",$C$78="No",$C$92="No",$C$50="No"),1/((1/AG104)+(1/AL104)),AND($C$64="No",$C$78="No",$C$92="No",$C$50="No"),1/((1/AG104)),AND($C$64="Yes",$C$78="No",$C$92="No",$C$50="Yes"),1/((1/AG104)+(1/AL104)+(1/BA104)), AND($C$64="No",$C$78="No",$C$92="No",$C$50="Yes"),1/((1/AG104)+(1/BA104)), AND($C$64="No",$C$78="Yes",$C$92="No",$C$50="Yes"),1/((1/AG104)+(1/AQ104)+(1/BA104)))} -> 0.41476454 | AB104: =$C$29 -> 0.79935872 | AD104: =1000/(2*PI()*$Z104*$C$41*$C$37*0.000001) -> 0.43061402 | AE104: =2*PI()*$Z104*((0.000000001*$C$39)/$C$41)*1000 -> 0.091629786 | AF104: =($C$38)/$C$41 -> 0.25 | AG104: =SQRT(AF104^(2)+ABS(AD104-AE104)^(2)) -> 0.42120104 | AI104: =1000/(2*PI()*$Z104*$C$69*$C$65*0.000001) -> 28.420526 | AJ104: =2*PI()*$Z104*((0.000000001*$C$67)/$C$69)*1000 -> 0.0032986723 | AK104: =($C$66)/$C$69 -> 0.125 | AL104: =IF($C$64="Yes", SQRT(AK104^(2)+ABS(AI104-AJ104)^(2)), NA()) -> 28.417502 | AN104: =1000/(2*PI()*$Z104*$C$82*$C$79*0.000001) -> 227.3642 | AO104: =2*PI()*$Z104*((0.000000001*$C$81)/$C$82)*1000 -> 0.26389378 | AP104: =($C$80)/$C$82 -> 10 | AQ104: =IF($C$78="Yes", SQRT(AP104^(2)+ABS(AN104-AO104)^(2)), NA()) -> #N/A | AS104: =1000/(2*PI()*$Z104*$C$97*$C$93*0.000001) -> 3444.9122 | AT104: =2*PI()*$Z104*((0.000000001*$C$95)/$C$97)*1000 -> 0.13194689 | AU104: =($C$94)/$C$97 -> 5 | AV104: =IF($C$92="Yes", SQRT(AU104^(2)+ABS(AS104-AT104)^(2)), NA()) -> #N/A | AX104: =1000/(2*PI()*$Z104*$C$55*$C$51*0.000001) -> 604.69203 | AY104: =2*PI()*$Z104*((0.000000001*$C$53)/$C$55)*1000 -> 0.0032986723 | AZ104: =($C$52)/$C$55 -> 0.125 | BA104: =IF($C$50="Yes", SQRT(AZ104^(2)+ABS(AX104-AY104)^(2)), NA()) -> 604.68875
Z105: 75000 | AA105: {=_xlfn.IFS(AND($C$64="Yes",$C$78="Yes",$C$92="Yes",$C$50="Yes"),1/((1/AG105)+(1/AL105)+(1/AQ105)+(1/AV105)+(1/BA105)),AND($C$64="Yes",$C$78="Yes",$C$92="Yes",$C$50="No"),1/((1/AG105)+(1/AL105)+(1/AQ105)+(1/AV105)),AND($C$64="Yes",$C$78="Yes",$C$92="No",$C$50="No"),1/((1/AG105)+(1/AL105)+(1/AQ105)),AND($C$64="Yes",$C$78="No",$C$92="No",$C$50="No"),1/((1/AG105)+(1/AL105)),AND($C$64="No",$C$78="No",$C$92="No",$C$50="No"),1/((1/AG105)),AND($C$64="Yes",$C$78="No",$C$92="No",$C$50="Yes"),1/((1/AG105)+(1/AL105)+(1/BA105)), AND($C$64="No",$C$78="No",$C$92="No",$C$50="Yes"),1/((1/AG105)+(1/BA105)), AND($C$64="No",$C$78="Yes",$C$92="No",$C$50="Yes"),1/((1/AG105)+(1/AQ105)+(1/BA105)))} -> 0.38737093 | AB105: =$C$29 -> 0.79935872 | AD105: =1000/(2*PI()*$Z105*$C$41*$C$37*0.000001) -> 0.40190642 | AE105: =2*PI()*$Z105*((0.000000001*$C$39)/$C$41)*1000 -> 0.09817477 | AF105: =($C$38)/$C$41 -> 0.25 | AG105: =SQRT(AF105^(2)+ABS(AD105-AE105)^(2)) -> 0.39338647 | AI105: =1000/(2*PI()*$Z105*$C$69*$C$65*0.000001) -> 26.525824 | AJ105: =2*PI()*$Z105*((0.000000001*$C$67)/$C$69)*1000 -> 0.0035342917 | AK105: =($C$66)/$C$69 -> 0.125 | AL105: =IF($C$64="Yes", SQRT(AK105^(2)+ABS(AI105-AJ105)^(2)), NA()) -> 26.522584 | AN105: =1000/(2*PI()*$Z105*$C$82*$C$79*0.000001) -> 212.20659 | AO105: =2*PI()*$Z105*((0.000000001*$C$81)/$C$82)*1000 -> 0.28274334 | AP105: =($C$80)/$C$82 -> 10 | AQ105: =IF($C$78="Yes", SQRT(AP105^(2)+ABS(AN105-AO105)^(2)), NA()) -> #N/A | AS105: =1000/(2*PI()*$Z105*$C$97*$C$93*0.000001) -> 3215.2514 | AT105: =2*PI()*$Z105*((0.000000001*$C$95)/$C$97)*1000 -> 0.14137167 | AU105: =($C$94)/$C$97 -> 5 | AV105: =IF($C$92="Yes", SQRT(AU105^(2)+ABS(AS105-AT105)^(2)), NA()) -> #N/A | AX105: =1000/(2*PI()*$Z105*$C$55*$C$51*0.000001) -> 564.37923 | AY105: =2*PI()*$Z105*((0.000000001*$C$53)/$C$55)*1000 -> 0.0035342917 | AZ105: =($C$52)/$C$55 -> 0.125 | BA105: =IF($C$50="Yes", SQRT(AZ105^(2)+ABS(AX105-AY105)^(2)), NA()) -> 564.37571
Z106: 80000 | AA106: {=_xlfn.IFS(AND($C$64="Yes",$C$78="Yes",$C$92="Yes",$C$50="Yes"),1/((1/AG106)+(1/AL106)+(1/AQ106)+(1/AV106)+(1/BA106)),AND($C$64="Yes",$C$78="Yes",$C$92="Yes",$C$50="No"),1/((1/AG106)+(1/AL106)+(1/AQ106)+(1/AV106)),AND($C$64="Yes",$C$78="Yes",$C$92="No",$C$50="No"),1/((1/AG106)+(1/AL106)+(1/AQ106)),AND($C$64="Yes",$C$78="No",$C$92="No",$C$50="No"),1/((1/AG106)+(1/AL106)),AND($C$64="No",$C$78="No",$C$92="No",$C$50="No"),1/((1/AG106)),AND($C$64="Yes",$C$78="No",$C$92="No",$C$50="Yes"),1/((1/AG106)+(1/AL106)+(1/BA106)), AND($C$64="No",$C$78="No",$C$92="No",$C$50="Yes"),1/((1/AG106)+(1/BA106)), AND($C$64="No",$C$78="Yes",$C$92="No",$C$50="Yes"),1/((1/AG106)+(1/AQ106)+(1/BA106)))} -> 0.36382658 | AB106: =$C$29 -> 0.79935872 | AD106: =1000/(2*PI()*$Z106*$C$41*$C$37*0.000001) -> 0.37678727 | AE106: =2*PI()*$Z106*((0.000000001*$C$39)/$C$41)*1000 -> 0.10471976 | AF106: =($C$38)/$C$41 -> 0.25 | AG106: =SQRT(AF106^(2)+ABS(AD106-AE106)^(2)) -> 0.36948712 | AI106: =1000/(2*PI()*$Z106*$C$69*$C$65*0.000001) -> 24.86796 | AJ106: =2*PI()*$Z106*((0.000000001*$C$67)/$C$69)*1000 -> 0.0037699112 | AK106: =($C$66)/$C$69 -> 0.125 | AL106: =IF($C$64="Yes", SQRT(AK106^(2)+ABS(AI106-AJ106)^(2)), NA()) -> 24.864504 | AN106: =1000/(2*PI()*$Z106*$C$82*$C$79*0.000001) -> 198.94368 | AO106: =2*PI()*$Z106*((0.000000001*$C$81)/$C$82)*1000 -> 0.30159289 | AP106: =($C$80)/$C$82 -> 10 | AQ106: =IF($C$78="Yes", SQRT(AP106^(2)+ABS(AN106-AO106)^(2)), NA()) -> #N/A | AS106: =1000/(2*PI()*$Z106*$C$97*$C$93*0.000001) -> 3014.2982 | AT106: =2*PI()*$Z106*((0.000000001*$C$95)/$C$97)*1000 -> 0.15079645 | AU106: =($C$94)/$C$97 -> 5 | AV106: =IF($C$92="Yes", SQRT(AU106^(2)+ABS(AS106-AT106)^(2)), NA()) -> #N/A | AX106: =1000/(2*PI()*$Z106*$C$55*$C$51*0.000001) -> 529.10553 | AY106: =2*PI()*$Z106*((0.000000001*$C$53)/$C$55)*1000 -> 0.0037699112 | AZ106: =($C$52)/$C$55 -> 0.125 | BA106: =IF($C$50="Yes", SQRT(AZ106^(2)+ABS(AX106-AY106)^(2)), NA()) -> 529.10177
Z107: 85000 | AA107: {=_xlfn.IFS(AND($C$64="Yes",$C$78="Yes",$C$92="Yes",$C$50="Yes"),1/((1/AG107)+(1/AL107)+(1/AQ107)+(1/AV107)+(1/BA107)),AND($C$64="Yes",$C$78="Yes",$C$92="Yes",$C$50="No"),1/((1/AG107)+(1/AL107)+(1/AQ107)+(1/AV107)),AND($C$64="Yes",$C$78="Yes",$C$92="No",$C$50="No"),1/((1/AG107)+(1/AL107)+(1/AQ107)),AND($C$64="Yes",$C$78="No",$C$92="No",$C$50="No"),1/((1/AG107)+(1/AL107)),AND($C$64="No",$C$78="No",$C$92="No",$C$50="No"),1/((1/AG107)),AND($C$64="Yes",$C$78="No",$C$92="No",$C$50="Yes"),1/((1/AG107)+(1/AL107)+(1/BA107)), AND($C$64="No",$C$78="No",$C$92="No",$C$50="Yes"),1/((1/AG107)+(1/BA107)), AND($C$64="No",$C$78="Yes",$C$92="No",$C$50="Yes"),1/((1/AG107)+(1/AQ107)+(1/BA107)))} -> 0.34352654 | AB107: =$C$29 -> 0.79935872 | AD107: =1000/(2*PI()*$Z107*$C$41*$C$37*0.000001) -> 0.35462331 | AE107: =2*PI()*$Z107*((0.000000001*$C$39)/$C$41)*1000 -> 0.11126474 | AF107: =($C$38)/$C$41 -> 0.25 | AG107: =SQRT(AF107^(2)+ABS(AD107-AE107)^(2)) -> 0.3488888 | AI107: =1000/(2*PI()*$Z107*$C$69*$C$65*0.000001) -> 23.405139 | AJ107: =2*PI()*$Z107*((0.000000001*$C$67)/$C$69)*1000 -> 0.0040055306 | AK107: =($C$66)/$C$69 -> 0.125 | AL107: =IF($C$64="Yes", SQRT(AK107^(2)+ABS(AI107-AJ107)^(2)), NA()) -> 23.401467 | AN107: =1000/(2*PI()*$Z107*$C$82*$C$79*0.000001) -> 187.24111 | AO107: =2*PI()*$Z107*((0.000000001*$C$81)/$C$82)*1000 -> 0.32044245 | AP107: =($C$80)/$C$82 -> 10 | AQ107: =IF($C$78="Yes", SQRT(AP107^(2)+ABS(AN107-AO107)^(2)), NA()) -> #N/A | AS107: =1000/(2*PI()*$Z107*$C$97*$C$93*0.000001) -> 2836.9865 | AT107: =2*PI()*$Z107*((0.000000001*$C$95)/$C$97)*1000 -> 0.16022123 | AU107: =($C$94)/$C$97 -> 5 | AV107: =IF($C$92="Yes", SQRT(AU107^(2)+ABS(AS107-AT107)^(2)), NA()) -> #N/A | AX107: =1000/(2*PI()*$Z107*$C$55*$C$51*0.000001) -> 497.98167 | AY107: =2*PI()*$Z107*((0.000000001*$C$53)/$C$55)*1000 -> 0.0040055306 | AZ107: =($C$52)/$C$55 -> 0.125 | BA107: =IF($C$50="Yes", SQRT(AZ107^(2)+ABS(AX107-AY107)^(2)), NA()) -> 497.97768
Z108: 90000 | AA108: {=_xlfn.IFS(AND($C$64="Yes",$C$78="Yes",$C$92="Yes",$C$50="Yes"),1/((1/AG108)+(1/AL108)+(1/AQ108)+(1/AV108)+(1/BA108)),AND($C$64="Yes",$C$78="Yes",$C$92="Yes",$C$50="No"),1/((1/AG108)+(1/AL108)+(1/AQ108)+(1/AV108)),AND($C$64="Yes",$C$78="Yes",$C$92="No",$C$50="No"),1/((1/AG108)+(1/AL108)+(1/AQ108)),AND($C$64="Yes",$C$78="No",$C$92="No",$C$50="No"),1/((1/AG108)+(1/AL108)),AND($C$64="No",$C$78="No",$C$92="No",$C$50="No"),1/((1/AG108)),AND($C$64="Yes",$C$78="No",$C$92="No",$C$50="Yes"),1/((1/AG108)+(1/AL108)+(1/BA108)), AND($C$64="No",$C$78="No",$C$92="No",$C$50="Yes"),1/((1/AG108)+(1/BA108)), AND($C$64="No",$C$78="Yes",$C$92="No",$C$50="Yes"),1/((1/AG108)+(1/AQ108)+(1/BA108)))} -> 0.32600224 | AB108: =$C$29 -> 0.79935872 | AD108: =1000/(2*PI()*$Z108*$C$41*$C$37*0.000001) -> 0.33492202 | AE108: =2*PI()*$Z108*((0.000000001*$C$39)/$C$41)*1000 -> 0.11780972 | AF108: =($C$38)/$C$41 -> 0.25 | AG108: =SQRT(AF108^(2)+ABS(AD108-AE108)^(2)) -> 0.33111591 | AI108: =1000/(2*PI()*$Z108*$C$69*$C$65*0.000001) -> 22.104853 | AJ108: =2*PI()*$Z108*((0.000000001*$C$67)/$C$69)*1000 -> 0.0042411501 | AK108: =($C$66)/$C$69 -> 0.125 | AL108: =IF($C$64="Yes", SQRT(AK108^(2)+ABS(AI108-AJ108)^(2)), NA()) -> 22.100966 | AN108: =1000/(2*PI()*$Z108*$C$82*$C$79*0.000001) -> 176.83883 | AO108: =2*PI()*$Z108*((0.000000001*$C$81)/$C$82)*1000 -> 0.33929201 | AP108: =($C$80)/$C$82 -> 10 | AQ108: =IF($C$78="Yes", SQRT(AP108^(2)+ABS(AN108-AO108)^(2)), NA()) -> #N/A | AS108: =1000/(2*PI()*$Z108*$C$97*$C$93*0.000001) -> 2679.3761 | AT108: =2*PI()*$Z108*((0.000000001*$C$95)/$C$97)*1000 -> 0.169646 | AU108: =($C$94)/$C$97 -> 5 | AV108: =IF($C$92="Yes", SQRT(AU108^(2)+ABS(AS108-AT108)^(2)), NA()) -> #N/A | AX108: =1000/(2*PI()*$Z108*$C$55*$C$51*0.000001) -> 470.31603 | AY108: =2*PI()*$Z108*((0.000000001*$C$53)/$C$55)*1000 -> 0.0042411501 | AZ108: =($C$52)/$C$55 -> 0.125 | BA108: =IF($C$50="Yes", SQRT(AZ108^(2)+ABS(AX108-AY108)^(2)), NA()) -> 470.3118
Z109: 95000 | AA109: {=_xlfn.IFS(AND($C$64="Yes",$C$78="Yes",$C$92="Yes",$C$50="Yes"),1/((1/AG109)+(1/AL109)+(1/AQ109)+(1/AV109)+(1/BA109)),AND($C$64="Yes",$C$78="Yes",$C$92="Yes",$C$50="No"),1/((1/AG109)+(1/AL109)+(1/AQ109)+(1/AV109)),AND($C$64="Yes",$C$78="Yes",$C$92="No",$C$50="No"),1/((1/AG109)+(1/AL109)+(1/AQ109)),AND($C$64="Yes",$C$78="No",$C$92="No",$C$50="No"),1/((1/AG109)+(1/AL109)),AND($C$64="No",$C$78="No",$C$92="No",$C$50="No"),1/((1/AG109)),AND($C$64="Yes",$C$78="No",$C$92="No",$C$50="Yes"),1/((1/AG109)+(1/AL109)+(1/BA109)), AND($C$64="No",$C$78="No",$C$92="No",$C$50="Yes"),1/((1/AG109)+(1/BA109)), AND($C$64="No",$C$78="Yes",$C$92="No",$C$50="Yes"),1/((1/AG109)+(1/AQ109)+(1/BA109)))} -> 0.31088453 | AB109: =$C$29 -> 0.79935872 | AD109: =1000/(2*PI()*$Z109*$C$41*$C$37*0.000001) -> 0.31729454 | AE109: =2*PI()*$Z109*((0.000000001*$C$39)/$C$41)*1000 -> 0.12435471 | AF109: =($C$38)/$C$41 -> 0.25 | AG109: =SQRT(AF109^(2)+ABS(AD109-AE109)^(2)) -> 0.31579389 | AI109: =1000/(2*PI()*$Z109*$C$69*$C$65*0.000001) -> 20.94144 | AJ109: =2*PI()*$Z109*((0.000000001*$C$67)/$C$69)*1000 -> 0.0044767695 | AK109: =($C$66)/$C$69 -> 0.125 | AL109: =IF($C$64="Yes", SQRT(AK109^(2)+ABS(AI109-AJ109)^(2)), NA()) -> 20.937336 | AN109: =1000/(2*PI()*$Z109*$C$82*$C$79*0.000001) -> 167.53152 | AO109: =2*PI()*$Z109*((0.000000001*$C$81)/$C$82)*1000 -> 0.35814156 | AP109: =($C$80)/$C$82 -> 10 | AQ109: =IF($C$78="Yes", SQRT(AP109^(2)+ABS(AN109-AO109)^(2)), NA()) -> #N/A | AS109: =1000/(2*PI()*$Z109*$C$97*$C$93*0.000001) -> 2538.3563 | AT109: =2*PI()*$Z109*((0.000000001*$C$95)/$C$97)*1000 -> 0.17907078 | AU109: =($C$94)/$C$97 -> 5 | AV109: =IF($C$92="Yes", SQRT(AU109^(2)+ABS(AS109-AT109)^(2)), NA()) -> #N/A | AX109: =1000/(2*PI()*$Z109*$C$55*$C$51*0.000001) -> 445.56255 | AY109: =2*PI()*$Z109*((0.000000001*$C$53)/$C$55)*1000 -> 0.0044767695 | AZ109: =($C$52)/$C$55 -> 0.125 | BA109: =IF($C$50="Yes", SQRT(AZ109^(2)+ABS(AX109-AY109)^(2)), NA()) -> 445.55809
Z110: 100000 | AA110: {=_xlfn.IFS(AND($C$64="Yes",$C$78="Yes",$C$92="Yes",$C$50="Yes"),1/((1/AG110)+(1/AL110)+(1/AQ110)+(1/AV110)+(1/BA110)),AND($C$64="Yes",$C$78="Yes",$C$92="Yes",$C$50="No"),1/((1/AG110)+(1/AL110)+(1/AQ110)+(1/AV110)),AND($C$64="Yes",$C$78="Yes",$C$92="No",$C$50="No"),1/((1/AG110)+(1/AL110)+(1/AQ110)),AND($C$64="Yes",$C$78="No",$C$92="No",$C$50="No"),1/((1/AG110)+(1/AL110)),AND($C$64="No",$C$78="No",$C$92="No",$C$50="No"),1/((1/AG110)),AND($C$64="Yes",$C$78="No",$C$92="No",$C$50="Yes"),1/((1/AG110)+(1/AL110)+(1/BA110)), AND($C$64="No",$C$78="No",$C$92="No",$C$50="Yes"),1/((1/AG110)+(1/BA110)), AND($C$64="No",$C$78="Yes",$C$92="No",$C$50="Yes"),1/((1/AG110)+(1/AQ110)+(1/BA110)))} -> 0.29787763 | AB110: =$C$29 -> 0.79935872 | AD110: =1000/(2*PI()*$Z110*$C$41*$C$37*0.000001) -> 0.30142982 | AE110: =2*PI()*$Z110*((0.000000001*$C$39)/$C$41)*1000 -> 0.13089969 | AF110: =($C$38)/$C$41 -> 0.25 | AG110: =SQRT(AF110^(2)+ABS(AD110-AE110)^(2)) -> 0.30262274 | AI110: =1000/(2*PI()*$Z110*$C$69*$C$65*0.000001) -> 19.894368 | AJ110: =2*PI()*$Z110*((0.000000001*$C$67)/$C$69)*1000 -> 0.004712389 | AK110: =($C$66)/$C$69 -> 0.125 | AL110: =IF($C$64="Yes", SQRT(AK110^(2)+ABS(AI110-AJ110)^(2)), NA()) -> 19.890048 | AN110: =1000/(2*PI()*$Z110*$C$82*$C$79*0.000001) -> 159.15494 | AO110: =2*PI()*$Z110*((0.000000001*$C$81)/$C$82)*1000 -> 0.37699112 | AP110: =($C$80)/$C$82 -> 10 | AQ110: =IF($C$78="Yes", SQRT(AP110^(2)+ABS(AN110-AO110)^(2)), NA()) -> #N/A | AS110: =1000/(2*PI()*$Z110*$C$97*$C$93*0.000001) -> 2411.4385 | AT110: =2*PI()*$Z110*((0.000000001*$C$95)/$C$97)*1000 -> 0.18849556 | AU110: =($C$94)/$C$97 -> 5 | AV110: =IF($C$92="Yes", SQRT(AU110^(2)+ABS(AS110-AT110)^(2)), NA()) -> #N/A | AX110: =1000/(2*PI()*$Z110*$C$55*$C$51*0.000001) -> 423.28442 | AY110: =2*PI()*$Z110*((0.000000001*$C$53)/$C$55)*1000 -> 0.004712389 | AZ110: =($C$52)/$C$55 -> 0.125 | BA110: =IF($C$50="Yes", SQRT(AZ110^(2)+ABS(AX110-AY110)^(2)), NA()) -> 423.27973
Z111: 150000 | AA111: {=_xlfn.IFS(AND($C$64="Yes",$C$78="Yes",$C$92="Yes",$C$50="Yes"),1/((1/AG111)+(1/AL111)+(1/AQ111)+(1/AV111)+(1/BA111)),AND($C$64="Yes",$C$78="Yes",$C$92="Yes",$C$50="No"),1/((1/AG111)+(1/AL111)+(1/AQ111)+(1/AV111)),AND($C$64="Yes",$C$78="Yes",$C$92="No",$C$50="No"),1/((1/AG111)+(1/AL111)+(1/AQ111)),AND($C$64="Yes",$C$78="No",$C$92="No",$C$50="No"),1/((1/AG111)+(1/AL111)),AND($C$64="No",$C$78="No",$C$92="No",$C$50="No"),1/((1/AG111)),AND($C$64="Yes",$C$78="No",$C$92="No",$C$50="Yes"),1/((1/AG111)+(1/AL111)+(1/BA111)), AND($C$64="No",$C$78="No",$C$92="No",$C$50="Yes"),1/((1/AG111)+(1/BA111)), AND($C$64="No",$C$78="Yes",$C$92="No",$C$50="Yes"),1/((1/AG111)+(1/AQ111)+(1/BA111)))} -> 0.24520015 | AB111: =$C$29 -> 0.79935872 | AD111: =1000/(2*PI()*$Z111*$C$41*$C$37*0.000001) -> 0.20095321 | AE111: =2*PI()*$Z111*((0.000000001*$C$39)/$C$41)*1000 -> 0.19634954 | AF111: =($C$38)/$C$41 -> 0.25 | AG111: =SQRT(AF111^(2)+ABS(AD111-AE111)^(2)) -> 0.25004238 | AI111: =1000/(2*PI()*$Z111*$C$69*$C$65*0.000001) -> 13.262912 | AJ111: =2*PI()*$Z111*((0.000000001*$C$67)/$C$69)*1000 -> 0.0070685835 | AK111: =($C$66)/$C$69 -> 0.125 | AL111: =IF($C$64="Yes", SQRT(AK111^(2)+ABS(AI111-AJ111)^(2)), NA()) -> 13.256433 | AN111: =1000/(2*PI()*$Z111*$C$82*$C$79*0.000001) -> 106.1033 | AO111: =2*PI()*$Z111*((0.000000001*$C$81)/$C$82)*1000 -> 0.56548668 | AP111: =($C$80)/$C$82 -> 10 | AQ111: =IF($C$78="Yes", SQRT(AP111^(2)+ABS(AN111-AO111)^(2)), NA()) -> #N/A | AS111: =1000/(2*PI()*$Z111*$C$97*$C$93*0.000001) -> 1607.6257 | AT111: =2*PI()*$Z111*((0.000000001*$C$95)/$C$97)*1000 -> 0.28274334 | AU111: =($C$94)/$C$97 -> 5 | AV111: =IF($C$92="Yes", SQRT(AU111^(2)+ABS(AS111-AT111)^(2)), NA()) -> #N/A | AX111: =1000/(2*PI()*$Z111*$C$55*$C$51*0.000001) -> 282.18962 | AY111: =2*PI()*$Z111*((0.000000001*$C$53)/$C$55)*1000 -> 0.0070685835 | AZ111: =($C$52)/$C$55 -> 0.125 | BA111: =IF($C$50="Yes", SQRT(AZ111^(2)+ABS(AX111-AY111)^(2)), NA()) -> 282.18257
Z112: 200000 | AA112: {=_xlfn.IFS(AND($C$64="Yes",$C$78="Yes",$C$92="Yes",$C$50="Yes"),1/((1/AG112)+(1/AL112)+(1/AQ112)+(1/AV112)+(1/BA112)),AND($C$64="Yes",$C$78="Yes",$C$92="Yes",$C$50="No"),1/((1/AG112)+(1/AL112)+(1/AQ112)+(1/AV112)),AND($C$64="Yes",$C$78="Yes",$C$92="No",$C$50="No"),1/((1/AG112)+(1/AL112)+(1/AQ112)),AND($C$64="Yes",$C$78="No",$C$92="No",$C$50="No"),1/((1/AG112)+(1/AL112)),AND($C$64="No",$C$78="No",$C$92="No",$C$50="No"),1/((1/AG112)),AND($C$64="Yes",$C$78="No",$C$92="No",$C$50="Yes"),1/((1/AG112)+(1/AL112)+(1/BA112)), AND($C$64="No",$C$78="No",$C$92="No",$C$50="Yes"),1/((1/AG112)+(1/BA112)), AND($C$64="No",$C$78="Yes",$C$92="No",$C$50="Yes"),1/((1/AG112)+(1/AQ112)+(1/BA112)))} -> 0.26590552 | AB112: =$C$29 -> 0.79935872 | AD112: =1000/(2*PI()*$Z112*$C$41*$C$37*0.000001) -> 0.15071491 | AE112: =2*PI()*$Z112*((0.000000001*$C$39)/$C$41)*1000 -> 0.26179939 | AF112: =($C$38)/$C$41 -> 0.25 | AG112: =SQRT(AF112^(2)+ABS(AD112-AE112)^(2)) -> 0.27356857 | AI112: =1000/(2*PI()*$Z112*$C$69*$C$65*0.000001) -> 9.9471839 | AJ112: =2*PI()*$Z112*((0.000000001*$C$67)/$C$69)*1000 -> 0.009424778 | AK112: =($C$66)/$C$69 -> 0.125 | AL112: =IF($C$64="Yes", SQRT(AK112^(2)+ABS(AI112-AJ112)^(2)), NA()) -> 9.9385453 | AN112: =1000/(2*PI()*$Z112*$C$82*$C$79*0.000001) -> 79.577472 | AO112: =2*PI()*$Z112*((0.000000001*$C$81)/$C$82)*1000 -> 0.75398224 | AP112: =($C$80)/$C$82 -> 10 | AQ112: =IF($C$78="Yes", SQRT(AP112^(2)+ABS(AN112-AO112)^(2)), NA()) -> #N/A | AS112: =1000/(2*PI()*$Z112*$C$97*$C$93*0.000001) -> 1205.7193 | AT112: =2*PI()*$Z112*((0.000000001*$C$95)/$C$97)*1000 -> 0.37699112 | AU112: =($C$94)/$C$97 -> 5 | AV112: =IF($C$92="Yes", SQRT(AU112^(2)+ABS(AS112-AT112)^(2)), NA()) -> #N/A | AX112: =1000/(2*PI()*$Z112*$C$55*$C$51*0.000001) -> 211.64221 | AY112: =2*PI()*$Z112*((0.000000001*$C$53)/$C$55)*1000 -> 0.009424778 | AZ112: =($C$52)/$C$55 -> 0.125 | BA112: =IF($C$50="Yes", SQRT(AZ112^(2)+ABS(AX112-AY112)^(2)), NA()) -> 211.63282
Z113: 250000 | AA113: {=_xlfn.IFS(AND($C$64="Yes",$C$78="Yes",$C$92="Yes",$C$50="Yes"),1/((1/AG113)+(1/AL113)+(1/AQ113)+(1/AV113)+(1/BA113)),AND($C$64="Yes",$C$78="Yes",$C$92="Yes",$C$50="No"),1/((1/AG113)+(1/AL113)+(1/AQ113)+(1/AV113)),AND($C$64="Yes",$C$78="Yes",$C$92="No",$C$50="No"),1/((1/AG113)+(1/AL113)+(1/AQ113)),AND($C$64="Yes",$C$78="No",$C$92="No",$C$50="No"),1/((1/AG113)+(1/AL113)),AND($C$64="No",$C$78="No",$C$92="No",$C$50="No"),1/((1/AG113)),AND($C$64="Yes",$C$78="No",$C$92="No",$C$50="Yes"),1/((1/AG113)+(1/AL113)+(1/BA113)), AND($C$64="No",$C$78="No",$C$92="No",$C$50="Yes"),1/((1/AG113)+(1/BA113)), AND($C$64="No",$C$78="Yes",$C$92="No",$C$50="Yes"),1/((1/AG113)+(1/AQ113)+(1/BA113)))} -> 0.31107625 | AB113: =$C$29 -> 0.79935872 | AD113: =1000/(2*PI()*$Z113*$C$41*$C$37*0.000001) -> 0.12057193 | AE113: =2*PI()*$Z113*((0.000000001*$C$39)/$C$41)*1000 -> 0.32724923 | AF113: =($C$38)/$C$41 -> 0.25 | AG113: =SQRT(AF113^(2)+ABS(AD113-AE113)^(2)) -> 0.3243694 | AI113: =1000/(2*PI()*$Z113*$C$69*$C$65*0.000001) -> 7.9577472 | AJ113: =2*PI()*$Z113*((0.000000001*$C$67)/$C$69)*1000 -> 0.011780972 | AK113: =($C$66)/$C$69 -> 0.125 | AL113: =IF($C$64="Yes", SQRT(AK113^(2)+ABS(AI113-AJ113)^(2)), NA()) -> 7.9469493 | AN113: =1000/(2*PI()*$Z113*$C$82*$C$79*0.000001) -> 63.661977 | AO113: =2*PI()*$Z113*((0.000000001*$C$81)/$C$82)*1000 -> 0.9424778 | AP113: =($C$80)/$C$82 -> 10 | AQ113: =IF($C$78="Yes", SQRT(AP113^(2)+ABS(AN113-AO113)^(2)), NA()) -> #N/A | AS113: =1000/(2*PI()*$Z113*$C$97*$C$93*0.000001) -> 964.57541 | AT113: =2*PI()*$Z113*((0.000000001*$C$95)/$C$97)*1000 -> 0.4712389 | AU113: =($C$94)/$C$97 -> 5 | AV113: =IF($C$92="Yes", SQRT(AU113^(2)+ABS(AS113-AT113)^(2)), NA()) -> #N/A | AX113: =1000/(2*PI()*$Z113*$C$55*$C$51*0.000001) -> 169.31377 | AY113: =2*PI()*$Z113*((0.000000001*$C$53)/$C$55)*1000 -> 0.011780972 | AZ113: =($C$52)/$C$55 -> 0.125 | BA113: =IF($C$50="Yes", SQRT(AZ113^(2)+ABS(AX113-AY113)^(2)), NA()) -> 169.30203
Z114: 300000 | AA114: {=_xlfn.IFS(AND($C$64="Yes",$C$78="Yes",$C$92="Yes",$C$50="Yes"),1/((1/AG114)+(1/AL114)+(1/AQ114)+(1/AV114)+(1/BA114)),AND($C$64="Yes",$C$78="Yes",$C$92="Yes",$C$50="No"),1/((1/AG114)+(1/AL114)+(1/AQ114)+(1/AV114)),AND($C$64="Yes",$C$78="Yes",$C$92="No",$C$50="No"),1/((1/AG114)+(1/AL114)+(1/AQ114)),AND($C$64="Yes",$C$78="No",$C$92="No",$C$50="No"),1/((1/AG114)+(1/AL114)),AND($C$64="No",$C$78="No",$C$92="No",$C$50="No"),1/((1/AG114)),AND($C$64="Yes",$C$78="No",$C$92="No",$C$50="Yes"),1/((1/AG114)+(1/AL114)+(1/BA114)), AND($C$64="No",$C$78="No",$C$92="No",$C$50="Yes"),1/((1/AG114)+(1/BA114)), AND($C$64="No",$C$78="Yes",$C$92="No",$C$50="Yes"),1/((1/AG114)+(1/AQ114)+(1/BA114)))} -> 0.36251749 | AB114: =$C$29 -> 0.79935872 | AD114: =1000/(2*PI()*$Z114*$C$41*$C$37*0.000001) -> 0.10047661 | AE114: =2*PI()*$Z114*((0.000000001*$C$39)/$C$41)*1000 -> 0.39269908 | AF114: =($C$38)/$C$41 -> 0.25 | AG114: =SQRT(AF114^(2)+ABS(AD114-AE114)^(2)) -> 0.38456986 | AI114: =1000/(2*PI()*$Z114*$C$69*$C$65*0.000001) -> 6.631456 | AJ114: =2*PI()*$Z114*((0.000000001*$C$67)/$C$69)*1000 -> 0.014137167 | AK114: =($C$66)/$C$69 -> 0.125 | AL114: =IF($C$64="Yes", SQRT(AK114^(2)+ABS(AI114-AJ114)^(2)), NA()) -> 6.6184993 | AN114: =1000/(2*PI()*$Z114*$C$82*$C$79*0.000001) -> 53.051648 | AO114: =2*PI()*$Z114*((0.000000001*$C$81)/$C$82)*1000 -> 1.1309734 | AP114: =($C$80)/$C$82 -> 10 | AQ114: =IF($C$78="Yes", SQRT(AP114^(2)+ABS(AN114-AO114)^(2)), NA()) -> #N/A | AS114: =1000/(2*PI()*$Z114*$C$97*$C$93*0.000001) -> 803.81284 | AT114: =2*PI()*$Z114*((0.000000001*$C$95)/$C$97)*1000 -> 0.56548668 | AU114: =($C$94)/$C$97 -> 5 | AV114: =IF($C$92="Yes", SQRT(AU114^(2)+ABS(AS114-AT114)^(2)), NA()) -> #N/A | AX114: =1000/(2*PI()*$Z114*$C$55*$C$51*0.000001) -> 141.09481 | AY114: =2*PI()*$Z114*((0.000000001*$C$53)/$C$55)*1000 -> 0.014137167 | AZ114: =($C$52)/$C$55 -> 0.125 | BA114: =IF($C$50="Yes", SQRT(AZ114^(2)+ABS(AX114-AY114)^(2)), NA()) -> 141.08073
Z115: 350000 | AA115: {=_xlfn.IFS(AND($C$64="Yes",$C$78="Yes",$C$92="Yes",$C$50="Yes"),1/((1/AG115)+(1/AL115)+(1/AQ115)+(1/AV115)+(1/BA115)),AND($C$64="Yes",$C$78="Yes",$C$92="Yes",$C$50="No"),1/((1/AG115)+(1/AL115)+(1/AQ115)+(1/AV115)),AND($C$64="Yes",$C$78="Yes",$C$92="No",$C$50="No"),1/((1/AG115)+(1/AL115)+(1/AQ115)),AND($C$64="Yes",$C$78="No",$C$92="No",$C$50="No"),1/((1/AG115)+(1/AL115)),AND($C$64="No",$C$78="No",$C$92="No",$C$50="No"),1/((1/AG115)),AND($C$64="Yes",$C$78="No",$C$92="No",$C$50="Yes"),1/((1/AG115)+(1/AL115)+(1/BA115)), AND($C$64="No",$C$78="No",$C$92="No",$C$50="Yes"),1/((1/AG115)+(1/BA115)), AND($C$64="No",$C$78="Yes",$C$92="No",$C$50="Yes"),1/((1/AG115)+(1/AQ115)+(1/BA115)))} -> 0.41395822 | AB115: =$C$29 -> 0.79935872 | AD115: =1000/(2*PI()*$Z115*$C$41*$C$37*0.000001) -> 0.086122805 | AE115: =2*PI()*$Z115*((0.000000001*$C$39)/$C$41)*1000 -> 0.45814893 | AF115: =($C$38)/$C$41 -> 0.25 | AG115: =SQRT(AF115^(2)+ABS(AD115-AE115)^(2)) -> 0.44822253 | AI115: =1000/(2*PI()*$Z115*$C$69*$C$65*0.000001) -> 5.6841051 | AJ115: =2*PI()*$Z115*((0.000000001*$C$67)/$C$69)*1000 -> 0.016493361 | AK115: =($C$66)/$C$69 -> 0.125 | AL115: =IF($C$64="Yes", SQRT(AK115^(2)+ABS(AI115-AJ115)^(2)), NA()) -> 5.66899 | AN115: =1000/(2*PI()*$Z115*$C$82*$C$79*0.000001) -> 45.472841 | AO115: =2*PI()*$Z115*((0.000000001*$C$81)/$C$82)*1000 -> 1.3194689 | AP115: =($C$80)/$C$82 -> 10 | AQ115: =IF($C$78="Yes", SQRT(AP115^(2)+ABS(AN115-AO115)^(2)), NA()) -> #N/A | AS115: =1000/(2*PI()*$Z115*$C$97*$C$93*0.000001) -> 688.98244 | AT115: =2*PI()*$Z115*((0.000000001*$C$95)/$C$97)*1000 -> 0.65973446 | AU115: =($C$94)/$C$97 -> 5 | AV115: =IF($C$92="Yes", SQRT(AU115^(2)+ABS(AS115-AT115)^(2)), NA()) -> #N/A | AX115: =1000/(2*PI()*$Z115*$C$55*$C$51*0.000001) -> 120.93841 | AY115: =2*PI()*$Z115*((0.000000001*$C$53)/$C$55)*1000 -> 0.016493361 | AZ115: =($C$52)/$C$55 -> 0.125 | BA115: =IF($C$50="Yes", SQRT(AZ115^(2)+ABS(AX115-AY115)^(2)), NA()) -> 120.92198
Z116: 400000 | AA116: {=_xlfn.IFS(AND($C$64="Yes",$C$78="Yes",$C$92="Yes",$C$50="Yes"),1/((1/AG116)+(1/AL116)+(1/AQ116)+(1/AV116)+(1/BA116)),AND($C$64="Yes",$C$78="Yes",$C$92="Yes",$C$50="No"),1/((1/AG116)+(1/AL116)+(1/AQ116)+(1/AV116)),AND($C$64="Yes",$C$78="Yes",$C$92="No",$C$50="No"),1/((1/AG116)+(1/AL116)+(1/AQ116)),AND($C$64="Yes",$C$78="No",$C$92="No",$C$50="No"),1/((1/AG116)+(1/AL116)),AND($C$64="No",$C$78="No",$C$92="No",$C$50="No"),1/((1/AG116)),AND($C$64="Yes",$C$78="No",$C$92="No",$C$50="Yes"),1/((1/AG116)+(1/AL116)+(1/BA116)), AND($C$64="No",$C$78="No",$C$92="No",$C$50="Yes"),1/((1/AG116)+(1/BA116)), AND($C$64="No",$C$78="Yes",$C$92="No",$C$50="Yes"),1/((1/AG116)+(1/AQ116)+(1/BA116)))} -> 0.46304828 | AB116: =$C$29 -> 0.79935872 | AD116: =1000/(2*PI()*$Z116*$C$41*$C$37*0.000001) -> 0.075357454 | AE116: =2*PI()*$Z116*((0.000000001*$C$39)/$C$41)*1000 -> 0.52359878 | AF116: =($C$38)/$C$41 -> 0.25 | AG116: =SQRT(AF116^(2)+ABS(AD116-AE116)^(2)) -> 0.51324486 | AI116: =1000/(2*PI()*$Z116*$C$69*$C$65*0.000001) -> 4.973592 | AJ116: =2*PI()*$Z116*((0.000000001*$C$67)/$C$69)*1000 -> 0.018849556 | AK116: =($C$66)/$C$69 -> 0.125 | AL116: =IF($C$64="Yes", SQRT(AK116^(2)+ABS(AI116-AJ116)^(2)), NA()) -> 4.9563189 | AN116: =1000/(2*PI()*$Z116*$C$82*$C$79*0.000001) -> 39.788736 | AO116: =2*PI()*$Z116*((0.000000001*$C$81)/$C$82)*1000 -> 1.5079645 | AP116: =($C$80)/$C$82 -> 10 | AQ116: =IF($C$78="Yes", SQRT(AP116^(2)+ABS(AN116-AO116)^(2)), NA()) -> #N/A | AS116: =1000/(2*PI()*$Z116*$C$97*$C$93*0.000001) -> 602.85963 | AT116: =2*PI()*$Z116*((0.000000001*$C$95)/$C$97)*1000 -> 0.75398224 | AU116: =($C$94)/$C$97 -> 5 | AV116: =IF($C$92="Yes", SQRT(AU116^(2)+ABS(AS116-AT116)^(2)), NA()) -> #N/A | AX116: =1000/(2*PI()*$Z116*$C$55*$C$51*0.000001) -> 105.82111 | AY116: =2*PI()*$Z116*((0.000000001*$C$53)/$C$55)*1000 -> 0.018849556 | AZ116: =($C$52)/$C$55 -> 0.125 | BA116: =IF($C$50="Yes", SQRT(AZ116^(2)+ABS(AX116-AY116)^(2)), NA()) -> 105.80233
... Z182: 1000000000 | AA182: {=_xlfn.IFS(AND($C$64="Yes",$C$78="Yes",$C$92="Yes",$C$50="Yes"),1/((1/AG182)+(1/AL182)+(1/AQ182)+(1/AV182)+(1/BA182)),AND($C$64="Yes",$C$78="Yes",$C$92="Yes",$C$50="No"),1/((1/AG182)+(1/AL182)+(1/AQ182)+(1/AV182)),AND($C$64="Yes",$C$78="Yes",$C$92="No",$C$50="No"),1/((1/AG182)+(1/AL182)+(1/AQ182)),AND($C$64="Yes",$C$78="No",$C$92="No",$C$50="No"),1/((1/AG182)+(1/AL182)),AND($C$64="No",$C$78="No",$C$92="No",$C$50="No"),1/((1/AG182)),AND($C$64="Yes",$C$78="No",$C$92="No",$C$50="Yes"),1/((1/AG182)+(1/AL182)+(1/BA182)), AND($C$64="No",$C$78="No",$C$92="No",$C$50="Yes"),1/((1/AG182)+(1/BA182)), AND($C$64="No",$C$78="Yes",$C$92="No",$C$50="Yes"),1/((1/AG182)+(1/AQ182)+(1/BA182)))} -> 23.134714 | AB182: =$C$29 -> 0.79935872 | AD182: =1000/(2*PI()*$Z182*$C$41*$C$37*0.000001) -> 3.0142982e-05 | AE182: =2*PI()*$Z182*((0.000000001*$C$39)/$C$41)*1000 -> 1308.9969 | AF182: =($C$38)/$C$41 -> 0.25 | AG182: =SQRT(AF182^(2)+ABS(AD182-AE182)^(2)) -> 1308.9969 | AI182: =1000/(2*PI()*$Z182*$C$69*$C$65*0.000001) -> 0.0019894368 | AJ182: =2*PI()*$Z182*((0.000000001*$C$67)/$C$69)*1000 -> 47.12389 | AK182: =($C$66)/$C$69 -> 0.125 | AL182: =IF($C$64="Yes", SQRT(AK182^(2)+ABS(AI182-AJ182)^(2)), NA()) -> 47.122066 | AN182: =1000/(2*PI()*$Z182*$C$82*$C$79*0.000001) -> 0.015915494 | AO182: =2*PI()*$Z182*((0.000000001*$C$81)/$C$82)*1000 -> 3769.9112 | AP182: =($C$80)/$C$82 -> 10 | AQ182: =IF($C$78="Yes", SQRT(AP182^(2)+ABS(AN182-AO182)^(2)), NA()) -> #N/A | AS182: =1000/(2*PI()*$Z182*$C$97*$C$93*0.000001) -> 0.24114385 | AT182: =2*PI()*$Z182*((0.000000001*$C$95)/$C$97)*1000 -> 1884.9556 | AU182: =($C$94)/$C$97 -> 5 | AV182: =IF($C$92="Yes", SQRT(AU182^(2)+ABS(AS182-AT182)^(2)), NA()) -> #N/A | AX182: =1000/(2*PI()*$Z182*$C$55*$C$51*0.000001) -> 0.042328442 | AY182: =2*PI()*$Z182*((0.000000001*$C$53)/$C$55)*1000 -> 47.12389 | AZ182: =($C$52)/$C$55 -> 0.125 | BA182: =IF($C$50="Yes", SQRT(AZ182^(2)+ABS(AX182-AY182)^(2)), NA()) -> 47.081727

Sheet CIN Network Design
D2: =A103 -> GOOD
D3: =A105 -> GOOD
D4: =A107 -> GOOD
D5: =A108 -> GOOD
D6: =A109 -> GOOD
D7: =A124 -> GOOD
D8: =A131 -> GOOD
D9: =A138 -> GOOD
B23: These cells are inputs
B24: These cells are the output
B25: These cells are automatically copied from the Main tab for convenience
Y27: mΩ | Z27: mΩ | AA27: mΩ | AB27: mΩ | AC27: mΩ | AH27: mΩ | AM27: mΩ | AR27: mΩ
B28: Target Max ΔVINpp due to Input Ripple (ΔVIN(TARGET, MAX, RIPPLE, PEAK-PEAK)) | C28: 75 | D28: mV | X28: FREQ (Hz) | Y28: ZIN(TOTAL) | Z28: ZTARGET(CIN, RIPPLE) | AA28: Z(TARGET, ESR, RIPPLE) | AB28: Z(TARGET, STEP) | AC28: Z(TARGET, TRANSITION) | AE28: XC1 (mΩ) | AF28: XESL1 (mΩ) | AG28: ESR1 (mΩ) | AH28: Z1(TOTAL) | AJ28: XC2 (mΩ) | AK28: XESL2 (mΩ) | AL28: ESR2 (mΩ) | AM28: Z2(TOTAL) | AO28: XC2 (mΩ) | AP28: XESL3 (mΩ) | AQ28: ESR3 (mΩ) | AR28: Z3(TOTAL) | AT28: fSTEP | AU28: y-value
B29: Target Max ΔVINpp due to Load Step (ΔVIN(TARGET, MAX, STEP, PEAK-PEAK)) | C29: 100 | D29: mV | X29: 1 | Y29: {=_xlfn.IFS(AND($C$69="Yes", $C$80="Yes"),1/((1/AH29)+(1/AM29)+(1/AR29)), AND($C$69="Yes", $C$80="No"), 1/((1/AH29)+(1/AM29)), AND($C$69="No", $C$80="Yes"), 1/((1/AH29)+(1/AR29)), AND($C$69="No", $C$80="No"), 1/(1/AH29))} -> 2384701 | Z29: =$C$49 -> 9.5231759 | AA29: =$C$47 -> 3.2727273 | AB29: =$C$53 -> 87.272727 | AC29: =$C$57 -> 4 | AE29: =1000/(2*PI()*$X29*$C$62*$C$59*0.000001) -> 2418768.1 | AF29: =2*PI()*$X29*((0.000000001*$C$61)/$C$62)*1000 -> 2.6927937e-07 | AG29: =($C$60)/$C$62 -> 0.71428571 | AH29: =SQRT(AG29^(2)+ABS(AE29-AF29)^(2)) -> 2418768.1 | AJ29: =1000/(2*PI()*$X29*$C$73*$C$70*0.000001) -> 3386275.4 | AK29: =2*PI()*$X29*((0.000000001*$C$72)/$C$73)*1000 -> 3.1415927e-05 | AL29: =($C$71)/$C$73 -> 60 | AM29: =IF($C$69="Yes", SQRT(AL29^(2)+ABS(AJ29-AK29)^(2)), 0.000000001) -> 1e-09 | AO29: =1000/(2*PI()*$X29*$C$84*$C$81*0.000001) -> 1.6931377e+08 | AP29: =2*PI()*$X29*((0.000000001*$C$83)/$C$84)*1000 -> 1.8849556e-07 | AQ29: =($C$82)/$C$84 -> 0.5 | AR29: =IF($C$80="Yes", SQRT(AQ29^(2)+ABS(AO29-AP29)^(2)), 0.000000001) -> 1.6931377e+08 | AT29: =C51*1000 -> 277797.72 | AU29: 0.0001
B30: Target Max ΔVINpp due to FET transition (ΔVIN(TARGET, MAX, TRANSITION, PEAK-PEAK)) | C30: 100 | D30: mV | X30: 2 | Y30: {=_xlfn.IFS(AND($C$69="Yes", $C$80="Yes"),1/((1/AH30)+(1/AM30)+(1/AR30)), AND($C$69="Yes", $C$80="No"), 1/((1/AH30)+(1/AM30)), AND($C$69="No", $C$80="Yes"), 1/((1/AH30)+(1/AR30)), AND($C$69="No", $C$80="No"), 1/(1/AH30))} -> 1192350.5 | Z30: =$C$49 -> 9.5231759 | AA30: =$C$47 -> 3.2727273 | AB30: =$C$53 -> 87.272727 | AC30: =$C$57 -> 4 | AE30: =1000/(2*PI()*$X30*$C$62*$C$59*0.000001) -> 1209384.1 | AF30: =2*PI()*$X30*((0.000000001*$C$61)/$C$62)*1000 -> 5.3855874e-07 | AG30: =($C$60)/$C$62 -> 0.71428571 | AH30: =SQRT(AG30^(2)+ABS(AE30-AF30)^(2)) -> 1209384.1 | AJ30: =1000/(2*PI()*$X30*$C$73*$C$70*0.000001) -> 1693137.7 | AK30: =2*PI()*$X30*((0.000000001*$C$72)/$C$73)*1000 -> 6.2831853e-05 | AL30: =($C$71)/$C$73 -> 60 | AM30: =IF($C$69="Yes", SQRT(AL30^(2)+ABS(AJ30-AK30)^(2)), 0.000000001) -> 1e-09 | AO30: =1000/(2*PI()*$X30*$C$84*$C$81*0.000001) -> 84656885 | AP30: =2*PI()*$X30*((0.000000001*$C$83)/$C$84)*1000 -> 3.7699112e-07 | AQ30: =($C$82)/$C$84 -> 0.5 | AR30: =IF($C$80="Yes", SQRT(AQ30^(2)+ABS(AO30-AP30)^(2)), 0.000000001) -> 84656885
B31: Max Input Inductance (LZ(IN)) | C31: 50 | D31: nH | X31: 3 | Y31: {=_xlfn.IFS(AND($C$69="Yes", $C$80="Yes"),1/((1/AH31)+(1/AM31)+(1/AR31)), AND($C$69="Yes", $C$80="No"), 1/((1/AH31)+(1/AM31)), AND($C$69="No", $C$80="Yes"), 1/((1/AH31)+(1/AR31)), AND($C$69="No", $C$80="No"), 1/(1/AH31))} -> 794900.33 | Z31: =$C$49 -> 9.5231759 | AA31: =$C$47 -> 3.2727273 | AB31: =$C$53 -> 87.272727 | AC31: =$C$57 -> 4 | AE31: =1000/(2*PI()*$X31*$C$62*$C$59*0.000001) -> 806256.04 | AF31: =2*PI()*$X31*((0.000000001*$C$61)/$C$62)*1000 -> 8.0783811e-07 | AG31: =($C$60)/$C$62 -> 0.71428571 | AH31: =SQRT(AG31^(2)+ABS(AE31-AF31)^(2)) -> 806256.04 | AJ31: =1000/(2*PI()*$X31*$C$73*$C$70*0.000001) -> 1128758.5 | AK31: =2*PI()*$X31*((0.000000001*$C$72)/$C$73)*1000 -> 9.424778e-05 | AL31: =($C$71)/$C$73 -> 60 | AM31: =IF($C$69="Yes", SQRT(AL31^(2)+ABS(AJ31-AK31)^(2)), 0.000000001) -> 1e-09 | AO31: =1000/(2*PI()*$X31*$C$84*$C$81*0.000001) -> 56437923 | AP31: =2*PI()*$X31*((0.000000001*$C$83)/$C$84)*1000 -> 5.6548668e-07 | AQ31: =($C$82)/$C$84 -> 0.5 | AR31: =IF($C$80="Yes", SQRT(AQ31^(2)+ABS(AO31-AP31)^(2)), 0.000000001) -> 56437923 | AT31: fSW | AU31: y-value
B32: FET Transition Time (tTRANSITION) | C32: 10 | D32: ns | X32: 4 | Y32: {=_xlfn.IFS(AND($C$69="Yes", $C$80="Yes"),1/((1/AH32)+(1/AM32)+(1/AR32)), AND($C$69="Yes", $C$80="No"), 1/((1/AH32)+(1/AM32)), AND($C$69="No", $C$80="Yes"), 1/((1/AH32)+(1/AR32)), AND($C$69="No", $C$80="No"), 1/(1/AH32))} -> 596175.24 | Z32: =$C$49 -> 9.5231759 | AA32: =$C$47 -> 3.2727273 | AB32: =$C$53 -> 87.272727 | AC32: =$C$57 -> 4 | AE32: =1000/(2*PI()*$X32*$C$62*$C$59*0.000001) -> 604692.03 | AF32: =2*PI()*$X32*((0.000000001*$C$61)/$C$62)*1000 -> 1.0771175e-06 | AG32: =($C$60)/$C$62 -> 0.71428571 | AH32: =SQRT(AG32^(2)+ABS(AE32-AF32)^(2)) -> 604692.03 | AJ32: =1000/(2*PI()*$X32*$C$73*$C$70*0.000001) -> 846568.85 | AK32: =2*PI()*$X32*((0.000000001*$C$72)/$C$73)*1000 -> 0.00012566371 | AL32: =($C$71)/$C$73 -> 60 | AM32: =IF($C$69="Yes", SQRT(AL32^(2)+ABS(AJ32-AK32)^(2)), 0.000000001) -> 1e-09 | AO32: =1000/(2*PI()*$X32*$C$84*$C$81*0.000001) -> 42328442 | AP32: =2*PI()*$X32*((0.000000001*$C$83)/$C$84)*1000 -> 7.5398224e-07 | AQ32: =($C$82)/$C$84 -> 0.5 | AR32: =IF($C$80="Yes", SQRT(AQ32^(2)+ABS(AO32-AP32)^(2)), 0.000000001) -> 42328442 | AT32: =C39*1000 -> 500000 | AU32: 0.0001
X33: 5 | Y33: {=_xlfn.IFS(AND($C$69="Yes", $C$80="Yes"),1/((1/AH33)+(1/AM33)+(1/AR33)), AND($C$69="Yes", $C$80="No"), 1/((1/AH33)+(1/AM33)), AND($C$69="No", $C$80="Yes"), 1/((1/AH33)+(1/AR33)), AND($C$69="No", $C$80="No"), 1/(1/AH33))} -> 476940.2 | Z33: =$C$49 -> 9.5231759 | AA33: =$C$47 -> 3.2727273 | AB33: =$C$53 -> 87.272727 | AC33: =$C$57 -> 4 | AE33: =1000/(2*PI()*$X33*$C$62*$C$59*0.000001) -> 483753.63 | AF33: =2*PI()*$X33*((0.000000001*$C$61)/$C$62)*1000 -> 1.3463969e-06 | AG33: =($C$60)/$C$62 -> 0.71428571 | AH33: =SQRT(AG33^(2)+ABS(AE33-AF33)^(2)) -> 483753.63 | AJ33: =1000/(2*PI()*$X33*$C$73*$C$70*0.000001) -> 677255.08 | AK33: =2*PI()*$X33*((0.000000001*$C$72)/$C$73)*1000 -> 0.00015707963 | AL33: =($C$71)/$C$73 -> 60 | AM33: =IF($C$69="Yes", SQRT(AL33^(2)+ABS(AJ33-AK33)^(2)), 0.000000001) -> 1e-09 | AO33: =1000/(2*PI()*$X33*$C$84*$C$81*0.000001) -> 33862754 | AP33: =2*PI()*$X33*((0.000000001*$C$83)/$C$84)*1000 -> 9.424778e-07 | AQ33: =($C$82)/$C$84 -> 0.5 | AR33: =IF($C$80="Yes", SQRT(AQ33^(2)+ABS(AO33-AP33)^(2)), 0.000000001) -> 33862754
B34: Input Voltage (VIN) | C34: =Main!C9 -> 12 | D34: V | X34: 6 | Y34: {=_xlfn.IFS(AND($C$69="Yes", $C$80="Yes"),1/((1/AH34)+(1/AM34)+(1/AR34)), AND($C$69="Yes", $C$80="No"), 1/((1/AH34)+(1/AM34)), AND($C$69="No", $C$80="Yes"), 1/((1/AH34)+(1/AR34)), AND($C$69="No", $C$80="No"), 1/(1/AH34))} -> 397450.16 | Z34: =$C$49 -> 9.5231759 | AA34: =$C$47 -> 3.2727273 | AB34: =$C$53 -> 87.272727 | AC34: =$C$57 -> 4 | AE34: =1000/(2*PI()*$X34*$C$62*$C$59*0.000001) -> 403128.02 | AF34: =2*PI()*$X34*((0.000000001*$C$61)/$C$62)*1000 -> 1.6156762e-06 | AG34: =($C$60)/$C$62 -> 0.71428571 | AH34: =SQRT(AG34^(2)+ABS(AE34-AF34)^(2)) -> 403128.02 | AJ34: =1000/(2*PI()*$X34*$C$73*$C$70*0.000001) -> 564379.23 | AK34: =2*PI()*$X34*((0.000000001*$C$72)/$C$73)*1000 -> 0.00018849556 | AL34: =($C$71)/$C$73 -> 60 | AM34: =IF($C$69="Yes", SQRT(AL34^(2)+ABS(AJ34-AK34)^(2)), 0.000000001) -> 1e-09 | AO34: =1000/(2*PI()*$X34*$C$84*$C$81*0.000001) -> 28218962 | AP34: =2*PI()*$X34*((0.000000001*$C$83)/$C$84)*1000 -> 1.1309734e-06 | AQ34: =($C$82)/$C$84 -> 0.5 | AR34: =IF($C$80="Yes", SQRT(AQ34^(2)+ABS(AO34-AP34)^(2)), 0.000000001) -> 28218962 | AT34: fTRANSITION | AU34: y-value
B35: Calculated Output Voltage (VOUT) | C35: =Main!C27 -> 0.9991984 | D35: V | X35: 7 | Y35: {=_xlfn.IFS(AND($C$69="Yes", $C$80="Yes"),1/((1/AH35)+(1/AM35)+(1/AR35)), AND($C$69="Yes", $C$80="No"), 1/((1/AH35)+(1/AM35)), AND($C$69="No", $C$80="Yes"), 1/((1/AH35)+(1/AR35)), AND($C$69="No", $C$80="No"), 1/(1/AH35))} -> 340671.57 | Z35: =$C$49 -> 9.5231759 | AA35: =$C$47 -> 3.2727273 | AB35: =$C$53 -> 87.272727 | AC35: =$C$57 -> 4 | AE35: =1000/(2*PI()*$X35*$C$62*$C$59*0.000001) -> 345538.3 | AF35: =2*PI()*$X35*((0.000000001*$C$61)/$C$62)*1000 -> 1.8849556e-06 | AG35: =($C$60)/$C$62 -> 0.71428571 | AH35: =SQRT(AG35^(2)+ABS(AE35-AF35)^(2)) -> 345538.3 | AJ35: =1000/(2*PI()*$X35*$C$73*$C$70*0.000001) -> 483753.63 | AK35: =2*PI()*$X35*((0.000000001*$C$72)/$C$73)*1000 -> 0.00021991149 | AL35: =($C$71)/$C$73 -> 60 | AM35: =IF($C$69="Yes", SQRT(AL35^(2)+ABS(AJ35-AK35)^(2)), 0.000000001) -> 1e-09 | AO35: =1000/(2*PI()*$X35*$C$84*$C$81*0.000001) -> 24187681 | AP35: =2*PI()*$X35*((0.000000001*$C$83)/$C$84)*1000 -> 1.3194689e-06 | AQ35: =($C$82)/$C$84 -> 0.5 | AR35: =IF($C$80="Yes", SQRT(AQ35^(2)+ABS(AO35-AP35)^(2)), 0.000000001) -> 24187681 | AT35: =C55*1000000 -> 35000000 | AU35: 0.0001
B36: Selected Inductor Value (LSEL) | C36: =Main!C37 -> 220 | D36: nH | X36: 8 | Y36: {=_xlfn.IFS(AND($C$69="Yes", $C$80="Yes"),1/((1/AH36)+(1/AM36)+(1/AR36)), AND($C$69="Yes", $C$80="No"), 1/((1/AH36)+(1/AM36)), AND($C$69="No", $C$80="Yes"), 1/((1/AH36)+(1/AR36)), AND($C$69="No", $C$80="No"), 1/(1/AH36))} -> 298087.62 | Z36: =$C$49 -> 9.5231759 | AA36: =$C$47 -> 3.2727273 | AB36: =$C$53 -> 87.272727 | AC36: =$C$57 -> 4 | AE36: =1000/(2*PI()*$X36*$C$62*$C$59*0.000001) -> 302346.02 | AF36: =2*PI()*$X36*((0.000000001*$C$61)/$C$62)*1000 -> 2.154235e-06 | AG36: =($C$60)/$C$62 -> 0.71428571 | AH36: =SQRT(AG36^(2)+ABS(AE36-AF36)^(2)) -> 302346.02 | AJ36: =1000/(2*PI()*$X36*$C$73*$C$70*0.000001) -> 423284.42 | AK36: =2*PI()*$X36*((0.000000001*$C$72)/$C$73)*1000 -> 0.00025132741 | AL36: =($C$71)/$C$73 -> 60 | AM36: =IF($C$69="Yes", SQRT(AL36^(2)+ABS(AJ36-AK36)^(2)), 0.000000001) -> 1e-09 | AO36: =1000/(2*PI()*$X36*$C$84*$C$81*0.000001) -> 21164221 | AP36: =2*PI()*$X36*((0.000000001*$C$83)/$C$84)*1000 -> 1.5079645e-06 | AQ36: =($C$82)/$C$84 -> 0.5 | AR36: =IF($C$80="Yes", SQRT(AQ36^(2)+ABS(AO36-AP36)^(2)), 0.000000001) -> 21164221
B37: Max Load Current (IOUT(MAX)) | C37: =Main!C11 -> 50 | D37: A | X37: 9 | Y37: {=_xlfn.IFS(AND($C$69="Yes", $C$80="Yes"),1/((1/AH37)+(1/AM37)+(1/AR37)), AND($C$69="Yes", $C$80="No"), 1/((1/AH37)+(1/AM37)), AND($C$69="No", $C$80="Yes"), 1/((1/AH37)+(1/AR37)), AND($C$69="No", $C$80="No"), 1/(1/AH37))} -> 264966.78 | Z37: =$C$49 -> 9.5231759 | AA37: =$C$47 -> 3.2727273 | AB37: =$C$53 -> 87.272727 | AC37: =$C$57 -> 4 | AE37: =1000/(2*PI()*$X37*$C$62*$C$59*0.000001) -> 268752.01 | AF37: =2*PI()*$X37*((0.000000001*$C$61)/$C$62)*1000 -> 2.4235143e-06 | AG37: =($C$60)/$C$62 -> 0.71428571 | AH37: =SQRT(AG37^(2)+ABS(AE37-AF37)^(2)) -> 268752.01 | AJ37: =1000/(2*PI()*$X37*$C$73*$C$70*0.000001) -> 376252.82 | AK37: =2*PI()*$X37*((0.000000001*$C$72)/$C$73)*1000 -> 0.00028274334 | AL37: =($C$71)/$C$73 -> 60 | AM37: =IF($C$69="Yes", SQRT(AL37^(2)+ABS(AJ37-AK37)^(2)), 0.000000001) -> 1e-09 | AO37: =1000/(2*PI()*$X37*$C$84*$C$81*0.000001) -> 18812641 | AP37: =2*PI()*$X37*((0.000000001*$C$83)/$C$84)*1000 -> 1.69646e-06 | AQ37: =($C$82)/$C$84 -> 0.5 | AR37: =IF($C$80="Yes", SQRT(AQ37^(2)+ABS(AO37-AP37)^(2)), 0.000000001) -> 18812641
B38: Output Load Step (ISTEP) | C38: =Main!G10 -> 25 | D38: A | X38: 10 | Y38: {=_xlfn.IFS(AND($C$69="Yes", $C$80="Yes"),1/((1/AH38)+(1/AM38)+(1/AR38)), AND($C$69="Yes", $C$80="No"), 1/((1/AH38)+(1/AM38)), AND($C$69="No", $C$80="Yes"), 1/((1/AH38)+(1/AR38)), AND($C$69="No", $C$80="No"), 1/(1/AH38))} -> 238470.1 | Z38: =$C$49 -> 9.5231759 | AA38: =$C$47 -> 3.2727273 | AB38: =$C$53 -> 87.272727 | AC38: =$C$57 -> 4 | AE38: =1000/(2*PI()*$X38*$C$62*$C$59*0.000001) -> 241876.81 | AF38: =2*PI()*$X38*((0.000000001*$C$61)/$C$62)*1000 -> 2.6927937e-06 | AG38: =($C$60)/$C$62 -> 0.71428571 | AH38: =SQRT(AG38^(2)+ABS(AE38-AF38)^(2)) -> 241876.81 | AJ38: =1000/(2*PI()*$X38*$C$73*$C$70*0.000001) -> 338627.54 | AK38: =2*PI()*$X38*((0.000000001*$C$72)/$C$73)*1000 -> 0.00031415927 | AL38: =($C$71)/$C$73 -> 60 | AM38: =IF($C$69="Yes", SQRT(AL38^(2)+ABS(AJ38-AK38)^(2)), 0.000000001) -> 1e-09 | AO38: =1000/(2*PI()*$X38*$C$84*$C$81*0.000001) -> 16931377 | AP38: =2*PI()*$X38*((0.000000001*$C$83)/$C$84)*1000 -> 1.8849556e-06 | AQ38: =($C$82)/$C$84 -> 0.5 | AR38: =IF($C$80="Yes", SQRT(AQ38^(2)+ABS(AO38-AP38)^(2)), 0.000000001) -> 16931377
B39: Switching Frequency (fSW) | C39: =Main!C12 -> 500 | D39: kHz | X39: 15 | Y39: {=_xlfn.IFS(AND($C$69="Yes", $C$80="Yes"),1/((1/AH39)+(1/AM39)+(1/AR39)), AND($C$69="Yes", $C$80="No"), 1/((1/AH39)+(1/AM39)), AND($C$69="No", $C$80="Yes"), 1/((1/AH39)+(1/AR39)), AND($C$69="No", $C$80="No"), 1/(1/AH39))} -> 158980.07 | Z39: =$C$49 -> 9.5231759 | AA39: =$C$47 -> 3.2727273 | AB39: =$C$53 -> 87.272727 | AC39: =$C$57 -> 4 | AE39: =1000/(2*PI()*$X39*$C$62*$C$59*0.000001) -> 161251.21 | AF39: =2*PI()*$X39*((0.000000001*$C$61)/$C$62)*1000 -> 4.0391906e-06 | AG39: =($C$60)/$C$62 -> 0.71428571 | AH39: =SQRT(AG39^(2)+ABS(AE39-AF39)^(2)) -> 161251.21 | AJ39: =1000/(2*PI()*$X39*$C$73*$C$70*0.000001) -> 225751.69 | AK39: =2*PI()*$X39*((0.000000001*$C$72)/$C$73)*1000 -> 0.0004712389 | AL39: =($C$71)/$C$73 -> 60 | AM39: =IF($C$69="Yes", SQRT(AL39^(2)+ABS(AJ39-AK39)^(2)), 0.000000001) -> 1e-09 | AO39: =1000/(2*PI()*$X39*$C$84*$C$81*0.000001) -> 11287585 | AP39: =2*PI()*$X39*((0.000000001*$C$83)/$C$84)*1000 -> 2.8274334e-06 | AQ39: =($C$82)/$C$84 -> 0.5 | AR39: =IF($C$80="Yes", SQRT(AQ39^(2)+ABS(AO39-AP39)^(2)), 0.000000001) -> 11287585
