Workbook
Name CCOMP_MIN: #REF!
Name CDROOP: #REF!
Name COUT_MIN: #REF!
Name COUT_QTY: #REF!
Name COUT_ZERO: #REF!
Name CPOLE_MIN: #REF!
Name ESR_EQUIV: #REF!
Name ft: #REF!
Name RCOMP: #REF!
Name RDROOP: #REF!
Name Ripple_percent: #REF!
Name RSEN: #REF!
Name RSLOPE: #REF!

Sheet GaN FET_multiphase
A1: Input Data Into Green Cells; Some cells are drop down menus
A2: Inductor | B2: XAL1010 - 0.22uH | D2: # of phases | E2: 2 | F2: Load current shared between phases.
A3: High Side FET | B3: ISL70020 - 40V; Packaged | D3: # of high side FETs per phase | E3: 1
A4: Low Side FET | B4: ISL70020 - 40V; Packaged | D4: # of low side FETs per phase | E4: 2
A5: PVIN | B5: 5 | C5: V | D5: Input Voltage | F5: tr-H | G5: 8 | H5: ns | I5: High Side FET Rise time
A6: VOUT | B6: 1 | C6: V | D6: Output Voltage | F6: tf-H | G6: 8 | H6: ns | I6: High Side FET Fall time
A7: Duty | B7: =B6/B5*100 -> 20 | C7: % | D7: Calculated Duty Cycle | F7: tr-L | G7: 8 | H7: ns | I7: Low Side FET Rise time
A8: Fsw | B8: 500 | C8: kHz | D8: Switching Frequency | F8: tr-L | G8: 8 | H8: ns | I8: Low Side FET Fall time
A9: Ton | B9: =B7/100/(B8*1000)*1000000000 -> 400 | C9: ns | D9: Buck On Time | F9: Coss-H | G9: =VLOOKUP(B3,Components!C24:H30,4,0)*'GaN FET_multiphase'!E3 -> 1620 | H9: pF | I9: High Side FET Ouput Capacitance
A10: Toff | B10: =(1-B7/100)/(B8*1000)*1000000000 -> 1600 | C10: ns | D10: Buck Off Time | F10: Coss-L | G10: =VLOOKUP(B4,Components!C24:H27,4,0)*'GaN FET_multiphase'!E4 -> 3240 | H10: pF | I10: Low Side FET Output Capacitance
A11: L | B11: =VLOOKUP('GaN FET_multiphase'!B2, Components!C7:E14, 2,0) -> 0.22 | C11: uH | D11: Power Inductor | F11: Vsd-L | G11: =VLOOKUP(B4,Components!C24:H27,5,0) -> 1.8 | H11: V | I11: Low Side FET Source-Drain Voltage
A12: Rdson_up | B12: =VLOOKUP(B3,Components!C24:H30,3,0)/E3 -> 3.5 | C12: mΩ | D12: High Side Rdson per phase | F12: tdt_H | G12: 12 | H12: ns | I12: High to Low dead time
A13: Rdson_down | B13: =VLOOKUP(B4, Components!C24:H30,3,0)/E4 -> 1.75 | C13: mΩ | D13: Low Side Rdson per phase | F13: tdt_L | G13: 12 | H13: ns | I13: Low to High dead time
A14: L_dcr | B14: =VLOOKUP(B2,Components!C7:E14,3,0) -> 0.45 | C14: mΩ | D14: Inductor DCR | F14: Qg_H | G14: =VLOOKUP(B3,Components!C24:H30,6,0)*'GaN FET_multiphase'!E3*E2 -> 38 | H14: nC | I14: High Side FET Gate Charge
A15: L_ac | B15: =VLOOKUP(B2,Components!C7:K14,9,0) -> 207 | C15: mW | D15: Core + AC winding Loss | F15: Qg_L | G15: =VLOOKUP(B4,Components!C24:H27,6,0)*'GaN FET_multiphase'!E4*E2 -> 76 | H15: nC | I15: Low Side FET Gate Charge
A16: Rsense | B16: =0.05/(B17/E2)*1000 -> 2 | C16: mΩ | D16: Sense Resistor | F16: Vgs | G16: 4.5 | H16: V | I16: FET Gate Voltage
A17: Iout_max | B17: 50 | C17: A | D17: Max Load Current | F17: Cout ESR | G17: 5 | H17: mΩ | I17: Output capacitor total ESR
A18: I_delta_on | B18: =(B5-B6)/(B11*0.000001)*B9*0.000000001 -> 7.2727273 | C18: A | D18: Inductor Up Ramp | F18: Cin ESR | G18: 5 | H18: mΩ | I18: Input capacitor total ESR
A19: I_delta_off | B19: =B6/(B11*0.000001)*B10*0.000000001 -> 7.2727273 | C19: A | D19: Inductor Down Ramp | F19: V_dc_ctrl | G19: 5 | H19: V | I19: Controller/Driver Supply Voltage
A20: Ipk_pk/Iout | B20: =B18/(B17/E2)*100 -> 29.090909 | C20: % | D20: Inductor Ripple to Max Current Ratio | F20: I_dc_ctrl | G20: =IF(G19=5, VLOOKUP(B8,'73847+73041'!I9:K34,3,0), IF(G19=12, VLOOKUP(B8,'73847+73041'!I373:K398,3,0))) -> 70.640342 | H20: mA | I20: Controller/Driver Bias Current
B24: Select full load current, or other interesting load: | C24: 50 | D24: =VLOOKUP($C$24,$C$26:$Y$76,2,1) -> 50.044058 | E24: =VLOOKUP($C$24,$C$26:$Y$76,3,1) -> 0.8765427 | F24: =VLOOKUP($C$24,$C$26:$Y$76,4,1) -> 1.7530854 | G24: =VLOOKUP($C$24,$C$26:$Y$76,5,1) -> 2.5044077 | H24: =VLOOKUP($C$24,$C$26:$Y$76,6,1) -> 0.97749174 | I24: =VLOOKUP($C$24,$C$26:$Y$76,7,1) -> 1.0008812 | J24: =VLOOKUP($C$24,$C$26:$Y$76,8,1) -> 0.36031722 | K24: =VLOOKUP($C$24,$C$26:$Y$76,9,1) -> 0.06075 | L24: =VLOOKUP($C$24,$C$26:$Y$76,10,1) -> 1.0809516 | M24: =VLOOKUP($C$24,$C$26:$Y$76,11,1) -> 0.57 | N24: =VLOOKUP($C$24,$C$26:$Y$76,12,1) -> 2.0035262 | O24: =VLOOKUP($C$24,$C$26:$Y$76,13,1) -> 0.022038567 | P24: =VLOOKUP($C$24,$C$26:$Y$76,14,1) -> 0.35320171 | Q24: =VLOOKUP($C$24,$C$26:$Y$76,15,1) -> 11.563194 | R24: =VLOOKUP($C$24,$C$26:$Y$76,16,1) -> 50 | S24: =VLOOKUP($C$24,$C$26:$Y$76,17,1) -> 81.217359 | T24: =VLOOKUP($C$24,$C$26:$Y$76,18,1) -> 50 | U24: =VLOOKUP($C$24,$C$26:$Y$76,19,1) -> 6.1115275 | V24: =VLOOKUP($C$24,$C$26:$Y$76,20,1) -> 5.0984648 | W24: =VLOOKUP($C$24,$C$26:$Y$76,21,1) -> 3.0545342 | X24: =VLOOKUP($C$24,$C$26:$Y$76,22,1) -> 52.853282 | Y24: =VLOOKUP($C$24,$C$26:$Y$76,23,1) -> 44.092184
A25: Factor | B25: Percent of full load | C25: Iout Avg (A) | D25: Iout (A) RMS | E25: High Side FET Pd (W) | F25: Low Side FET Pd (W) | G25: Rsense Pd (W) | H25: L_DCR + AC Pd (W) | I25: High Side FET Switch Pd (W) | J25: Low Side FET Switch Pd (W) | K25: FET Coss Switch Pd (W) | L25: Dead Time Pd (W) | M25: Gate Charge Pd (W) | N25: Cin ESR Pd (W) | O25: Cout ESR Pd (W) | P25: Ctrl/Drv Bias Pd (W) | Q25: Total Pd (W) | R25: Pout (W) | S25: Efficiency (%) | T25: Iout Avg (A) | U25: Conduction Pd (W) | V25: Switching Pd (W) | W25: Ctrl/Drv Bias Pd (%) | X25: Conduction Pd (%) | Y25: Switching Pd (%) | Z25: Peak Eff (%) | AA25: Iout @ Peak Eff (A)
A26: 0 | B26: =C26/$B$17 -> 0 | C26: =$B$17/$E$2*A26/100 -> 0 | D26: =(C26^2 + $B$18^2/12)^0.5 -> 2.0994555 | E26: =(D26/$E$2)^2*$B$12/1000*$B$7/100*$E$2 -> 0.0015426997 | F26: =(D26/$E$2)^2*$B$13/1000*(1-$B$7/100)*$E$2 -> 0.0030853994 | G26: =(D26/$E$2)^2*($B$16/1000)*$E$2 -> 0.0044077135 | H26: =(D26/$E$2)^2*($B$14/1000)*$E$2 + $B$15/1000*$E$2 -> 0.41499174 | I26: =0.5*$B$5*D26/$E$2*($G$5+$G$6)*$E$2*0.000000001*$B$8*1000 -> 0.04198911 | J26: =0.5*$G$11*D26/$E$2*($G$7+$G$8)*$E$2*0.000000001*$B$8*1000 -> 0.01511608 | K26: =0.5*($G$9+$G$10)*$E$2*0.000000000001*($B$5)^2*$B$8*1000 -> 0.06075 | L26: =$G$11*D26/$E$2*($G$12+$G$13)*$E$2*0.000000001*$B$8*1000 -> 0.045348239 | M26: =($G$14+$G$15)*$E$2*0.000000001*$G$19*$B$8*1000 -> 0.57 | N26: =($D26*(($B$5-$B$6)*$B$6)^0.5/$B$5)^2*$G$18/1000 -> 0.0035261708 | O26: =($B$18/(2*3^0.5))^2*$G$17/1000 -> 0.022038567 | P26: =$G$19*$G$20/1000*$E$2/2 -> 0.35320171 | Q26: =SUM(E26:P26) -> 1.5359974 | R26: =$B$6*C26 -> 0 | S26: =R26/(Q26+R26)*100 -> 0 | T26: =$B$17/$E$2*A26/100 -> 0 | U26: =E26+F26+G26+H26+O26 -> 0.44606612 | V26: =SUM(I26:O26) -> 0.75876817 | W26: =P26/Q26*100 -> 22.994942 | X26: =U26/Q26*100 -> 29.040811 | Y26: =V26/Q26*100 -> 49.399052 | Z26: =MAX(S26:S76) -> 84.614338 | AA26: =VLOOKUP(Z26,S26:T76,2,0) -> 22
A27: =A26+2*$E$2 -> 4 | B27: =C27/$B$17 -> 0.02 | C27: =$B$17/$E$2*A27/100 -> 1 | D27: =(C27^2 + $B$18^2/12)^0.5 -> 2.3254491 | E27: =(D27/$E$2)^2*$B$12/1000*$B$7/100*$E$2 -> 0.0018926997 | F27: =(D27/$E$2)^2*$B$13/1000*(1-$B$7/100)*$E$2 -> 0.0037853994 | G27: =(D27/$E$2)^2*($B$16/1000)*$E$2 -> 0.0054077135 | H27: =(D27/$E$2)^2*($B$14/1000)*$E$2 + $B$15/1000*$E$2 -> 0.41521674 | I27: =0.5*$B$5*D27/$E$2*($G$5+$G$6)*$E$2*0.000000001*$B$8*1000 -> 0.046508982 | J27: =0.5*$G$11*D27/$E$2*($G$7+$G$8)*$E$2*0.000000001*$B$8*1000 -> 0.016743233 | K27: =0.5*($G$9+$G$10)*$E$2*0.000000000001*($B$5)^2*$B$8*1000 -> 0.06075 | L27: =$G$11*D27/$E$2*($G$12+$G$13)*$E$2*0.000000001*$B$8*1000 -> 0.0502297 | M27: =($G$14+$G$15)*$E$2*0.000000001*$G$19*$B$8*1000 -> 0.57 | N27: =($D27*(($B$5-$B$6)*$B$6)^0.5/$B$5)^2*$G$18/1000 -> 0.0043261708 | O27: =($B$18/(2*3^0.5))^2*$G$17/1000 -> 0.022038567 | P27: =$G$19*$G$20/1000*$E$2/2 -> 0.35320171 | Q27: =SUM(E27:P27) -> 1.5501009 | R27: =$B$6*C27 -> 1 | S27: =R27/(Q27+R27)*100 -> 39.214134 | T27: =$B$17/$E$2*A27/100 -> 1 | U27: =E27+F27+G27+H27+O27 -> 0.44834112 | V27: =SUM(I27:O27) -> 0.77059665 | W27: =P27/Q27*100 -> 22.785724 | X27: =U27/Q27*100 -> 28.92335 | Y27: =V27/Q27*100 -> 49.712677
A28: =A27+2*$E$2 -> 8 | B28: =C28/$B$17 -> 0.04 | C28: =$B$17/$E$2*A28/100 -> 2 | D28: =(C28^2 + $B$18^2/12)^0.5 -> 2.8996057 | E28: =(D28/$E$2)^2*$B$12/1000*$B$7/100*$E$2 -> 0.0029426997 | F28: =(D28/$E$2)^2*$B$13/1000*(1-$B$7/100)*$E$2 -> 0.0058853994 | G28: =(D28/$E$2)^2*($B$16/1000)*$E$2 -> 0.0084077135 | H28: =(D28/$E$2)^2*($B$14/1000)*$E$2 + $B$15/1000*$E$2 -> 0.41589174 | I28: =0.5*$B$5*D28/$E$2*($G$5+$G$6)*$E$2*0.000000001*$B$8*1000 -> 0.057992115 | J28: =0.5*$G$11*D28/$E$2*($G$7+$G$8)*$E$2*0.000000001*$B$8*1000 -> 0.020877161 | K28: =0.5*($G$9+$G$10)*$E$2*0.000000000001*($B$5)^2*$B$8*1000 -> 0.06075 | L28: =$G$11*D28/$E$2*($G$12+$G$13)*$E$2*0.000000001*$B$8*1000 -> 0.062631484 | M28: =($G$14+$G$15)*$E$2*0.000000001*$G$19*$B$8*1000 -> 0.57 | N28: =($D28*(($B$5-$B$6)*$B$6)^0.5/$B$5)^2*$G$18/1000 -> 0.0067261708 | O28: =($B$18/(2*3^0.5))^2*$G$17/1000 -> 0.022038567 | P28: =$G$19*$G$20/1000*$E$2/2 -> 0.35320171 | Q28: =SUM(E28:P28) -> 1.5873448 | R28: =$B$6*C28 -> 2 | S28: =R28/(Q28+R28)*100 -> 55.751541 | T28: =$B$17/$E$2*A28/100 -> 2 | U28: =E28+F28+G28+H28+O28 -> 0.45516612 | V28: =SUM(I28:O28) -> 0.8010155 | W28: =P28/Q28*100 -> 22.251103 | X28: =U28/Q28*100 -> 28.674685 | Y28: =V28/Q28*100 -> 50.462604
A29: =A28+2*$E$2 -> 12 | B29: =C29/$B$17 -> 0.06 | C29: =$B$17/$E$2*A29/100 -> 3 | D29: =(C29^2 + $B$18^2/12)^0.5 -> 3.6616545 | E29: =(D29/$E$2)^2*$B$12/1000*$B$7/100*$E$2 -> 0.0046926997 | F29: =(D29/$E$2)^2*$B$13/1000*(1-$B$7/100)*$E$2 -> 0.0093853994 | G29: =(D29/$E$2)^2*($B$16/1000)*$E$2 -> 0.013407713 | H29: =(D29/$E$2)^2*($B$14/1000)*$E$2 + $B$15/1000*$E$2 -> 0.41701674 | I29: =0.5*$B$5*D29/$E$2*($G$5+$G$6)*$E$2*0.000000001*$B$8*1000 -> 0.07323309 | J29: =0.5*$G$11*D29/$E$2*($G$7+$G$8)*$E$2*0.000000001*$B$8*1000 -> 0.026363912 | K29: =0.5*($G$9+$G$10)*$E$2*0.000000000001*($B$5)^2*$B$8*1000 -> 0.06075 | L29: =$G$11*D29/$E$2*($G$12+$G$13)*$E$2*0.000000001*$B$8*1000 -> 0.079091737 | M29: =($G$14+$G$15)*$E$2*0.000000001*$G$19*$B$8*1000 -> 0.57 | N29: =($D29*(($B$5-$B$6)*$B$6)^0.5/$B$5)^2*$G$18/1000 -> 0.010726171 | O29: =($B$18/(2*3^0.5))^2*$G$17/1000 -> 0.022038567 | P29: =$G$19*$G$20/1000*$E$2/2 -> 0.35320171 | Q29: =SUM(E29:P29) -> 1.6399077 | R29: =$B$6*C29 -> 3 | S29: =R29/(Q29+R29)*100 -> 64.656458 | T29: =$B$17/$E$2*A29/100 -> 3 | U29: =E29+F29+G29+H29+O29 -> 0.46654112 | V29: =SUM(I29:O29) -> 0.84220348 | W29: =P29/Q29*100 -> 21.537901 | X29: =U29/Q29*100 -> 28.44923 | Y29: =V29/Q29*100 -> 51.35676
A30: =A29+2*$E$2 -> 16 | B30: =C30/$B$17 -> 0.08 | C30: =$B$17/$E$2*A30/100 -> 4 | D30: =(C30^2 + $B$18^2/12)^0.5 -> 4.5174897 | E30: =(D30/$E$2)^2*$B$12/1000*$B$7/100*$E$2 -> 0.0071426997 | F30: =(D30/$E$2)^2*$B$13/1000*(1-$B$7/100)*$E$2 -> 0.014285399 | G30: =(D30/$E$2)^2*($B$16/1000)*$E$2 -> 0.020407713 | H30: =(D30/$E$2)^2*($B$14/1000)*$E$2 + $B$15/1000*$E$2 -> 0.41859174 | I30: =0.5*$B$5*D30/$E$2*($G$5+$G$6)*$E$2*0.000000001*$B$8*1000 -> 0.090349795 | J30: =0.5*$G$11*D30/$E$2*($G$7+$G$8)*$E$2*0.000000001*$B$8*1000 -> 0.032525926 | K30: =0.5*($G$9+$G$10)*$E$2*0.000000000001*($B$5)^2*$B$8*1000 -> 0.06075 | L30: =$G$11*D30/$E$2*($G$12+$G$13)*$E$2*0.000000001*$B$8*1000 -> 0.097577778 | M30: =($G$14+$G$15)*$E$2*0.000000001*$G$19*$B$8*1000 -> 0.57 | N30: =($D30*(($B$5-$B$6)*$B$6)^0.5/$B$5)^2*$G$18/1000 -> 0.016326171 | O30: =($B$18/(2*3^0.5))^2*$G$17/1000 -> 0.022038567 | P30: =$G$19*$G$20/1000*$E$2/2 -> 0.35320171 | Q30: =SUM(E30:P30) -> 1.7031975 | R30: =$B$6*C30 -> 4 | S30: =R30/(Q30+R30)*100 -> 70.136095 | T30: =$B$17/$E$2*A30/100 -> 4 | U30: =E30+F30+G30+H30+O30 -> 0.48246612 | V30: =SUM(I30:O30) -> 0.88956824 | W30: =P30/Q30*100 -> 20.737566 | X30: =U30/Q30*100 -> 28.32708 | Y30: =V30/Q30*100 -> 52.229306
A31: =A30+2*$E$2 -> 20 | B31: =C31/$B$17 -> 0.1 | C31: =$B$17/$E$2*A31/100 -> 5 | D31: =(C31^2 + $B$18^2/12)^0.5 -> 5.4228879 | E31: =(D31/$E$2)^2*$B$12/1000*$B$7/100*$E$2 -> 0.0102927 | F31: =(D31/$E$2)^2*$B$13/1000*(1-$B$7/100)*$E$2 -> 0.020585399 | G31: =(D31/$E$2)^2*($B$16/1000)*$E$2 -> 0.029407713 | H31: =(D31/$E$2)^2*($B$14/1000)*$E$2 + $B$15/1000*$E$2 -> 0.42061674 | I31: =0.5*$B$5*D31/$E$2*($G$5+$G$6)*$E$2*0.000000001*$B$8*1000 -> 0.10845776 | J31: =0.5*$G$11*D31/$E$2*($G$7+$G$8)*$E$2*0.000000001*$B$8*1000 -> 0.039044793 | K31: =0.5*($G$9+$G$10)*$E$2*0.000000000001*($B$5)^2*$B$8*1000 -> 0.06075 | L31: =$G$11*D31/$E$2*($G$12+$G$13)*$E$2*0.000000001*$B$8*1000 -> 0.11713438 | M31: =($G$14+$G$15)*$E$2*0.000000001*$G$19*$B$8*1000 -> 0.57 | N31: =($D31*(($B$5-$B$6)*$B$6)^0.5/$B$5)^2*$G$18/1000 -> 0.023526171 | O31: =($B$18/(2*3^0.5))^2*$G$17/1000 -> 0.022038567 | P31: =$G$19*$G$20/1000*$E$2/2 -> 0.35320171 | Q31: =SUM(E31:P31) -> 1.7750559 | R31: =$B$6*C31 -> 5 | S31: =R31/(Q31+R31)*100 -> 73.800129 | T31: =$B$17/$E$2*A31/100 -> 5 | U31: =E31+F31+G31+H31+O31 -> 0.50294112 | V31: =SUM(I31:O31) -> 0.94095167 | W31: =P31/Q31*100 -> 19.898061 | X31: =U31/Q31*100 -> 28.333818 | Y31: =V31/Q31*100 -> 53.009691
A32: =A31+2*$E$2 -> 24 | B32: =C32/$B$17 -> 0.12 | C32: =$B$17/$E$2*A32/100 -> 6 | D32: =(C32^2 + $B$18^2/12)^0.5 -> 6.3567062 | E32: =(D32/$E$2)^2*$B$12/1000*$B$7/100*$E$2 -> 0.0141427 | F32: =(D32/$E$2)^2*$B$13/1000*(1-$B$7/100)*$E$2 -> 0.028285399 | G32: =(D32/$E$2)^2*($B$16/1000)*$E$2 -> 0.040407713 | H32: =(D32/$E$2)^2*($B$14/1000)*$E$2 + $B$15/1000*$E$2 -> 0.42309174 | I32: =0.5*$B$5*D32/$E$2*($G$5+$G$6)*$E$2*0.000000001*$B$8*1000 -> 0.12713412 | J32: =0.5*$G$11*D32/$E$2*($G$7+$G$8)*$E$2*0.000000001*$B$8*1000 -> 0.045768285 | K32: =0.5*($G$9+$G$10)*$E$2*0.000000000001*($B$5)^2*$B$8*1000 -> 0.06075 | L32: =$G$11*D32/$E$2*($G$12+$G$13)*$E$2*0.000000001*$B$8*1000 -> 0.13730485 | M32: =($G$14+$G$15)*$E$2*0.000000001*$G$19*$B$8*1000 -> 0.57 | N32: =($D32*(($B$5-$B$6)*$B$6)^0.5/$B$5)^2*$G$18/1000 -> 0.032326171 | O32: =($B$18/(2*3^0.5))^2*$G$17/1000 -> 0.022038567 | P32: =$G$19*$G$20/1000*$E$2/2 -> 0.35320171 | Q32: =SUM(E32:P32) -> 1.8544513 | R32: =$B$6*C32 -> 6 | S32: =R32/(Q32+R32)*100 -> 76.389805 | T32: =$B$17/$E$2*A32/100 -> 6 | U32: =E32+F32+G32+H32+O32 -> 0.52796612 | V32: =SUM(I32:O32) -> 0.995322 | W32: =P32/Q32*100 -> 19.046158 | X32: =U32/Q32*100 -> 28.470207 | Y32: =V32/Q32*100 -> 53.67205
A33: =A32+2*$E$2 -> 28 | B33: =C33/$B$17 -> 0.14 | C33: =$B$17/$E$2*A33/100 -> 7 | D33: =(C33^2 + $B$18^2/12)^0.5 -> 7.3080581 | E33: =(D33/$E$2)^2*$B$12/1000*$B$7/100*$E$2 -> 0.0186927 | F33: =(D33/$E$2)^2*$B$13/1000*(1-$B$7/100)*$E$2 -> 0.037385399 | G33: =(D33/$E$2)^2*($B$16/1000)*$E$2 -> 0.053407713 | H33: =(D33/$E$2)^2*($B$14/1000)*$E$2 + $B$15/1000*$E$2 -> 0.42601674 | I33: =0.5*$B$5*D33/$E$2*($G$5+$G$6)*$E$2*0.000000001*$B$8*1000 -> 0.14616116 | J33: =0.5*$G$11*D33/$E$2*($G$7+$G$8)*$E$2*0.000000001*$B$8*1000 -> 0.052618018 | K33: =0.5*($G$9+$G$10)*$E$2*0.000000000001*($B$5)^2*$B$8*1000 -> 0.06075 | L33: =$G$11*D33/$E$2*($G$12+$G$13)*$E$2*0.000000001*$B$8*1000 -> 0.15785406 | M33: =($G$14+$G$15)*$E$2*0.000000001*$G$19*$B$8*1000 -> 0.57 | N33: =($D33*(($B$5-$B$6)*$B$6)^0.5/$B$5)^2*$G$18/1000 -> 0.042726171 | O33: =($B$18/(2*3^0.5))^2*$G$17/1000 -> 0.022038567 | P33: =$G$19*$G$20/1000*$E$2/2 -> 0.35320171 | Q33: =SUM(E33:P33) -> 1.9408522 | R33: =$B$6*C33 -> 7 | S33: =R33/(Q33+R33)*100 -> 78.292313 | T33: =$B$17/$E$2*A33/100 -> 7 | U33: =E33+F33+G33+H33+O33 -> 0.55754112 | V33: =SUM(I33:O33) -> 1.052148 | W33: =P33/Q33*100 -> 18.198279 | X33: =U33/Q33*100 -> 28.726613 | Y33: =V33/Q33*100 -> 54.210617
A34: =A33+2*$E$2 -> 32 | B34: =C34/$B$17 -> 0.16 | C34: =$B$17/$E$2*A34/100 -> 8 | D34: =(C34^2 + $B$18^2/12)^0.5 -> 8.2708956 | E34: =(D34/$E$2)^2*$B$12/1000*$B$7/100*$E$2 -> 0.0239427 | F34: =(D34/$E$2)^2*$B$13/1000*(1-$B$7/100)*$E$2 -> 0.047885399 | G34: =(D34/$E$2)^2*($B$16/1000)*$E$2 -> 0.068407713 | H34: =(D34/$E$2)^2*($B$14/1000)*$E$2 + $B$15/1000*$E$2 -> 0.42939174 | I34: =0.5*$B$5*D34/$E$2*($G$5+$G$6)*$E$2*0.000000001*$B$8*1000 -> 0.16541791 | J34: =0.5*$G$11*D34/$E$2*($G$7+$G$8)*$E$2*0.000000001*$B$8*1000 -> 0.059550448 | K34: =0.5*($G$9+$G$10)*$E$2*0.000000000001*($B$5)^2*$B$8*1000 -> 0.06075 | L34: =$G$11*D34/$E$2*($G$12+$G$13)*$E$2*0.000000001*$B$8*1000 -> 0.17865134 | M34: =($G$14+$G$15)*$E$2*0.000000001*$G$19*$B$8*1000 -> 0.57 | N34: =($D34*(($B$5-$B$6)*$B$6)^0.5/$B$5)^2*$G$18/1000 -> 0.054726171 | O34: =($B$18/(2*3^0.5))^2*$G$17/1000 -> 0.022038567 | P34: =$G$19*$G$20/1000*$E$2/2 -> 0.35320171 | Q34: =SUM(E34:P34) -> 2.0339637 | R34: =$B$6*C34 -> 8 | S34: =R34/(Q34+R34)*100 -> 79.72921 | T34: =$B$17/$E$2*A34/100 -> 8 | U34: =E34+F34+G34+H34+O34 -> 0.59166612 | V34: =SUM(I34:O34) -> 1.1111344 | W34: =P34/Q34*100 -> 17.365192 | X34: =U34/Q34*100 -> 29.089315 | Y34: =V34/Q34*100 -> 54.62902
A35: =A34+2*$E$2 -> 36 | B35: =C35/$B$17 -> 0.18 | C35: =$B$17/$E$2*A35/100 -> 9 | D35: =(C35^2 + $B$18^2/12)^0.5 -> 9.2416294 | E35: =(D35/$E$2)^2*$B$12/1000*$B$7/100*$E$2 -> 0.0298927 | F35: =(D35/$E$2)^2*$B$13/1000*(1-$B$7/100)*$E$2 -> 0.059785399 | G35: =(D35/$E$2)^2*($B$16/1000)*$E$2 -> 0.085407713 | H35: =(D35/$E$2)^2*($B$14/1000)*$E$2 + $B$15/1000*$E$2 -> 0.43321674 | I35: =0.5*$B$5*D35/$E$2*($G$5+$G$6)*$E$2*0.000000001*$B$8*1000 -> 0.18483259 | J35: =0.5*$G$11*D35/$E$2*($G$7+$G$8)*$E$2*0.000000001*$B$8*1000 -> 0.066539731 | K35: =0.5*($G$9+$G$10)*$E$2*0.000000000001*($B$5)^2*$B$8*1000 -> 0.06075 | L35: =$G$11*D35/$E$2*($G$12+$G$13)*$E$2*0.000000001*$B$8*1000 -> 0.19961919 | M35: =($G$14+$G$15)*$E$2*0.000000001*$G$19*$B$8*1000 -> 0.57 | N35: =($D35*(($B$5-$B$6)*$B$6)^0.5/$B$5)^2*$G$18/1000 -> 0.068326171 | O35: =($B$18/(2*3^0.5))^2*$G$17/1000 -> 0.022038567 | P35: =$G$19*$G$20/1000*$E$2/2 -> 0.35320171 | Q35: =SUM(E35:P35) -> 2.1336105 | R35: =$B$6*C35 -> 9 | S35: =R35/(Q35+R35)*100 -> 80.836311 | T35: =$B$17/$E$2*A35/100 -> 9 | U35: =E35+F35+G35+H35+O35 -> 0.63034112 | V35: =SUM(I35:O35) -> 1.1721063 | W35: =P35/Q35*100 -> 16.554179 | X35: =U35/Q35*100 -> 29.543401 | Y35: =V35/Q35*100 -> 54.935343
A36: =A35+2*$E$2 -> 40 | B36: =C36/$B$17 -> 0.2 | C36: =$B$17/$E$2*A36/100 -> 10 | D36: =(C36^2 + $B$18^2/12)^0.5 -> 10.218009 | E36: =(D36/$E$2)^2*$B$12/1000*$B$7/100*$E$2 -> 0.0365427 | F36: =(D36/$E$2)^2*$B$13/1000*(1-$B$7/100)*$E$2 -> 0.073085399 | G36: =(D36/$E$2)^2*($B$16/1000)*$E$2 -> 0.10440771 | H36: =(D36/$E$2)^2*($B$14/1000)*$E$2 + $B$15/1000*$E$2 -> 0.43749174 | I36: =0.5*$B$5*D36/$E$2*($G$5+$G$6)*$E$2*0.000000001*$B$8*1000 -> 0.20436019 | J36: =0.5*$G$11*D36/$E$2*($G$7+$G$8)*$E$2*0.000000001*$B$8*1000 -> 0.073569667 | K36: =0.5*($G$9+$G$10)*$E$2*0.000000000001*($B$5)^2*$B$8*1000 -> 0.06075 | L36: =$G$11*D36/$E$2*($G$12+$G$13)*$E$2*0.000000001*$B$8*1000 -> 0.220709 | M36: =($G$14+$G$15)*$E$2*0.000000001*$G$19*$B$8*1000 -> 0.57 | N36: =($D36*(($B$5-$B$6)*$B$6)^0.5/$B$5)^2*$G$18/1000 -> 0.083526171 | O36: =($B$18/(2*3^0.5))^2*$G$17/1000 -> 0.022038567 | P36: =$G$19*$G$20/1000*$E$2/2 -> 0.35320171 | Q36: =SUM(E36:P36) -> 2.2396829 | R36: =$B$6*C36 -> 10 | S36: =R36/(Q36+R36)*100 -> 81.701463 | T36: =$B$17/$E$2*A36/100 -> 10 | U36: =E36+F36+G36+H36+O36 -> 0.67356612 | V36: =SUM(I36:O36) -> 1.2349536 | W36: =P36/Q36*100 -> 15.770166 | X36: =U36/Q36*100 -> 30.074174 | Y36: =V36/Q36*100 -> 55.139664
A37: =A36+2*$E$2 -> 44 | B37: =C37/$B$17 -> 0.22 | C37: =$B$17/$E$2*A37/100 -> 11 | D37: =(C37^2 + $B$18^2/12)^0.5 -> 11.198559 | E37: =(D37/$E$2)^2*$B$12/1000*$B$7/100*$E$2 -> 0.0438927 | F37: =(D37/$E$2)^2*$B$13/1000*(1-$B$7/100)*$E$2 -> 0.087785399 | G37: =(D37/$E$2)^2*($B$16/1000)*$E$2 -> 0.12540771 | H37: =(D37/$E$2)^2*($B$14/1000)*$E$2 + $B$15/1000*$E$2 -> 0.44221674 | I37: =0.5*$B$5*D37/$E$2*($G$5+$G$6)*$E$2*0.000000001*$B$8*1000 -> 0.22397117 | J37: =0.5*$G$11*D37/$E$2*($G$7+$G$8)*$E$2*0.000000001*$B$8*1000 -> 0.080629622 | K37: =0.5*($G$9+$G$10)*$E$2*0.000000000001*($B$5)^2*$B$8*1000 -> 0.06075 | L37: =$G$11*D37/$E$2*($G$12+$G$13)*$E$2*0.000000001*$B$8*1000 -> 0.24188886 | M37: =($G$14+$G$15)*$E$2*0.000000001*$G$19*$B$8*1000 -> 0.57 | N37: =($D37*(($B$5-$B$6)*$B$6)^0.5/$B$5)^2*$G$18/1000 -> 0.10032617 | O37: =($B$18/(2*3^0.5))^2*$G$17/1000 -> 0.022038567 | P37: =$G$19*$G$20/1000*$E$2/2 -> 0.35320171 | Q37: =SUM(E37:P37) -> 2.3521087 | R37: =$B$6*C37 -> 11 | S37: =R37/(Q37+R37)*100 -> 82.383991 | T37: =$B$17/$E$2*A37/100 -> 11 | U37: =E37+F37+G37+H37+O37 -> 0.72134112 | V37: =SUM(I37:O37) -> 1.2996044 | W37: =P37/Q37*100 -> 15.016386 | X37: =U37/Q37*100 -> 30.667848 | Y37: =V37/Q37*100 -> 55.252736
A38: =A37+2*$E$2 -> 48 | B38: =C38/$B$17 -> 0.24 | C38: =$B$17/$E$2*A38/100 -> 12 | D38: =(C38^2 + $B$18^2/12)^0.5 -> 12.18227 | E38: =(D38/$E$2)^2*$B$12/1000*$B$7/100*$E$2 -> 0.0519427 | F38: =(D38/$E$2)^2*$B$13/1000*(1-$B$7/100)*$E$2 -> 0.1038854 | G38: =(D38/$E$2)^2*($B$16/1000)*$E$2 -> 0.14840771 | H38: =(D38/$E$2)^2*($B$14/1000)*$E$2 + $B$15/1000*$E$2 -> 0.44739174 | I38: =0.5*$B$5*D38/$E$2*($G$5+$G$6)*$E$2*0.000000001*$B$8*1000 -> 0.24364541 | J38: =0.5*$G$11*D38/$E$2*($G$7+$G$8)*$E$2*0.000000001*$B$8*1000 -> 0.087712347 | K38: =0.5*($G$9+$G$10)*$E$2*0.000000000001*($B$5)^2*$B$8*1000 -> 0.06075 | L38: =$G$11*D38/$E$2*($G$12+$G$13)*$E$2*0.000000001*$B$8*1000 -> 0.26313704 | M38: =($G$14+$G$15)*$E$2*0.000000001*$G$19*$B$8*1000 -> 0.57 | N38: =($D38*(($B$5-$B$6)*$B$6)^0.5/$B$5)^2*$G$18/1000 -> 0.11872617 | O38: =($B$18/(2*3^0.5))^2*$G$17/1000 -> 0.022038567 | P38: =$G$19*$G$20/1000*$E$2/2 -> 0.35320171 | Q38: =SUM(E38:P38) -> 2.4708388 | R38: =$B$6*C38 -> 12 | S38: =R38/(Q38+R38)*100 -> 82.925393 | T38: =$B$17/$E$2*A38/100 -> 12 | U38: =E38+F38+G38+H38+O38 -> 0.77366612 | V38: =SUM(I38:O38) -> 1.3660095 | W38: =P38/Q38*100 -> 14.29481 | X38: =U38/Q38*100 -> 31.311881 | Y38: =V38/Q38*100 -> 55.285255
... A75: =A74+2*$E$2 -> 196 | B75: =C75/$B$17 -> 0.98 | C75: =$B$17/$E$2*A75/100 -> 49 | D75: =(C75^2 + $B$18^2/12)^0.5 -> 49.044956 | E75: =(D75/$E$2)^2*$B$12/1000*$B$7/100*$E$2 -> 0.8418927 | F75: =(D75/$E$2)^2*$B$13/1000*(1-$B$7/100)*$E$2 -> 1.6837854 | G75: =(D75/$E$2)^2*($B$16/1000)*$E$2 -> 2.4054077 | H75: =(D75/$E$2)^2*($B$14/1000)*$E$2 + $B$15/1000*$E$2 -> 0.95521674 | I75: =0.5*$B$5*D75/$E$2*($G$5+$G$6)*$E$2*0.000000001*$B$8*1000 -> 0.98089912 | J75: =0.5*$G$11*D75/$E$2*($G$7+$G$8)*$E$2*0.000000001*$B$8*1000 -> 0.35312368 | K75: =0.5*($G$9+$G$10)*$E$2*0.000000000001*($B$5)^2*$B$8*1000 -> 0.06075 | L75: =$G$11*D75/$E$2*($G$12+$G$13)*$E$2*0.000000001*$B$8*1000 -> 1.0593711 | M75: =($G$14+$G$15)*$E$2*0.000000001*$G$19*$B$8*1000 -> 0.57 | N75: =($D75*(($B$5-$B$6)*$B$6)^0.5/$B$5)^2*$G$18/1000 -> 1.9243262 | O75: =($B$18/(2*3^0.5))^2*$G$17/1000 -> 0.022038567 | P75: =$G$19*$G$20/1000*$E$2/2 -> 0.35320171 | Q75: =SUM(E75:P75) -> 11.210013 | R75: =$B$6*C75 -> 49 | S75: =R75/(Q75+R75)*100 -> 81.381813 | T75: =$B$17/$E$2*A75/100 -> 49 | U75: =E75+F75+G75+H75+O75 -> 5.9083411 | V75: =SUM(I75:O75) -> 4.9705086 | W75: =P75/Q75*100 -> 3.1507699 | X75: =U75/Q75*100 -> 52.705926 | Y75: =V75/Q75*100 -> 44.339901
A76: =A75+2*$E$2 -> 200 | B76: =C76/$B$17 -> 1 | C76: =$B$17/$E$2*A76/100 -> 50 | D76: =(C76^2 + $B$18^2/12)^0.5 -> 50.044058 | E76: =(D76/$E$2)^2*$B$12/1000*$B$7/100*$E$2 -> 0.8765427 | F76: =(D76/$E$2)^2*$B$13/1000*(1-$B$7/100)*$E$2 -> 1.7530854 | G76: =(D76/$E$2)^2*($B$16/1000)*$E$2 -> 2.5044077 | H76: =(D76/$E$2)^2*($B$14/1000)*$E$2 + $B$15/1000*$E$2 -> 0.97749174 | I76: =0.5*$B$5*D76/$E$2*($G$5+$G$6)*$E$2*0.000000001*$B$8*1000 -> 1.0008812 | J76: =0.5*$G$11*D76/$E$2*($G$7+$G$8)*$E$2*0.000000001*$B$8*1000 -> 0.36031722 | K76: =0.5*($G$9+$G$10)*$E$2*0.000000000001*($B$5)^2*$B$8*1000 -> 0.06075 | L76: =$G$11*D76/$E$2*($G$12+$G$13)*$E$2*0.000000001*$B$8*1000 -> 1.0809516 | M76: =($G$14+$G$15)*$E$2*0.000000001*$G$19*$B$8*1000 -> 0.57 | N76: =($D76*(($B$5-$B$6)*$B$6)^0.5/$B$5)^2*$G$18/1000 -> 2.0035262 | O76: =($B$18/(2*3^0.5))^2*$G$17/1000 -> 0.022038567 | P76: =$G$19*$G$20/1000*$E$2/2 -> 0.35320171 | Q76: =SUM(E76:P76) -> 11.563194 | R76: =$B$6*C76 -> 50 | S76: =R76/(Q76+R76)*100 -> 81.217359 | T76: =$B$17/$E$2*A76/100 -> 50 | U76: =E76+F76+G76+H76 -> 6.1115275 | V76: =SUM(I76:O76) -> 5.0984648 | W76: =P76/Q76*100 -> 3.0545342 | X76: =U76/Q76*100 -> 52.853282 | Y76: =V76/Q76*100 -> 44.092184
E78: Conditional formatting helps to visualize what is dissipating the most power in your system at max load

Sheet Reference
C3: Rohm App Note Efficiency Calculation of Buck Converter
C4: https://fscdn.rohm.com/en/products/databook/applinote/ic/power/switching_regulator/buck_converter_efficiency_app-e.pdf

Sheet Components
C1: Switching freq from GaN Tab: | D1: ='GaN FET_multiphase'!B8 -> 500
D4: Value (uH) | E4: L_DCR (mΩ) | F4: AC + Core loss (mW) at the frequency (kHz) | K4: Estimate core loss (mW) *Note
B5: Inductors | E5: kHz | F5: 250 | G5: 500 | H5: 800 | I5: 1000 | J5: 1500
B6: Manufacturer | C6: P/N
B7: Coilcraft | C7: SLC1480 - 0.23uH | D7: 0.23 | E7: 0.18 | F7: 55 | G7: 110 | H7: 175 | I7: 219 | J7: 466 | K7: =_xlfn.FORECAST.LINEAR($D$1,OFFSET(F7:J7,0,MATCH($D$1,F$5:J$5,1)-1,,2),OFFSET(F$5:J$5,0,MATCH($D$1,F$5:J$5,1)-1,,2)) -> 110
B8: Coilcraft | C8: XAL1010 - 0.22uH | D8: 0.22 | E8: 0.45 | F8: 103 | G8: 207 | H8: 331 | I8: 413 | J8: 718 | K8: =_xlfn.FORECAST.LINEAR($D$1,OFFSET(F8:J8,0,MATCH($D$1,F$5:J$5,1)-1,,2),OFFSET(F$5:J$5,0,MATCH($D$1,F$5:J$5,1)-1,,2)) -> 207
B9: Coilcraft | C9: SLC1049 - 0.1uH | D9: 0.1 | E9: 0.23 | F9: 25 | G9: 49 | H9: 79 | I9: 98 | J9: 115 | K9: =_xlfn.FORECAST.LINEAR($D$1,OFFSET(F9:J9,0,MATCH($D$1,F$5:J$5,1)-1,,2),OFFSET(F$5:J$5,0,MATCH($D$1,F$5:J$5,1)-1,,2)) -> 49
B10: Coilcraft | C10: SLR1070 - 0.12uH | D10: 0.12 | E10: 0.29 | F10: 35 | G10: 71 | H10: 113 | I10: 142 | J10: 181 | K10: =_xlfn.FORECAST.LINEAR($D$1,OFFSET(F10:J10,0,MATCH($D$1,F$5:J$5,1)-1,,2),OFFSET(F$5:J$5,0,MATCH($D$1,F$5:J$5,1)-1,,2)) -> 71
B11: Coilcraft | C11: SLC1480 - 0.32uH | D11: 0.32 | E11: 0.18 | F11: 109 | G11: 218 | H11: 348 | I11: 435 | J11: 925 | K11: =_xlfn.FORECAST.LINEAR($D$1,OFFSET(F11:J11,0,MATCH($D$1,F$5:J$5,1)-1,,2),OFFSET(F$5:J$5,0,MATCH($D$1,F$5:J$5,1)-1,,2)) -> 218
B12: Coilcraft | C12: XAL1010 - 0.68uH | D12: 0.68 | E12: 0.87 | F12: 365 | G12: 729 | H12: 1167 | I12: 1459 | J12: 2639 | K12: =_xlfn.FORECAST.LINEAR($D$1,OFFSET(F12:J12,0,MATCH($D$1,F$5:J$5,1)-1,,2),OFFSET(F$5:J$5,0,MATCH($D$1,F$5:J$5,1)-1,,2)) -> 729
C13: Custom L1 on Component Tab | D13: 0.22 | E13: 0.45 | F13: 103 | G13: 207 | H13: 331 | I13: 413 | J13: 718 | K13: =_xlfn.FORECAST.LINEAR($D$1,OFFSET(F13:J13,0,MATCH($D$1,F$5:J$5,1)-1,,2),OFFSET(F$5:J$5,0,MATCH($D$1,F$5:J$5,1)-1,,2)) -> 207
C14: Custom L2 on Component Tab | D14: 0.22 | E14: 0.45 | F14: 103 | G14: 207 | H14: 331 | I14: 413 | J14: 718 | K14: =_xlfn.FORECAST.LINEAR($D$1,OFFSET(F14:J14,0,MATCH($D$1,F$5:J$5,1)-1,,2),OFFSET(F$5:J$5,0,MATCH($D$1,F$5:J$5,1)-1,,2)) -> 207
B16: *Note: Core loss data for Coilcraft inductors are taken from Coilcraft website calculator for 25Arms and 30% ripple
B17: *Note: Estimated AC core loss is estimated by using linear interpolationof Coilcraft website calculator data
B18: Coilcraft Calculator
B22: GaN FETs
B23: Manufacturer | C23: P/N | D23: Vds (V) | E23: Rdson (mΩ) | F23: Coss (pF) | G23: Vsd (V) | H23: Qg (nC)
B24: Intersil | C24: ISL70020 - 40V; Packaged | D24: 40 | E24: 3.5 | F24: 1620 | G24: 1.8 | H24: 19
B25: Intersil | C25: ISL70023 - 100V; Packaged | D25: 100 | E25: 5 | F25: 960 | G25: 1.8 | H25: 14
B26: Intersil | C26: ISL70024 - 200V; Packaged | D26: 200 | E26: 45 | F26: 150 | G26: 1.8 | H26: 2.5
B27: Intersil | C27: ISL70020 - 40V; Die | D27: 40 | E27: 1.2 | F27: 1620 | G27: 1.8 | H27: 19
B28: Intersil | C28: ISL70023 - 100V; Die | D28: 100 | E28: 3 | F28: 960 | G28: 1.8 | H28: 14
B29: Intersil | C29: ISL70024 - 200V; Die | D29: 200 | E29: 30 | F29: 150 | G29: 1.8 | H29: 2.5
C30: Custom M1 on Component Tab | D30: 40 | E30: 3.5 | F30: 1620 | G30: 1.8 | H30: 19
C31: Custom M2 on Component Tab | D31: 40 | E31: 3.5 | F31: 1620 | G31: 1.8 | H31: 19
B32: *Notes: All spec values based on typical T=25C

Sheet 73847+73041
A1: This tab contains the ISL73847 Controller and ISL73041 Driver operating bias currents.
A2: Silicon used to take data is 2p0 for both parts.
A3: ISL73847 is configured in open loop with forced VOUT, FB and COMP to "close the loop".
A4: ISL73847 internal oscillator set to 250kHz PWM and uses external generator on SYNC_IN
A5: ISL73041 uses 20% duty cycle; RDU=RDL=0V; no cap load on UG & LG; PHS=0V and BOOT=PVCC for I_VDD currents
A7: ISL73847 | E7: ISL73041 | I7: ISL73847 + 2x ISL73041
A8: VDD (V) | B8: I_VDD (A) | C8: Oscillator (Hz) | D8: PWM (kHz) | E8: VDD (V) | F8: I_VDD (A) | G8: PWM (Hz) | H8: PWM (kHz) | I8: PWM (kHz) | J8: VDD (V) | K8: I_VDD (mA)
A9: =A10 -> 5 | B9: =B10-(B11-B10) -> 0.013111957 | C9: 500000 | D9: =C9/2/1000 -> 250 | E9: =E10 -> 5 | F9: =F10-(F11-F10) -> 0.026006483 | G9: =D9*1000 -> 250000 | H9: =G9/1000 -> 250 | I9: =H9 -> 250 | J9: =E9 -> 5 | K9: =(B9+2*F9)*1000 -> 65.124922
A10: 5 | B10: 0.013265689 | C10: 600000 | D10: =C10/2/1000 -> 300 | E10: 5 | F10: 0.026472231 | G10: 300000 | H10: =G10/1000 -> 300 | I10: =H10 -> 300 | J10: =E10 -> 5 | K10: =(B10+2*F10)*1000 -> 66.210152
A11: 5 | B11: 0.01341942 | C11: 700000 | D11: =C11/2/1000 -> 350 | E11: 5 | F11: 0.02693798 | G11: 350000 | H11: =G11/1000 -> 350 | I11: =H11 -> 350 | J11: =E11 -> 5 | K11: =(B11+2*F11)*1000 -> 67.295381
A12: 5 | B12: 0.013595214 | C12: 800000 | D12: =C12/2/1000 -> 400 | E12: 5 | F12: 0.027405044 | G12: 400000 | H12: =G12/1000 -> 400 | I12: =H12 -> 400 | J12: =E12 -> 5 | K12: =(B12+2*F12)*1000 -> 68.405302
A13: 5 | B13: 0.013778778 | C13: 900000 | D13: =C13/2/1000 -> 450 | E13: 5 | F13: 0.027868979 | G13: 450000 | H13: =G13/1000 -> 450 | I13: =H13 -> 450 | J13: =E13 -> 5 | K13: =(B13+2*F13)*1000 -> 69.516735
A14: 5 | B14: 0.013973782 | C14: 1000000 | D14: =C14/2/1000 -> 500 | E14: 5 | F14: 0.02833328 | G14: 500000 | H14: =G14/1000 -> 500 | I14: =H14 -> 500 | J14: =E14 -> 5 | K14: =(B14+2*F14)*1000 -> 70.640342
A15: 5 | B15: 0.014152723 | C15: 1100000 | D15: =C15/2/1000 -> 550 | E15: 5 | F15: 0.028799066 | G15: 550000 | H15: =G15/1000 -> 550 | I15: =H15 -> 550 | J15: =E15 -> 5 | K15: =(B15+2*F15)*1000 -> 71.750856
A16: 5 | B16: 0.014347618 | C16: 1200000 | D16: =C16/2/1000 -> 600 | E16: 5 | F16: 0.029265171 | G16: 600000 | H16: =G16/1000 -> 600 | I16: =H16 -> 600 | J16: =E16 -> 5 | K16: =(B16+2*F16)*1000 -> 72.877959
A17: 5 | B17: 0.014641871 | C17: 1300000 | D17: =C17/2/1000 -> 650 | E17: 5 | F17: 0.029731523 | G17: 650000 | H17: =G17/1000 -> 650 | I17: =H17 -> 650 | J17: =E17 -> 5 | K17: =(B17+2*F17)*1000 -> 74.104917
A18: 5 | B18: 0.014903954 | C18: 1400000 | D18: =C18/2/1000 -> 700 | E18: 5 | F18: 0.030199595 | G18: 700000 | H18: =G18/1000 -> 700 | I18: =H18 -> 700 | J18: =E18 -> 5 | K18: =(B18+2*F18)*1000 -> 75.303144
A19: 5 | B19: 0.014939534 | C19: 1500000 | D19: =C19/2/1000 -> 750 | E19: 5 | F19: 0.030666897 | G19: 750000 | H19: =G19/1000 -> 750 | I19: =H19 -> 750 | J19: =E19 -> 5 | K19: =(B19+2*F19)*1000 -> 76.273329
A20: 5 | B20: 0.014908773 | C20: 1600000 | D20: =C20/2/1000 -> 800 | E20: 5 | F20: 0.031132851 | G20: 800000 | H20: =G20/1000 -> 800 | I20: =H20 -> 800 | J20: =E20 -> 5 | K20: =(B20+2*F20)*1000 -> 77.174474
A21: 5 | B21: 0.015029912 | C21: 1700000 | D21: =C21/2/1000 -> 850 | E21: 5 | F21: 0.031601615 | G21: 850000 | H21: =G21/1000 -> 850 | I21: =H21 -> 850 | J21: =E21 -> 5 | K21: =(B21+2*F21)*1000 -> 78.233142
... A34: 5 | B34: 0.016386552 | C34: 3000000 | D34: =C34/2/1000 -> 1500 | E34: 5 | F34: 0.037618738 | G34: 1500000 | H34: =G34/1000 -> 1500 | I34: =H34 -> 1500 | J34: =E34 -> 5 | K34: =(B34+2*F34)*1000 -> 91.624027
A35: =A36 -> 5.5 | B35: =B36-(B37-B36) -> 0.013078646 | C35: 500000 | D35: =C35/2/1000 -> 250 | E35: =E36 -> 5.5 | F35: =F36-(F37-F36) -> 0.026182715 | G35: =D35*1000 -> 250000 | H35: =G35/1000 -> 250 | I35: =H35 -> 250 | J35: =E35 -> 5.5 | K35: =(B35+2*F35)*1000 -> 65.444076
A36: 5.5 | B36: 0.013237838 | C36: 600000 | D36: =C36/2/1000 -> 300 | E36: 5.5 | F36: 0.026655691 | G36: 300000 | H36: =G36/1000 -> 300 | I36: =H36 -> 300 | J36: =E36 -> 5.5 | K36: =(B36+2*F36)*1000 -> 66.549219
A37: 5.5 | B37: 0.01339703 | C37: 700000 | D37: =C37/2/1000 -> 350 | E37: 5.5 | F37: 0.027128667 | G37: 350000 | H37: =G37/1000 -> 350 | I37: =H37 -> 350 | J37: =E37 -> 5.5 | K37: =(B37+2*F37)*1000 -> 67.654363
A38: 5.5 | B38: 0.013567451 | C38: 800000 | D38: =C38/2/1000 -> 400 | E38: 5.5 | F38: 0.027600504 | G38: 400000 | H38: =G38/1000 -> 400 | I38: =H38 -> 400 | J38: =E38 -> 5.5 | K38: =(B38+2*F38)*1000 -> 68.76846
A39: 5.5 | B39: 0.013746191 | C39: 900000 | D39: =C39/2/1000 -> 450 | E39: 5.5 | F39: 0.028071031 | G39: 450000 | H39: =G39/1000 -> 450 | I39: =H39 -> 450 | J39: =E39 -> 5.5 | K39: =(B39+2*F39)*1000 -> 69.888253
A40: 5.5 | B40: 0.013937233 | C40: 1000000 | D40: =C40/2/1000 -> 500 | E40: 5.5 | F40: 0.028540209 | G40: 500000 | H40: =G40/1000 -> 500 | I40: =H40 -> 500 | J40: =E40 -> 5.5 | K40: =(B40+2*F40)*1000 -> 71.017651
A41: 5.5 | B41: 0.014127892 | C41: 1100000 | D41: =C41/2/1000 -> 550 | E41: 5.5 | F41: 0.029011212 | G41: 550000 | H41: =G41/1000 -> 550 | I41: =H41 -> 550 | J41: =E41 -> 5.5 | K41: =(B41+2*F41)*1000 -> 72.150316
A42: 5.5 | B42: 0.014312208 | C42: 1200000 | D42: =C42/2/1000 -> 600 | E42: 5.5 | F42: 0.029482573 | G42: 600000 | H42: =G42/1000 -> 600 | I42: =H42 -> 600 | J42: =E42 -> 5.5 | K42: =(B42+2*F42)*1000 -> 73.277354
A43: 5.5 | B43: 0.014590078 | C43: 1300000 | D43: =C43/2/1000 -> 650 | E43: 5.5 | F43: 0.029953189 | G43: 650000 | H43: =G43/1000 -> 650 | I43: =H43 -> 650 | J43: =E43 -> 5.5 | K43: =(B43+2*F43)*1000 -> 74.496456
A44: 5.5 | B44: 0.014879013 | C44: 1400000 | D44: =C44/2/1000 -> 700 | E44: 5.5 | F44: 0.030425042 | G44: 700000 | H44: =G44/1000 -> 700 | I44: =H44 -> 700 | J44: =E44 -> 5.5 | K44: =(B44+2*F44)*1000 -> 75.729097
A45: 5.5 | B45: 0.014916701 | C45: 1500000 | D45: =C45/2/1000 -> 750 | E45: 5.5 | F45: 0.030896695 | G45: 750000 | H45: =G45/1000 -> 750 | I45: =H45 -> 750 | J45: =E45 -> 5.5 | K45: =(B45+2*F45)*1000 -> 76.710092
A46: 5.5 | B46: 0.01504417 | C46: 1600000 | D46: =C46/2/1000 -> 800 | E46: 5.5 | F46: 0.031366937 | G46: 800000 | H46: =G46/1000 -> 800 | I46: =H46 -> 800 | J46: =E46 -> 5.5 | K46: =(B46+2*F46)*1000 -> 77.778044
A47: 5.5 | B47: 0.015005825 | C47: 1700000 | D47: =C47/2/1000 -> 850 | E47: 5.5 | F47: 0.031836919 | G47: 850000 | H47: =G47/1000 -> 850 | I47: =H47 -> 850 | J47: =E47 -> 5.5 | K47: =(B47+2*F47)*1000 -> 78.679664
... A60: 5.5 | B60: 0.016368005 | C60: 3000000 | D60: =C60/2/1000 -> 1500 | E60: 5.5 | F60: 0.037901759 | G60: 1500000 | H60: =G60/1000 -> 1500 | I60: =H60 -> 1500 | J60: =E60 -> 5.5 | K60: =(B60+2*F60)*1000 -> 92.171524
A61: =A62 -> 6 | B61: =B62-(B63-B62) -> 0.013085369 | C61: 500000 | D61: =C61/2/1000 -> 250 | E61: =E62 -> 6 | F61: =F62-(F63-F62) -> 0.026188716 | G61: =D61*1000 -> 250000 | H61: =G61/1000 -> 250 | I61: =H61 -> 250 | J61: =E61 -> 6 | K61: =(B61+2*F61)*1000 -> 65.462802
A62: 6 | B62: 0.013237864 | C62: 600000 | D62: =C62/2/1000 -> 300 | E62: 6 | F62: 0.026660807 | G62: 300000 | H62: =G62/1000 -> 300 | I62: =H62 -> 300 | J62: =E62 -> 6 | K62: =(B62+2*F62)*1000 -> 66.559479
A63: 6 | B63: 0.013390359 | C63: 700000 | D63: =C63/2/1000 -> 350 | E63: 6 | F63: 0.027132899 | G63: 350000 | H63: =G63/1000 -> 350 | I63: =H63 -> 350 | J63: =E63 -> 6 | K63: =(B63+2*F63)*1000 -> 67.656156
A64: 6 | B64: 0.013563606 | C64: 800000 | D64: =C64/2/1000 -> 400 | E64: 6 | F64: 0.027605491 | G64: 400000 | H64: =G64/1000 -> 400 | I64: =H64 -> 400 | J64: =E64 -> 6 | K64: =(B64+2*F64)*1000 -> 68.774587
A65: 6 | B65: 0.013748636 | C65: 900000 | D65: =C65/2/1000 -> 450 | E65: 6 | F65: 0.028078273 | G65: 450000 | H65: =G65/1000 -> 450 | I65: =H65 -> 450 | J65: =E65 -> 6 | K65: =(B65+2*F65)*1000 -> 69.905181
...

Sheet Revision History
B3: Date | C3: Revision | D3: Changes
B4: 45335 | C4: 1.9 | D4: 1. Updated the included GaN FETs 2. Added a 250kHz option
B5: 45363 | C5: 2 | D5: 1. Created "Revision History" tab 2. Removed redundant calculator tabs 3. Updated the included inductors and the AC+core loss interpolation 4. Changed the efficiency across load plot to be across the percentage of full load instead of a fixed 50A 5. Separated CIN and COUT power dissipation 6. Added the user-selectable power loss visualizer
