Workbook

Sheet Main
B4: ISL75051ASEH OCP Calculator Tool (Rev 1.0)
C6: These cells are inputs | J6: This tool uses regression based on emperical data to produce the ROCP/IOCP values below. Due to the nature of regression there is bound to be some error in the answer. Every effort has been made to ensure the error across all operating points has been minimized. It is the responsibility of the consumer to make sure that the values produced by this tool meets the requirements of their given application. Software License Agreement The software supplied herewith by the Intersil Corporation (the "Company") is intended and supplied to you, the Company's customer, for use solely and exclusively on Intersil products. The software is owned by the Company and/or its supplier, and is protected under applicable copyright laws. All rights are reserved. Any use in violation of the foregoing restrictions may subject the user to criminal sanctions under applicable laws, as well as to civil liability for the breach of the terms and conditions of this license. THIS SOFTWARE IS PROVIDED IN AN "AS IS" CONDITION. NO WARRANTIES, WHETHER EXPRESS, IMPLIED OR STATUTORY, INCLUDING, BUT NOT LIMITED TO, IMPLIED WARRANTIES OF MERCHANTABILITY AND FITNESS FOR A PARTICULAR PURPOSE APPLY TO THIS SOFTWARE. THE COMPANY SHALL NOT, IN ANY CIRCUMSTANCES, BE LIABLE FOR SPECIAL, INCIDENTAL OR CONSEQUENTIAL DAMAGES, FOR ANY REASON WHATSOEVER.
C7: These cells are the output
B9: Find ROCP given an OCP trip point
B11: VIN | C11: TEMP | D11: IOCP | E11: Predicted ROCP
B12: 5.5 | C12: 25 | D12: 5 | E12: =Regression!U225 -> 0.75652078
B14: Find IOCP given a ROCP value
B16: VIN | C16: TEMP | D16: ROCP | E16: Predicted IOCP
B17: 4.5 | C17: 125 | D17: 1 | E17: =Regression!U235 -> 3.9558888
B19: Emperical Data:

Sheet Regression
A1: 2
B3: VIN | C3: TEMP | D3: IOCP | E3: ROCP | F3: 1/ROCP | H3: VIN=2.2V (-58°C) | J3: VIN=2.2V (25°C) | L3: VIN=2.2V (128°C)
B4: 2.2 | C4: 25 | D4: 4 | E4: 511 | F4: =1/E4 -> 0.0019569472 | H4: ROCP | I4: IOCP | J4: ROCP | K4: IOCP | L4: ROCP | M4: IOCP | Q4: 2.2 | T4: 2.2
B5: 2.5 | C5: 25 | D5: 6.91 | E5: 511 | F5: =1/E5 -> 0.0019569472 | H5: 511 | I5: 6.12 | J5: 511 | K5: 4 | L5: 511 | M5: 4.82 | Q5: 2.5 | T5: 2.5
B6: 3 | C6: 25 | D6: 6.97 | E6: 511 | F6: =1/E6 -> 0.0019569472 | H6: 681 | I6: 4.98 | J6: 681 | L6: 681 | M6: 4.22 | Q6: 3 | T6: 3
B7: 4 | C7: 25 | D7: 7.02 | E7: 511 | F7: =1/E7 -> 0.0019569472 | H7: 750 | I7: 4.86 | J7: 750 | K7: 4.2 | L7: 750 | M7: 4.04 | Q7: 4 | T7: 4
B8: 5 | C8: 25 | D8: 7.07 | E8: 511 | F8: =1/E8 -> 0.0019569472 | H8: 1000 | I8: 3.96 | J8: 1000 | K8: 3.56 | L8: 1000 | M8: 3.18 | Q8: 5 | T8: 5
B9: 5.5 | C9: 25 | D9: 7.16 | E9: 511 | F9: =1/E9 -> 0.0019569472 | H9: 1470 | I9: 2.89 | J9: 1470 | K9: 2.648 | L9: 1470 | M9: 2.57 | Q9: 5.5 | T9: 5.5
B10: 6 | C10: 25 | D10: 7.22 | E10: 511 | F10: =1/E10 -> 0.0019569472 | H10: 2000 | I10: 2.3 | J10: 2000 | K10: 2.236 | L10: 2000 | M10: 2.049 | Q10: 6 | T10: 6
B11: 6.6 | C11: 25 | D11: 7.35 | E11: 511 | F11: =1/E11 -> 0.0019569472 | H11: 2610 | I11: 1.904 | J11: 2610 | K11: 1.811 | L11: 2610 | M11: 1.72 | Q11: 6.6 | T11: 6.6
B12: 2.2 | C12: 128 | D12: 4.82 | E12: 511 | F12: =1/E12 -> 0.0019569472 | H12: 3830 | I12: 1.44 | J12: 3830 | K12: 1.405 | L12: 3830 | M12: 1.32
B13: 2.5 | C13: 128 | D13: 6.47 | E13: 511 | F13: =1/E13 -> 0.0019569472 | H13: 5110 | I13: 1.189 | J13: 5110 | K13: 1.162 | L13: 5110 | M13: 1.08 | Q13: 2.2 | R13: =IF(AND(Q13>=Q4,Q13<=Q11),VLOOKUP(Q13,Q4:Q11,1),"") -> 2.2 | T13: =Q235 -> 4.5 | U13: =IF(AND(T13>=T4,T13<=T11),VLOOKUP(T13,T4:T11,1),"") -> 4
B14: 3 | C14: 128 | D14: 6.84 | E14: 511 | F14: =1/E14 -> 0.0019569472 | R14: =IF(R13<>"",IF(Q13<>R13,IF(Q13>R13,INDEX(Q4:Q11,MATCH(R13,Q4:Q11)+1),INDEX(Q4:Q11,MATCH(R13,Q4:Q11)-1)),""),"") | U14: =IF(U13<>"",IF(T13<>U13,IF(T13>U13,INDEX(T4:T11,MATCH(U13,T4:T11)+1),INDEX(T4:T11,MATCH(U13,T4:T11)-1)),""),"") -> 5
B15: 4 | C15: 128 | D15: 6.89 | E15: 511 | F15: =1/E15 -> 0.0019569472 | H15: VIN=2.5V (-58°C) | J15: VIN=2.5V (25°C) | L15: VIN=2.5V (128°C)
B16: 5 | C16: 128 | D16: 7 | E16: 511 | F16: =1/E16 -> 0.0019569472 | H16: ROCP | I16: IOCP | J16: ROCP | K16: IOCP | L16: ROCP | M16: IOCP
B17: 5.5 | C17: 128 | D17: 7.06 | E17: 511 | F17: =1/E17 -> 0.0019569472 | H17: 511 | I17: 7.1 | J17: 511 | K17: 6.91 | L17: 511 | M17: 6.47
B18: 6 | C18: 128 | D18: 7.14 | E18: 511 | F18: =1/E18 -> 0.0019569472 | H18: 681 | I18: 5.56 | J18: 681 | K18: 5.44 | L18: 681 | M18: 5.28
B19: 6.6 | C19: 128 | D19: 7.26 | E19: 511 | F19: =1/E19 -> 0.0019569472 | H19: 750 | I19: 5.17 | J19: 750 | K19: 5.01 | L19: 750 | M19: 4.83
B20: 2.2 | C20: -58 | D20: 6.12 | E20: 511 | F20: =1/E20 -> 0.0019569472 | H20: 1000 | I20: 4.03 | J20: 1000 | K20: 3.93 | L20: 1000 | M20: 3.83
B21: 2.5 | C21: -58 | D21: 7.1 | E21: 511 | F21: =1/E21 -> 0.0019569472 | H21: 1470 | I21: 2.9 | J21: 1470 | K21: 2.84 | L21: 1470 | M21: 2.75
B22: 3 | C22: -58 | D22: 7.1 | E22: 511 | F22: =1/E22 -> 0.0019569472 | H22: 2000 | I22: 2.3 | J22: 2000 | K22: 2.263 | L22: 2000 | M22: 2.15
B23: 4 | C23: -58 | D23: 7.11 | E23: 511 | F23: =1/E23 -> 0.0019569472 | H23: 2610 | I23: 1.876 | J23: 2610 | K23: 1.851 | L23: 2610 | M23: 1.739
B24: 5 | C24: -58 | D24: 7.13 | E24: 511 | F24: =1/E24 -> 0.0019569472 | H24: 3830 | I24: 1.436 | J24: 3830 | K24: 1.414 | L24: 3830 | M24: 1.33
B25: 5.5 | C25: -58 | D25: 7.17 | E25: 511 | F25: =1/E25 -> 0.0019569472 | H25: 5110 | I25: 1.194 | J25: 5110 | K25: 1.182 | L25: 5110 | M25: 1.106
B26: 6 | C26: -58 | D26: 7.27 | E26: 511 | F26: =1/E26 -> 0.0019569472
B27: 6.6 | C27: -58 | D27: 7.43 | E27: 511 | F27: =1/E27 -> 0.0019569472 | H27: VIN=3.0V (-58°C) | J27: VIN=3.0V (25°C) | L27: VIN=3.0V (128°C)
B28: 2.2 | C28: 25 | D28: 4.66 | E28: 681 | F28: =1/E28 -> 0.0014684288 | H28: ROCP | I28: IOCP | J28: ROCP | K28: IOCP | L28: ROCP | M28: IOCP
B29: 2.5 | C29: 25 | D29: 5.44 | E29: 681 | F29: =1/E29 -> 0.0014684288 | H29: 511 | I29: 7.1 | J29: 511 | K29: 6.97 | L29: 511 | M29: 6.84
B30: 3 | C30: 25 | D30: 5.47 | E30: 681 | F30: =1/E30 -> 0.0014684288 | H30: 681 | I30: 5.52 | J30: 681 | K30: 5.47 | L30: 681 | M30: 5.33
B31: 4 | C31: 25 | D31: 5.49 | E31: 681 | F31: =1/E31 -> 0.0014684288 | H31: 750 | I31: 5.08 | J31: 750 | K31: 5.04 | L31: 750 | M31: 4.9
B32: 5 | C32: 25 | D32: 5.5 | E32: 681 | F32: =1/E32 -> 0.0014684288 | H32: 1000 | I32: 3.91 | J32: 1000 | K32: 3.96 | L32: 1000 | M32: 3.84
B33: 5.5 | C33: 25 | D33: 5.55 | E33: 681 | F33: =1/E33 -> 0.0014684288 | H33: 1470 | I33: 2.83 | J33: 1470 | K33: 2.872 | L33: 1470 | M33: 2.77
B34: 6 | C34: 25 | D34: 5.59 | E34: 681 | F34: =1/E34 -> 0.0014684288 | H34: 2000 | I34: 2.24 | J34: 2000 | K34: 2.275 | L34: 2000 | M34: 2.189
B35: 6.6 | C35: 25 | D35: 5.68 | E35: 681 | F35: =1/E35 -> 0.0014684288 | H35: 2610 | I35: 1.841 | J35: 2610 | K35: 1.863 | L35: 2610 | M35: 1.775
B36: 2.2 | C36: 128 | D36: 4.22 | E36: 681 | F36: =1/E36 -> 0.0014684288 | H36: 3830 | I36: 1.42 | J36: 3830 | K36: 1.427 | L36: 3830 | M36: 1.36
B37: 2.5 | C37: 128 | D37: 5.28 | E37: 681 | F37: =1/E37 -> 0.0014684288 | H37: 5110 | I37: 1.189 | J37: 5110 | K37: 1.191 | L37: 5110 | M37: 1.134
B38: 3 | C38: 128 | D38: 5.33 | E38: 681 | F38: =1/E38 -> 0.0014684288
B39: 4 | C39: 128 | D39: 5.4 | E39: 681 | F39: =1/E39 -> 0.0014684288 | H39: VIN=4.0V (-58°C) | J39: VIN=4.0V (25°C) | L39: VIN=4.0V (128°C)
B40: 5 | C40: 128 | D40: 5.47 | E40: 681 | F40: =1/E40 -> 0.0014684288 | H40: ROCP | I40: IOCP | J40: ROCP | K40: IOCP | L40: ROCP | M40: IOCP
B41: 5.5 | C41: 128 | D41: 5.52 | E41: 681 | F41: =1/E41 -> 0.0014684288 | H41: 511 | I41: 7.11 | J41: 511 | K41: 7.02 | L41: 511 | M41: 6.89
B42: 6 | C42: 128 | D42: 5.58 | E42: 681 | F42: =1/E42 -> 0.0014684288 | H42: 681 | I42: 5.39 | J42: 681 | K42: 5.49 | L42: 681 | M42: 5.4
B43: 6.6 | C43: 128 | D43: 5.71 | E43: 681 | F43: =1/E43 -> 0.0014684288 | H43: 750 | I43: 4.92 | J43: 750 | K43: 5.07 | L43: 750 | M43: 4.98
B44: 2.2 | C44: -58 | D44: 4.98 | E44: 681 | F44: =1/E44 -> 0.0014684288 | H44: 1000 | I44: 3.78 | J44: 1000 | K44: 3.96 | L44: 1000 | M44: 3.9
B45: 2.5 | C45: -58 | D45: 5.56 | E45: 681 | F45: =1/E45 -> 0.0014684288 | H45: 1470 | I45: 2.74 | J45: 1470 | K45: 2.889 | L45: 1470 | M45: 2.8
B46: 3 | C46: -58 | D46: 5.52 | E46: 681 | F46: =1/E46 -> 0.0014684288 | H46: 2000 | I46: 2.2 | J46: 2000 | K46: 2.297 | L46: 2000 | M46: 2.22
B47: 4 | C47: -58 | D47: 5.39 | E47: 681 | F47: =1/E47 -> 0.0014684288 | H47: 2610 | I47: 1.824 | J47: 2610 | K47: 1.889 | L47: 2610 | M47: 1.816
B48: 5 | C48: -58 | D48: 5.33 | E48: 681 | F48: =1/E48 -> 0.0014684288 | H48: 3830 | I48: 1.418 | J48: 3830 | K48: 1.454 | L48: 3830 | M48: 1.406
B49: 5.5 | C49: -58 | D49: 5.35 | E49: 681 | F49: =1/E49 -> 0.0014684288 | H49: 5110 | I49: 1.2 | J49: 5110 | K49: 1.217 | L49: 5110 | M49: 1.166
B50: 6 | C50: -58 | D50: 5.38 | E50: 681 | F50: =1/E50 -> 0.0014684288
B51: 6.6 | C51: -58 | D51: 5.61 | E51: 681 | F51: =1/E51 -> 0.0014684288 | H51: VIN=5.0V (-58°C) | J51: VIN=5.0V (25°C) | L51: VIN=5.0V (128°C)
B52: 2.2 | C52: 25 | D52: 4.2 | E52: 750 | F52: =1/E52 -> 0.0013333333 | H52: ROCP | I52: IOCP | J52: ROCP | K52: IOCP | L52: ROCP | M52: IOCP
B53: 2.5 | C53: 25 | D53: 5.01 | E53: 750 | F53: =1/E53 -> 0.0013333333 | H53: 511 | I53: 7.13 | J53: 511 | K53: 7.07 | L53: 511 | M53: 7
B54: 3 | C54: 25 | D54: 5.04 | E54: 750 | F54: =1/E54 -> 0.0013333333 | H54: 681 | I54: 5.33 | J54: 681 | K54: 5.5 | L54: 681 | M54: 5.47
B55: 4 | C55: 25 | D55: 5.07 | E55: 750 | F55: =1/E55 -> 0.0013333333 | H55: 750 | I55: 4.86 | J55: 750 | K55: 5.08 | L55: 750 | M55: 5.07
B56: 5 | C56: 25 | D56: 5.08 | E56: 750 | F56: =1/E56 -> 0.0013333333 | H56: 1000 | I56: 3.72 | J56: 1000 | K56: 3.97 | L56: 1000 | M56: 3.96
B57: 5.5 | C57: 25 | D57: 5.09 | E57: 750 | F57: =1/E57 -> 0.0013333333 | H57: 1470 | I57: 2.71 | J57: 1470 | K57: 2.888 | L57: 1470 | M57: 2.87
B58: 6 | C58: 25 | D58: 5.18 | E58: 750 | F58: =1/E58 -> 0.0013333333 | H58: 2000 | I58: 2.21 | J58: 2000 | K58: 2.314 | L58: 2000 | M58: 2.277
B59: 6.6 | C59: 25 | D59: 5.3 | E59: 750 | F59: =1/E59 -> 0.0013333333 | H59: 2610 | I59: 1.852 | J59: 2610 | K59: 1.919 | L59: 2610 | M59: 1.877
B60: 2.2 | C60: 128 | D60: 4.04 | E60: 750 | F60: =1/E60 -> 0.0013333333 | H60: 3830 | I60: 1.445 | J60: 3830 | K60: 1.484 | L60: 3830 | M60: 1.45
B61: 2.5 | C61: 128 | D61: 4.83 | E61: 750 | F61: =1/E61 -> 0.0013333333 | H61: 5110 | I61: 1.221 | J61: 5110 | K61: 1.245 | L61: 5110 | M61: 1.209
B62: 3 | C62: 128 | D62: 4.9 | E62: 750 | F62: =1/E62 -> 0.0013333333
B63: 4 | C63: 128 | D63: 4.98 | E63: 750 | F63: =1/E63 -> 0.0013333333 | H63: VIN=5.5V (-58°C) | J63: VIN=5.5V (25°C) | L63: VIN=5.5V (128°C)
B64: 5 | C64: 128 | D64: 5.07 | E64: 750 | F64: =1/E64 -> 0.0013333333 | H64: ROCP | I64: IOCP | J64: ROCP | K64: IOCP | L64: ROCP | M64: IOCP
B65: 5.5 | C65: 128 | D65: 5.1 | E65: 750 | F65: =1/E65 -> 0.0013333333 | H65: 511 | I65: 7.17 | J65: 511 | K65: 7.16 | L65: 511 | M65: 7.06
B66: 6 | C66: 128 | D66: 5.18 | E66: 750 | F66: =1/E66 -> 0.0013333333 | H66: 681 | I66: 5.35 | J66: 681 | K66: 5.55 | L66: 681 | M66: 5.52
B67: 6.6 | C67: 128 | D67: 5.3 | E67: 750 | F67: =1/E67 -> 0.0013333333 | H67: 750 | I67: 4.88 | J67: 750 | K67: 5.09 | L67: 750 | M67: 5.1
B68: 2.2 | C68: -58 | D68: 4.86 | E68: 750 | F68: =1/E68 -> 0.0013333333 | H68: 1000 | I68: 3.75 | J68: 1000 | K68: 4.01 | L68: 1000 | M68: 4.01
B69: 2.5 | C69: -58 | D69: 5.17 | E69: 750 | F69: =1/E69 -> 0.0013333333 | H69: 1470 | I69: 2.75 | J69: 1470 | K69: 2.917 | L69: 1470 | M69: 2.89
B70: 3 | C70: -58 | D70: 5.08 | E70: 750 | F70: =1/E70 -> 0.0013333333 | H70: 2000 | I70: 2.24 | J70: 2000 | K70: 2.353 | L70: 2000 | M70: 2.318
B71: 4 | C71: -58 | D71: 4.92 | E71: 750 | F71: =1/E71 -> 0.0013333333 | H71: 2610 | I71: 1.876 | J71: 2610 | K71: 1.948 | L71: 2610 | M71: 1.888
B72: 5 | C72: -58 | D72: 4.86 | E72: 750 | F72: =1/E72 -> 0.0013333333 | H72: 3830 | I72: 1.465 | J72: 3830 | K72: 1.503 | L72: 3830 | M72: 1.489
B73: 5.5 | C73: -58 | D73: 4.88 | E73: 750 | F73: =1/E73 -> 0.0013333333 | H73: 5110 | I73: 1.247 | J73: 5110 | K73: 1.274 | L73: 5110 | M73: 1.237
B74: 6 | C74: -58 | D74: 4.9 | E74: 750 | F74: =1/E74 -> 0.0013333333
B75: 6.6 | C75: -58 | D75: 5.14 | E75: 750 | F75: =1/E75 -> 0.0013333333 | H75: VIN=6.0V (-58°C) | J75: VIN=6.0V (25°C) | L75: VIN=6.0V (128°C)
B76: 2.2 | C76: 25 | D76: 3.56 | E76: 1000 | F76: =1/E76 -> 0.001 | H76: ROCP | I76: IOCP | J76: ROCP | K76: IOCP | L76: ROCP | M76: IOCP
B77: 2.5 | C77: 25 | D77: 3.93 | E77: 1000 | F77: =1/E77 -> 0.001 | H77: 511 | I77: 7.27 | J77: 511 | K77: 7.22 | L77: 511 | M77: 7.14
B78: 3 | C78: 25 | D78: 3.96 | E78: 1000 | F78: =1/E78 -> 0.001 | H78: 681 | I78: 5.38 | J78: 681 | K78: 5.59 | L78: 681 | M78: 5.58
B79: 4 | C79: 25 | D79: 3.96 | E79: 1000 | F79: =1/E79 -> 0.001 | H79: 750 | I79: 4.9 | J79: 750 | K79: 5.18 | L79: 750 | M79: 5.18
B80: 5 | C80: 25 | D80: 3.97 | E80: 1000 | F80: =1/E80 -> 0.001 | H80: 1000 | I80: 3.81 | J80: 1000 | K80: 4.06 | L80: 1000 | M80: 4.09
B81: 5.5 | C81: 25 | D81: 4.01 | E81: 1000 | F81: =1/E81 -> 0.001 | H81: 1470 | I81: 2.79 | J81: 1470 | K81: 2.964 | L81: 1470 | M81: 2.95
B82: 6 | C82: 25 | D82: 4.06 | E82: 1000 | F82: =1/E82 -> 0.001 | H82: 2000 | I82: 2.29 | J82: 2000 | K82: 2.402 | L82: 2000 | M82: 2.36
B83: 6.6 | C83: 25 | D83: 4.2 | E83: 1000 | F83: =1/E83 -> 0.001 | H83: 2610 | I83: 1.951 | J83: 2610 | K83: 2.001 | L83: 2610 | M83: 1.96
B84: 2.2 | C84: 128 | D84: 3.18 | E84: 1000 | F84: =1/E84 -> 0.001 | H84: 3830 | I84: 1.536 | J84: 3830 | K84: 1.552 | L84: 3830 | M84: 1.508
B85: 2.5 | C85: 128 | D85: 3.83 | E85: 1000 | F85: =1/E85 -> 0.001 | H85: 5110 | I85: 1.311 | J85: 5110 | K85: 1.324 | L85: 5110 | M85: 1.296
B86: 3 | C86: 128 | D86: 3.84 | E86: 1000 | F86: =1/E86 -> 0.001
B87: 4 | C87: 128 | D87: 3.9 | E87: 1000 | F87: =1/E87 -> 0.001 | H87: VIN=6.6V (-58°C) | J87: VIN=6.6V (25°C) | L87: VIN=6.6V (128°C)
B88: 5 | C88: 128 | D88: 3.96 | E88: 1000 | F88: =1/E88 -> 0.001 | H88: ROCP | I88: IOCP | J88: ROCP | K88: IOCP | L88: ROCP | M88: IOCP
B89: 5.5 | C89: 128 | D89: 4.01 | E89: 1000 | F89: =1/E89 -> 0.001 | H89: 511 | I89: 7.43 | J89: 511 | K89: 7.35 | L89: 511 | M89: 7.26
B90: 6 | C90: 128 | D90: 4.09 | E90: 1000 | F90: =1/E90 -> 0.001 | H90: 681 | I90: 5.61 | J90: 681 | K90: 5.68 | L90: 681 | M90: 5.71
B91: 6.6 | C91: 128 | D91: 4.18 | E91: 1000 | F91: =1/E91 -> 0.001 | H91: 750 | I91: 5.14 | J91: 750 | K91: 5.3 | L91: 750 | M91: 5.3
B92: 2.2 | C92: -58 | D92: 3.96 | E92: 1000 | F92: =1/E92 -> 0.001 | H92: 1000 | I92: 3.96 | J92: 1000 | K92: 4.2 | L92: 1000 | M92: 4.18
B93: 2.5 | C93: -58 | D93: 4.03 | E93: 1000 | F93: =1/E93 -> 0.001 | H93: 1470 | I93: 2.93 | J93: 1470 | K93: 3.07 | L93: 1470 | M93: 3.1
B94: 3 | C94: -58 | D94: 3.91 | E94: 1000 | F94: =1/E94 -> 0.001 | H94: 2000 | I94: 2.43 | J94: 2000 | K94: 2.524 | L94: 2000 | M94: 2.491
B95: 4 | C95: -58 | D95: 3.78 | E95: 1000 | F95: =1/E95 -> 0.001 | H95: 2610 | I95: 2.074 | J95: 2610 | K95: 2.116 | L95: 2610 | M95: 2.059
B96: 5 | C96: -58 | D96: 3.72 | E96: 1000 | F96: =1/E96 -> 0.001 | H96: 3830 | I96: 1.664 | J96: 3830 | K96: 1.663 | L96: 3830 | M96: 1.633
B97: 5.5 | C97: -58 | D97: 3.75 | E97: 1000 | F97: =1/E97 -> 0.001 | H97: 5110 | I97: 1.426 | J97: 5110 | K97: 1.425 | L97: 5110 | M97: 1.409
B98: 6 | C98: -58 | D98: 3.81 | E98: 1000 | F98: =1/E98 -> 0.001
B99: 6.6 | C99: -58 | D99: 3.96 | E99: 1000 | F99: =1/E99 -> 0.001
B100: 2.2 | C100: 25 | D100: 2.648 | E100: 1470 | F100: =1/E100 -> 0.00068027211 | U100: 2.2 ≤ VIN < 2.5V | Z100: 2.5 ≤ VIN < 5.0V | AE100: 5.0 ≤ VIN < 6.0V | AJ100: 6.0 ≤ VIN < 6.6V
B101: 2.5 | C101: 25 | D101: 2.84 | E101: 1470 | F101: =1/E101 -> 0.00068027211 | P101: VIN | Q101: TEMP | R101: A | S101: P | U101: VIN | V101: TEMP | W101: A | X101: P | Z101: VIN | AA101: TEMP | AB101: A | AC101: P | AE101: VIN | AF101: TEMP | AG101: A | AH101: P | AJ101: VIN | AK101: TEMP | AL101: A | AM101: P
...

Sheet Data For Graphs
P1: A | Q1: 9.5
A2: Temperature: 25°C | P2: k | Q2: 0.6
A3: ROCP kohms | B3: VIN V | M3: OCP vs ROCP OVER TEMP
B4: 2.2 | C4: 2.5 | D4: 3 | E4: 4 | F4: 5 | G4: 5.5 | H4: 6 | I4: 6.6 | M4: IREF | N4: ROCP k | O4: IOCP A 25C | Q4: DS EQ | R4: POLY
A5: 0.511kΩ | B5: 5.29 | C5: 6.91 | D5: 6.97 | E5: 7.02 | F5: 7.07 | G5: 7.16 | H5: 7.22 | I5: 7.35 | J5: OCP A | M5: =0.5/N5 -> 0.97847358 | N5: 0.511 | O5: =+SUM(D5:I5)/6 -> 7.1316667 | P5: =+O5/M5 -> 7.2885633 | Q5: =$Q$1*EXP((-$Q$2*N5)/(1+0.1*N5)) -> 7.0964693 | R5: =0.1176*N5^4-1.5013*N5^3+6.8477*N5^2-13.622*N5+12.195 -> 6.829932
A6: 0.681kΩ | B6: 4.66 | C6: 5.44 | D6: 5.47 | E6: 5.49 | F6: 5.5 | G6: 5.55 | H6: 5.59 | I6: 5.68 | M6: =0.5/N6 -> 0.73421439 | N6: 0.681 | O6: =+SUM(D6:I6)/6 -> 5.5466667 | P6: =+O6/M6 -> 7.55456 | Q6: =$Q$1*EXP((-$Q$2*N6)/(1+0.1*N6)) -> 6.480148 | R6: =0.1176*N6^4-1.5013*N6^3+6.8477*N6^2-13.622*N6+12.195 -> 5.6452645
A7: 0.75kΩ | B7: 4.2 | C7: 5.01 | D7: 5.04 | E7: 5.07 | F7: 5.08 | G7: 5.09 | H7: 5.18 | I7: 5.3 | M7: =0.5/N7 -> 0.66666667 | N7: 0.75 | O7: =+SUM(D7:I7)/6 -> 5.1266667 | P7: =+O7/M7 -> 7.69 | Q7: =$Q$1*EXP((-$Q$2*N7)/(1+0.1*N7)) -> 6.2506606 | R7: =0.1176*N7^4-1.5013*N7^3+6.8477*N7^2-13.622*N7+12.195 -> 5.2341797
A8: 1.0kΩ | B8: 3.56 | C8: 3.93 | D8: 3.96 | E8: 3.96 | F8: 3.97 | G8: 4.01 | H8: 4.06 | I8: 4.2 | M8: =0.5/N8 -> 0.5 | N8: 1 | O8: =+SUM(D8:I8)/6 -> 4.0266667 | P8: =+O8/M8 -> 8.0533333 | Q8: =$Q$1*EXP((-$Q$2*N8)/(1+0.1*N8)) -> 5.5059936 | R8: =0.1176*N8^4-1.5013*N8^3+6.8477*N8^2-13.622*N8+12.195 -> 4.037
A9: 1.47kΩ | B9: 2.648 | C9: 2.84 | D9: 2.872 | E9: 2.889 | F9: 2.888 | G9: 2.917 | H9: 2.964 | I9: 3.07 | M9: =0.5/N9 -> 0.34013605 | N9: 1.47 | O9: =+SUM(D9:I9)/6 -> 2.9333333 | P9: =+O9/M9 -> 8.624 | Q9: =$Q$1*EXP((-$Q$2*N9)/(1+0.1*N9)) -> 4.40319 | R9: =0.1176*N9^4-1.5013*N9^3+6.8477*N9^2-13.622*N9+12.195 -> 2.7480728
A10: 2.0kΩ | B10: 2.236 | C10: 2.263 | D10: 2.275 | E10: 2.297 | F10: 2.314 | G10: 2.353 | H10: 2.402 | I10: 2.524 | M10: =0.5/N10 -> 0.25 | N10: 2 | O10: =+SUM(D10:I10)/6 -> 2.3608333 | P10: =+O10/M10 -> 9.4433333 | Q10: =$Q$1*EXP((-$Q$2*N10)/(1+0.1*N10)) -> 3.4948547 | R10: =0.1176*N10^4-1.5013*N10^3+6.8477*N10^2-13.622*N10+12.195 -> 2.213
A11: 2.61kΩ | B11: 1.811 | C11: 1.851 | D11: 1.863 | E11: 1.889 | F11: 1.919 | G11: 1.948 | H11: 2.001 | I11: 2.116 | M11: =0.5/N11 -> 0.19157088 | N11: 2.61 | O11: =+SUM(D11:I11)/6 -> 1.956 | P11: =+O11/M11 -> 10.21032 | Q11: =$Q$1*EXP((-$Q$2*N11)/(1+0.1*N11)) -> 2.7440098 | R11: =0.1176*N11^4-1.5013*N11^3+6.8477*N11^2-13.622*N11+12.195 -> 2.0535057
A12: 3.83kΩ | B12: 1.405 | C12: 1.414 | D12: 1.427 | E12: 1.454 | F12: 1.484 | G12: 1.503 | H12: 1.552 | I12: 1.663 | M12: =0.5/N12 -> 0.1305483 | N12: 3.83 | O12: =+SUM(D12:I12)/6 -> 1.5138333 | P12: =+O12/M12 -> 11.595963 | Q12: =$Q$1*EXP((-$Q$2*N12)/(1+0.1*N12)) -> 1.8034231 | R12: =0.1176*N12^4-1.5013*N12^3+6.8477*N12^2-13.622*N12+12.195 -> 1.4298709
A13: 5.11kΩ | B13: 1.162 | C13: 1.182 | D13: 1.191 | E13: 1.217 | F13: 1.245 | G13: 1.274 | H13: 1.324 | I13: 1.425 | M13: =0.5/N13 -> 0.097847358 | N13: 5.11 | O13: =+SUM(D13:I13)/6 -> 1.2793333 | P13: =+O13/M13 -> 13.074787 | Q13: =$Q$1*EXP((-$Q$2*N13)/(1+0.1*N13)) -> 1.2487862 | R13: =0.1176*N13^4-1.5013*N13^3+6.8477*N13^2-13.622*N13+12.195 -> 1.2562897
A15: Temperature: 125°C
A16: ROCP kohms | B16: VIN V
B17: 2.2 | C17: 2.5 | D17: 3 | E17: 4 | F17: 5 | G17: 5.5 | H17: 6 | I17: 6.6 | M17: IREF | N17: ROCP | O17: IOCP A 128C
A18: 0.511kΩ | B18: 4.82 | C18: 6.47 | D18: 6.84 | E18: 6.89 | F18: 7 | G18: 7.06 | H18: 7.14 | I18: 7.26 | J18: OCP A | M18: =0.5/N18 -> 0.97847358 | N18: 0.511 | O18: =+SUM(D18:I18)/6 -> 7.0316667 | P18: =+O18/M18 -> 7.1863633
A19: 0.681kΩ | B19: 4.22 | C19: 5.28 | D19: 5.33 | E19: 5.4 | F19: 5.47 | G19: 5.52 | H19: 5.58 | I19: 5.71 | M19: =0.5/N19 -> 0.73421439 | N19: 0.681 | O19: =+SUM(D19:I19)/6 -> 5.5016667 | P19: =+O19/M19 -> 7.49327
A20: 0.75kΩ | B20: 4.04 | C20: 4.83 | D20: 4.9 | E20: 4.98 | F20: 5.07 | G20: 5.1 | H20: 5.18 | I20: 5.3 | M20: =0.5/N20 -> 0.66666667 | N20: 0.75 | O20: =+SUM(D20:I20)/6 -> 5.0883333 | P20: =+O20/M20 -> 7.6325
A21: 1.0kΩ | B21: 3.18 | C21: 3.83 | D21: 3.84 | E21: 3.9 | F21: 3.96 | G21: 4.01 | H21: 4.09 | I21: 4.18 | M21: =0.5/N21 -> 0.5 | N21: 1 | O21: =+SUM(D21:I21)/6 -> 3.9966667 | P21: =+O21/M21 -> 7.9933333
A22: 1.47kΩ | B22: 2.57 | C22: 2.75 | D22: 2.77 | E22: 2.8 | F22: 2.87 | G22: 2.89 | H22: 2.95 | I22: 3.1 | M22: =0.5/N22 -> 0.34013605 | N22: 1.47 | O22: =+SUM(D22:I22)/6 -> 2.8966667 | P22: =+O22/M22 -> 8.5162
A23: 2.0kΩ | B23: 2.049 | C23: 2.15 | D23: 2.189 | E23: 2.22 | F23: 2.277 | G23: 2.318 | H23: 2.36 | I23: 2.491 | M23: =0.5/N23 -> 0.25 | N23: 2 | O23: =+SUM(D23:I23)/6 -> 2.3091667 | P23: =+O23/M23 -> 9.2366667
A24: 2.61kΩ | B24: 1.72 | C24: 1.739 | D24: 1.775 | E24: 1.816 | F24: 1.877 | G24: 1.888 | H24: 1.96 | I24: 2.059 | M24: =0.5/N24 -> 0.19157088 | N24: 2.61 | O24: =+SUM(D24:I24)/6 -> 1.8958333 | P24: =+O24/M24 -> 9.89625
A25: 3.83kΩ | B25: 1.32 | C25: 1.33 | D25: 1.36 | E25: 1.406 | F25: 1.45 | G25: 1.489 | H25: 1.508 | I25: 1.633 | M25: =0.5/N25 -> 0.1305483 | N25: 3.83 | O25: =+SUM(D25:I25)/6 -> 1.4743333 | P25: =+O25/M25 -> 11.293393
A26: 5.11kΩ | B26: 1.08 | C26: 1.106 | D26: 1.134 | E26: 1.166 | F26: 1.209 | G26: 1.237 | H26: 1.296 | I26: 1.409 | M26: =0.5/N26 -> 0.097847358 | N26: 5.11 | O26: =+SUM(D26:I26)/6 -> 1.2418333 | P26: =+O26/M26 -> 12.691537
A28: Temperature: -55°C
A29: ROCP kohms | B29: VIN V
B30: 2.2 | C30: 2.5 | D30: 3 | E30: 4 | F30: 5 | G30: 5.5 | H30: 6 | I30: 6.6 | M30: IREF | N30: ROCP | O30: IOCP A -58C
A31: 0.511kΩ | B31: 6.12 | C31: 7.1 | D31: 7.1 | E31: 7.11 | F31: 7.13 | G31: 7.17 | H31: 7.27 | I31: 7.43 | J31: OCP A | M31: =0.5/N31 -> 0.97847358 | N31: 0.511 | O31: =+SUM(D31:I31)/6 -> 7.2016667 | P31: =+O31/M31 -> 7.3601033
A32: 0.681kΩ | B32: 4.98 | C32: 5.56 | D32: 5.52 | E32: 5.39 | F32: 5.33 | G32: 5.35 | H32: 5.38 | I32: 5.61 | M32: =0.5/N32 -> 0.73421439 | N32: 0.681 | O32: =+SUM(D32:I32)/6 -> 5.43 | P32: =+O32/M32 -> 7.39566
A33: 0.75kΩ | B33: 4.86 | C33: 5.17 | D33: 5.08 | E33: 4.92 | F33: 4.86 | G33: 4.88 | H33: 4.9 | I33: 5.14 | M33: =0.5/N33 -> 0.66666667 | N33: 0.75 | O33: =+SUM(D33:I33)/6 -> 4.9633333 | P33: =+O33/M33 -> 7.445
A34: 1.0kΩ | B34: 3.96 | C34: 4.03 | D34: 3.91 | E34: 3.78 | F34: 3.72 | G34: 3.75 | H34: 3.81 | I34: 3.96 | M34: =0.5/N34 -> 0.5 | N34: 1 | O34: =+SUM(D34:I34)/6 -> 3.8216667 | P34: =+O34/M34 -> 7.6433333
A35: 1.47kΩ | B35: 2.89 | C35: 2.9 | D35: 2.83 | E35: 2.74 | F35: 2.71 | G35: 2.75 | H35: 2.79 | I35: 2.93 | M35: =0.5/N35 -> 0.34013605 | N35: 1.47 | O35: =+SUM(D35:I35)/6 -> 2.7916667 | P35: =+O35/M35 -> 8.2075
A36: 2.0kΩ | B36: 2.3 | C36: 2.3 | D36: 2.24 | E36: 2.2 | F36: 2.21 | G36: 2.24 | H36: 2.29 | I36: 2.43 | M36: =0.5/N36 -> 0.25 | N36: 2 | O36: =+SUM(D36:I36)/6 -> 2.2683333 | P36: =+O36/M36 -> 9.0733333
A37: 2.61kΩ | B37: 1.904 | C37: 1.876 | D37: 1.841 | E37: 1.824 | F37: 1.852 | G37: 1.876 | H37: 1.951 | I37: 2.074 | M37: =0.5/N37 -> 0.19157088 | N37: 2.61 | O37: =+SUM(D37:I37)/6 -> 1.903 | P37: =+O37/M37 -> 9.93366
A38: 3.83kΩ | B38: 1.44 | C38: 1.436 | D38: 1.42 | E38: 1.418 | F38: 1.445 | G38: 1.465 | H38: 1.536 | I38: 1.664 | M38: =0.5/N38 -> 0.1305483 | N38: 3.83 | O38: =+SUM(D38:I38)/6 -> 1.4913333 | P38: =+O38/M38 -> 11.423613
A39: 5.11kΩ | B39: 1.189 | C39: 1.194 | D39: 1.189 | E39: 1.2 | F39: 1.221 | G39: 1.247 | H39: 1.311 | I39: 1.426 | M39: =0.5/N39 -> 0.097847358 | N39: 5.11 | O39: =+SUM(D39:I39)/6 -> 1.2656667 | P39: =+O39/M39 -> 12.935113
AI43: VIN | AJ43: ROCP | AK43: TEMP | AL43: IOCP
AI44: 2.2 | AK44: 25
AI45: 2.5 | AK45: 25
AI46: 3 | AK46: 25
AI47: 4 | AK47: 25
AI48: 5 | AK48: 25
AI49: 5.5 | AK49: 25
AI50: 6 | AK50: 25
AI51: 6.6 | AK51: 25
AI52: 2.2 | AK52: 128
AI53: 2.5 | AK53: 128
AI54: 3 | AK54: 128
AI55: 4 | AK55: 128
... AI67: 6.6 | AK67: -58

Sheet Backup Data
B3: VIN | C3: 1/ROCP | D3: TEMP | E3: IOCP | F3: ROCP
B4: 2.2 | C4: =1/F4 -> 0.0019569472 | D4: 25 | E4: 5.29 | F4: 511 | I4: SUMMARY OUTPUT
B5: 2.5 | C5: =1/F5 -> 0.0019569472 | D5: 25 | E5: 6.91 | F5: 511
B6: 3 | C6: =1/F6 -> 0.0019569472 | D6: 25 | E6: 6.97 | F6: 511 | I6: Regression Statistics
B7: 4 | C7: =1/F7 -> 0.0019569472 | D7: 25 | E7: 7.02 | F7: 511 | I7: Multiple R | J7: 0.98802599
B8: 5 | C8: =1/F8 -> 0.0019569472 | D8: 25 | E8: 7.07 | F8: 511 | I8: R Square | J8: 0.97619535
B9: 5.5 | C9: =1/F9 -> 0.0019569472 | D9: 25 | E9: 7.16 | F9: 511 | I9: Adjusted R Square | J9: 0.97574337
B10: 6 | C10: =1/F10 -> 0.0019569472 | D10: 25 | E10: 7.22 | F10: 511 | I10: Standard Error | J10: 0.26381099
B11: 6.6 | C11: =1/F11 -> 0.0019569472 | D11: 25 | E11: 7.35 | F11: 511 | I11: Observations | J11: 162
B12: 2.2 | C12: =1/F12 -> 0.0019569472 | D12: 128 | E12: 4.82 | F12: 511
B13: 2.5 | C13: =1/F13 -> 0.0019569472 | D13: 128 | E13: 6.47 | F13: 511 | I13: ANOVA
B14: 3 | C14: =1/F14 -> 0.0019569472 | D14: 128 | E14: 6.84 | F14: 511 | J14: df | K14: SS | L14: MS | M14: F | N14: Significance F
B15: 4 | C15: =1/F15 -> 0.0019569472 | D15: 128 | E15: 6.89 | F15: 511 | I15: Regression | J15: 3 | K15: 450.93906 | L15: 150.31302 | M15: 2159.7866 | N15: 5.6810935e-128
B16: 5 | C16: =1/F16 -> 0.0019569472 | D16: 128 | E16: 7 | F16: 511 | I16: Residual | J16: 158 | K16: 10.996205 | L16: 0.069596237
B17: 5.5 | C17: =1/F17 -> 0.0019569472 | D17: 128 | E17: 7.06 | F17: 511 | I17: Total | J17: 161 | K17: 461.93527
B18: 6 | C18: =1/F18 -> 0.0019569472 | D18: 128 | E18: 7.14 | F18: 511
B19: 6.6 | C19: =1/F19 -> 0.0019569472 | D19: 128 | E19: 7.26 | F19: 511 | J19: Coefficients | K19: Standard Error | L19: t Stat | M19: P-value | N19: Lower 95% | O19: Upper 95% | P19: Lower 95.0% | Q19: Upper 95.0%
B20: 2.2 | C20: =1/F20 -> 0.0019569472 | D20: -58 | E20: 6.12 | F20: 511 | I20: Intercept | J20: 0.28788281 | K20: 0.074267188 | L20: 3.8763123 | M20: 0.00015515374 | N20: 0.14119828 | O20: 0.43456735 | P20: 0.14119828 | Q20: 0.43456735
B21: 2.5 | C21: =1/F21 -> 0.0019569472 | D21: -58 | E21: 7.1 | F21: 511 | I21: VIN | J21: 0.10278422 | K21: 0.013223544 | L21: 7.7728191 | M21: 9.214706e-13 | N21: 0.076666498 | O21: 0.12890193 | P21: 0.076666498 | Q21: 0.12890193
B22: 3 | C22: =1/F22 -> 0.0019569472 | D22: -58 | E22: 7.1 | F22: 511 | I22: 1/ROCP | J22: 3160.4818 | K22: 39.664158 | L22: 79.681051 | M22: 1.7524761e-129 | N22: 3082.1415 | O22: 3238.8222 | P22: 3082.1415 | Q22: 3238.8222
B23: 4 | C23: =1/F23 -> 0.0019569472 | D23: -58 | E23: 7.11 | F23: 511 | I23: TEMP | J23: -0.00050616268 | K23: 0.0002752032 | L23: -1.8392325 | M23: 0.067757941 | N23: -0.0010497143 | O23: 3.7388982e-05 | P23: -0.0010497143 | Q23: 3.7388982e-05
B24: 5 | C24: =1/F24 -> 0.0019569472 | D24: -58 | E24: 7.13 | F24: 511
B25: 5.5 | C25: =1/F25 -> 0.0019569472 | D25: -58 | E25: 7.17 | F25: 511
B26: 6 | C26: =1/F26 -> 0.0019569472 | D26: -58 | E26: 7.27 | F26: 511
B27: 6.6 | C27: =1/F27 -> 0.0019569472 | D27: -58 | E27: 7.43 | F27: 511 | I27: RESIDUAL OUTPUT
B28: 2.2 | C28: =1/F28 -> 0.0014684288 | D28: 25 | E28: 4.66 | F28: 681
B29: 2.5 | C29: =1/F29 -> 0.0014684288 | D29: 25 | E29: 5.44 | F29: 681 | I29: Observation | J29: Predicted IOCP | K29: Residuals | M29: =MAX(K30:K245) -> 0.078635453 | N29: =MIN(K30:K245) -> -0.37637245
B30: 3 | C30: =1/F30 -> 0.0014684288 | D30: 25 | E30: 5.47 | F30: 681 | I30: 5.29 | J30: =(B4*$J$21)+(C4*$J$22)+(D4*$J$23)+$J$20 -> 6.6862499 | K30: =(I30-J30)/I30 -> -0.26394139
B31: 4 | C31: =1/F31 -> 0.0014684288 | D31: 25 | E31: 5.49 | F31: 681 | I31: 6.91 | J31: =(B5*$J$21)+(C5*$J$22)+(D5*$J$23)+$J$20 -> 6.7170852 | K31: =(I31-J31)/I31 -> 0.027918204
B32: 5 | C32: =1/F32 -> 0.0014684288 | D32: 25 | E32: 5.5 | F32: 681 | I32: 6.97 | J32: =(B6*$J$21)+(C6*$J$22)+(D6*$J$23)+$J$20 -> 6.7684773 | K32: =(I32-J32)/I32 -> 0.028912867
B33: 5.5 | C33: =1/F33 -> 0.0014684288 | D33: 25 | E33: 5.55 | F33: 681 | I33: 7.02 | J33: =(B7*$J$21)+(C7*$J$22)+(D7*$J$23)+$J$20 -> 6.8712615 | K33: =(I33-J33)/I33 -> 0.021187815
B34: 6 | C34: =1/F34 -> 0.0014684288 | D34: 25 | E34: 5.59 | F34: 681 | I34: 7.07 | J34: =(B8*$J$21)+(C8*$J$22)+(D8*$J$23)+$J$20 -> 6.9740458 | K34: =(I34-J34)/I34 -> 0.01357203
B35: 6.6 | C35: =1/F35 -> 0.0014684288 | D35: 25 | E35: 5.68 | F35: 681 | I35: 7.16 | J35: =(B9*$J$21)+(C9*$J$22)+(D9*$J$23)+$J$20 -> 7.0254379 | K35: =(I35-J35)/I35 -> 0.018793595
B36: 2.2 | C36: =1/F36 -> 0.0014684288 | D36: 128 | E36: 4.22 | F36: 681 | I36: 7.22 | J36: =(B10*$J$21)+(C10*$J$22)+(D10*$J$23)+$J$20 -> 7.07683 | K36: =(I36-J36)/I36 -> 0.019829645
B37: 2.5 | C37: =1/F37 -> 0.0014684288 | D37: 128 | E37: 5.28 | F37: 681 | I37: 7.35 | J37: =(B11*$J$21)+(C11*$J$22)+(D11*$J$23)+$J$20 -> 7.1385005 | K37: =(I37-J37)/I37 -> 0.028775443
B38: 3 | C38: =1/F38 -> 0.0014684288 | D38: 128 | E38: 5.33 | F38: 681 | I38: 4.82 | J38: =(B12*$J$21)+(C12*$J$22)+(D12*$J$23)+$J$20 -> 6.6341152 | K38: =(I38-J38)/I38 -> -0.37637245
B39: 4 | C39: =1/F39 -> 0.0014684288 | D39: 128 | E39: 5.4 | F39: 681 | I39: 6.47 | J39: =(B13*$J$21)+(C13*$J$22)+(D13*$J$23)+$J$20 -> 6.6649505 | K39: =(I39-J39)/I39 -> -0.030131446
B40: 5 | C40: =1/F40 -> 0.0014684288 | D40: 128 | E40: 5.47 | F40: 681 | I40: 6.84 | J40: =(B14*$J$21)+(C14*$J$22)+(D14*$J$23)+$J$20 -> 6.7163426 | K40: =(I40-J40)/I40 -> 0.018078572
B41: 5.5 | C41: =1/F41 -> 0.0014684288 | D41: 128 | E41: 5.52 | F41: 681 | I41: 6.89 | J41: =(B15*$J$21)+(C15*$J$22)+(D15*$J$23)+$J$20 -> 6.8191268 | K41: =(I41-J41)/I41 -> 0.010286389
... B219: 6.6 | C219: =1/F219 -> 0.00019569472 | D219: -58 | E219: 1.426 | F219: 5110 | I219: 1.465 | J219: =(B193*$J$21)+(C193*$J$22)+(D193*$J$23)+$J$20 -> 1.7077445 | K219: =(I219-J219)/I219 -> -0.16569591
I220: 1.536 | J220: =(B194*$J$21)+(C194*$J$22)+(D194*$J$23)+$J$20 -> 1.7591366 | K220: =(I220-J220)/I220 -> -0.14527123
I221: 1.664 | J221: =(B195*$J$21)+(C195*$J$22)+(D195*$J$23)+$J$20 -> 1.8208071 | K221: =(I221-J221)/I221 -> -0.094235063
I222: 1.162 | J222: =(B196*$J$21)+(C196*$J$22)+(D196*$J$23)+$J$20 -> 1.1198436 | K222: =(I222-J222)/I222 -> 0.036279163
I223: 1.182 | J223: =(B197*$J$21)+(C197*$J$22)+(D197*$J$23)+$J$20 -> 1.1506789 | K223: =(I223-J223)/I223 -> 0.026498412
I224: 1.191 | J224: =(B198*$J$21)+(C198*$J$22)+(D198*$J$23)+$J$20 -> 1.202071 | K224: =(I224-J224)/I224 -> -0.0092955372
I225: 1.217 | J225: =(B199*$J$21)+(C199*$J$22)+(D199*$J$23)+$J$20 -> 1.3048552 | K225: =(I225-J225)/I225 -> -0.072189975
I226: 1.245 | J226: =(B200*$J$21)+(C200*$J$22)+(D200*$J$23)+$J$20 -> 1.4076394 | K226: =(I226-J226)/I226 -> -0.13063407
I227: 1.274 | J227: =(B201*$J$21)+(C201*$J$22)+(D201*$J$23)+$J$20 -> 1.4590315 | K227: =(I227-J227)/I227 -> -0.14523667
I228: 1.324 | J228: =(B202*$J$21)+(C202*$J$22)+(D202*$J$23)+$J$20 -> 1.5104236 | K228: =(I228-J228)/I228 -> -0.14080335
I229: 1.425 | J229: =(B203*$J$21)+(C203*$J$22)+(D203*$J$23)+$J$20 -> 1.5720942 | K229: =(I229-J229)/I229 -> -0.10322397
I230: 1.08 | J230: =(B204*$J$21)+(C204*$J$22)+(D204*$J$23)+$J$20 -> 1.0677089 | K230: =(I230-J230)/I230 -> 0.011380688
I231: 1.106 | J231: =(B205*$J$21)+(C205*$J$22)+(D205*$J$23)+$J$20 -> 1.0985441 | K231: =(I231-J231)/I231 -> 0.0067413011
... I245: 1.426 | J245: =(B219*$J$21)+(C219*$J$22)+(D219*$J$23)+$J$20 -> 1.6141057 | K245: =(I245-J245)/I245 -> -0.1319114
