Workbook

Sheet Main
B4: ISL75051ASEH OCP Calculator Tool (Rev 1.0)
C6: These cells are inputs | J6: This tool uses regression based on emperical data to produce the ROCP/IOCP values below. Due to the nature of regression there is bound to be some error in the answer. Every effort has been made to ensure the error across all operating points has been minimized. It is the responsibility of the consumer to make sure that the values produced by this tool meets the requirements of their given application. Software License Agreement The software supplied herewith by the Intersil Corporation (the "Company") is intended and supplied to you, the Company's customer, for use solely and exclusively on Intersil products. The software is owned by the Company and/or its supplier, and is protected under applicable copyright laws. All rights are reserved. Any use in violation of the foregoing restrictions may subject the user to criminal sanctions under applicable laws, as well as to civil liability for the breach of the terms and conditions of this license. THIS SOFTWARE IS PROVIDED IN AN "AS IS" CONDITION. NO WARRANTIES, WHETHER EXPRESS, IMPLIED OR STATUTORY, INCLUDING, BUT NOT LIMITED TO, IMPLIED WARRANTIES OF MERCHANTABILITY AND FITNESS FOR A PARTICULAR PURPOSE APPLY TO THIS SOFTWARE. THE COMPANY SHALL NOT, IN ANY CIRCUMSTANCES, BE LIABLE FOR SPECIAL, INCIDENTAL OR CONSEQUENTIAL DAMAGES, FOR ANY REASON WHATSOEVER.
C7: These cells are the output
B9: Find ROCP given an OCP trip point
B11: VIN | C11: TEMP | D11: IOCP | E11: Predicted ROCP
B12: 5.5 | C12: 25 | D12: 5 | E12: =Regression!U225 -> 0.75652078
B14: Find IOCP given a ROCP value
B16: VIN | C16: TEMP | D16: ROCP | E16: Predicted IOCP
B17: 4.5 | C17: 125 | D17: 1 | E17: =Regression!U235 -> 3.9558888
B19: Emperical Data:

Sheet Regression
A1: 2
B3: VIN | C3: TEMP | D3: IOCP | E3: ROCP | F3: 1/ROCP | H3: VIN=2.2V (-58°C) | J3: VIN=2.2V (25°C) | L3: VIN=2.2V (128°C)
B4: 2.2 | C4: 25 | D4: 4 | E4: 511 | F4: =1/E4 -> 0.0019569472 | H4: ROCP | I4: IOCP | J4: ROCP | K4: IOCP | L4: ROCP | M4: IOCP | Q4: 2.2 | T4: 2.2
B5: 2.5 | C5: 25 | D5: 6.91 | E5: 511 | F5: =1/E5 -> 0.0019569472 | H5: 511 | I5: 6.12 | J5: 511 | K5: 4 | L5: 511 | M5: 4.82 | Q5: 2.5 | T5: 2.5
B6: 3 | C6: 25 | D6: 6.97 | E6: 511 | F6: =1/E6 -> 0.0019569472 | H6: 681 | I6: 4.98 | J6: 681 | L6: 681 | M6: 4.22 | Q6: 3 | T6: 3
B7: 4 | C7: 25 | D7: 7.02 | E7: 511 | F7: =1/E7 -> 0.0019569472 | H7: 750 | I7: 4.86 | J7: 750 | K7: 4.2 | L7: 750 | M7: 4.04 | Q7: 4 | T7: 4
B8: 5 | C8: 25 | D8: 7.07 | E8: 511 | F8: =1/E8 -> 0.0019569472 | H8: 1000 | I8: 3.96 | J8: 1000 | K8: 3.56 | L8: 1000 | M8: 3.18 | Q8: 5 | T8: 5
B9: 5.5 | C9: 25 | D9: 7.16 | E9: 511 | F9: =1/E9 -> 0.0019569472 | H9: 1470 | I9: 2.89 | J9: 1470 | K9: 2.648 | L9: 1470 | M9: 2.57 | Q9: 5.5 | T9: 5.5
B10: 6 | C10: 25 | D10: 7.22 | E10: 511 | F10: =1/E10 -> 0.0019569472 | H10: 2000 | I10: 2.3 | J10: 2000 | K10: 2.236 | L10: 2000 | M10: 2.049 | Q10: 6 | T10: 6
B11: 6.6 | C11: 25 | D11: 7.35 | E11: 511 | F11: =1/E11 -> 0.0019569472 | H11: 2610 | I11: 1.904 | J11: 2610 | K11: 1.811 | L11: 2610 | M11: 1.72 | Q11: 6.6 | T11: 6.6
B12: 2.2 | C12: 128 | D12: 4.82 | E12: 511 | F12: =1/E12 -> 0.0019569472 | H12: 3830 | I12: 1.44 | J12: 3830 | K12: 1.405 | L12: 3830 | M12: 1.32
B13: 2.5 | C13: 128 | D13: 6.47 | E13: 511 | F13: =1/E13 -> 0.0019569472 | H13: 5110 | I13: 1.189 | J13: 5110 | K13: 1.162 | L13: 5110 | M13: 1.08 | Q13: 2.2 | R13: =IF(AND(Q13>=Q4,Q13<=Q11),VLOOKUP(Q13,Q4:Q11,1),"") -> 2.2 | T13: =Q235 -> 4.5 | U13: =IF(AND(T13>=T4,T13<=T11),VLOOKUP(T13,T4:T11,1),"") -> 4
B14: 3 | C14: 128 | D14: 6.84 | E14: 511 | F14: =1/E14 -> 0.0019569472 | R14: =IF(R13<>"",IF(Q13<>R13,IF(Q13>R13,INDEX(Q4:Q11,MATCH(R13,Q4:Q11)+1),INDEX(Q4:Q11,MATCH(R13,Q4:Q11)-1)),""),"") | U14: =IF(U13<>"",IF(T13<>U13,IF(T13>U13,INDEX(T4:T11,MATCH(U13,T4:T11)+1),INDEX(T4:T11,MATCH(U13,T4:T11)-1)),""),"") -> 5
B15: 4 | C15: 128 | D15: 6.89 | E15: 511 | F15: =1/E15 -> 0.0019569472 | H15: VIN=2.5V (-58°C) | J15: VIN=2.5V (25°C) | L15: VIN=2.5V (128°C)
B16: 5 | C16: 128 | D16: 7 | E16: 511 | F16: =1/E16 -> 0.0019569472 | H16: ROCP | I16: IOCP | J16: ROCP | K16: IOCP | L16: ROCP | M16: IOCP
B17: 5.5 | C17: 128 | D17: 7.06 | E17: 511 | F17: =1/E17 -> 0.0019569472 | H17: 511 | I17: 7.1 | J17: 511 | K17: 6.91 | L17: 511 | M17: 6.47
B18: 6 | C18: 128 | D18: 7.14 | E18: 511 | F18: =1/E18 -> 0.0019569472 | H18: 681 | I18: 5.56 | J18: 681 | K18: 5.44 | L18: 681 | M18: 5.28
B19: 6.6 | C19: 128 | D19: 7.26 | E19: 511 | F19: =1/E19 -> 0.0019569472 | H19: 750 | I19: 5.17 | J19: 750 | K19: 5.01 | L19: 750 | M19: 4.83
B20: 2.2 | C20: -58 | D20: 6.12 | E20: 511 | F20: =1/E20 -> 0.0019569472 | H20: 1000 | I20: 4.03 | J20: 1000 | K20: 3.93 | L20: 1000 | M20: 3.83
B21: 2.5 | C21: -58 | D21: 7.1 | E21: 511 | F21: =1/E21 -> 0.0019569472 | H21: 1470 | I21: 2.9 | J21: 1470 | K21: 2.84 | L21: 1470 | M21: 2.75
B22: 3 | C22: -58 | D22: 7.1 | E22: 511 | F22: =1/E22 -> 0.0019569472 | H22: 2000 | I22: 2.3 | J22: 2000 | K22: 2.263 | L22: 2000 | M22: 2.15
B23: 4 | C23: -58 | D23: 7.11 | E23: 511 | F23: =1/E23 -> 0.0019569472 | H23: 2610 | I23: 1.876 | J23: 2610 | K23: 1.851 | L23: 2610 | M23: 1.739
B24: 5 | C24: -58 | D24: 7.13 | E24: 511 | F24: =1/E24 -> 0.0019569472 | H24: 3830 | I24: 1.436 | J24: 3830 | K24: 1.414 | L24: 3830 | M24: 1.33
B25: 5.5 | C25: -58 | D25: 7.17 | E25: 511 | F25: =1/E25 -> 0.0019569472 | H25: 5110 | I25: 1.194 | J25: 5110 | K25: 1.182 | L25: 5110 | M25: 1.106
B26: 6 | C26: -58 | D26: 7.27 | E26: 511 | F26: =1/E26 -> 0.0019569472
B27: 6.6 | C27: -58 | D27: 7.43 | E27: 511 | F27: =1/E27 -> 0.0019569472 | H27: VIN=3.0V (-58°C) | J27: VIN=3.0V (25°C) | L27: VIN=3.0V (128°C)
B28: 2.2 | C28: 25 | D28: 4.66 | E28: 681 | F28: =1/E28 -> 0.0014684288 | H28: ROCP | I28: IOCP | J28: ROCP | K28: IOCP | L28: ROCP | M28: IOCP
B29: 2.5 | C29: 25 | D29: 5.44 | E29: 681 | F29: =1/E29 -> 0.0014684288 | H29: 511 | I29: 7.1 | J29: 511 | K29: 6.97 | L29: 511 | M29: 6.84
B30: 3 | C30: 25 | D30: 5.47 | E30: 681 | F30: =1/E30 -> 0.0014684288 | H30: 681 | I30: 5.52 | J30: 681 | K30: 5.47 | L30: 681 | M30: 5.33
B31: 4 | C31: 25 | D31: 5.49 | E31: 681 | F31: =1/E31 -> 0.0014684288 | H31: 750 | I31: 5.08 | J31: 750 | K31: 5.04 | L31: 750 | M31: 4.9
B32: 5 | C32: 25 | D32: 5.5 | E32: 681 | F32: =1/E32 -> 0.0014684288 | H32: 1000 | I32: 3.91 | J32: 1000 | K32: 3.96 | L32: 1000 | M32: 3.84
B33: 5.5 | C33: 25 | D33: 5.55 | E33: 681 | F33: =1/E33 -> 0.0014684288 | H33: 1470 | I33: 2.83 | J33: 1470 | K33: 2.872 | L33: 1470 | M33: 2.77
B34: 6 | C34: 25 | D34: 5.59 | E34: 681 | F34: =1/E34 -> 0.0014684288 | H34: 2000 | I34: 2.24 | J34: 2000 | K34: 2.275 | L34: 2000 | M34: 2.189
B35: 6.6 | C35: 25 | D35: 5.68 | E35: 681 | F35: =1/E35 -> 0.0014684288 | H35: 2610 | I35: 1.841 | J35: 2610 | K35: 1.863 | L35: 2610 | M35: 1.775
B36: 2.2 | C36: 128 | D36: 4.22 | E36: 681 | F36: =1/E36 -> 0.0014684288 | H36: 3830 | I36: 1.42 | J36: 3830 | K36: 1.427 | L36: 3830 | M36: 1.36
B37: 2.5 | C37: 128 | D37: 5.28 | E37: 681 | F37: =1/E37 -> 0.0014684288 | H37: 5110 | I37: 1.189 | J37: 5110 | K37: 1.191 | L37: 5110 | M37: 1.134
B38: 3 | C38: 128 | D38: 5.33 | E38: 681 | F38: =1/E38 -> 0.0014684288
B39: 4 | C39: 128 | D39: 5.4 | E39: 681 | F39: =1/E39 -> 0.0014684288 | H39: VIN=4.0V (-58°C) | J39: VIN=4.0V (25°C) | L39: VIN=4.0V (128°C)
B40: 5 | C40: 128 | D40: 5.47 | E40: 681 | F40: =1/E40 -> 0.0014684288 | H40: ROCP | I40: IOCP | J40: ROCP | K40: IOCP | L40: ROCP | M40: IOCP
B41: 5.5 | C41: 128 | D41: 5.52 | E41: 681 | F41: =1/E41 -> 0.0014684288 | H41: 511 | I41: 7.11 | J41: 511 | K41: 7.02 | L41: 511 | M41: 6.89
...

Sheet Data For Graphs
P1: A | Q1: 9.5
A2: Temperature: 25°C | P2: k | Q2: 0.6
A3: ROCP kohms | B3: VIN V | M3: OCP vs ROCP OVER TEMP
B4: 2.2 | C4: 2.5 | D4: 3 | E4: 4 | F4: 5 | G4: 5.5 | H4: 6 | I4: 6.6 | M4: IREF | N4: ROCP k | O4: IOCP A 25C | Q4: DS EQ | R4: POLY
A5: 0.511kΩ | B5: 5.29 | C5: 6.91 | D5: 6.97 | E5: 7.02 | F5: 7.07 | G5: 7.16 | H5: 7.22 | I5: 7.35 | J5: OCP A | M5: =0.5/N5 -> 0.97847358 | N5: 0.511 | O5: =+SUM(D5:I5)/6 -> 7.1316667 | P5: =+O5/M5 -> 7.2885633 | Q5: =$Q$1*EXP((-$Q$2*N5)/(1+0.1*N5)) -> 7.0964693 | R5: =0.1176*N5^4-1.5013*N5^3+6.8477*N5^2-13.622*N5+12.195 -> 6.829932
A6: 0.681kΩ | B6: 4.66 | C6: 5.44 | D6: 5.47 | E6: 5.49 | F6: 5.5 | G6: 5.55 | H6: 5.59 | I6: 5.68 | M6: =0.5/N6 -> 0.73421439 | N6: 0.681 | O6: =+SUM(D6:I6)/6 -> 5.5466667 | P6: =+O6/M6 -> 7.55456 | Q6: =$Q$1*EXP((-$Q$2*N6)/(1+0.1*N6)) -> 6.480148 | R6: =0.1176*N6^4-1.5013*N6^3+6.8477*N6^2-13.622*N6+12.195 -> 5.6452645
A7: 0.75kΩ | B7: 4.2 | C7: 5.01 | D7: 5.04 | E7: 5.07 | F7: 5.08 | G7: 5.09 | H7: 5.18 | I7: 5.3 | M7: =0.5/N7 -> 0.66666667 | N7: 0.75 | O7: =+SUM(D7:I7)/6 -> 5.1266667 | P7: =+O7/M7 -> 7.69 | Q7: =$Q$1*EXP((-$Q$2*N7)/(1+0.1*N7)) -> 6.2506606 | R7: =0.1176*N7^4-1.5013*N7^3+6.8477*N7^2-13.622*N7+12.195 -> 5.2341797
A8: 1.0kΩ | B8: 3.56 | C8: 3.93 | D8: 3.96 | E8: 3.96 | F8: 3.97 | G8: 4.01 | H8: 4.06 | I8: 4.2 | M8: =0.5/N8 -> 0.5 | N8: 1 | O8: =+SUM(D8:I8)/6 -> 4.0266667 | P8: =+O8/M8 -> 8.0533333 | Q8: =$Q$1*EXP((-$Q$2*N8)/(1+0.1*N8)) -> 5.5059936 | R8: =0.1176*N8^4-1.5013*N8^3+6.8477*N8^2-13.622*N8+12.195 -> 4.037
A9: 1.47kΩ | B9: 2.648 | C9: 2.84 | D9: 2.872 | E9: 2.889 | F9: 2.888 | G9: 2.917 | H9: 2.964 | I9: 3.07 | M9: =0.5/N9 -> 0.34013605 | N9: 1.47 | O9: =+SUM(D9:I9)/6 -> 2.9333333 | P9: =+O9/M9 -> 8.624 | Q9: =$Q$1*EXP((-$Q$2*N9)/(1+0.1*N9)) -> 4.40319 | R9: =0.1176*N9^4-1.5013*N9^3+6.8477*N9^2-13.622*N9+12.195 -> 2.7480728
A10: 2.0kΩ | B10: 2.236 | C10: 2.263 | D10: 2.275 | E10: 2.297 | F10: 2.314 | G10: 2.353 | H10: 2.402 | I10: 2.524 | M10: =0.5/N10 -> 0.25 | N10: 2 | O10: =+SUM(D10:I10)/6 -> 2.3608333 | P10: =+O10/M10 -> 9.4433333 | Q10: =$Q$1*EXP((-$Q$2*N10)/(1+0.1*N10)) -> 3.4948547 | R10: =0.1176*N10^4-1.5013*N10^3+6.8477*N10^2-13.622*N10+12.195 -> 2.213
A11: 2.61kΩ | B11: 1.811 | C11: 1.851 | D11: 1.863 | E11: 1.889 | F11: 1.919 | G11: 1.948 | H11: 2.001 | I11: 2.116 | M11: =0.5/N11 -> 0.19157088 | N11: 2.61 | O11: =+SUM(D11:I11)/6 -> 1.956 | P11: =+O11/M11 -> 10.21032 | Q11: =$Q$1*EXP((-$Q$2*N11)/(1+0.1*N11)) -> 2.7440098 | R11: =0.1176*N11^4-1.5013*N11^3+6.8477*N11^2-13.622*N11+12.195 -> 2.0535057
A12: 3.83kΩ | B12: 1.405 | C12: 1.414 | D12: 1.427 | E12: 1.454 | F12: 1.484 | G12: 1.503 | H12: 1.552 | I12: 1.663 | M12: =0.5/N12 -> 0.1305483 | N12: 3.83 | O12: =+SUM(D12:I12)/6 -> 1.5138333 | P12: =+O12/M12 -> 11.595963 | Q12: =$Q$1*EXP((-$Q$2*N12)/(1+0.1*N12)) -> 1.8034231 | R12: =0.1176*N12^4-1.5013*N12^3+6.8477*N12^2-13.622*N12+12.195 -> 1.4298709
A13: 5.11kΩ | B13: 1.162 | C13: 1.182 | D13: 1.191 | E13: 1.217 | F13: 1.245 | G13: 1.274 | H13: 1.324 | I13: 1.425 | M13: =0.5/N13 -> 0.097847358 | N13: 5.11 | O13: =+SUM(D13:I13)/6 -> 1.2793333 | P13: =+O13/M13 -> 13.074787 | Q13: =$Q$1*EXP((-$Q$2*N13)/(1+0.1*N13)) -> 1.2487862 | R13: =0.1176*N13^4-1.5013*N13^3+6.8477*N13^2-13.622*N13+12.195 -> 1.2562897
A15: Temperature: 125°C
A16: ROCP kohms | B16: VIN V
B17: 2.2 | C17: 2.5 | D17: 3 | E17: 4 | F17: 5 | G17: 5.5 | H17: 6 | I17: 6.6 | M17: IREF | N17: ROCP | O17: IOCP A 128C
A18: 0.511kΩ | B18: 4.82 | C18: 6.47 | D18: 6.84 | E18: 6.89 | F18: 7 | G18: 7.06 | H18: 7.14 | I18: 7.26 | J18: OCP A | M18: =0.5/N18 -> 0.97847358 | N18: 0.511 | O18: =+SUM(D18:I18)/6 -> 7.0316667 | P18: =+O18/M18 -> 7.1863633
A19: 0.681kΩ | B19: 4.22 | C19: 5.28 | D19: 5.33 | E19: 5.4 | F19: 5.47 | G19: 5.52 | H19: 5.58 | I19: 5.71 | M19: =0.5/N19 -> 0.73421439 | N19: 0.681 | O19: =+SUM(D19:I19)/6 -> 5.5016667 | P19: =+O19/M19 -> 7.49327
A20: 0.75kΩ | B20: 4.04 | C20: 4.83 | D20: 4.9 | E20: 4.98 | F20: 5.07 | G20: 5.1 | H20: 5.18 | I20: 5.3 | M20: =0.5/N20 -> 0.66666667 | N20: 0.75 | O20: =+SUM(D20:I20)/6 -> 5.0883333 | P20: =+O20/M20 -> 7.6325
A21: 1.0kΩ | B21: 3.18 | C21: 3.83 | D21: 3.84 | E21: 3.9 | F21: 3.96 | G21: 4.01 | H21: 4.09 | I21: 4.18 | M21: =0.5/N21 -> 0.5 | N21: 1 | O21: =+SUM(D21:I21)/6 -> 3.9966667 | P21: =+O21/M21 -> 7.9933333
A22: 1.47kΩ | B22: 2.57 | C22: 2.75 | D22: 2.77 | E22: 2.8 | F22: 2.87 | G22: 2.89 | H22: 2.95 | I22: 3.1 | M22: =0.5/N22 -> 0.34013605 | N22: 1.47 | O22: =+SUM(D22:I22)/6 -> 2.8966667 | P22: =+O22/M22 -> 8.5162
A23: 2.0kΩ | B23: 2.049 | C23: 2.15 | D23: 2.189 | E23: 2.22 | F23: 2.277 | G23: 2.318 | H23: 2.36 | I23: 2.491 | M23: =0.5/N23 -> 0.25 | N23: 2 | O23: =+SUM(D23:I23)/6 -> 2.3091667 | P23: =+O23/M23 -> 9.2366667
A24: 2.61kΩ | B24: 1.72 | C24: 1.739 | D24: 1.775 | E24: 1.816 | F24: 1.877 | G24: 1.888 | H24: 1.96 | I24: 2.059 | M24: =0.5/N24 -> 0.19157088 | N24: 2.61 | O24: =+SUM(D24:I24)/6 -> 1.8958333 | P24: =+O24/M24 -> 9.89625
A25: 3.83kΩ | B25: 1.32 | C25: 1.33 | D25: 1.36 | E25: 1.406 | F25: 1.45 | G25: 1.489 | H25: 1.508 | I25: 1.633 | M25: =0.5/N25 -> 0.1305483 | N25: 3.83 | O25: =+SUM(D25:I25)/6 -> 1.4743333 | P25: =+O25/M25 -> 11.293393
A26: 5.11kΩ | B26: 1.08 | C26: 1.106 | D26: 1.134 | E26: 1.166 | F26: 1.209 | G26: 1.237 | H26: 1.296 | I26: 1.409 | M26: =0.5/N26 -> 0.097847358 | N26: 5.11 | O26: =+SUM(D26:I26)/6 -> 1.2418333 | P26: =+O26/M26 -> 12.691537
A28: Temperature: -55°C
A29: ROCP kohms | B29: VIN V
B30: 2.2 | C30: 2.5 | D30: 3 | E30: 4 | F30: 5 | G30: 5.5 | H30: 6 | I30: 6.6 | M30: IREF | N30: ROCP | O30: IOCP A -58C
A31: 0.511kΩ | B31: 6.12 | C31: 7.1 | D31: 7.1 | E31: 7.11 | F31: 7.13 | G31: 7.17 | H31: 7.27 | I31: 7.43 | J31: OCP A | M31: =0.5/N31 -> 0.97847358 | N31: 0.511 | O31: =+SUM(D31:I31)/6 -> 7.2016667 | P31: =+O31/M31 -> 7.3601033
A32: 0.681kΩ | B32: 4.98 | C32: 5.56 | D32: 5.52 | E32: 5.39 | F32: 5.33 | G32: 5.35 | H32: 5.38 | I32: 5.61 | M32: =0.5/N32 -> 0.73421439 | N32: 0.681 | O32: =+SUM(D32:I32)/6 -> 5.43 | P32: =+O32/M32 -> 7.39566
A33: 0.75kΩ | B33: 4.86 | C33: 5.17 | D33: 5.08 | E33: 4.92 | F33: 4.86 | G33: 4.88 | H33: 4.9 | I33: 5.14 | M33: =0.5/N33 -> 0.66666667 | N33: 0.75 | O33: =+SUM(D33:I33)/6 -> 4.9633333 | P33: =+O33/M33 -> 7.445
A34: 1.0kΩ | B34: 3.96 | C34: 4.03 | D34: 3.91 | E34: 3.78 | F34: 3.72 | G34: 3.75 | H34: 3.81 | I34: 3.96 | M34: =0.5/N34 -> 0.5 | N34: 1 | O34: =+SUM(D34:I34)/6 -> 3.8216667 | P34: =+O34/M34 -> 7.6433333
A35: 1.47kΩ | B35: 2.89 | C35: 2.9 | D35: 2.83 | E35: 2.74 | F35: 2.71 | G35: 2.75 | H35: 2.79 | I35: 2.93 | M35: =0.5/N35 -> 0.34013605 | N35: 1.47 | O35: =+SUM(D35:I35)/6 -> 2.7916667 | P35: =+O35/M35 -> 8.2075
A36: 2.0kΩ | B36: 2.3 | C36: 2.3 | D36: 2.24 | E36: 2.2 | F36: 2.21 | G36: 2.24 | H36: 2.29 | I36: 2.43 | M36: =0.5/N36 -> 0.25 | N36: 2 | O36: =+SUM(D36:I36)/6 -> 2.2683333 | P36: =+O36/M36 -> 9.0733333
A37: 2.61kΩ | B37: 1.904 | C37: 1.876 | D37: 1.841 | E37: 1.824 | F37: 1.852 | G37: 1.876 | H37: 1.951 | I37: 2.074 | M37: =0.5/N37 -> 0.19157088 | N37: 2.61 | O37: =+SUM(D37:I37)/6 -> 1.903 | P37: =+O37/M37 -> 9.93366
A38: 3.83kΩ | B38: 1.44 | C38: 1.436 | D38: 1.42 | E38: 1.418 | F38: 1.445 | G38: 1.465 | H38: 1.536 | I38: 1.664 | M38: =0.5/N38 -> 0.1305483 | N38: 3.83 | O38: =+SUM(D38:I38)/6 -> 1.4913333 | P38: =+O38/M38 -> 11.423613
A39: 5.11kΩ | B39: 1.189 | C39: 1.194 | D39: 1.189 | E39: 1.2 | F39: 1.221 | G39: 1.247 | H39: 1.311 | I39: 1.426 | M39: =0.5/N39 -> 0.097847358 | N39: 5.11 | O39: =+SUM(D39:I39)/6 -> 1.2656667 | P39: =+O39/M39 -> 12.935113
AI43: VIN | AJ43: ROCP | AK43: TEMP | AL43: IOCP
AI44: 2.2 | AK44: 25
AI45: 2.5 | AK45: 25
...

Sheet Backup Data
B3: VIN | C3: 1/ROCP | D3: TEMP | E3: IOCP | F3: ROCP
B4: 2.2 | C4: =1/F4 -> 0.0019569472 | D4: 25 | E4: 5.29 | F4: 511 | I4: SUMMARY OUTPUT
B5: 2.5 | C5: =1/F5 -> 0.0019569472 | D5: 25 | E5: 6.91 | F5: 511
B6: 3 | C6: =1/F6 -> 0.0019569472 | D6: 25 | E6: 6.97 | F6: 511 | I6: Regression Statistics
B7: 4 | C7: =1/F7 -> 0.0019569472 | D7: 25 | E7: 7.02 | F7: 511 | I7: Multiple R | J7: 0.98802599
B8: 5 | C8: =1/F8 -> 0.0019569472 | D8: 25 | E8: 7.07 | F8: 511 | I8: R Square | J8: 0.97619535
B9: 5.5 | C9: =1/F9 -> 0.0019569472 | D9: 25 | E9: 7.16 | F9: 511 | I9: Adjusted R Square | J9: 0.97574337
B10: 6 | C10: =1/F10 -> 0.0019569472 | D10: 25 | E10: 7.22 | F10: 511 | I10: Standard Error | J10: 0.26381099
B11: 6.6 | C11: =1/F11 -> 0.0019569472 | D11: 25 | E11: 7.35 | F11: 511 | I11: Observations | J11: 162
B12: 2.2 | C12: =1/F12 -> 0.0019569472 | D12: 128 | E12: 4.82 | F12: 511
B13: 2.5 | C13: =1/F13 -> 0.0019569472 | D13: 128 | E13: 6.47 | F13: 511 | I13: ANOVA
B14: 3 | C14: =1/F14 -> 0.0019569472 | D14: 128 | E14: 6.84 | F14: 511 | J14: df | K14: SS | L14: MS | M14: F | N14: Significance F
B15: 4 | C15: =1/F15 -> 0.0019569472 | D15: 128 | E15: 6.89 | F15: 511 | I15: Regression | J15: 3 | K15: 450.93906 | L15: 150.31302 | M15: 2159.7866 | N15: 5.6810935e-128
B16: 5 | C16: =1/F16 -> 0.0019569472 | D16: 128 | E16: 7 | F16: 511 | I16: Residual | J16: 158 | K16: 10.996205 | L16: 0.069596237
B17: 5.5 | C17: =1/F17 -> 0.0019569472 | D17: 128 | E17: 7.06 | F17: 511 | I17: Total | J17: 161 | K17: 461.93527
B18: 6 | C18: =1/F18 -> 0.0019569472 | D18: 128 | E18: 7.14 | F18: 511
B19: 6.6 | C19: =1/F19 -> 0.0019569472 | D19: 128 | E19: 7.26 | F19: 511 | J19: Coefficients | K19: Standard Error | L19: t Stat | M19: P-value | N19: Lower 95% | O19: Upper 95% | P19: Lower 95.0% | Q19: Upper 95.0%
B20: 2.2 | C20: =1/F20 -> 0.0019569472 | D20: -58 | E20: 6.12 | F20: 511 | I20: Intercept | J20: 0.28788281 | K20: 0.074267188 | L20: 3.8763123 | M20: 0.00015515374 | N20: 0.14119828 | O20: 0.43456735 | P20: 0.14119828 | Q20: 0.43456735
B21: 2.5 | C21: =1/F21 -> 0.0019569472 | D21: -58 | E21: 7.1 | F21: 511 | I21: VIN | J21: 0.10278422 | K21: 0.013223544 | L21: 7.7728191 | M21: 9.214706e-13 | N21: 0.076666498 | O21: 0.12890193 | P21: 0.076666498 | Q21: 0.12890193
B22: 3 | C22: =1/F22 -> 0.0019569472 | D22: -58 | E22: 7.1 | F22: 511 | I22: 1/ROCP | J22: 3160.4818 | K22: 39.664158 | L22: 79.681051 | M22: 1.7524761e-129 | N22: 3082.1415 | O22: 3238.8222 | P22: 3082.1415 | Q22: 3238.8222
B23: 4 | C23: =1/F23 -> 0.0019569472 | D23: -58 | E23: 7.11 | F23: 511 | I23: TEMP | J23: -0.00050616268 | K23: 0.0002752032 | L23: -1.8392325 | M23: 0.067757941 | N23: -0.0010497143 | O23: 3.7388982e-05 | P23: -0.0010497143 | Q23: 3.7388982e-05
B24: 5 | C24: =1/F24 -> 0.0019569472 | D24: -58 | E24: 7.13 | F24: 511
B25: 5.5 | C25: =1/F25 -> 0.0019569472 | D25: -58 | E25: 7.17 | F25: 511
B26: 6 | C26: =1/F26 -> 0.0019569472 | D26: -58 | E26: 7.27 | F26: 511
B27: 6.6 | C27: =1/F27 -> 0.0019569472 | D27: -58 | E27: 7.43 | F27: 511 | I27: RESIDUAL OUTPUT
B28: 2.2 | C28: =1/F28 -> 0.0014684288 | D28: 25 | E28: 4.66 | F28: 681
B29: 2.5 | C29: =1/F29 -> 0.0014684288 | D29: 25 | E29: 5.44 | F29: 681 | I29: Observation | J29: Predicted IOCP | K29: Residuals | M29: =MAX(K30:K245) -> 0.078635453 | N29: =MIN(K30:K245) -> -0.37637245
B30: 3 | C30: =1/F30 -> 0.0014684288 | D30: 25 | E30: 5.47 | F30: 681 | I30: 5.29 | J30: =(B4*$J$21)+(C4*$J$22)+(D4*$J$23)+$J$20 -> 6.6862499 | K30: =(I30-J30)/I30 -> -0.26394139
B31: 4 | C31: =1/F31 -> 0.0014684288 | D31: 25 | E31: 5.49 | F31: 681 | I31: 6.91 | J31: =(B5*$J$21)+(C5*$J$22)+(D5*$J$23)+$J$20 -> 6.7170852 | K31: =(I31-J31)/I31 -> 0.027918204
B32: 5 | C32: =1/F32 -> 0.0014684288 | D32: 25 | E32: 5.5 | F32: 681 | I32: 6.97 | J32: =(B6*$J$21)+(C6*$J$22)+(D6*$J$23)+$J$20 -> 6.7684773 | K32: =(I32-J32)/I32 -> 0.028912867
B33: 5.5 | C33: =1/F33 -> 0.0014684288 | D33: 25 | E33: 5.55 | F33: 681 | I33: 7.02 | J33: =(B7*$J$21)+(C7*$J$22)+(D7*$J$23)+$J$20 -> 6.8712615 | K33: =(I33-J33)/I33 -> 0.021187815
B34: 6 | C34: =1/F34 -> 0.0014684288 | D34: 25 | E34: 5.59 | F34: 681 | I34: 7.07 | J34: =(B8*$J$21)+(C8*$J$22)+(D8*$J$23)+$J$20 -> 6.9740458 | K34: =(I34-J34)/I34 -> 0.01357203
B35: 6.6 | C35: =1/F35 -> 0.0014684288 | D35: 25 | E35: 5.68 | F35: 681 | I35: 7.16 | J35: =(B9*$J$21)+(C9*$J$22)+(D9*$J$23)+$J$20 -> 7.0254379 | K35: =(I35-J35)/I35 -> 0.018793595
B36: 2.2 | C36: =1/F36 -> 0.0014684288 | D36: 128 | E36: 4.22 | F36: 681 | I36: 7.22 | J36: =(B10*$J$21)+(C10*$J$22)+(D10*$J$23)+$J$20 -> 7.07683 | K36: =(I36-J36)/I36 -> 0.019829645
B37: 2.5 | C37: =1/F37 -> 0.0014684288 | D37: 128 | E37: 5.28 | F37: 681 | I37: 7.35 | J37: =(B11*$J$21)+(C11*$J$22)+(D11*$J$23)+$J$20 -> 7.1385005 | K37: =(I37-J37)/I37 -> 0.028775443
B38: 3 | C38: =1/F38 -> 0.0014684288 | D38: 128 | E38: 5.33 | F38: 681 | I38: 4.82 | J38: =(B12*$J$21)+(C12*$J$22)+(D12*$J$23)+$J$20 -> 6.6341152 | K38: =(I38-J38)/I38 -> -0.37637245
B39: 4 | C39: =1/F39 -> 0.0014684288 | D39: 128 | E39: 5.4 | F39: 681 | I39: 6.47 | J39: =(B13*$J$21)+(C13*$J$22)+(D13*$J$23)+$J$20 -> 6.6649505 | K39: =(I39-J39)/I39 -> -0.030131446
B40: 5 | C40: =1/F40 -> 0.0014684288 | D40: 128 | E40: 5.47 | F40: 681 | I40: 6.84 | J40: =(B14*$J$21)+(C14*$J$22)+(D14*$J$23)+$J$20 -> 6.7163426 | K40: =(I40-J40)/I40 -> 0.018078572
B41: 5.5 | C41: =1/F41 -> 0.0014684288 | D41: 128 | E41: 5.52 | F41: 681 | I41: 6.89 | J41: =(B15*$J$21)+(C15*$J$22)+(D15*$J$23)+$J$20 -> 6.8191268 | K41: =(I41-J41)/I41 -> 0.010286389
... B219: 6.6 | C219: =1/F219 -> 0.00019569472 | D219: -58 | E219: 1.426 | F219: 5110 | I219: 1.465 | J219: =(B193*$J$21)+(C193*$J$22)+(D193*$J$23)+$J$20 -> 1.7077445 | K219: =(I219-J219)/I219 -> -0.16569591
...
