Workbook
Name C_1: 'Lookup Table'!$I$55
Name C_2: 'Lookup Table'!$I$56
Name CT_sel: 'Lookup Table'!$I$50
Name CT_values: 'Lookup Table'!$E$5:$J$5
Name DC_11: 'Lookup Table'!$N$60
Name DC_12: 'Lookup Table'!$N$61
Name DC_21: 'Lookup Table'!$N$62
Name DC_22: 'Lookup Table'!$N$63
Name DC_values: 'Lookup Table'!$P$6:$U$12
Name F_11: 'Lookup Table'!$I$60
Name F_12: 'Lookup Table'!$I$61
Name F_21: 'Lookup Table'!$I$62
Name F_22: 'Lookup Table'!$I$63
Name fosc_values: 'Lookup Table'!$E$6:$J$12
Name ontime_values: 'Lookup Table'!$AP$7:$AU$13
Name OT_11: 'Lookup Table'!$AI$36
Name OT_12: 'Lookup Table'!$AI$37
Name OT_21: 'Lookup Table'!$AI$38
Name OT_22: 'Lookup Table'!$AI$39
Name R_1: 'Lookup Table'!$I$57
Name R_2: 'Lookup Table'!$I$58
Name RT_sel: 'Lookup Table'!$I$51
Name RT_values: 'Lookup Table'!$D$6:$D$12
Name T_11: 'Lookup Table'!$AD$36
Name T_12: 'Lookup Table'!$AD$37
Name T_21: 'Lookup Table'!$AD$38
Name T_22: 'Lookup Table'!$AD$39
Name T_values: 'Lookup Table'!$AE$7:$AJ$13

Sheet Main
C2: These cells are inputs
C3: These cells are outputs
A6: ISL7884x, ISL71041, ISL71043 RTCT Design Tool | B6: =MAX('Revision History'!C4:C15) -> 1.1 | C6: Revision
A8: CT Capacitor Value (Use 0.1nF,0.22nF, 0.47nF, 1nF, 3.3nF, 6.8nF for best calculator accuracy. Values between are interpolated. ) | B8: 3.3 | C8: nF
A9: RT Resistor Value (Use 1k, 2.2k, 4.7k, 10k, 22k, 47k, 100k for best calculator accuracy. Values between are interpolated. ) | B9: 10 | C9: kΩ
A10: Estimated Oscillator Frequency | B10: ='Lookup Table'!AD42 -> 52.06 | C10: kHz
A11: Estimated Oscillator Duty Cycle | B11: ='Lookup Table'!AI42 -> 0.9576
A13: Device Type | B13: ISL78840
A14: Divide fosc by __ | B14: =_xlfn.XLOOKUP(B13,'Lookup Table'!B47:B52,'Lookup Table'!E47:E52) -> 1
A15: Estimated Switching Frequency | B15: =B10/B14 -> 52.06 | C15: kHz
A16: Estimated Maximum OUT duty cycle | B16: =B11/B14 -> 0.9576
A19: This tool uses nominal design targets to calculate the schematic component values. The numbers produced by this tool are a starting point for design with the expectation that the values will be adjusted to meet the final application requirements. It is the responsibility of the consumer to make sure that the values produced by this tool meets the requirements of their given application. Software License Agreement The software supplied herewith by Renesas Electronics America Inc. (the "Company") is intended and supplied to you, the Company's customer, for use solely and exclusively on Renesas' Intersil family of products. The software is owned by the Company and/or its supplier, and is protected under applicable copyright laws. All rights are reserved. Any use in violation of the foregoing restrictions may subject the user to criminal sanctions under applicable laws, as well as to civil liability for the breach of the terms and conditions of this license. THIS SOFTWARE IS PROVIDED IN AN "AS IS" CONDITION. NO WARRANTIES, WHETHER EXPRESS, IMPLIED OR STATUTORY, INCLUDING, BUT NOT LIMITED TO, IMPLIED WARRANTIES OF MERCHANTABILITY AND FITNESS FOR A PARTICULAR PURPOSE APPLY TO THIS SOFTWARE. THE COMPANY SHALL NOT, IN ANY CIRCUMSTANCES, BE LIABLE FOR SPECIAL, INCIDENTAL OR CONSEQUENTIAL DAMAGES, FOR ANY REASON WHATSOEVER.

Sheet Lookup Table
C2: Oscillator Frequency (kHz) vs RT & CT | N2: Oscillator Maximum Duty Cycle vs RT & CT
E3: CT | P3: CT | AC3: Oscillator Period (us) vs RT & CT | AN3: Oscillator ontime (us) vs RT & CT
E4: =E5*1000000000 -> 0.1 | F4: =F5*1000000000 -> 0.22 | G4: =G5*1000000000 -> 0.47 | H4: =H5*1000000000 -> 1 | I4: =I5*1000000000 -> 3.3 | J4: =J5*1000000000 -> 6.8001 | K4: nF | P4: 100pF | Q4: 220pF | R4: 470pF | S4: 1nF | T4: 3.3nF | U4: 6.8nF | AE4: CT | AP4: CT
E5: 1e-10 | F5: 2.2e-10 | G5: 4.7e-10 | H5: 1e-09 | I5: 3.3e-09 | J5: 6.8001e-09 | K5: (F) | P5: 1e-10 | Q5: 2.2e-10 | R5: 4.7e-10 | S5: 1e-09 | T5: 3.3e-09 | U5: 6.8e-09 | AE5: =AE6*1000000000 -> 0.1 | AF5: =AF6*1000000000 -> 0.22 | AG5: =AG6*1000000000 -> 0.47 | AH5: =AH6*1000000000 -> 1 | AI5: =AI6*1000000000 -> 3.3 | AJ5: =AJ6*1000000000 -> 6.8001 | AK5: nF | AP5: 100pF | AQ5: 220pF | AR5: 470pF | AS5: 1nF | AT5: 3.3nF | AU5: 6.8nF
B6: RT | C6: =D6/1000 -> 1 | D6: 1000 | E6: 4494.4 | F6: 2840.9 | G6: 1627.3 | H6: 870.51 | I6: 307.93 | J6: 155.21 | M6: RT | N6: =O6/1000 -> 1 | O6: 1000 | P6: 0.516 | Q6: 0.52484 | R6: 0.55687 | S6: 0.58328 | T6: 0.6041 | U6: 0.60944 | AE6: 1e-10 | AF6: 2.2e-10 | AG6: 4.7e-10 | AH6: 1e-09 | AI6: 3.3e-09 | AJ6: 6.8001e-09 | AK6: (F) | AP6: 1e-10 | AQ6: 2.2e-10 | AR6: 4.7e-10 | AS6: 1e-09 | AT6: 3.3e-09 | AU6: 6.8e-09
C7: =D7/1000 -> 2.2 | D7: 2200 | E7: 4042.4 | F7: 2215.5 | G7: 1151.4 | H7: 574.38 | I7: 193.87 | J7: 96.516 | N7: =O7/1000 -> 2.2 | O7: 2200 | P7: 0.704 | Q7: 0.73176 | R7: 0.76788 | S7: 0.79508 | T7: 0.81549 | U7: 0.82075 | AB7: RT | AC7: =AD7/1000 -> 1 | AD7: 1000 | AE7: =1000/E6 -> 0.22249911 | AF7: =1000/F6 -> 0.35200113 | AG7: =1000/G6 -> 0.61451484 | AH7: =1000/H6 -> 1.1487519 | AI7: =1000/I6 -> 3.2474913 | AJ7: 155.21 | AM7: RT | AN7: =AO7/1000 -> 1 | AO7: 1000 | AP7: =P6*AE7 -> 0.11480954 | AQ7: =Q6*AF7 -> 0.18474427 | AR7: =R6*AG7 -> 0.34220488 | AS7: =S6*AH7 -> 0.670044 | AT7: =T6*AI7 -> 1.9618095 | AU7: =U6*AJ7 -> 94.591182
C8: =D8/1000 -> 4.7 | D8: 4700 | E8: 2726.7 | F8: 1369.2 | G8: 661.59 | H8: 316.68 | I8: 103.57 | J8: 51.093 | N8: =O8/1000 -> 4.7 | O8: 4700 | P8: 0.82947 | Q8: 0.8559 | R8: 0.88123 | S8: 0.89876 | T8: 0.9116 | U8: 0.91486 | AC8: =AD8/1000 -> 2.2 | AD8: 2200 | AE8: =1000/E7 -> 0.2473778 | AF8: =1000/F7 -> 0.45136538 | AG8: =1000/G7 -> 0.8685079 | AH8: =1000/H7 -> 1.7410077 | AI8: =1000/I7 -> 5.1580956 | AJ8: 96.516 | AN8: =AO8/1000 -> 2.2 | AO8: 2200 | AP8: =P7*AE8 -> 0.17415397 | AQ8: =Q7*AF8 -> 0.33029113 | AR8: =R7*AG8 -> 0.66690985 | AS8: =S7*AH8 -> 1.3842404 | AT8: =T7*AI8 -> 4.2063754 | AU8: =U7*AJ8 -> 79.215507
C9: =D9/1000 -> 10 | D9: 10000 | E9: 1538.5 | F9: 737.46 | G9: 345.38 | H9: 162.11 | I9: 52.06 | J9: 25.546 | N9: =O9/1000 -> 10 | O9: 10000 | P9: 0.91003 | Q9: 0.92663 | R9: 0.94092 | S9: 0.95051 | T9: 0.9576 | U9: 0.95943 | AC9: =AD9/1000 -> 4.7 | AD9: 4700 | AE9: =1000/E8 -> 0.36674368 | AF9: =1000/F8 -> 0.73035349 | AG9: =1000/G8 -> 1.5115101 | AH9: =1000/H8 -> 3.1577618 | AI9: =1000/I8 -> 9.6553056 | AJ9: 51.093 | AN9: =AO9/1000 -> 4.7 | AO9: 4700 | AP9: =P8*AE9 -> 0.30420288 | AQ9: =Q8*AF9 -> 0.62510955 | AR9: =R8*AG9 -> 1.3319881 | AS9: =S8*AH9 -> 2.83807 | AT9: =T8*AI9 -> 8.8017766 | AU9: =U8*AJ9 -> 46.742942
C10: =D10/1000 -> 22 | D10: 22000 | E10: 777.23 | F10: 360.75 | G10: 166.37 | H10: 77.328 | I10: 24.641 | J10: 12.053 | N10: =O10/1000 -> 22 | O10: 22000 | P10: 0.95598 | Q10: 0.96497 | R10: 0.9721 | S10: 0.9769 | T10: 0.98039 | U10: 0.98127 | AC10: =AD10/1000 -> 10 | AD10: 10000 | AE10: =1000/E9 -> 0.64998375 | AF10: =1000/F9 -> 1.3560057 | AG10: =1000/G9 -> 2.8953616 | AH10: =1000/H9 -> 6.1686509 | AI10: =1000/I9 -> 19.208605 | AJ10: 25.546 | AN10: =AO10/1000 -> 10 | AO10: 10000 | AP10: =P9*AE10 -> 0.59150471 | AQ10: =Q9*AF10 -> 1.2565156 | AR10: =R9*AG10 -> 2.7243037 | AS10: =S9*AH10 -> 5.8633644 | AT10: =T9*AI10 -> 18.394161 | AU10: =U9*AJ10 -> 24.509599
C11: =D11/1000 -> 47 | D11: 47000 | E11: 377.91 | F11: 174.67 | G11: 80.34 | H11: 37.222 | I11: 11.825 | J11: 5.7764 | N11: =O11/1000 -> 47 | O11: 47000 | P11: 0.97881 | Q11: 0.98313 | R11: 0.98662 | S11: 0.98896 | T11: 0.99066 | U11: 0.99111 | AC11: =AD11/1000 -> 22 | AD11: 22000 | AE11: =1000/E10 -> 1.2866204 | AF11: =1000/F10 -> 2.7720028 | AG11: =1000/G10 -> 6.010699 | AH11: =1000/H10 -> 12.931926 | AI11: =1000/I10 -> 40.582769 | AJ11: 12.053 | AN11: =AO11/1000 -> 22 | AO11: 22000 | AP11: =P10*AE11 -> 1.2299834 | AQ11: =Q10*AF11 -> 2.6748995 | AR11: =R10*AG11 -> 5.8430005 | AS11: =S10*AH11 -> 12.633199 | AT11: =T10*AI11 -> 39.78694 | AU11: =U10*AJ11 -> 11.827247
C12: =D12/1000 -> 100.001 | D12: 100001 | E12: 181.7 | F12: 83.99 | G12: 38.593 | H12: 17.885 | I12: 5.6805 | J12: 2.7713 | N12: =O12/1000 -> 100 | O12: 100000 | P12: 0.98986 | Q12: 0.99191 | R12: 0.99359 | S12: 0.99472 | T12: 0.99554 | U12: 0.99575 | AC12: =AD12/1000 -> 47 | AD12: 47000 | AE12: =1000/E11 -> 2.6461327 | AF12: =1000/F11 -> 5.7250816 | AG12: =1000/G11 -> 12.4471 | AH12: =1000/H11 -> 26.865832 | AI12: =1000/I11 -> 84.566596 | AJ12: 5.7764 | AN12: =AO12/1000 -> 47 | AO12: 47000 | AP12: =P11*AE12 -> 2.5900611 | AQ12: =Q11*AF12 -> 5.6284995 | AR12: =R11*AG12 -> 12.280558 | AS12: =S11*AH12 -> 26.569233 | AT12: =T11*AI12 -> 83.776744 | AU12: =U11*AJ12 -> 5.7250478
C13: (kΩ) | D13: (Ω) | N13: (kΩ) | O13: (Ω) | AC13: =AD13/1000 -> 100.001 | AD13: 100001 | AE13: =1000/E12 -> 5.5035773 | AF13: =1000/F12 -> 11.906179 | AG13: =1000/G12 -> 25.911435 | AH13: =1000/H12 -> 55.912776 | AI13: =1000/I12 -> 176.04084 | AJ13: 2.7713 | AN13: =AO13/1000 -> 100 | AO13: 100000 | AP13: =P12*AE13 -> 5.4477711 | AQ13: =Q12*AF13 -> 11.809858 | AR13: =R12*AG13 -> 25.745342 | AS13: =S12*AH13 -> 55.617557 | AT13: =T12*AI13 -> 175.2557 | AU13: =U12*AJ13 -> 2.759522
AC14: (kΩ) | AD14: (Ω) | AN14: (kΩ) | AO14: (Ω)
AC31: C_1 | AD31: =INDEX(CT_values,MATCH(I50,CT_values,1)) -> 3.3e-09
AC32: C_2 | AD32: {=INDEX(CT_values,MATCH(I50,CT_values,1)+1)} -> 6.8001e-09
AC33: R_1 | AD33: =INDEX(RT_values,MATCH(I51,RT_values,1)) -> 10000
AC34: R_2 | AD34: {=INDEX(RT_values,MATCH(I51,RT_values,1)+1)} -> 22000
AC36: T_11 | AD36: =INDEX(T_values,MATCH(R_1,RT_values,0),MATCH(C_1,CT_values,0)) -> 19.208605 | AH36: OT_11 | AI36: =INDEX(ontime_values,MATCH(R_1,RT_values,0),MATCH(C_1,CT_values,0)) -> 18.394161
AC37: T_12 | AD37: =INDEX(T_values,MATCH(R_2,RT_values,0),MATCH(C_1,CT_values,0)) -> 40.582769 | AH37: OT_12 | AI37: =INDEX(ontime_values,MATCH(R_2,RT_values,0),MATCH(C_1,CT_values,0)) -> 39.78694
AC38: T_21 | AD38: =INDEX(T_values,MATCH(R_1,RT_values,0),MATCH(C_2,CT_values,0)) -> 25.546 | AH38: OT_21 | AI38: =INDEX(ontime_values,MATCH(R_1,RT_values,0),MATCH(C_2,CT_values,0)) -> 24.509599
AC39: T_22 | AD39: =INDEX(T_values,MATCH(R_2,RT_values,0),MATCH(C_2,CT_values,0)) -> 12.053 | AH39: OT_22 | AI39: =INDEX(ontime_values,MATCH(R_2,RT_values,0),MATCH(C_2,CT_values,0)) -> 11.827247
AC41: T_result | AD41: =1/((C_2-C_1)*(R_2-R_1))*(T_11*(C_2-CT_sel)*(R_2-RT_sel)+T_21*(CT_sel-C_1)*(R_2-RT_sel)+T_12*(C_2-CT_sel)*(RT_sel-R_1)+T_22*(CT_sel-C_1)*(RT_sel-R_1)) -> 19.208605 | AE41: us | AH41: OT_result | AI41: =1/((C_2-C_1)*(R_2-R_1))*(OT_11*(C_2-CT_sel)*(R_2-RT_sel)+OT_21*(CT_sel-C_1)*(R_2-RT_sel)+OT_12*(C_2-CT_sel)*(RT_sel-R_1)+OT_22*(CT_sel-C_1)*(RT_sel-R_1)) -> 18.394161
AC42: F_result | AD42: =1000/AD41 -> 52.06 | AE42: kHz | AH42: DC_result | AI42: =AI41/AD41 -> 0.9576
B46: Device Types | C46: Rising UVLO | D46: Maximum DC | E46: Divide By
B47: ISL78840 | C47: 7 | D47: 1 | E47: =1/D47 -> 1
B48: ISL78841 | C48: 7 | D48: 0.5 | E48: =1/D48 -> 2 | I48: =_xlfn.CONCAT("Selection: ",Main!B8,Main!C8) -> Selection: 3.3nF
B49: ISL78843 | C49: 8.4 | D49: 1 | E49: =1/D49 -> 1
B50: ISL78845 | C50: 8.4 | D50: 0.5 | E50: =1/D50 -> 2 | H50: CT capacitor (Farads) | I50: =Main!B8*0.000000001 -> 3.3e-09 | J50: F
B51: ISL71041 | C51: 7 | D51: 0.5 | E51: =1/D51 -> 2 | H51: RT | I51: =Main!B9*1000 -> 10000 | J51: Ω
B52: ISL71043 | C52: 8.4 | D52: 1 | E52: =1/D52 -> 1
H55: C_1 | I55: =INDEX(CT_values,MATCH(I50,CT_values,1)) -> 3.3e-09
H56: C_2 | I56: {=INDEX(CT_values,MATCH(I50,CT_values,1)+1)} -> 6.8001e-09
H57: R_1 | I57: =INDEX(RT_values,MATCH(I51,RT_values,1)) -> 10000
H58: R_2 | I58: {=INDEX(RT_values,MATCH(I51,RT_values,1)+1)} -> 22000

Sheet Revision History
B3: Date | C3: Revision | D3: Change
B4: 45643 | C4: 1.0 | D4: Initial Release
B5: 45818 | C5: 1.1 | D5: Change interpolation to act upon the "time" scale before converting back to frequency
