Workbook

Sheet worksheet
B1: iW986x/7x / RRW221xx Product Design Tool: please fill yellow blanks only and pay attention to red words !
B2: Key in | D2: Check
B3: System Specifications
B4: AC input Range | F4: HL | T4: Pin | U4: Vin
B5: Minimum Input AC Voltage | E5: Vac_min | F5: 176 | G5: Vac | T5: Pin | U5: Vin
B6: Maximum Input AC Voltage | E6: Vac_max | F6: 276 | G6: Vac | T6: =F11*F12 -> 51.8 | U6: =F11 -> 14
B7: Line Frequency | E7: fac | F7: 50 | G7: Hz | T7: =I11*I12 -> #VALUE! | U7: =I11 -> Vo2
B8: Minimum DC Voltage | E8: Vdc_min | F8: 220 | G8: V | H8: Vds_min of the ripple of bulk cap
B9: Maximum DC Voltage | E9: Vdc_max | F9: =F6*SQRT(2) -> 390.32294 | G9: V | U9: =M11 -> 16
B10: Output Type | F10: Aux power | T10: MPV | U10: =VLOOKUP(F15,T2:U6,2,0) -> #N/A
B11: Output Voltage | E11: Vo1_Vo max_Rapid charger or Vo1_CV loop control_Aux power | F11: 14 | G11: V | I11: Vo2 | J11: 15 | K11: V | L11: Vo3 | M11: 16 | N11: V | T11: MPV | U11: =VLOOKUP(F20,T6:U9,2,0) -> #N/A
B12: Output Current | E12: Io1 | F12: 3.7 | G12: A | I12: Io2 | J12: 0.9 | K12: A | L12: Io3 | M12: 0.1 | N12: A
B13: IC options select | F13: RRW22122 | H13: pelase check the list of IC parameters
B14: FUSE TABLE default Vo_max | F14: 20 | G14: V | H14: pelase check the list of IC parameters
B15: FUSE TABLE default LL mode | F15: DCM | H15: Univasal & LL:please check the list of IC parameters HL&Voltage doubler: DCM
B16: FUSE TABLE LL CCM Frequency | E16: =IF(F15="DCM"," please ignore the yellow blank→"," ") -> please ignore the yellow blank→ | F16: 70 | G16: kHz | H16: Maximum fsw by IC setting; pelase check the list of IC parameters
B17: FUSE TABLE DCM Frequency | F17: 70 | G17: kHz
B18: Correction of Vo | E18: Vo_Correction | F18: 18.5 | G18: V | H18: 1.Vo_correction value will impact the fsw_max, Brown in and OVP level, suggest the change rate less than +/-50% of Vo； 2.Please check the OVP and Bin level after Vo_Correction value changed.
B19: Maxmum Frequency after Vo_Correction | E19: Fsw(max)_Correction | F19: =IF(F15="DCM",LLDCM!B53,LLCCM!B53) -> 67.352941 | G19: kHz | H19: Real maximum system operating fsw
B20: Maximum Output Power | E20: Po | F20: =IF(F10="rapid charger",MAX(F11*F12,J11*J12),SUM(F12*F11,J12*J11,M11*M12)) -> 66.9 | G20: W | H20: total Po | I20: Maximum Output Voltage
B21: Power Board Estimated Efficiency | E21: ƞ(Except the Bridge) | F21: 92 | G21: %
B22: Maximum Input Power | E22: Pin | F22: =F20/F21*100 -> 72.717391 | G22: W
B23: Minimum Input Capacitor (Bulk Cap) | E23: Cin | F23: =((2*F22*(1/4+0.5/PI()*ASIN((F8+2)/1.414/F5)))/((2*F5^2-(F8+2)^2)*F7))*1000000 -> 97.668588 | G23: uF
B25: Transformer& Resistors
B26: Primary-side Winding | E26: Np | F26: 42 | G26: Turns
B27: Secondary-side Winding | E27: Ns | F27: 6 | G27: Turns | H27: Winding turns of Vo_CV loop control please enter the acture Vcc turns according the Tx pins, Can include decimals impacts the OVP calculate result
B28: Auxiliary Winding | E28: Na | F28: 6.8 | G28: Turns | H28: please enter the acture Vcc turns according the Tx pins, Can include decimals impacts the OVP calculate result
B29: Turn Ratio | E29: Nps | F29: =F26/F27 -> 7
E30: Vor | F30: =F29*F11 -> 98 | H30: Suggest Vor=40~120V; if exceed the range, please change the Nps
E31: Npa | F31: =F26/F28 -> 6.1764706
E32: Nas | F32: =F28/F27 -> 1.1333333
B33: Primary-side Switch Stress | E33: Vpri_ds | F33: =F9+F29*F11+100 -> 588.32294 | G33: V | H33: 15% margin
B34: ZVS Switch Stress | E34: Vzvs_ds | F34: =(MAX(F11,J11)+F9/F32)*1.05 -> 377.37273 | G34: V | H34: 15% margin
B35: Secondary-side Switch Stress | E35: Vsec_ds | F35: =(F11+F9/F29)*110% -> 76.736463 | G35: V | H35: 10% margin
B36: Duty Cycle supposed LL CCM | E36: ="Dmax_"&F11&"V" -> Dmax_14V | F36: =F29*F11/(F29*F11+F8) -> 0.3081761
B37: Duty Cycle supposed LL CCM | E37: ="Dmax_"&J11&"V" -> Dmax_15V | F37: =IF(F10="Rapid charger",F29*J11/(F29*J11+F8)," ")
B38: CCM estimate Inductance_LL fullload | E38: Lm_judge1 | F38: =F8^2*F36^2/(2*F11*F22/F11*100/F21*LLCCM!$B$53) -> 0.42614142 | G38: mH | H38: ="F12=CCM: Lm > Lm_judge1 means "&F11&"V fullload is CCM, otherwise DCM" -> F12=CCM: Lm > Lm_judge1 means 14V fullload is CCM, otherwise DCM
E39: Lm_judge2 | F39: =IF(F10="Rapid charger",F8^2*F37^2/(2*J11*(J11*J12/F21*100)/J11*100/F21*LLCCM!$M$53)," ") | G39: mH | H39: ="F12=CCM: Lm > Lm_judge2 means "&J11&"V fullload is CCM, otherwise DCM" -> F12=CCM: Lm > Lm_judge2 means 15V fullload is CCM, otherwise DCM
B40: DCM estimate Inductance_LL fullload | E40: Lm_judge3 | F40: =F8^2*F36^2/(2*F11*F22/F11*100/F21*LLDCM!$B$53) -> 0.43172406 | G40: mH | H40: ="F12=DCM: Lm > Lm_judge3 means "&F11&"V fullload is CDCM, otherwise DCM" -> F12=DCM: Lm > Lm_judge3 means 14V fullload is CDCM, otherwise DCM
E41: Lm_judge4 | F41: =IF(F10="Rapid charger",F8^2*F37^2/(2*J11*(J11*J12/F21*100)/J11*100/F21*LLDCM!$M$53)," ") | G41: mH | H41: ="F12=DCM: Lm > Lm_judge4 means "&J11&"V fullload is CDCM, otherwise DCM" -> F12=DCM: Lm > Lm_judge4 means 15V fullload is CDCM, otherwise DCM
B42: Inductance Select | E42: Lm | F42: 0.432 | G42: mH | H42: =IF(AND(F15="CCM",F42<MIN(F38,F39)),"Error, increase Lm please!"," ")
B43: Resonate Frequency | E43: Tring | F43: 1600 | G43: nS | H43: F12=DCM
B44: CCM depth (Kr=100*Ip2/Ip1) | E44: =F11&"V LL fullload" -> 14V LL fullload | F44: =IF(AND(F15="CCM",F42>F38),100*(1-2/(1+200*F11*F22/F11/F21*F48*F42/F8^2/F36^2)),0) -> 0 | G44: %
E45: =J11&"V LL fullload" -> 15V LL fullload | F45: =IF(F10="Rapid charger",IF(AND(F15="CCM",F42>F39),100*(1-2/(1+200*J11*J12/F21*F48*F42/F8^2/F37^2)),0)," ") | G45: %
B46: Tdead time_LL fullload | E46: =F11&"V LL fullload" -> 14V LL fullload | F46: =IF(F15="DCM",IF(F42>F40,F43/2/1000,MAX(F43/2/1000,(1-SQRT(2*100*F11*F12/F21*F42*F48)/F8/F36)*1000/F48)),IF(AND(F15="CCM",F42>F38),0,(1-SQRT(2*100*F11*F12/F21*F42*F48)/F8/F36)*1000/F48)) -> 0.8 | G46: uS | I46: =F46*1000-F43 -> -800
E47: =J11&"V LL fullload" -> 15V LL fullload | F47: =IF(F10="Rapid charger",IF(F15="DCM",IF(F42>F40,F43/1000,MAX(F43/1000,(1-SQRT(2*100*J11*J12/F21*F42*F48)/F8/F36)*1000/F48)),IF(AND(F15="CCM",F42>F38),0,(1-SQRT(2*100*J11*J12/F21*F42*F48)/F8/F36)*1000/F48))," ") | G47: uS
B48: Frequency _LL fullload | E48: =F11&"V LL fullload" -> 14V LL fullload | F48: =IF(F15="CCM",LLCCM!$B$53,IF(F42>F40,F8^2*F36^2/(2*F42*100*F11*F22/F11/F21)-1000/F43,LLDCM!$G$53)) -> 66.684919 | G48: kHz | H48: The fsw_max corresponding to 20V Vo, if want to adjust the fsw, please adjust the Vo correction factor.
E49: =J11&"V LL fullload" -> 15V LL fullload | F49: =IF(F10="Rapid charger",IF(F15="CCM",LLCCM!$M$88,IF(F42>F41,F8^2*F37^2/(2*F42*100*J11*J12/F21)-1000/F43,LLDCM!$R$78))," ") | G49: kHz
B50: Primary Ipk_LL full load | E50: =F11&"V LL fullload" -> 14V LL fullload | F50: =IF(F44>0,F8*F36/(F42*F48)+F8*F36/(F42*F48)*(F44/100),IF(F42>F40,F8*F36*(1-F46*F48/1000)/(F42*F48),F8*F36*(1-F48*0.9*F46/1000)/(F42*F48*0.9))) -> 2.2279254 | G50: A
E51: =J11&"V LL fullload" -> 15V LL fullload | F51: =IF(F10="Rapid charger",IF(F45>0,F8*F37/(F42*F49*(1-F45/100)),F8*F37*(1-F49*F47/1000)/(F42*F49))," ") | G51: A
B52: Current Sensing Resistor | E52: Rcs | F52: 0.195 | G52: Ω | H52: ="recommend Rsns < "&ROUND(0.53*0.9/MAX(F50,F51),2)&"Ω" -> recommend Rsns < 0.21Ω
B53: Vcs_LL fullload | E53: Vcs | F53: =MAX(F51,F50)*F52 -> 0.43444546 | G53: V | H53: Vcs<0.48V
B54: Isn_VO | E54: Isn_Vo | F54: =F18/5*15 -> 55.5 | G54: uA
B55: Vsense Resistor | E55: Rvs | F55: =(F11*F32-1.8)/F54*1000 -> 253.45345 | G55: kΩ | H55: Rvs for Bin/bo, LL/HL and Vo detection
B56: Vcc cap charge time | E56: Tst | F56: 1.24 | G56: S
B57: Vcc capacitor | E57: C | F57: 9 | G57: uF
B58: Vcc startup resistor | E58: Rst | F58: =0.95*F56/F57/LOG(F5*1.414/(F5*1.414-15.3),2.78) -> 2.1091655 | G58: MΩ
B60: Protect estimate
B61: Maximum Current Reference | E61: Kcc | F61: 0.32
B62: Transform Conversion Efficiency | E62: λ | F62: 95 | G62: %
B63: Output Current Protection | E63: OCP | F63: =0.5*F62/100*F29*F61/F52 -> 5.4564103 | G63: A
B64: Isn_vovp | E64: Isn_Vovp | F64: =IF(F14=20,75,45) -> 75 | G64: uA
B65: Over Voltage Protection | E65: OVP | F65: =(1.5+F64*F55*0.001)/F32 -> 18.096184 | G65: V | H65: open loop OVP level
B66: Isn_bin | E66: Isn_bin | F66: =IF(F13="IW9866-15",37.5,IF(F13="IW9870-05",45,IF(F13="IW9873-63",45,IF(F13="IW9863-01",37.5,IF(F13="IW9863-06",45,IF(F13="RRW22111",45,IF(F13="RRW22122",45,IF(F13="RRW22101",45,IF(F13="iW9870-07",45))))))))) -> 45 | G66: uA
B67: AC Brown In Voltage | E67: Vbin | F67: =1.5+F55*F66*0.001*F31/1.414 -> 51.319767 | G67: Vac
B69: Saturation& Copper Loss
B70: Window Aera | E70: Ae | F70: 85 | G70: mm²
B71: Full Load Magnetic Flux Density | E71: B_LL fullload | F71: =1000*F42*F50/F70/F26 -> 0.2695977 | G71: T | H71: full load; <0.33T
B72: Maximum Magnetic Flux Density | E72: B_LL OLP | F72: =1000*F42*0.53/F52/F70/F26 -> 0.32889463 | G72: T | H72: worst case; <0.38T
B73: RMS of Primary Current | E73: Ipri_rms_LL fullload | F73: =MAX(IF(F44>0,F50*(F36*(1+F44/100+(F44/100)^2)/3)^0.5,F50*(F36*(1-F46/1000*F48)/3)^0.5)) -> 0.69475982 | G73: A
B74: RMS of Secondary Current | E74: Isec_rms_LL fullload | F74: =IF(F44>0,F29*F50*((1-F36)*(1+F44/100+(F44/100)^2)/3)^0.5,F29*F50*((1-F36)*(1-F46/1000*F48)/3)^0.5) -> 7.2867024 | G74: A
B75: Winding current density | E75: Kd | F75: 8 | G75: A/mm²
B76: Primary Wind diameter | E76: D_Np | F76: =(4*F73/F75/3.14)^0.5 -> 0.3326117 | G76: mm
B77: Secondary Wind diameter | E77: D_Ns | F77: =(4*F74/F75/3.14)^0.5 -> 1.0771736 | G77: mm

Sheet IC parameters
B2: Driver(V) | C2: Power Device | D2: DFET for fast startup | E2: Secondary loop control IC | F2: Application | G2: Highest Vout for max fsw | H2: Max fsw(KHz) | I2: CCM/DCM at LL
A3: iW9870-05 | B3: 6 | C3: EGaN | D3: Y | E3: iW780/RRW30110 | F3: PD_ZSP | G3: 20 | H3: 125 | I3: DCM
A4: iW9870-07 | B4: 10 | C4: DGaN | D4: Y | E4: iW780/RRW30111 | F4: PD_ZSP | G4: 20 | H4: 120 | I4: DCM
A5: iW9873-63 | B5: 10 | C5: DGaN,mosfet | D5: Y | E5: TL431 or 3rd party IC | F5: aux power/PD | G5: 20 | H5: 125 | I5: CCM
A6: iW9863-01 | B6: 10 | C6: DGaN,mosfet | D6: Y | E6: TL431 or 3rd party IC | F6: aux power/PD | G6: 12 | H6: 70 | I6: CCM
A7: iW9863-06 | B7: 10 | C7: DGaN,mosfet | D7: Y | E7: TL431 or 3rd party IC | F7: aux power/PD | G7: 20 | H7: 70 | I7: CCM
A8: RRW22111 | B8: 10 | C8: DGaN | D8: Y | E8: iW780/RRW30110 | F8: PD_ZSP | G8: 20 | H8: 70 | I8: CCM
A9: iW9866-15 | B9: 10 | C9: DGaN,mosfet | D9: N | E9: TL431 or 3rd party IC | F9: aux power/PD | G9: 20 | H9: 70 | I9: CCM
A10: RRW22122 | B10: 10 | C10: DGaN | D10: N | E10: TL431 or 3rd party IC | F10: PD_ZSP | G10: 20 | H10: 70 | I10: CCM
A11: RRW22101 | B11: 10 | C11: DGaN | D11: Y | E11: TL431 or 3rd party IC | F11: aux power/PD | G11: 20 | H11: 70 | I11: CCM

Sheet user guide line
A1: step 1
A2: key in the input information
A8: step 2
A9: choose the output type and key in the output VI profile
A14: In auxiliary power supply design, the total output power is equal to the sum of the output power of each circuit.
A18: In PD applications, key in the highest output voltage PDO and the PDO corresponding to the maximum current in the rated power.
A20: Step3
A21: Select the appropriate IC from the iW986x/7x and RRW221xx general product list, and then select the IC's operating mode based on the input voltage range type.
A28: step4
A29: 1. According to the IC definition, there is a positive correlation between the IC's operating frequency and output voltage(see below curve of fsw vs Vo). The highest frequency is set by an assumed output voltage of 12V or 20V (depending on the IC options). 2.The IC using the Vsense pin to detect the output voltage information via the Auxiliary Winding and Rvs. In the Non-PD design,The Vo doesn't follow the relationship of 12V/20Vmax, The introduction of an output voltage correction factor provides greater design flexibility, such as the ability to configure an optimal maximum operating frequency and an appropriate OVP level. 3.Vo_Correction, Rvs, Npa,Nas ,fsw, OVP and VBIN are related
A43: Step5
A44: key in the transformer parameters accordign to the device voltage stress and current stress consideration.
... A78: Key in the Ae of core, check the Bmax

Sheet LLCCM
A1: =worksheet!$F$11&"V" -> 14V | L1: =worksheet!$J$11&"V" -> 15V
A2: Vc/V | B2: Fsw/kHz | C2: Vipk/V | D2: Ton/us | E2: Toff/us | F2: mode | G2: Ip1/A | H2: Ip2/A | I2: Po_actual/W | L2: Vc/V | M2: Fsw/kHz | N2: Vipk/V | O2: Ton/us | P2: Toff/us | Q2: mode | R2: Ip1/A | S2: Ip2/A | T2: Po_actual/W
A3: 1.1 | B3: 25 | C3: 0.2 | D3: =MIN(1000*worksheet!$F$36/B3,1000*worksheet!$F$42*C3/worksheet!$F$52/worksheet!$F$8) -> 2.013986 | E3: =MIN(1000*(1-worksheet!$F$36/B3),worksheet!$F$8*D3/worksheet!$F$29/worksheet!$F$11) -> 4.5211931 | F3: =IF((D3+E3)<(1000/B3),"DCM","CCM") -> DCM | G3: =H3-worksheet!$F$8*D3/worksheet!$F$42/1000 -> 0 | H3: =C3/worksheet!$F$52 -> 1.025641 | I3: =0.5*worksheet!$F$62/100*worksheet!$F$29*(G3+H3)*E3*B3/1000*worksheet!$F$11 -> 5.3964497 | J3: =B3 -> 25 | L3: 1.1 | M3: =IF(worksheet!$F$10="Rapid charger",25," ") | N3: 0.2 | O3: =MIN(1000*worksheet!$F$37/M3,1000*worksheet!$F$42*N3/worksheet!$F$52/worksheet!$F$8) -> #VALUE! | P3: =MIN(1000*(1-worksheet!$F$37/M3),worksheet!$F$8*O3/worksheet!$F$29/worksheet!$J$11) -> #VALUE! | Q3: =IF((O3+P3)<(1000/M3),"DCM","CCM") -> #VALUE! | R3: =S3-worksheet!$F$8*O3/worksheet!$F$42/1000 -> #VALUE! | S3: =N3/worksheet!$F$52 -> 1.025641 | T3: =0.5*worksheet!$F$62/100*worksheet!$F$29*(R3+S3)*P3*M3/1000*worksheet!$J$11 -> #VALUE!
A4: 1.12 | B4: 25 | C4: =C3+($C$28-$C$3)/25 -> 0.2032 | D4: =MIN(1000*worksheet!$F$36/B4,1000*worksheet!$F$42*C4/worksheet!$F$52/worksheet!$F$8) -> 2.0462098 | E4: =MIN(1000*(1-worksheet!$F$36/B4),worksheet!$F$8*D4/worksheet!$F$29/worksheet!$F$11) -> 4.5935322 | F4: =IF((D4+E4)<(1000/B4),"DCM","CCM") -> DCM | G4: =H4-worksheet!$F$8*D4/worksheet!$F$42/1000 -> 0 | H4: =C4/worksheet!$F$52 -> 1.0420513 | I4: =0.5*worksheet!$F$62/100*worksheet!$F$29*(G4+H4)*E4*B4/1000*worksheet!$F$11 -> 5.5705176 | J4: =B4 -> 25 | L4: 1.12 | M4: =IF(worksheet!$F$10="Rapid charger",25," ") | N4: =N3+($C$28-$C$3)/25 -> 0.2032 | O4: =MIN(1000*worksheet!$F$37/M4,1000*worksheet!$F$42*N4/worksheet!$F$52/worksheet!$F$8) -> #VALUE! | P4: =MIN(1000*(1-worksheet!$F$37/M4),worksheet!$F$8*O4/worksheet!$F$29/worksheet!$J$11) -> #VALUE! | Q4: =IF((O4+P4)<(1000/M4),"DCM","CCM") -> #VALUE! | R4: =S4-worksheet!$F$8*O4/worksheet!$F$42/1000 -> #VALUE! | S4: =N4/worksheet!$F$52 -> 1.0420513 | T4: =0.5*worksheet!$F$62/100*worksheet!$F$29*(R4+S4)*P4*M4/1000*worksheet!$J$11 -> #VALUE!
A5: 1.14 | B5: 25 | C5: =C4+($C$28-$C$3)/25 -> 0.2064 | D5: =MIN(1000*worksheet!$F$36/B5,1000*worksheet!$F$42*C5/worksheet!$F$52/worksheet!$F$8) -> 2.0784336 | E5: =MIN(1000*(1-worksheet!$F$36/B5),worksheet!$F$8*D5/worksheet!$F$29/worksheet!$F$11) -> 4.6658713 | F5: =IF((D5+E5)<(1000/B5),"DCM","CCM") -> DCM | G5: =H5-worksheet!$F$8*D5/worksheet!$F$42/1000 -> 0 | H5: =C5/worksheet!$F$52 -> 1.0584615 | I5: =0.5*worksheet!$F$62/100*worksheet!$F$29*(G5+H5)*E5*B5/1000*worksheet!$F$11 -> 5.7473484 | J5: =B5 -> 25 | L5: 1.14 | M5: =IF(worksheet!$F$10="Rapid charger",25," ") | N5: =N4+($C$28-$C$3)/25 -> 0.2064 | O5: =MIN(1000*worksheet!$F$37/M5,1000*worksheet!$F$42*N5/worksheet!$F$52/worksheet!$F$8) -> #VALUE! | P5: =MIN(1000*(1-worksheet!$F$37/M5),worksheet!$F$8*O5/worksheet!$F$29/worksheet!$J$11) -> #VALUE! | Q5: =IF((O5+P5)<(1000/M5),"DCM","CCM") -> #VALUE! | R5: =S5-worksheet!$F$8*O5/worksheet!$F$42/1000 -> #VALUE! | S5: =N5/worksheet!$F$52 -> 1.0584615 | T5: =0.5*worksheet!$F$62/100*worksheet!$F$29*(R5+S5)*P5*M5/1000*worksheet!$J$11 -> #VALUE!
A6: 1.16 | B6: 25 | C6: =C5+($C$28-$C$3)/25 -> 0.2096 | D6: =MIN(1000*worksheet!$F$36/B6,1000*worksheet!$F$42*C6/worksheet!$F$52/worksheet!$F$8) -> 2.1106573 | E6: =MIN(1000*(1-worksheet!$F$36/B6),worksheet!$F$8*D6/worksheet!$F$29/worksheet!$F$11) -> 4.7382104 | F6: =IF((D6+E6)<(1000/B6),"DCM","CCM") -> DCM | G6: =H6-worksheet!$F$8*D6/worksheet!$F$42/1000 -> 0 | H6: =C6/worksheet!$F$52 -> 1.0748718 | I6: =0.5*worksheet!$F$62/100*worksheet!$F$29*(G6+H6)*E6*B6/1000*worksheet!$F$11 -> 5.9269423 | J6: =B6 -> 25 | L6: 1.16 | M6: =IF(worksheet!$F$10="Rapid charger",25," ") | N6: =N5+($C$28-$C$3)/25 -> 0.2096 | O6: =MIN(1000*worksheet!$F$37/M6,1000*worksheet!$F$42*N6/worksheet!$F$52/worksheet!$F$8) -> #VALUE! | P6: =MIN(1000*(1-worksheet!$F$37/M6),worksheet!$F$8*O6/worksheet!$F$29/worksheet!$J$11) -> #VALUE! | Q6: =IF((O6+P6)<(1000/M6),"DCM","CCM") -> #VALUE! | R6: =S6-worksheet!$F$8*O6/worksheet!$F$42/1000 -> #VALUE! | S6: =N6/worksheet!$F$52 -> 1.0748718 | T6: =0.5*worksheet!$F$62/100*worksheet!$F$29*(R6+S6)*P6*M6/1000*worksheet!$J$11 -> #VALUE!
A7: 1.18 | B7: 25 | C7: =C6+($C$28-$C$3)/25 -> 0.2128 | D7: =MIN(1000*worksheet!$F$36/B7,1000*worksheet!$F$42*C7/worksheet!$F$52/worksheet!$F$8) -> 2.1428811 | E7: =MIN(1000*(1-worksheet!$F$36/B7),worksheet!$F$8*D7/worksheet!$F$29/worksheet!$F$11) -> 4.8105495 | F7: =IF((D7+E7)<(1000/B7),"DCM","CCM") -> DCM | G7: =H7-worksheet!$F$8*D7/worksheet!$F$42/1000 -> 0 | H7: =C7/worksheet!$F$52 -> 1.0912821 | I7: =0.5*worksheet!$F$62/100*worksheet!$F$29*(G7+H7)*E7*B7/1000*worksheet!$F$11 -> 6.1092991 | J7: =B7 -> 25 | L7: 1.18 | M7: =IF(worksheet!$F$10="Rapid charger",25," ") | N7: =N6+($C$28-$C$3)/25 -> 0.2128 | O7: =MIN(1000*worksheet!$F$37/M7,1000*worksheet!$F$42*N7/worksheet!$F$52/worksheet!$F$8) -> #VALUE! | P7: =MIN(1000*(1-worksheet!$F$37/M7),worksheet!$F$8*O7/worksheet!$F$29/worksheet!$J$11) -> #VALUE! | Q7: =IF((O7+P7)<(1000/M7),"DCM","CCM") -> #VALUE! | R7: =S7-worksheet!$F$8*O7/worksheet!$F$42/1000 -> #VALUE! | S7: =N7/worksheet!$F$52 -> 1.0912821 | T7: =0.5*worksheet!$F$62/100*worksheet!$F$29*(R7+S7)*P7*M7/1000*worksheet!$J$11 -> #VALUE!
A8: 1.2 | B8: 25 | C8: =C7+($C$28-$C$3)/25 -> 0.216 | D8: =MIN(1000*worksheet!$F$36/B8,1000*worksheet!$F$42*C8/worksheet!$F$52/worksheet!$F$8) -> 2.1751049 | E8: =MIN(1000*(1-worksheet!$F$36/B8),worksheet!$F$8*D8/worksheet!$F$29/worksheet!$F$11) -> 4.8828885 | F8: =IF((D8+E8)<(1000/B8),"DCM","CCM") -> DCM | G8: =H8-worksheet!$F$8*D8/worksheet!$F$42/1000 -> 0 | H8: =C8/worksheet!$F$52 -> 1.1076923 | I8: =0.5*worksheet!$F$62/100*worksheet!$F$29*(G8+H8)*E8*B8/1000*worksheet!$F$11 -> 6.2944189 | J8: =B8 -> 25 | L8: 1.2 | M8: =IF(worksheet!$F$10="Rapid charger",25," ") | N8: =N7+($C$28-$C$3)/25 -> 0.216 | O8: =MIN(1000*worksheet!$F$37/M8,1000*worksheet!$F$42*N8/worksheet!$F$52/worksheet!$F$8) -> #VALUE! | P8: =MIN(1000*(1-worksheet!$F$37/M8),worksheet!$F$8*O8/worksheet!$F$29/worksheet!$J$11) -> #VALUE! | Q8: =IF((O8+P8)<(1000/M8),"DCM","CCM") -> #VALUE! | R8: =S8-worksheet!$F$8*O8/worksheet!$F$42/1000 -> #VALUE! | S8: =N8/worksheet!$F$52 -> 1.1076923 | T8: =0.5*worksheet!$F$62/100*worksheet!$F$29*(R8+S8)*P8*M8/1000*worksheet!$J$11 -> #VALUE!
A9: 1.22 | B9: 25 | C9: =C8+($C$28-$C$3)/25 -> 0.2192 | D9: =MIN(1000*worksheet!$F$36/B9,1000*worksheet!$F$42*C9/worksheet!$F$52/worksheet!$F$8) -> 2.2073287 | E9: =MIN(1000*(1-worksheet!$F$36/B9),worksheet!$F$8*D9/worksheet!$F$29/worksheet!$F$11) -> 4.9552276 | F9: =IF((D9+E9)<(1000/B9),"DCM","CCM") -> DCM | G9: =H9-worksheet!$F$8*D9/worksheet!$F$42/1000 -> 0 | H9: =C9/worksheet!$F$52 -> 1.1241026 | I9: =0.5*worksheet!$F$62/100*worksheet!$F$29*(G9+H9)*E9*B9/1000*worksheet!$F$11 -> 6.4823017 | J9: =B9 -> 25 | L9: 1.22 | M9: =IF(worksheet!$F$10="Rapid charger",25," ") | N9: =N8+($C$28-$C$3)/25 -> 0.2192 | O9: =MIN(1000*worksheet!$F$37/M9,1000*worksheet!$F$42*N9/worksheet!$F$52/worksheet!$F$8) -> #VALUE! | P9: =MIN(1000*(1-worksheet!$F$37/M9),worksheet!$F$8*O9/worksheet!$F$29/worksheet!$J$11) -> #VALUE! | Q9: =IF((O9+P9)<(1000/M9),"DCM","CCM") -> #VALUE! | R9: =S9-worksheet!$F$8*O9/worksheet!$F$42/1000 -> #VALUE! | S9: =N9/worksheet!$F$52 -> 1.1241026 | T9: =0.5*worksheet!$F$62/100*worksheet!$F$29*(R9+S9)*P9*M9/1000*worksheet!$J$11 -> #VALUE!
A10: 1.24 | B10: 25 | C10: =C9+($C$28-$C$3)/25 -> 0.2224 | D10: =MIN(1000*worksheet!$F$36/B10,1000*worksheet!$F$42*C10/worksheet!$F$52/worksheet!$F$8) -> 2.2395524 | E10: =MIN(1000*(1-worksheet!$F$36/B10),worksheet!$F$8*D10/worksheet!$F$29/worksheet!$F$11) -> 5.0275667 | F10: =IF((D10+E10)<(1000/B10),"DCM","CCM") -> DCM | G10: =H10-worksheet!$F$8*D10/worksheet!$F$42/1000 -> 0 | H10: =C10/worksheet!$F$52 -> 1.1405128 | I10: =0.5*worksheet!$F$62/100*worksheet!$F$29*(G10+H10)*E10*B10/1000*worksheet!$F$11 -> 6.6729475 | J10: =B10 -> 25 | L10: 1.24 | M10: =IF(worksheet!$F$10="Rapid charger",25," ") | N10: =N9+($C$28-$C$3)/25 -> 0.2224 | O10: =MIN(1000*worksheet!$F$37/M10,1000*worksheet!$F$42*N10/worksheet!$F$52/worksheet!$F$8) -> #VALUE! | P10: =MIN(1000*(1-worksheet!$F$37/M10),worksheet!$F$8*O10/worksheet!$F$29/worksheet!$J$11) -> #VALUE! | Q10: =IF((O10+P10)<(1000/M10),"DCM","CCM") -> #VALUE! | R10: =S10-worksheet!$F$8*O10/worksheet!$F$42/1000 -> #VALUE! | S10: =N10/worksheet!$F$52 -> 1.1405128 | T10: =0.5*worksheet!$F$62/100*worksheet!$F$29*(R10+S10)*P10*M10/1000*worksheet!$J$11 -> #VALUE!
A11: 1.26 | B11: 25 | C11: =C10+($C$28-$C$3)/25 -> 0.2256 | D11: =MIN(1000*worksheet!$F$36/B11,1000*worksheet!$F$42*C11/worksheet!$F$52/worksheet!$F$8) -> 2.2717762 | E11: =MIN(1000*(1-worksheet!$F$36/B11),worksheet!$F$8*D11/worksheet!$F$29/worksheet!$F$11) -> 5.0999058 | F11: =IF((D11+E11)<(1000/B11),"DCM","CCM") -> DCM | G11: =H11-worksheet!$F$8*D11/worksheet!$F$42/1000 -> 0 | H11: =C11/worksheet!$F$52 -> 1.1569231 | I11: =0.5*worksheet!$F$62/100*worksheet!$F$29*(G11+H11)*E11*B11/1000*worksheet!$F$11 -> 6.8663563 | J11: =B11 -> 25 | L11: 1.26 | M11: =IF(worksheet!$F$10="Rapid charger",25," ") | N11: =N10+($C$28-$C$3)/25 -> 0.2256 | O11: =MIN(1000*worksheet!$F$37/M11,1000*worksheet!$F$42*N11/worksheet!$F$52/worksheet!$F$8) -> #VALUE! | P11: =MIN(1000*(1-worksheet!$F$37/M11),worksheet!$F$8*O11/worksheet!$F$29/worksheet!$J$11) -> #VALUE! | Q11: =IF((O11+P11)<(1000/M11),"DCM","CCM") -> #VALUE! | R11: =S11-worksheet!$F$8*O11/worksheet!$F$42/1000 -> #VALUE! | S11: =N11/worksheet!$F$52 -> 1.1569231 | T11: =0.5*worksheet!$F$62/100*worksheet!$F$29*(R11+S11)*P11*M11/1000*worksheet!$J$11 -> #VALUE!
A12: 1.28 | B12: 25 | C12: =C11+($C$28-$C$3)/25 -> 0.2288 | D12: =MIN(1000*worksheet!$F$36/B12,1000*worksheet!$F$42*C12/worksheet!$F$52/worksheet!$F$8) -> 2.304 | E12: =MIN(1000*(1-worksheet!$F$36/B12),worksheet!$F$8*D12/worksheet!$F$29/worksheet!$F$11) -> 5.1722449 | F12: =IF((D12+E12)<(1000/B12),"DCM","CCM") -> DCM | G12: =H12-worksheet!$F$8*D12/worksheet!$F$42/1000 -> 0 | H12: =C12/worksheet!$F$52 -> 1.1733333 | I12: =0.5*worksheet!$F$62/100*worksheet!$F$29*(G12+H12)*E12*B12/1000*worksheet!$F$11 -> 7.062528 | J12: =B12 -> 25 | L12: 1.28 | M12: =IF(worksheet!$F$10="Rapid charger",25," ") | N12: =N11+($C$28-$C$3)/25 -> 0.2288 | O12: =MIN(1000*worksheet!$F$37/M12,1000*worksheet!$F$42*N12/worksheet!$F$52/worksheet!$F$8) -> #VALUE! | P12: =MIN(1000*(1-worksheet!$F$37/M12),worksheet!$F$8*O12/worksheet!$F$29/worksheet!$J$11) -> #VALUE! | Q12: =IF((O12+P12)<(1000/M12),"DCM","CCM") -> #VALUE! | R12: =S12-worksheet!$F$8*O12/worksheet!$F$42/1000 -> #VALUE! | S12: =N12/worksheet!$F$52 -> 1.1733333 | T12: =0.5*worksheet!$F$62/100*worksheet!$F$29*(R12+S12)*P12*M12/1000*worksheet!$J$11 -> #VALUE!
A13: 1.3 | B13: 25 | C13: =C12+($C$28-$C$3)/25 -> 0.232 | D13: =MIN(1000*worksheet!$F$36/B13,1000*worksheet!$F$42*C13/worksheet!$F$52/worksheet!$F$8) -> 2.3362238 | E13: =MIN(1000*(1-worksheet!$F$36/B13),worksheet!$F$8*D13/worksheet!$F$29/worksheet!$F$11) -> 5.244584 | F13: =IF((D13+E13)<(1000/B13),"DCM","CCM") -> DCM | G13: =H13-worksheet!$F$8*D13/worksheet!$F$42/1000 -> 0 | H13: =C13/worksheet!$F$52 -> 1.1897436 | I13: =0.5*worksheet!$F$62/100*worksheet!$F$29*(G13+H13)*E13*B13/1000*worksheet!$F$11 -> 7.2614627 | J13: =B13 -> 25 | L13: 1.3 | M13: =IF(worksheet!$F$10="Rapid charger",25," ") | N13: =N12+($C$28-$C$3)/25 -> 0.232 | O13: =MIN(1000*worksheet!$F$37/M13,1000*worksheet!$F$42*N13/worksheet!$F$52/worksheet!$F$8) -> #VALUE! | P13: =MIN(1000*(1-worksheet!$F$37/M13),worksheet!$F$8*O13/worksheet!$F$29/worksheet!$J$11) -> #VALUE! | Q13: =IF((O13+P13)<(1000/M13),"DCM","CCM") -> #VALUE! | R13: =S13-worksheet!$F$8*O13/worksheet!$F$42/1000 -> #VALUE! | S13: =N13/worksheet!$F$52 -> 1.1897436 | T13: =0.5*worksheet!$F$62/100*worksheet!$F$29*(R13+S13)*P13*M13/1000*worksheet!$J$11 -> #VALUE!
A14: 1.32 | B14: 25 | C14: =C13+($C$28-$C$3)/25 -> 0.2352 | D14: =MIN(1000*worksheet!$F$36/B14,1000*worksheet!$F$42*C14/worksheet!$F$52/worksheet!$F$8) -> 2.3684476 | E14: =MIN(1000*(1-worksheet!$F$36/B14),worksheet!$F$8*D14/worksheet!$F$29/worksheet!$F$11) -> 5.3169231 | F14: =IF((D14+E14)<(1000/B14),"DCM","CCM") -> DCM | G14: =H14-worksheet!$F$8*D14/worksheet!$F$42/1000 -> 0 | H14: =C14/worksheet!$F$52 -> 1.2061538 | I14: =0.5*worksheet!$F$62/100*worksheet!$F$29*(G14+H14)*E14*B14/1000*worksheet!$F$11 -> 7.4631604 | J14: =B14 -> 25 | L14: 1.32 | M14: =IF(worksheet!$F$10="Rapid charger",25," ") | N14: =N13+($C$28-$C$3)/25 -> 0.2352 | O14: =MIN(1000*worksheet!$F$37/M14,1000*worksheet!$F$42*N14/worksheet!$F$52/worksheet!$F$8) -> #VALUE! | P14: =MIN(1000*(1-worksheet!$F$37/M14),worksheet!$F$8*O14/worksheet!$F$29/worksheet!$J$11) -> #VALUE! | Q14: =IF((O14+P14)<(1000/M14),"DCM","CCM") -> #VALUE! | R14: =S14-worksheet!$F$8*O14/worksheet!$F$42/1000 -> #VALUE! | S14: =N14/worksheet!$F$52 -> 1.2061538 | T14: =0.5*worksheet!$F$62/100*worksheet!$F$29*(R14+S14)*P14*M14/1000*worksheet!$J$11 -> #VALUE!
A15: 1.34 | B15: 25 | C15: =C14+($C$28-$C$3)/25 -> 0.2384 | D15: =MIN(1000*worksheet!$F$36/B15,1000*worksheet!$F$42*C15/worksheet!$F$52/worksheet!$F$8) -> 2.4006713 | E15: =MIN(1000*(1-worksheet!$F$36/B15),worksheet!$F$8*D15/worksheet!$F$29/worksheet!$F$11) -> 5.3892622 | F15: =IF((D15+E15)<(1000/B15),"DCM","CCM") -> DCM | G15: =H15-worksheet!$F$8*D15/worksheet!$F$42/1000 -> 0 | H15: =C15/worksheet!$F$52 -> 1.2225641 | I15: =0.5*worksheet!$F$62/100*worksheet!$F$29*(G15+H15)*E15*B15/1000*worksheet!$F$11 -> 7.6676211 | J15: =B15 -> 25 | L15: 1.34 | M15: =IF(worksheet!$F$10="Rapid charger",25," ") | N15: =N14+($C$28-$C$3)/25 -> 0.2384 | O15: =MIN(1000*worksheet!$F$37/M15,1000*worksheet!$F$42*N15/worksheet!$F$52/worksheet!$F$8) -> #VALUE! | P15: =MIN(1000*(1-worksheet!$F$37/M15),worksheet!$F$8*O15/worksheet!$F$29/worksheet!$J$11) -> #VALUE! | Q15: =IF((O15+P15)<(1000/M15),"DCM","CCM") -> #VALUE! | R15: =S15-worksheet!$F$8*O15/worksheet!$F$42/1000 -> #VALUE! | S15: =N15/worksheet!$F$52 -> 1.2225641 | T15: =0.5*worksheet!$F$62/100*worksheet!$F$29*(R15+S15)*P15*M15/1000*worksheet!$J$11 -> #VALUE!
... A27: 1.58 | B27: 25 | C27: =C26+($C$28-$C$3)/25 -> 0.2768 | D27: =MIN(1000*worksheet!$F$36/B27,1000*worksheet!$F$42*C27/worksheet!$F$52/worksheet!$F$8) -> 2.7873566 | E27: =MIN(1000*(1-worksheet!$F$36/B27),worksheet!$F$8*D27/worksheet!$F$29/worksheet!$F$11) -> 6.2573312 | F27: =IF((D27+E27)<(1000/B27),"DCM","CCM") -> DCM | G27: =H27-worksheet!$F$8*D27/worksheet!$F$42/1000 -> 0 | H27: =C27/worksheet!$F$52 -> 1.4194872 | I27: =0.5*worksheet!$F$62/100*worksheet!$F$29*(G27+H27)*E27*B27/1000*worksheet!$F$11 -> 10.336662 | J27: =B27 -> 25 | L27: 1.58 | M27: =IF(worksheet!$F$10="Rapid charger",25," ") | N27: =N26+($C$28-$C$3)/25 -> 0.2768 | O27: =MIN(1000*worksheet!$F$37/M27,1000*worksheet!$F$42*N27/worksheet!$F$52/worksheet!$F$8) -> #VALUE! | P27: =MIN(1000*(1-worksheet!$F$37/M27),worksheet!$F$8*O27/worksheet!$F$29/worksheet!$J$11) -> #VALUE! | Q27: =IF((O27+P27)<(1000/M27),"DCM","CCM") -> #VALUE! | R27: =S27-worksheet!$F$8*O27/worksheet!$F$42/1000 -> #VALUE! | S27: =N27/worksheet!$F$52 -> 1.4194872 | T27: =0.5*worksheet!$F$62/100*worksheet!$F$29*(R27+S27)*P27*M27/1000*worksheet!$J$11 -> #VALUE!
A28: 1.6 | B28: 25 | C28: 0.28 | D28: =MIN(1000*worksheet!$F$36/B28,1000*worksheet!$F$42*C28/worksheet!$F$52/worksheet!$F$8) -> 2.8195804 | E28: =MIN(1000*(1-worksheet!$F$36/B28),worksheet!$F$8*D28/worksheet!$F$29/worksheet!$F$11) -> 6.3296703 | F28: =IF((D28+E28)<(1000/B28),"DCM","CCM") -> DCM | G28: =H28-worksheet!$F$8*D28/worksheet!$F$42/1000 -> 0 | H28: =C28/worksheet!$F$52 -> 1.4358974 | I28: =0.5*worksheet!$F$62/100*worksheet!$F$29*(G28+H28)*E28*B28/1000*worksheet!$F$11 -> 10.577041 | J28: =B28 -> 25 | L28: 1.6 | M28: =IF(worksheet!$F$10="Rapid charger",25," ") | N28: 0.28 | O28: =MIN(1000*worksheet!$F$37/M28,1000*worksheet!$F$42*N28/worksheet!$F$52/worksheet!$F$8) -> #VALUE! | P28: =MIN(1000*(1-worksheet!$F$37/M28),worksheet!$F$8*O28/worksheet!$F$29/worksheet!$J$11) -> #VALUE! | Q28: =IF((O28+P28)<(1000/M28),"DCM","CCM") -> #VALUE! | R28: =S28-worksheet!$F$8*O28/worksheet!$F$42/1000 -> #VALUE! | S28: =N28/worksheet!$F$52 -> 1.4358974 | T28: =0.5*worksheet!$F$62/100*worksheet!$F$29*(R28+S28)*P28*M28/1000*worksheet!$J$11 -> #VALUE!
A29: 1.62 | B29: =IF(F9="Rapid charger",B28+($B$53-$B$28)/25,B28+($B$53-$B$28)/25) -> 26.729412 | C29: 0.28 | D29: =MIN(1000*worksheet!$F$36/B29,1000*worksheet!$F$42*C29/worksheet!$F$52/worksheet!$F$8) -> 2.8195804 | E29: =MIN(1000*(1-worksheet!$F$36/B29),worksheet!$F$8*D29/worksheet!$F$29/worksheet!$F$11) -> 6.3296703 | F29: =IF((D29+E29)<(1000/B29),"DCM","CCM") -> DCM | G29: =H29-worksheet!$F$8*D29/worksheet!$F$42/1000 -> 0 | H29: =C29/worksheet!$F$52 -> 1.4358974 | I29: =0.5*worksheet!$F$62/100*worksheet!$F$29*(G29+H29)*E29*B29/1000*worksheet!$F$11 -> 11.308724 | J29: =B29 -> 26.729412 | L29: 1.62 | M29: =M28+($M$53-$M$28)/25 -> #VALUE! | N29: 0.28 | O29: =MIN(1000*worksheet!$F$37/M29,1000*worksheet!$F$42*N29/worksheet!$F$52/worksheet!$F$8) -> #VALUE! | P29: =MIN(1000*(1-worksheet!$F$37/M29),worksheet!$F$8*O29/worksheet!$F$29/worksheet!$J$11) -> #VALUE! | Q29: =IF((O29+P29)<(1000/M29),"DCM","CCM") -> #VALUE! | R29: =S29-worksheet!$F$8*O29/worksheet!$F$42/1000 -> #VALUE! | S29: =N29/worksheet!$F$52 -> 1.4358974 | T29: =0.5*worksheet!$F$62/100*worksheet!$F$29*(R29+S29)*P29*M29/1000*worksheet!$J$11 -> #VALUE!
A30: 1.64 | B30: =IF(F10="Rapid charger",B29+($B$53-$B$28)/25,B29+($B$53-$B$28)/25) -> 28.458824 | C30: 0.28 | D30: =MIN(1000*worksheet!$F$36/B30,1000*worksheet!$F$42*C30/worksheet!$F$52/worksheet!$F$8) -> 2.8195804 | E30: =MIN(1000*(1-worksheet!$F$36/B30),worksheet!$F$8*D30/worksheet!$F$29/worksheet!$F$11) -> 6.3296703 | F30: =IF((D30+E30)<(1000/B30),"DCM","CCM") -> DCM | G30: =H30-worksheet!$F$8*D30/worksheet!$F$42/1000 -> 0 | H30: =C30/worksheet!$F$52 -> 1.4358974 | I30: =0.5*worksheet!$F$62/100*worksheet!$F$29*(G30+H30)*E30*B30/1000*worksheet!$F$11 -> 12.040406 | J30: =B30 -> 28.458824 | L30: 1.64 | M30: =M29+($M$53-$M$28)/25 -> #VALUE! | N30: 0.28 | O30: =MIN(1000*worksheet!$F$37/M30,1000*worksheet!$F$42*N30/worksheet!$F$52/worksheet!$F$8) -> #VALUE! | P30: =MIN(1000*(1-worksheet!$F$37/M30),worksheet!$F$8*O30/worksheet!$F$29/worksheet!$J$11) -> #VALUE! | Q30: =IF((O30+P30)<(1000/M30),"DCM","CCM") -> #VALUE! | R30: =S30-worksheet!$F$8*O30/worksheet!$F$42/1000 -> #VALUE! | S30: =N30/worksheet!$F$52 -> 1.4358974 | T30: =0.5*worksheet!$F$62/100*worksheet!$F$29*(R30+S30)*P30*M30/1000*worksheet!$J$11 -> #VALUE!
A31: 1.66 | B31: =IF(F11="Rapid charger",B30+($B$53-$B$28)/25,B30+($B$53-$B$28)/25) -> 30.188235 | C31: 0.28 | D31: =MIN(1000*worksheet!$F$36/B31,1000*worksheet!$F$42*C31/worksheet!$F$52/worksheet!$F$8) -> 2.8195804 | E31: =MIN(1000*(1-worksheet!$F$36/B31),worksheet!$F$8*D31/worksheet!$F$29/worksheet!$F$11) -> 6.3296703 | F31: =IF((D31+E31)<(1000/B31),"DCM","CCM") -> DCM | G31: =H31-worksheet!$F$8*D31/worksheet!$F$42/1000 -> 0 | H31: =C31/worksheet!$F$52 -> 1.4358974 | I31: =0.5*worksheet!$F$62/100*worksheet!$F$29*(G31+H31)*E31*B31/1000*worksheet!$F$11 -> 12.772089 | J31: =B31 -> 30.188235 | L31: 1.66 | M31: =M30+($M$53-$M$28)/25 -> #VALUE! | N31: 0.28 | O31: =MIN(1000*worksheet!$F$37/M31,1000*worksheet!$F$42*N31/worksheet!$F$52/worksheet!$F$8) -> #VALUE! | P31: =MIN(1000*(1-worksheet!$F$37/M31),worksheet!$F$8*O31/worksheet!$F$29/worksheet!$J$11) -> #VALUE! | Q31: =IF((O31+P31)<(1000/M31),"DCM","CCM") -> #VALUE! | R31: =S31-worksheet!$F$8*O31/worksheet!$F$42/1000 -> #VALUE! | S31: =N31/worksheet!$F$52 -> 1.4358974 | T31: =0.5*worksheet!$F$62/100*worksheet!$F$29*(R31+S31)*P31*M31/1000*worksheet!$J$11 -> #VALUE!
A32: 1.68 | B32: =IF(F12="Rapid charger",B31+($B$53-$B$28)/25,B31+($B$53-$B$28)/25) -> 31.917647 | C32: 0.28 | D32: =MIN(1000*worksheet!$F$36/B32,1000*worksheet!$F$42*C32/worksheet!$F$52/worksheet!$F$8) -> 2.8195804 | E32: =MIN(1000*(1-worksheet!$F$36/B32),worksheet!$F$8*D32/worksheet!$F$29/worksheet!$F$11) -> 6.3296703 | F32: =IF((D32+E32)<(1000/B32),"DCM","CCM") -> DCM | G32: =H32-worksheet!$F$8*D32/worksheet!$F$42/1000 -> 0 | H32: =C32/worksheet!$F$52 -> 1.4358974 | I32: =0.5*worksheet!$F$62/100*worksheet!$F$29*(G32+H32)*E32*B32/1000*worksheet!$F$11 -> 13.503771 | J32: =B32 -> 31.917647 | L32: 1.68 | M32: =M31+($M$53-$M$28)/25 -> #VALUE! | N32: 0.28 | O32: =MIN(1000*worksheet!$F$37/M32,1000*worksheet!$F$42*N32/worksheet!$F$52/worksheet!$F$8) -> #VALUE! | P32: =MIN(1000*(1-worksheet!$F$37/M32),worksheet!$F$8*O32/worksheet!$F$29/worksheet!$J$11) -> #VALUE! | Q32: =IF((O32+P32)<(1000/M32),"DCM","CCM") -> #VALUE! | R32: =S32-worksheet!$F$8*O32/worksheet!$F$42/1000 -> #VALUE! | S32: =N32/worksheet!$F$52 -> 1.4358974 | T32: =0.5*worksheet!$F$62/100*worksheet!$F$29*(R32+S32)*P32*M32/1000*worksheet!$J$11 -> #VALUE!
A33: 1.7 | B33: =IF(F13="Rapid charger",B32+($B$53-$B$28)/25,B32+($B$53-$B$28)/25) -> 33.647059 | C33: 0.28 | D33: =MIN(1000*worksheet!$F$36/B33,1000*worksheet!$F$42*C33/worksheet!$F$52/worksheet!$F$8) -> 2.8195804 | E33: =MIN(1000*(1-worksheet!$F$36/B33),worksheet!$F$8*D33/worksheet!$F$29/worksheet!$F$11) -> 6.3296703 | F33: =IF((D33+E33)<(1000/B33),"DCM","CCM") -> DCM | G33: =H33-worksheet!$F$8*D33/worksheet!$F$42/1000 -> 0 | H33: =C33/worksheet!$F$52 -> 1.4358974 | I33: =0.5*worksheet!$F$62/100*worksheet!$F$29*(G33+H33)*E33*B33/1000*worksheet!$F$11 -> 14.235453 | J33: =B33 -> 33.647059 | L33: 1.7 | M33: =M32+($M$53-$M$28)/25 -> #VALUE! | N33: 0.28 | O33: =MIN(1000*worksheet!$F$37/M33,1000*worksheet!$F$42*N33/worksheet!$F$52/worksheet!$F$8) -> #VALUE! | P33: =MIN(1000*(1-worksheet!$F$37/M33),worksheet!$F$8*O33/worksheet!$F$29/worksheet!$J$11) -> #VALUE! | Q33: =IF((O33+P33)<(1000/M33),"DCM","CCM") -> #VALUE! | R33: =S33-worksheet!$F$8*O33/worksheet!$F$42/1000 -> #VALUE! | S33: =N33/worksheet!$F$52 -> 1.4358974 | T33: =0.5*worksheet!$F$62/100*worksheet!$F$29*(R33+S33)*P33*M33/1000*worksheet!$J$11 -> #VALUE!
A34: 1.72 | B34: =IF(F14="Rapid charger",B33+($B$53-$B$28)/25,B33+($B$53-$B$28)/25) -> 35.376471 | C34: 0.28 | D34: =MIN(1000*worksheet!$F$36/B34,1000*worksheet!$F$42*C34/worksheet!$F$52/worksheet!$F$8) -> 2.8195804 | E34: =MIN(1000*(1-worksheet!$F$36/B34),worksheet!$F$8*D34/worksheet!$F$29/worksheet!$F$11) -> 6.3296703 | F34: =IF((D34+E34)<(1000/B34),"DCM","CCM") -> DCM | G34: =H34-worksheet!$F$8*D34/worksheet!$F$42/1000 -> 0 | H34: =C34/worksheet!$F$52 -> 1.4358974 | I34: =0.5*worksheet!$F$62/100*worksheet!$F$29*(G34+H34)*E34*B34/1000*worksheet!$F$11 -> 14.967136 | J34: =B34 -> 35.376471 | L34: 1.72 | M34: =M33+($M$53-$M$28)/25 -> #VALUE! | N34: 0.28 | O34: =MIN(1000*worksheet!$F$37/M34,1000*worksheet!$F$42*N34/worksheet!$F$52/worksheet!$F$8) -> #VALUE! | P34: =MIN(1000*(1-worksheet!$F$37/M34),worksheet!$F$8*O34/worksheet!$F$29/worksheet!$J$11) -> #VALUE! | Q34: =IF((O34+P34)<(1000/M34),"DCM","CCM") -> #VALUE! | R34: =S34-worksheet!$F$8*O34/worksheet!$F$42/1000 -> #VALUE! | S34: =N34/worksheet!$F$52 -> 1.4358974 | T34: =0.5*worksheet!$F$62/100*worksheet!$F$29*(R34+S34)*P34*M34/1000*worksheet!$J$11 -> #VALUE!
A35: 1.74 | B35: =IF(F15="Rapid charger",B34+($B$53-$B$28)/25,B34+($B$53-$B$28)/25) -> 37.105882 | C35: 0.28 | D35: =MIN(1000*worksheet!$F$36/B35,1000*worksheet!$F$42*C35/worksheet!$F$52/worksheet!$F$8) -> 2.8195804 | E35: =MIN(1000*(1-worksheet!$F$36/B35),worksheet!$F$8*D35/worksheet!$F$29/worksheet!$F$11) -> 6.3296703 | F35: =IF((D35+E35)<(1000/B35),"DCM","CCM") -> DCM | G35: =H35-worksheet!$F$8*D35/worksheet!$F$42/1000 -> 0 | H35: =C35/worksheet!$F$52 -> 1.4358974 | I35: =0.5*worksheet!$F$62/100*worksheet!$F$29*(G35+H35)*E35*B35/1000*worksheet!$F$11 -> 15.698818 | J35: =B35 -> 37.105882 | L35: 1.74 | M35: =M34+($M$53-$M$28)/25 -> #VALUE! | N35: 0.28 | O35: =MIN(1000*worksheet!$F$37/M35,1000*worksheet!$F$42*N35/worksheet!$F$52/worksheet!$F$8) -> #VALUE! | P35: =MIN(1000*(1-worksheet!$F$37/M35),worksheet!$F$8*O35/worksheet!$F$29/worksheet!$J$11) -> #VALUE! | Q35: =IF((O35+P35)<(1000/M35),"DCM","CCM") -> #VALUE! | R35: =S35-worksheet!$F$8*O35/worksheet!$F$42/1000 -> #VALUE! | S35: =N35/worksheet!$F$52 -> 1.4358974 | T35: =0.5*worksheet!$F$62/100*worksheet!$F$29*(R35+S35)*P35*M35/1000*worksheet!$J$11 -> #VALUE!
A36: 1.76 | B36: =IF(F16="Rapid charger",B35+($B$53-$B$28)/25,B35+($B$53-$B$28)/25) -> 38.835294 | C36: 0.28 | D36: =MIN(1000*worksheet!$F$36/B36,1000*worksheet!$F$42*C36/worksheet!$F$52/worksheet!$F$8) -> 2.8195804 | E36: =MIN(1000*(1-worksheet!$F$36/B36),worksheet!$F$8*D36/worksheet!$F$29/worksheet!$F$11) -> 6.3296703 | F36: =IF((D36+E36)<(1000/B36),"DCM","CCM") -> DCM | G36: =H36-worksheet!$F$8*D36/worksheet!$F$42/1000 -> 0 | H36: =C36/worksheet!$F$52 -> 1.4358974 | I36: =0.5*worksheet!$F$62/100*worksheet!$F$29*(G36+H36)*E36*B36/1000*worksheet!$F$11 -> 16.430501 | J36: =B36 -> 38.835294 | L36: 1.76 | M36: =M35+($M$53-$M$28)/25 -> #VALUE! | N36: 0.28 | O36: =MIN(1000*worksheet!$F$37/M36,1000*worksheet!$F$42*N36/worksheet!$F$52/worksheet!$F$8) -> #VALUE! | P36: =MIN(1000*(1-worksheet!$F$37/M36),worksheet!$F$8*O36/worksheet!$F$29/worksheet!$J$11) -> #VALUE! | Q36: =IF((O36+P36)<(1000/M36),"DCM","CCM") -> #VALUE! | R36: =S36-worksheet!$F$8*O36/worksheet!$F$42/1000 -> #VALUE! | S36: =N36/worksheet!$F$52 -> 1.4358974 | T36: =0.5*worksheet!$F$62/100*worksheet!$F$29*(R36+S36)*P36*M36/1000*worksheet!$J$11 -> #VALUE!
A37: 1.78 | B37: =IF(F17="Rapid charger",B36+($B$53-$B$28)/25,B36+($B$53-$B$28)/25) -> 40.564706 | C37: 0.28 | D37: =MIN(1000*worksheet!$F$36/B37,1000*worksheet!$F$42*C37/worksheet!$F$52/worksheet!$F$8) -> 2.8195804 | E37: =MIN(1000*(1-worksheet!$F$36/B37),worksheet!$F$8*D37/worksheet!$F$29/worksheet!$F$11) -> 6.3296703 | F37: =IF((D37+E37)<(1000/B37),"DCM","CCM") -> DCM | G37: =H37-worksheet!$F$8*D37/worksheet!$F$42/1000 -> 0 | H37: =C37/worksheet!$F$52 -> 1.4358974 | I37: =0.5*worksheet!$F$62/100*worksheet!$F$29*(G37+H37)*E37*B37/1000*worksheet!$F$11 -> 17.162183 | J37: =B37 -> 40.564706 | L37: 1.78 | M37: =M36+($M$53-$M$28)/25 -> #VALUE! | N37: 0.28 | O37: =MIN(1000*worksheet!$F$37/M37,1000*worksheet!$F$42*N37/worksheet!$F$52/worksheet!$F$8) -> #VALUE! | P37: =MIN(1000*(1-worksheet!$F$37/M37),worksheet!$F$8*O37/worksheet!$F$29/worksheet!$J$11) -> #VALUE! | Q37: =IF((O37+P37)<(1000/M37),"DCM","CCM") -> #VALUE! | R37: =S37-worksheet!$F$8*O37/worksheet!$F$42/1000 -> #VALUE! | S37: =N37/worksheet!$F$52 -> 1.4358974 | T37: =0.5*worksheet!$F$62/100*worksheet!$F$29*(R37+S37)*P37*M37/1000*worksheet!$J$11 -> #VALUE!
A38: 1.8 | B38: =IF(F18="Rapid charger",B37+($B$53-$B$28)/25,B37+($B$53-$B$28)/25) -> 42.294118 | C38: 0.28 | D38: =MIN(1000*worksheet!$F$36/B38,1000*worksheet!$F$42*C38/worksheet!$F$52/worksheet!$F$8) -> 2.8195804 | E38: =MIN(1000*(1-worksheet!$F$36/B38),worksheet!$F$8*D38/worksheet!$F$29/worksheet!$F$11) -> 6.3296703 | F38: =IF((D38+E38)<(1000/B38),"DCM","CCM") -> DCM | G38: =H38-worksheet!$F$8*D38/worksheet!$F$42/1000 -> 0 | H38: =C38/worksheet!$F$52 -> 1.4358974 | I38: =0.5*worksheet!$F$62/100*worksheet!$F$29*(G38+H38)*E38*B38/1000*worksheet!$F$11 -> 17.893865 | J38: =B38 -> 42.294118 | L38: 1.8 | M38: =M37+($M$53-$M$28)/25 -> #VALUE! | N38: 0.28 | O38: =MIN(1000*worksheet!$F$37/M38,1000*worksheet!$F$42*N38/worksheet!$F$52/worksheet!$F$8) -> #VALUE! | P38: =MIN(1000*(1-worksheet!$F$37/M38),worksheet!$F$8*O38/worksheet!$F$29/worksheet!$J$11) -> #VALUE! | Q38: =IF((O38+P38)<(1000/M38),"DCM","CCM") -> #VALUE! | R38: =S38-worksheet!$F$8*O38/worksheet!$F$42/1000 -> #VALUE! | S38: =N38/worksheet!$F$52 -> 1.4358974 | T38: =0.5*worksheet!$F$62/100*worksheet!$F$29*(R38+S38)*P38*M38/1000*worksheet!$J$11 -> #VALUE!
A39: 1.82 | B39: =IF(F19="Rapid charger",B38+($B$53-$B$28)/25,B38+($B$53-$B$28)/25) -> 44.023529 | C39: 0.28 | D39: =MIN(1000*worksheet!$F$36/B39,1000*worksheet!$F$42*C39/worksheet!$F$52/worksheet!$F$8) -> 2.8195804 | E39: =MIN(1000*(1-worksheet!$F$36/B39),worksheet!$F$8*D39/worksheet!$F$29/worksheet!$F$11) -> 6.3296703 | F39: =IF((D39+E39)<(1000/B39),"DCM","CCM") -> DCM | G39: =H39-worksheet!$F$8*D39/worksheet!$F$42/1000 -> 0 | H39: =C39/worksheet!$F$52 -> 1.4358974 | I39: =0.5*worksheet!$F$62/100*worksheet!$F$29*(G39+H39)*E39*B39/1000*worksheet!$F$11 -> 18.625548 | J39: =B39 -> 44.023529 | L39: 1.82 | M39: =M38+($M$53-$M$28)/25 -> #VALUE! | N39: 0.28 | O39: =MIN(1000*worksheet!$F$37/M39,1000*worksheet!$F$42*N39/worksheet!$F$52/worksheet!$F$8) -> #VALUE! | P39: =MIN(1000*(1-worksheet!$F$37/M39),worksheet!$F$8*O39/worksheet!$F$29/worksheet!$J$11) -> #VALUE! | Q39: =IF((O39+P39)<(1000/M39),"DCM","CCM") -> #VALUE! | R39: =S39-worksheet!$F$8*O39/worksheet!$F$42/1000 -> #VALUE! | S39: =N39/worksheet!$F$52 -> 1.4358974 | T39: =0.5*worksheet!$F$62/100*worksheet!$F$29*(R39+S39)*P39*M39/1000*worksheet!$J$11 -> #VALUE!
A40: 1.84 | B40: =IF(F20="Rapid charger",B39+($B$53-$B$28)/25,B39+($B$53-$B$28)/25) -> 45.752941 | C40: 0.28 | D40: =MIN(1000*worksheet!$F$36/B40,1000*worksheet!$F$42*C40/worksheet!$F$52/worksheet!$F$8) -> 2.8195804 | E40: =MIN(1000*(1-worksheet!$F$36/B40),worksheet!$F$8*D40/worksheet!$F$29/worksheet!$F$11) -> 6.3296703 | F40: =IF((D40+E40)<(1000/B40),"DCM","CCM") -> DCM | G40: =H40-worksheet!$F$8*D40/worksheet!$F$42/1000 -> 0 | H40: =C40/worksheet!$F$52 -> 1.4358974 | I40: =0.5*worksheet!$F$62/100*worksheet!$F$29*(G40+H40)*E40*B40/1000*worksheet!$F$11 -> 19.35723 | J40: =B40 -> 45.752941 | L40: 1.84 | M40: =M39+($M$53-$M$28)/25 -> #VALUE! | N40: 0.28 | O40: =MIN(1000*worksheet!$F$37/M40,1000*worksheet!$F$42*N40/worksheet!$F$52/worksheet!$F$8) -> #VALUE! | P40: =MIN(1000*(1-worksheet!$F$37/M40),worksheet!$F$8*O40/worksheet!$F$29/worksheet!$J$11) -> #VALUE! | Q40: =IF((O40+P40)<(1000/M40),"DCM","CCM") -> #VALUE! | R40: =S40-worksheet!$F$8*O40/worksheet!$F$42/1000 -> #VALUE! | S40: =N40/worksheet!$F$52 -> 1.4358974 | T40: =0.5*worksheet!$F$62/100*worksheet!$F$29*(R40+S40)*P40*M40/1000*worksheet!$J$11 -> #VALUE!
... A52: 2.08 | B52: =IF(F32="Rapid charger",B51+($B$53-$B$28)/25,B51+($B$53-$B$28)/25) -> 66.505882 | C52: 0.28 | D52: =MIN(1000*worksheet!$F$36/B52,1000*worksheet!$F$42*C52/worksheet!$F$52/worksheet!$F$8) -> 2.8195804 | E52: =MIN(1000*(1-worksheet!$F$36/B52),worksheet!$F$8*D52/worksheet!$F$29/worksheet!$F$11) -> 6.3296703 | F52: =IF((D52+E52)<(1000/B52),"DCM","CCM") -> DCM | G52: =H52-worksheet!$F$8*D52/worksheet!$F$42/1000 -> 0 | H52: =C52/worksheet!$F$52 -> 1.4358974 | I52: =0.5*worksheet!$F$62/100*worksheet!$F$29*(G52+H52)*E52*B52/1000*worksheet!$F$11 -> 28.137419 | J52: =B52 -> 66.505882 | L52: 2.08 | M52: =M51+($M$53-$M$28)/25 -> #VALUE! | N52: 0.28 | O52: =MIN(1000*worksheet!$F$37/M52,1000*worksheet!$F$42*N52/worksheet!$F$52/worksheet!$F$8) -> #VALUE! | P52: =MIN(1000*(1-worksheet!$F$37/M52),worksheet!$F$8*O52/worksheet!$F$29/worksheet!$J$11) -> #VALUE! | Q52: =IF((O52+P52)<(1000/M52),"DCM","CCM") -> #VALUE! | R52: =S52-worksheet!$F$8*O52/worksheet!$F$42/1000 -> #VALUE! | S52: =N52/worksheet!$F$52 -> 1.4358974 | T52: =0.5*worksheet!$F$62/100*worksheet!$F$29*(R52+S52)*P52*M52/1000*worksheet!$J$11 -> #VALUE!
A53: 2.1 | B53: =IF(worksheet!$F$10="Rapid charger",IF(worksheet!$F$11>20,50+(worksheet!$F$16-50)*(worksheet!$F$11-3)/(worksheet!$F$11-3),50+(worksheet!$F$16-50)*(worksheet!$F$11-3)/(worksheet!$F$14-3)),IF(worksheet!$F$18>20,50+(worksheet!$F$16-50)*(worksheet!$F$18-3)/(worksheet!$F$18-3),50+(worksheet!$F$16-50)*(worksheet!$F$18-3)/(worksheet!$F$14-3))) -> 68.235294 | C53: 0.28 | D53: =MIN(1000*worksheet!$F$36/B53,1000*worksheet!$F$42*C53/worksheet!$F$52/worksheet!$F$8) -> 2.8195804 | E53: =MIN(1000*(1-worksheet!$F$36/B53),worksheet!$F$8*D53/worksheet!$F$29/worksheet!$F$11) -> 6.3296703 | F53: =IF((D53+E53)<(1000/B53),"DCM","CCM") -> DCM | G53: =H53-worksheet!$F$8*D53/worksheet!$F$42/1000 -> 0 | H53: =C53/worksheet!$F$52 -> 1.4358974 | I53: =0.5*worksheet!$F$62/100*worksheet!$F$29*(G53+H53)*E53*B53/1000*worksheet!$F$11 -> 28.869101 | J53: =B53 -> 68.235294 | L53: 2.1 | M53: =IF(worksheet!$F$10="Rapid charger",50+(worksheet!$F$16-50)*(worksheet!J$11-3)/(worksheet!$F$14-3)," ") | N53: 0.28 | O53: =MIN(1000*worksheet!$F$37/M53,1000*worksheet!$F$42*N53/worksheet!$F$52/worksheet!$F$8) -> #VALUE! | P53: =MIN(1000*(1-worksheet!$F$37/M53),worksheet!$F$8*O53/worksheet!$F$29/worksheet!$J$11) -> #VALUE! | Q53: =IF((O53+P53)<(1000/M53),"DCM","CCM") -> #VALUE! | R53: =S53-worksheet!$F$8*O53/worksheet!$F$42/1000 -> #VALUE! | S53: =N53/worksheet!$F$52 -> 1.4358974 | T53: =0.5*worksheet!$F$62/100*worksheet!$F$29*(R53+S53)*P53*M53/1000*worksheet!$J$11 -> #VALUE!
A54: 2.12 | B54: =IF(worksheet!$F$10="Rapid charger",IF(worksheet!$F$11>20,50+(worksheet!$F$16-50)*(worksheet!$F$11-3)/(worksheet!$F$11-3),50+(worksheet!$F$16-50)*(worksheet!$F$11-3)/(worksheet!$F$14-3)),IF(worksheet!$F$18>20,50+(worksheet!$F$16-50)*(worksheet!$F$18-3)/(worksheet!$F$18-3),50+(worksheet!$F$16-50)*(worksheet!$F$18-3)/(worksheet!$F$14-3))) -> 68.235294 | C54: =C53+($C$113-$C$53)/60 -> 0.28416667 | D54: =MIN(1000*worksheet!$F$36/B54,1000*worksheet!$F$42*C54/worksheet!$F$52/worksheet!$F$8) -> 2.8615385 | E54: =MIN(1000*(1-worksheet!$F$36/B54),worksheet!$F$8*D54/worksheet!$F$29/worksheet!$F$11) -> 6.4238619 | F54: =IF((D54+E54)<(1000/B54),"DCM","CCM") -> DCM | G54: =H54-worksheet!$F$8*D54/worksheet!$F$42/1000 -> 0 | H54: =C54/worksheet!$F$52 -> 1.457265 | I54: =0.5*worksheet!$F$62/100*worksheet!$F$29*(G54+H54)*E54*B54/1000*worksheet!$F$11 -> 29.734694 | J54: =B54 -> 68.235294 | L54: 2.12 | M54: =IF(worksheet!$F$10="Rapid charger",50+(worksheet!$F$16-50)*(worksheet!J$11-3)/(worksheet!$F$14-3)," ") | N54: =N53+($N$113-$N$53)/60 -> 0.28366667 | O54: =MIN(1000*worksheet!$F$37/M54,1000*worksheet!$F$42*N54/worksheet!$F$52/worksheet!$F$8) -> #VALUE! | P54: =MIN(1000*(1-worksheet!$F$37/M54),worksheet!$F$8*O54/worksheet!$F$29/worksheet!$J$11) -> #VALUE! | Q54: =IF((O54+P54)<(1000/M54),"DCM","CCM") -> #VALUE! | R54: =S54-worksheet!$F$8*O54/worksheet!$F$42/1000 -> #VALUE! | S54: =N54/worksheet!$F$52 -> 1.4547009 | T54: =0.5*worksheet!$F$62/100*worksheet!$F$29*(R54+S54)*P54*M54/1000*worksheet!$J$11 -> #VALUE!
A55: 2.14 | B55: =IF(worksheet!$F$10="Rapid charger",IF(worksheet!$F$11>20,50+(worksheet!$F$16-50)*(worksheet!$F$11-3)/(worksheet!$F$11-3),50+(worksheet!$F$16-50)*(worksheet!$F$11-3)/(worksheet!$F$14-3)),IF(worksheet!$F$18>20,50+(worksheet!$F$16-50)*(worksheet!$F$18-3)/(worksheet!$F$18-3),50+(worksheet!$F$16-50)*(worksheet!$F$18-3)/(worksheet!$F$14-3))) -> 68.235294 | C55: =C54+($C$113-$C$53)/60 -> 0.28833333 | D55: =MIN(1000*worksheet!$F$36/B55,1000*worksheet!$F$42*C55/worksheet!$F$52/worksheet!$F$8) -> 2.9034965 | E55: =MIN(1000*(1-worksheet!$F$36/B55),worksheet!$F$8*D55/worksheet!$F$29/worksheet!$F$11) -> 6.5180534 | F55: =IF((D55+E55)<(1000/B55),"DCM","CCM") -> DCM | G55: =H55-worksheet!$F$8*D55/worksheet!$F$42/1000 -> 0 | H55: =C55/worksheet!$F$52 -> 1.4786325 | I55: =0.5*worksheet!$F$62/100*worksheet!$F$29*(G55+H55)*E55*B55/1000*worksheet!$F$11 -> 30.613072 | J55: =B55 -> 68.235294 | L55: 2.14 | M55: =IF(worksheet!$F$10="Rapid charger",50+(worksheet!$F$16-50)*(worksheet!J$11-3)/(worksheet!$F$14-3)," ") | N55: =N54+($N$113-$N$53)/60 -> 0.28733333 | O55: =MIN(1000*worksheet!$F$37/M55,1000*worksheet!$F$42*N55/worksheet!$F$52/worksheet!$F$8) -> #VALUE! | P55: =MIN(1000*(1-worksheet!$F$37/M55),worksheet!$F$8*O55/worksheet!$F$29/worksheet!$J$11) -> #VALUE! | Q55: =IF((O55+P55)<(1000/M55),"DCM","CCM") -> #VALUE! | R55: =S55-worksheet!$F$8*O55/worksheet!$F$42/1000 -> #VALUE! | S55: =N55/worksheet!$F$52 -> 1.4735043 | T55: =0.5*worksheet!$F$62/100*worksheet!$F$29*(R55+S55)*P55*M55/1000*worksheet!$J$11 -> #VALUE!
A56: 2.16 | B56: =IF(worksheet!$F$10="Rapid charger",IF(worksheet!$F$11>20,50+(worksheet!$F$16-50)*(worksheet!$F$11-3)/(worksheet!$F$11-3),50+(worksheet!$F$16-50)*(worksheet!$F$11-3)/(worksheet!$F$14-3)),IF(worksheet!$F$18>20,50+(worksheet!$F$16-50)*(worksheet!$F$18-3)/(worksheet!$F$18-3),50+(worksheet!$F$16-50)*(worksheet!$F$18-3)/(worksheet!$F$14-3))) -> 68.235294 | C56: =C55+($C$113-$C$53)/60 -> 0.2925 | D56: =MIN(1000*worksheet!$F$36/B56,1000*worksheet!$F$42*C56/worksheet!$F$52/worksheet!$F$8) -> 2.9454545 | E56: =MIN(1000*(1-worksheet!$F$36/B56),worksheet!$F$8*D56/worksheet!$F$29/worksheet!$F$11) -> 6.6122449 | F56: =IF((D56+E56)<(1000/B56),"DCM","CCM") -> DCM | G56: =H56-worksheet!$F$8*D56/worksheet!$F$42/1000 -> 0 | H56: =C56/worksheet!$F$52 -> 1.5 | I56: =0.5*worksheet!$F$62/100*worksheet!$F$29*(G56+H56)*E56*B56/1000*worksheet!$F$11 -> 31.504235 | J56: =B56 -> 68.235294 | L56: 2.16 | M56: =IF(worksheet!$F$10="Rapid charger",50+(worksheet!$F$16-50)*(worksheet!J$11-3)/(worksheet!$F$14-3)," ") | N56: =N55+($N$113-$N$53)/60 -> 0.291 | O56: =MIN(1000*worksheet!$F$37/M56,1000*worksheet!$F$42*N56/worksheet!$F$52/worksheet!$F$8) -> #VALUE! | P56: =MIN(1000*(1-worksheet!$F$37/M56),worksheet!$F$8*O56/worksheet!$F$29/worksheet!$J$11) -> #VALUE! | Q56: =IF((O56+P56)<(1000/M56),"DCM","CCM") -> #VALUE! | R56: =S56-worksheet!$F$8*O56/worksheet!$F$42/1000 -> #VALUE! | S56: =N56/worksheet!$F$52 -> 1.4923077 | T56: =0.5*worksheet!$F$62/100*worksheet!$F$29*(R56+S56)*P56*M56/1000*worksheet!$J$11 -> #VALUE!
A57: 2.18 | B57: =IF(worksheet!$F$10="Rapid charger",IF(worksheet!$F$11>20,50+(worksheet!$F$16-50)*(worksheet!$F$11-3)/(worksheet!$F$11-3),50+(worksheet!$F$16-50)*(worksheet!$F$11-3)/(worksheet!$F$14-3)),IF(worksheet!$F$18>20,50+(worksheet!$F$16-50)*(worksheet!$F$18-3)/(worksheet!$F$18-3),50+(worksheet!$F$16-50)*(worksheet!$F$18-3)/(worksheet!$F$14-3))) -> 68.235294 | C57: =C56+($C$113-$C$53)/60 -> 0.29666667 | D57: =MIN(1000*worksheet!$F$36/B57,1000*worksheet!$F$42*C57/worksheet!$F$52/worksheet!$F$8) -> 2.9874126 | E57: =MIN(1000*(1-worksheet!$F$36/B57),worksheet!$F$8*D57/worksheet!$F$29/worksheet!$F$11) -> 6.7064364 | F57: =IF((D57+E57)<(1000/B57),"DCM","CCM") -> DCM | G57: =H57-worksheet!$F$8*D57/worksheet!$F$42/1000 -> 0 | H57: =C57/worksheet!$F$52 -> 1.5213675 | I57: =0.5*worksheet!$F$62/100*worksheet!$F$29*(G57+H57)*E57*B57/1000*worksheet!$F$11 -> 32.408185 | J57: =B57 -> 68.235294 | L57: 2.18 | M57: =IF(worksheet!$F$10="Rapid charger",50+(worksheet!$F$16-50)*(worksheet!J$11-3)/(worksheet!$F$14-3)," ") | N57: =N56+($N$113-$N$53)/60 -> 0.29466667 | O57: =MIN(1000*worksheet!$F$37/M57,1000*worksheet!$F$42*N57/worksheet!$F$52/worksheet!$F$8) -> #VALUE! | P57: =MIN(1000*(1-worksheet!$F$37/M57),worksheet!$F$8*O57/worksheet!$F$29/worksheet!$J$11) -> #VALUE! | Q57: =IF((O57+P57)<(1000/M57),"DCM","CCM") -> #VALUE! | R57: =S57-worksheet!$F$8*O57/worksheet!$F$42/1000 -> #VALUE! | S57: =N57/worksheet!$F$52 -> 1.5111111 | T57: =0.5*worksheet!$F$62/100*worksheet!$F$29*(R57+S57)*P57*M57/1000*worksheet!$J$11 -> #VALUE!
A58: 2.2 | B58: =IF(worksheet!$F$10="Rapid charger",IF(worksheet!$F$11>20,50+(worksheet!$F$16-50)*(worksheet!$F$11-3)/(worksheet!$F$11-3),50+(worksheet!$F$16-50)*(worksheet!$F$11-3)/(worksheet!$F$14-3)),IF(worksheet!$F$18>20,50+(worksheet!$F$16-50)*(worksheet!$F$18-3)/(worksheet!$F$18-3),50+(worksheet!$F$16-50)*(worksheet!$F$18-3)/(worksheet!$F$14-3))) -> 68.235294 | C58: =C57+($C$113-$C$53)/60 -> 0.30083333 | D58: =MIN(1000*worksheet!$F$36/B58,1000*worksheet!$F$42*C58/worksheet!$F$52/worksheet!$F$8) -> 3.0293706 | E58: =MIN(1000*(1-worksheet!$F$36/B58),worksheet!$F$8*D58/worksheet!$F$29/worksheet!$F$11) -> 6.8006279 | F58: =IF((D58+E58)<(1000/B58),"DCM","CCM") -> DCM | G58: =H58-worksheet!$F$8*D58/worksheet!$F$42/1000 -> 0 | H58: =C58/worksheet!$F$52 -> 1.542735 | I58: =0.5*worksheet!$F$62/100*worksheet!$F$29*(G58+H58)*E58*B58/1000*worksheet!$F$11 -> 33.32492 | J58: =B58 -> 68.235294 | L58: 2.2 | M58: =IF(worksheet!$F$10="Rapid charger",50+(worksheet!$F$16-50)*(worksheet!J$11-3)/(worksheet!$F$14-3)," ") | N58: =N57+($N$113-$N$53)/60 -> 0.29833333 | O58: =MIN(1000*worksheet!$F$37/M58,1000*worksheet!$F$42*N58/worksheet!$F$52/worksheet!$F$8) -> #VALUE! | P58: =MIN(1000*(1-worksheet!$F$37/M58),worksheet!$F$8*O58/worksheet!$F$29/worksheet!$J$11) -> #VALUE! | Q58: =IF((O58+P58)<(1000/M58),"DCM","CCM") -> #VALUE! | R58: =S58-worksheet!$F$8*O58/worksheet!$F$42/1000 -> #VALUE! | S58: =N58/worksheet!$F$52 -> 1.5299145 | T58: =0.5*worksheet!$F$62/100*worksheet!$F$29*(R58+S58)*P58*M58/1000*worksheet!$J$11 -> #VALUE!
A59: 2.22 | B59: =IF(worksheet!$F$10="Rapid charger",IF(worksheet!$F$11>20,50+(worksheet!$F$16-50)*(worksheet!$F$11-3)/(worksheet!$F$11-3),50+(worksheet!$F$16-50)*(worksheet!$F$11-3)/(worksheet!$F$14-3)),IF(worksheet!$F$18>20,50+(worksheet!$F$16-50)*(worksheet!$F$18-3)/(worksheet!$F$18-3),50+(worksheet!$F$16-50)*(worksheet!$F$18-3)/(worksheet!$F$14-3))) -> 68.235294 | C59: =C58+($C$113-$C$53)/60 -> 0.305 | D59: =MIN(1000*worksheet!$F$36/B59,1000*worksheet!$F$42*C59/worksheet!$F$52/worksheet!$F$8) -> 3.0713287 | E59: =MIN(1000*(1-worksheet!$F$36/B59),worksheet!$F$8*D59/worksheet!$F$29/worksheet!$F$11) -> 6.8948195 | F59: =IF((D59+E59)<(1000/B59),"DCM","CCM") -> DCM | G59: =H59-worksheet!$F$8*D59/worksheet!$F$42/1000 -> 0 | H59: =C59/worksheet!$F$52 -> 1.5641026 | I59: =0.5*worksheet!$F$62/100*worksheet!$F$29*(G59+H59)*E59*B59/1000*worksheet!$F$11 -> 34.254441 | J59: =B59 -> 68.235294 | L59: 2.22 | M59: =IF(worksheet!$F$10="Rapid charger",50+(worksheet!$F$16-50)*(worksheet!J$11-3)/(worksheet!$F$14-3)," ") | N59: =N58+($N$113-$N$53)/60 -> 0.302 | O59: =MIN(1000*worksheet!$F$37/M59,1000*worksheet!$F$42*N59/worksheet!$F$52/worksheet!$F$8) -> #VALUE! | P59: =MIN(1000*(1-worksheet!$F$37/M59),worksheet!$F$8*O59/worksheet!$F$29/worksheet!$J$11) -> #VALUE! | Q59: =IF((O59+P59)<(1000/M59),"DCM","CCM") -> #VALUE! | R59: =S59-worksheet!$F$8*O59/worksheet!$F$42/1000 -> #VALUE! | S59: =N59/worksheet!$F$52 -> 1.5487179 | T59: =0.5*worksheet!$F$62/100*worksheet!$F$29*(R59+S59)*P59*M59/1000*worksheet!$J$11 -> #VALUE!
A60: 2.24 | B60: =IF(worksheet!$F$10="Rapid charger",IF(worksheet!$F$11>20,50+(worksheet!$F$16-50)*(worksheet!$F$11-3)/(worksheet!$F$11-3),50+(worksheet!$F$16-50)*(worksheet!$F$11-3)/(worksheet!$F$14-3)),IF(worksheet!$F$18>20,50+(worksheet!$F$16-50)*(worksheet!$F$18-3)/(worksheet!$F$18-3),50+(worksheet!$F$16-50)*(worksheet!$F$18-3)/(worksheet!$F$14-3))) -> 68.235294 | C60: =C59+($C$113-$C$53)/60 -> 0.30916667 | D60: =MIN(1000*worksheet!$F$36/B60,1000*worksheet!$F$42*C60/worksheet!$F$52/worksheet!$F$8) -> 3.1132867 | E60: =MIN(1000*(1-worksheet!$F$36/B60),worksheet!$F$8*D60/worksheet!$F$29/worksheet!$F$11) -> 6.989011 | F60: =IF((D60+E60)<(1000/B60),"DCM","CCM") -> DCM | G60: =H60-worksheet!$F$8*D60/worksheet!$F$42/1000 -> 0 | H60: =C60/worksheet!$F$52 -> 1.5854701 | I60: =0.5*worksheet!$F$62/100*worksheet!$F$29*(G60+H60)*E60*B60/1000*worksheet!$F$11 -> 35.196747 | J60: =B60 -> 68.235294 | L60: 2.24 | M60: =IF(worksheet!$F$10="Rapid charger",50+(worksheet!$F$16-50)*(worksheet!J$11-3)/(worksheet!$F$14-3)," ") | N60: =N59+($N$113-$N$53)/60 -> 0.30566667 | O60: =MIN(1000*worksheet!$F$37/M60,1000*worksheet!$F$42*N60/worksheet!$F$52/worksheet!$F$8) -> #VALUE! | P60: =MIN(1000*(1-worksheet!$F$37/M60),worksheet!$F$8*O60/worksheet!$F$29/worksheet!$J$11) -> #VALUE! | Q60: =IF((O60+P60)<(1000/M60),"DCM","CCM") -> #VALUE! | R60: =S60-worksheet!$F$8*O60/worksheet!$F$42/1000 -> #VALUE! | S60: =N60/worksheet!$F$52 -> 1.5675214 | T60: =0.5*worksheet!$F$62/100*worksheet!$F$29*(R60+S60)*P60*M60/1000*worksheet!$J$11 -> #VALUE!
A61: 2.26 | B61: =IF(worksheet!$F$10="Rapid charger",IF(worksheet!$F$11>20,50+(worksheet!$F$16-50)*(worksheet!$F$11-3)/(worksheet!$F$11-3),50+(worksheet!$F$16-50)*(worksheet!$F$11-3)/(worksheet!$F$14-3)),IF(worksheet!$F$18>20,50+(worksheet!$F$16-50)*(worksheet!$F$18-3)/(worksheet!$F$18-3),50+(worksheet!$F$16-50)*(worksheet!$F$18-3)/(worksheet!$F$14-3))) -> 68.235294 | C61: =C60+($C$113-$C$53)/60 -> 0.31333333 | D61: =MIN(1000*worksheet!$F$36/B61,1000*worksheet!$F$42*C61/worksheet!$F$52/worksheet!$F$8) -> 3.1552448 | E61: =MIN(1000*(1-worksheet!$F$36/B61),worksheet!$F$8*D61/worksheet!$F$29/worksheet!$F$11) -> 7.0832025 | F61: =IF((D61+E61)<(1000/B61),"DCM","CCM") -> DCM | G61: =H61-worksheet!$F$8*D61/worksheet!$F$42/1000 -> 0 | H61: =C61/worksheet!$F$52 -> 1.6068376 | I61: =0.5*worksheet!$F$62/100*worksheet!$F$29*(G61+H61)*E61*B61/1000*worksheet!$F$11 -> 36.151839 | J61: =B61 -> 68.235294 | L61: 2.26 | M61: =IF(worksheet!$F$10="Rapid charger",50+(worksheet!$F$16-50)*(worksheet!J$11-3)/(worksheet!$F$14-3)," ") | N61: =N60+($N$113-$N$53)/60 -> 0.30933333 | O61: =MIN(1000*worksheet!$F$37/M61,1000*worksheet!$F$42*N61/worksheet!$F$52/worksheet!$F$8) -> #VALUE! | P61: =MIN(1000*(1-worksheet!$F$37/M61),worksheet!$F$8*O61/worksheet!$F$29/worksheet!$J$11) -> #VALUE! | Q61: =IF((O61+P61)<(1000/M61),"DCM","CCM") -> #VALUE! | R61: =S61-worksheet!$F$8*O61/worksheet!$F$42/1000 -> #VALUE! | S61: =N61/worksheet!$F$52 -> 1.5863248 | T61: =0.5*worksheet!$F$62/100*worksheet!$F$29*(R61+S61)*P61*M61/1000*worksheet!$J$11 -> #VALUE!
A62: 2.28 | B62: =IF(worksheet!$F$10="Rapid charger",IF(worksheet!$F$11>20,50+(worksheet!$F$16-50)*(worksheet!$F$11-3)/(worksheet!$F$11-3),50+(worksheet!$F$16-50)*(worksheet!$F$11-3)/(worksheet!$F$14-3)),IF(worksheet!$F$18>20,50+(worksheet!$F$16-50)*(worksheet!$F$18-3)/(worksheet!$F$18-3),50+(worksheet!$F$16-50)*(worksheet!$F$18-3)/(worksheet!$F$14-3))) -> 68.235294 | C62: =C61+($C$113-$C$53)/60 -> 0.3175 | D62: =MIN(1000*worksheet!$F$36/B62,1000*worksheet!$F$42*C62/worksheet!$F$52/worksheet!$F$8) -> 3.1972028 | E62: =MIN(1000*(1-worksheet!$F$36/B62),worksheet!$F$8*D62/worksheet!$F$29/worksheet!$F$11) -> 7.177394 | F62: =IF((D62+E62)<(1000/B62),"DCM","CCM") -> DCM | G62: =H62-worksheet!$F$8*D62/worksheet!$F$42/1000 -> 0 | H62: =C62/worksheet!$F$52 -> 1.6282051 | I62: =0.5*worksheet!$F$62/100*worksheet!$F$29*(G62+H62)*E62*B62/1000*worksheet!$F$11 -> 37.119717 | J62: =B62 -> 68.235294 | L62: 2.28 | M62: =IF(worksheet!$F$10="Rapid charger",50+(worksheet!$F$16-50)*(worksheet!J$11-3)/(worksheet!$F$14-3)," ") | N62: =N61+($N$113-$N$53)/60 -> 0.313 | O62: =MIN(1000*worksheet!$F$37/M62,1000*worksheet!$F$42*N62/worksheet!$F$52/worksheet!$F$8) -> #VALUE! | P62: =MIN(1000*(1-worksheet!$F$37/M62),worksheet!$F$8*O62/worksheet!$F$29/worksheet!$J$11) -> #VALUE! | Q62: =IF((O62+P62)<(1000/M62),"DCM","CCM") -> #VALUE! | R62: =S62-worksheet!$F$8*O62/worksheet!$F$42/1000 -> #VALUE! | S62: =N62/worksheet!$F$52 -> 1.6051282 | T62: =0.5*worksheet!$F$62/100*worksheet!$F$29*(R62+S62)*P62*M62/1000*worksheet!$J$11 -> #VALUE!
A63: 2.3 | B63: =IF(worksheet!$F$10="Rapid charger",IF(worksheet!$F$11>20,50+(worksheet!$F$16-50)*(worksheet!$F$11-3)/(worksheet!$F$11-3),50+(worksheet!$F$16-50)*(worksheet!$F$11-3)/(worksheet!$F$14-3)),IF(worksheet!$F$18>20,50+(worksheet!$F$16-50)*(worksheet!$F$18-3)/(worksheet!$F$18-3),50+(worksheet!$F$16-50)*(worksheet!$F$18-3)/(worksheet!$F$14-3))) -> 68.235294 | C63: =C62+($C$113-$C$53)/60 -> 0.32166667 | D63: =MIN(1000*worksheet!$F$36/B63,1000*worksheet!$F$42*C63/worksheet!$F$52/worksheet!$F$8) -> 3.2391608 | E63: =MIN(1000*(1-worksheet!$F$36/B63),worksheet!$F$8*D63/worksheet!$F$29/worksheet!$F$11) -> 7.2715856 | F63: =IF((D63+E63)<(1000/B63),"DCM","CCM") -> DCM | G63: =H63-worksheet!$F$8*D63/worksheet!$F$42/1000 -> 0 | H63: =C63/worksheet!$F$52 -> 1.6495726 | I63: =0.5*worksheet!$F$62/100*worksheet!$F$29*(G63+H63)*E63*B63/1000*worksheet!$F$11 -> 38.100381 | J63: =B63 -> 68.235294 | L63: 2.3 | M63: =IF(worksheet!$F$10="Rapid charger",50+(worksheet!$F$16-50)*(worksheet!J$11-3)/(worksheet!$F$14-3)," ") | N63: =N62+($N$113-$N$53)/60 -> 0.31666667 | O63: =MIN(1000*worksheet!$F$37/M63,1000*worksheet!$F$42*N63/worksheet!$F$52/worksheet!$F$8) -> #VALUE! | P63: =MIN(1000*(1-worksheet!$F$37/M63),worksheet!$F$8*O63/worksheet!$F$29/worksheet!$J$11) -> #VALUE! | Q63: =IF((O63+P63)<(1000/M63),"DCM","CCM") -> #VALUE! | R63: =S63-worksheet!$F$8*O63/worksheet!$F$42/1000 -> #VALUE! | S63: =N63/worksheet!$F$52 -> 1.6239316 | T63: =0.5*worksheet!$F$62/100*worksheet!$F$29*(R63+S63)*P63*M63/1000*worksheet!$J$11 -> #VALUE!
A64: 2.32 | B64: =IF(worksheet!$F$10="Rapid charger",IF(worksheet!$F$11>20,50+(worksheet!$F$16-50)*(worksheet!$F$11-3)/(worksheet!$F$11-3),50+(worksheet!$F$16-50)*(worksheet!$F$11-3)/(worksheet!$F$14-3)),IF(worksheet!$F$18>20,50+(worksheet!$F$16-50)*(worksheet!$F$18-3)/(worksheet!$F$18-3),50+(worksheet!$F$16-50)*(worksheet!$F$18-3)/(worksheet!$F$14-3))) -> 68.235294 | C64: =C63+($C$113-$C$53)/60 -> 0.32583333 | D64: =MIN(1000*worksheet!$F$36/B64,1000*worksheet!$F$42*C64/worksheet!$F$52/worksheet!$F$8) -> 3.2811189 | E64: =MIN(1000*(1-worksheet!$F$36/B64),worksheet!$F$8*D64/worksheet!$F$29/worksheet!$F$11) -> 7.3657771 | F64: =IF((D64+E64)<(1000/B64),"DCM","CCM") -> DCM | G64: =H64-worksheet!$F$8*D64/worksheet!$F$42/1000 -> 0 | H64: =C64/worksheet!$F$52 -> 1.6709402 | I64: =0.5*worksheet!$F$62/100*worksheet!$F$29*(G64+H64)*E64*B64/1000*worksheet!$F$11 -> 39.09383 | J64: =B64 -> 68.235294 | L64: 2.32 | M64: =IF(worksheet!$F$10="Rapid charger",50+(worksheet!$F$16-50)*(worksheet!J$11-3)/(worksheet!$F$14-3)," ") | N64: =N63+($N$113-$N$53)/60 -> 0.32033333 | O64: =MIN(1000*worksheet!$F$37/M64,1000*worksheet!$F$42*N64/worksheet!$F$52/worksheet!$F$8) -> #VALUE! | P64: =MIN(1000*(1-worksheet!$F$37/M64),worksheet!$F$8*O64/worksheet!$F$29/worksheet!$J$11) -> #VALUE! | Q64: =IF((O64+P64)<(1000/M64),"DCM","CCM") -> #VALUE! | R64: =S64-worksheet!$F$8*O64/worksheet!$F$42/1000 -> #VALUE! | S64: =N64/worksheet!$F$52 -> 1.642735 | T64: =0.5*worksheet!$F$62/100*worksheet!$F$29*(R64+S64)*P64*M64/1000*worksheet!$J$11 -> #VALUE!
A65: 2.34 | B65: =IF(worksheet!$F$10="Rapid charger",IF(worksheet!$F$11>20,50+(worksheet!$F$16-50)*(worksheet!$F$11-3)/(worksheet!$F$11-3),50+(worksheet!$F$16-50)*(worksheet!$F$11-3)/(worksheet!$F$14-3)),IF(worksheet!$F$18>20,50+(worksheet!$F$16-50)*(worksheet!$F$18-3)/(worksheet!$F$18-3),50+(worksheet!$F$16-50)*(worksheet!$F$18-3)/(worksheet!$F$14-3))) -> 68.235294 | C65: =C64+($C$113-$C$53)/60 -> 0.33 | D65: =MIN(1000*worksheet!$F$36/B65,1000*worksheet!$F$42*C65/worksheet!$F$52/worksheet!$F$8) -> 3.3230769 | E65: =MIN(1000*(1-worksheet!$F$36/B65),worksheet!$F$8*D65/worksheet!$F$29/worksheet!$F$11) -> 7.4599686 | F65: =IF((D65+E65)<(1000/B65),"DCM","CCM") -> DCM | G65: =H65-worksheet!$F$8*D65/worksheet!$F$42/1000 -> 0 | H65: =C65/worksheet!$F$52 -> 1.6923077 | I65: =0.5*worksheet!$F$62/100*worksheet!$F$29*(G65+H65)*E65*B65/1000*worksheet!$F$11 -> 40.100065 | J65: =B65 -> 68.235294 | L65: 2.34 | M65: =IF(worksheet!$F$10="Rapid charger",50+(worksheet!$F$16-50)*(worksheet!J$11-3)/(worksheet!$F$14-3)," ") | N65: =N64+($N$113-$N$53)/60 -> 0.324 | O65: =MIN(1000*worksheet!$F$37/M65,1000*worksheet!$F$42*N65/worksheet!$F$52/worksheet!$F$8) -> #VALUE! | P65: =MIN(1000*(1-worksheet!$F$37/M65),worksheet!$F$8*O65/worksheet!$F$29/worksheet!$J$11) -> #VALUE! | Q65: =IF((O65+P65)<(1000/M65),"DCM","CCM") -> #VALUE! | R65: =S65-worksheet!$F$8*O65/worksheet!$F$42/1000 -> #VALUE! | S65: =N65/worksheet!$F$52 -> 1.6615385 | T65: =0.5*worksheet!$F$62/100*worksheet!$F$29*(R65+S65)*P65*M65/1000*worksheet!$J$11 -> #VALUE!
... A112: 3.28 | B112: =IF(worksheet!$F$10="Rapid charger",IF(worksheet!$F$11>20,50+(worksheet!$F$16-50)*(worksheet!$F$11-3)/(worksheet!$F$11-3),50+(worksheet!$F$16-50)*(worksheet!$F$11-3)/(worksheet!$F$14-3)),IF(worksheet!$F$18>20,50+(worksheet!$F$16-50)*(worksheet!$F$18-3)/(worksheet!$F$18-3),50+(worksheet!$F$16-50)*(worksheet!$F$18-3)/(worksheet!$F$14-3))) -> 68.235294 | C112: =C111+($C$113-$C$53)/60 -> 0.52583333 | D112: =MIN(1000*worksheet!$F$36/B112,1000*worksheet!$F$42*C112/worksheet!$F$52/worksheet!$F$8) -> 4.5163739 | E112: =MIN(1000*(1-worksheet!$F$36/B112),worksheet!$F$8*D112/worksheet!$F$29/worksheet!$F$11) -> 10.138799 | F112: =IF((D112+E112)<(1000/B112),"DCM","CCM") -> CCM | G112: =H112-worksheet!$F$8*D112/worksheet!$F$42/1000 -> 0.39657598 | H112: =C112/worksheet!$F$52 -> 2.6965812 | I112: =0.5*worksheet!$F$62/100*worksheet!$F$29*(G112+H112)*E112*B112/1000*worksheet!$F$11 -> 99.613279 | J112: =B112 -> 68.235294 | L112: 3.28 | M112: =IF(worksheet!$F$10="Rapid charger",50+(worksheet!$F$16-50)*(worksheet!J$11-3)/(worksheet!$F$14-3)," ") | N112: =N111+($N$113-$N$53)/60 -> 0.49633333 | O112: =MIN(1000*worksheet!$F$37/M112,1000*worksheet!$F$42*N112/worksheet!$F$52/worksheet!$F$8) -> #VALUE! | P112: =MIN(1000*(1-worksheet!$F$37/M112),worksheet!$F$8*O112/worksheet!$F$29/worksheet!$J$11) -> #VALUE! | Q112: =IF((O112+P112)<(1000/M112),"DCM","CCM") -> #VALUE! | R112: =S112-worksheet!$F$8*O112/worksheet!$F$42/1000 -> #VALUE! | S112: =N112/worksheet!$F$52 -> 2.5452991 | T112: =0.5*worksheet!$F$62/100*worksheet!$F$29*(R112+S112)*P112*M112/1000*worksheet!$J$11 -> #VALUE!
A113: 3.3 | B113: =IF(worksheet!$F$10="Rapid charger",IF(worksheet!$F$11>20,50+(worksheet!$F$16-50)*(worksheet!$F$11-3)/(worksheet!$F$11-3),50+(worksheet!$F$16-50)*(worksheet!$F$11-3)/(worksheet!$F$14-3)),IF(worksheet!$F$18>20,50+(worksheet!$F$16-50)*(worksheet!$F$18-3)/(worksheet!$F$18-3),50+(worksheet!$F$16-50)*(worksheet!$F$18-3)/(worksheet!$F$14-3))) -> 68.235294 | C113: 0.53 | D113: =MIN(1000*worksheet!$F$36/B113,1000*worksheet!$F$42*C113/worksheet!$F$52/worksheet!$F$8) -> 4.5163739 | E113: =MIN(1000*(1-worksheet!$F$36/B113),worksheet!$F$8*D113/worksheet!$F$29/worksheet!$F$11) -> 10.138799 | F113: =IF((D113+E113)<(1000/B113),"DCM","CCM") -> CCM | G113: =H113-worksheet!$F$8*D113/worksheet!$F$42/1000 -> 0.4179435 | H113: =C113/worksheet!$F$52 -> 2.7179487 | I113: =0.5*worksheet!$F$62/100*worksheet!$F$29*(G113+H113)*E113*B113/1000*worksheet!$F$11 -> 100.98954 | J113: =B113 -> 68.235294 | L113: 3.3 | M113: =IF(worksheet!$F$10="Rapid charger",50+(worksheet!$F$16-50)*(worksheet!J$11-3)/(worksheet!$F$14-3)," ") | N113: 0.5 | O113: =MIN(1000*worksheet!$F$37/M113,1000*worksheet!$F$42*N113/worksheet!$F$52/worksheet!$F$8) -> #VALUE! | P113: =MIN(1000*(1-worksheet!$F$37/M113),worksheet!$F$8*O113/worksheet!$F$29/worksheet!$J$11) -> #VALUE! | Q113: =IF((O113+P113)<(1000/M113),"DCM","CCM") -> #VALUE! | R113: =S113-worksheet!$F$8*O113/worksheet!$F$42/1000 -> #VALUE! | S113: =N113/worksheet!$F$52 -> 2.5641026 | T113: =0.5*worksheet!$F$62/100*worksheet!$F$29*(R113+S113)*P113*M113/1000*worksheet!$J$11 -> #VALUE!

Sheet LLDCM
A1: =worksheet!$F$11&"V" -> 14V | L1: =worksheet!$J$11&"V" -> 15V
A2: Vc/V | B2: Fsw/kHz | C2: Vipk/V | D2: Ton/us | E2: Toff/us | F2: mode | G2: Fsw_actual/kHz | H2: Ip2/A | I2: Po_actual/W | L2: Vc/V | M2: Fsw/kHz | N2: Vipk/V | O2: Ton/us | P2: Toff/us | Q2: mode | R2: Fsw_actual/kHz | S2: Ip2/A | T2: Po_actual/W
A3: 1.1 | B3: 25 | C3: 0.2 | D3: =1000*worksheet!$F$42*C3/worksheet!$F$52/worksheet!$F$8 -> 2.013986 | E3: =worksheet!$F$8*D3/worksheet!$F$29/worksheet!$F$11 -> 4.5211931 | F3: =IF((D3+E3)<(1000/B3),"DCM","CDCM") -> DCM | G3: =IF(F3="DCM",1/(1/B3),1000/(D3+E3+worksheet!$F$43/1000)) -> 25 | H3: =C3/worksheet!$F$52 -> 1.025641 | I3: =0.5*worksheet!$F$62/100*worksheet!$F$29*H3*E3*G3/1000*worksheet!$F$11 -> 5.3964497 | J3: =G3 -> 25 | L3: 1.1 | M3: =IF(worksheet!$F$10="Rapid charger",25," ") | N3: 0.2 | O3: =1000*worksheet!$F$42*N3/worksheet!$F$52/worksheet!$F$8 -> 2.013986 | P3: =worksheet!$F$8*O3/worksheet!$F$29/worksheet!$J$11 -> 4.2197802 | Q3: =IF((O3+P3)<(1000/M3),"DCM","CDCM") -> #VALUE! | R3: =IF(Q3="DCM",1/(1/M3),1000/(O3+P3+worksheet!$F$43/1000)) -> #VALUE! | S3: =N3/worksheet!$F$52 -> 1.025641 | T3: =0.5*worksheet!$F$62/100*worksheet!$F$29*S3*P3*R3/1000*worksheet!$J$11 -> #VALUE!
A4: 1.12 | B4: 25 | C4: =C3+($C$28-$C$3)/25 -> 0.2016 | D4: =1000*worksheet!$F$42*C4/worksheet!$F$52/worksheet!$F$8 -> 2.0300979 | E4: =worksheet!$F$8*D4/worksheet!$F$29/worksheet!$F$11 -> 4.5573626 | F4: =IF((D4+E4)<(1000/B4),"DCM","CDCM") -> DCM | G4: =IF(F4="DCM",1/(1/B4),1000/(D4+E4+worksheet!$F$43/1000)) -> 25 | H4: =C4/worksheet!$F$52 -> 1.0338462 | I4: =0.5*worksheet!$F$62/100*worksheet!$F$29*H4*E4*G4/1000*worksheet!$F$11 -> 5.4831383 | J4: =G4 -> 25 | L4: 1.12 | M4: =IF(worksheet!$F$10="Rapid charger",25," ") | N4: =N3+($C$28-$C$3)/25 -> 0.2016 | O4: =1000*worksheet!$F$42*N4/worksheet!$F$52/worksheet!$F$8 -> 2.0300979 | P4: =worksheet!$F$8*O4/worksheet!$F$29/worksheet!$J$11 -> 4.2535385 | Q4: =IF((O4+P4)<(1000/M4),"DCM","CDCM") -> #VALUE! | R4: =IF(Q4="DCM",1/(1/M4),1000/(O4+P4+worksheet!$F$43/1000)) -> #VALUE! | S4: =N4/worksheet!$F$52 -> 1.0338462 | T4: =0.5*worksheet!$F$62/100*worksheet!$F$29*S4*P4*R4/1000*worksheet!$J$11 -> #VALUE!
A5: 1.14 | B5: 25 | C5: =C4+($C$28-$C$3)/25 -> 0.2032 | D5: =1000*worksheet!$F$42*C5/worksheet!$F$52/worksheet!$F$8 -> 2.0462098 | E5: =worksheet!$F$8*D5/worksheet!$F$29/worksheet!$F$11 -> 4.5935322 | F5: =IF((D5+E5)<(1000/B5),"DCM","CDCM") -> DCM | G5: =IF(F5="DCM",1/(1/B5),1000/(D5+E5+worksheet!$F$43/1000)) -> 25 | H5: =C5/worksheet!$F$52 -> 1.0420513 | I5: =0.5*worksheet!$F$62/100*worksheet!$F$29*H5*E5*G5/1000*worksheet!$F$11 -> 5.5705176 | J5: =G5 -> 25 | L5: 1.14 | M5: =IF(worksheet!$F$10="Rapid charger",25," ") | N5: =N4+($C$28-$C$3)/25 -> 0.2032 | O5: =1000*worksheet!$F$42*N5/worksheet!$F$52/worksheet!$F$8 -> 2.0462098 | P5: =worksheet!$F$8*O5/worksheet!$F$29/worksheet!$J$11 -> 4.2872967 | Q5: =IF((O5+P5)<(1000/M5),"DCM","CDCM") -> #VALUE! | R5: =IF(Q5="DCM",1/(1/M5),1000/(O5+P5+worksheet!$F$43/1000)) -> #VALUE! | S5: =N5/worksheet!$F$52 -> 1.0420513 | T5: =0.5*worksheet!$F$62/100*worksheet!$F$29*S5*P5*R5/1000*worksheet!$J$11 -> #VALUE!
A6: 1.16 | B6: 25 | C6: =C5+($C$28-$C$3)/25 -> 0.2048 | D6: =1000*worksheet!$F$42*C6/worksheet!$F$52/worksheet!$F$8 -> 2.0623217 | E6: =worksheet!$F$8*D6/worksheet!$F$29/worksheet!$F$11 -> 4.6297017 | F6: =IF((D6+E6)<(1000/B6),"DCM","CDCM") -> DCM | G6: =IF(F6="DCM",1/(1/B6),1000/(D6+E6+worksheet!$F$43/1000)) -> 25 | H6: =C6/worksheet!$F$52 -> 1.0502564 | I6: =0.5*worksheet!$F$62/100*worksheet!$F$29*H6*E6*G6/1000*worksheet!$F$11 -> 5.6585876 | J6: =G6 -> 25 | L6: 1.16 | M6: =IF(worksheet!$F$10="Rapid charger",25," ") | N6: =N5+($C$28-$C$3)/25 -> 0.2048 | O6: =1000*worksheet!$F$42*N6/worksheet!$F$52/worksheet!$F$8 -> 2.0623217 | P6: =worksheet!$F$8*O6/worksheet!$F$29/worksheet!$J$11 -> 4.3210549 | Q6: =IF((O6+P6)<(1000/M6),"DCM","CDCM") -> #VALUE! | R6: =IF(Q6="DCM",1/(1/M6),1000/(O6+P6+worksheet!$F$43/1000)) -> #VALUE! | S6: =N6/worksheet!$F$52 -> 1.0502564 | T6: =0.5*worksheet!$F$62/100*worksheet!$F$29*S6*P6*R6/1000*worksheet!$J$11 -> #VALUE!
A7: 1.18 | B7: 25 | C7: =C6+($C$28-$C$3)/25 -> 0.2064 | D7: =1000*worksheet!$F$42*C7/worksheet!$F$52/worksheet!$F$8 -> 2.0784336 | E7: =worksheet!$F$8*D7/worksheet!$F$29/worksheet!$F$11 -> 4.6658713 | F7: =IF((D7+E7)<(1000/B7),"DCM","CDCM") -> DCM | G7: =IF(F7="DCM",1/(1/B7),1000/(D7+E7+worksheet!$F$43/1000)) -> 25 | H7: =C7/worksheet!$F$52 -> 1.0584615 | I7: =0.5*worksheet!$F$62/100*worksheet!$F$29*H7*E7*G7/1000*worksheet!$F$11 -> 5.7473484 | J7: =G7 -> 25 | L7: 1.18 | M7: =IF(worksheet!$F$10="Rapid charger",25," ") | N7: =N6+($C$28-$C$3)/25 -> 0.2064 | O7: =1000*worksheet!$F$42*N7/worksheet!$F$52/worksheet!$F$8 -> 2.0784336 | P7: =worksheet!$F$8*O7/worksheet!$F$29/worksheet!$J$11 -> 4.3548132 | Q7: =IF((O7+P7)<(1000/M7),"DCM","CDCM") -> #VALUE! | R7: =IF(Q7="DCM",1/(1/M7),1000/(O7+P7+worksheet!$F$43/1000)) -> #VALUE! | S7: =N7/worksheet!$F$52 -> 1.0584615 | T7: =0.5*worksheet!$F$62/100*worksheet!$F$29*S7*P7*R7/1000*worksheet!$J$11 -> #VALUE!
A8: 1.2 | B8: 25 | C8: =C7+($C$28-$C$3)/25 -> 0.208 | D8: =1000*worksheet!$F$42*C8/worksheet!$F$52/worksheet!$F$8 -> 2.0945455 | E8: =worksheet!$F$8*D8/worksheet!$F$29/worksheet!$F$11 -> 4.7020408 | F8: =IF((D8+E8)<(1000/B8),"DCM","CDCM") -> DCM | G8: =IF(F8="DCM",1/(1/B8),1000/(D8+E8+worksheet!$F$43/1000)) -> 25 | H8: =C8/worksheet!$F$52 -> 1.0666667 | I8: =0.5*worksheet!$F$62/100*worksheet!$F$29*H8*E8*G8/1000*worksheet!$F$11 -> 5.8368 | J8: =G8 -> 25 | L8: 1.2 | M8: =IF(worksheet!$F$10="Rapid charger",25," ") | N8: =N7+($C$28-$C$3)/25 -> 0.208 | O8: =1000*worksheet!$F$42*N8/worksheet!$F$52/worksheet!$F$8 -> 2.0945455 | P8: =worksheet!$F$8*O8/worksheet!$F$29/worksheet!$J$11 -> 4.3885714 | Q8: =IF((O8+P8)<(1000/M8),"DCM","CDCM") -> #VALUE! | R8: =IF(Q8="DCM",1/(1/M8),1000/(O8+P8+worksheet!$F$43/1000)) -> #VALUE! | S8: =N8/worksheet!$F$52 -> 1.0666667 | T8: =0.5*worksheet!$F$62/100*worksheet!$F$29*S8*P8*R8/1000*worksheet!$J$11 -> #VALUE!
A9: 1.22 | B9: 25 | C9: =C8+($C$28-$C$3)/25 -> 0.2096 | D9: =1000*worksheet!$F$42*C9/worksheet!$F$52/worksheet!$F$8 -> 2.1106573 | E9: =worksheet!$F$8*D9/worksheet!$F$29/worksheet!$F$11 -> 4.7382104 | F9: =IF((D9+E9)<(1000/B9),"DCM","CDCM") -> DCM | G9: =IF(F9="DCM",1/(1/B9),1000/(D9+E9+worksheet!$F$43/1000)) -> 25 | H9: =C9/worksheet!$F$52 -> 1.0748718 | I9: =0.5*worksheet!$F$62/100*worksheet!$F$29*H9*E9*G9/1000*worksheet!$F$11 -> 5.9269423 | J9: =G9 -> 25 | L9: 1.22 | M9: =IF(worksheet!$F$10="Rapid charger",25," ") | N9: =N8+($C$28-$C$3)/25 -> 0.2096 | O9: =1000*worksheet!$F$42*N9/worksheet!$F$52/worksheet!$F$8 -> 2.1106573 | P9: =worksheet!$F$8*O9/worksheet!$F$29/worksheet!$J$11 -> 4.4223297 | Q9: =IF((O9+P9)<(1000/M9),"DCM","CDCM") -> #VALUE! | R9: =IF(Q9="DCM",1/(1/M9),1000/(O9+P9+worksheet!$F$43/1000)) -> #VALUE! | S9: =N9/worksheet!$F$52 -> 1.0748718 | T9: =0.5*worksheet!$F$62/100*worksheet!$F$29*S9*P9*R9/1000*worksheet!$J$11 -> #VALUE!
A10: 1.24 | B10: 25 | C10: =C9+($C$28-$C$3)/25 -> 0.2112 | D10: =1000*worksheet!$F$42*C10/worksheet!$F$52/worksheet!$F$8 -> 2.1267692 | E10: =worksheet!$F$8*D10/worksheet!$F$29/worksheet!$F$11 -> 4.7743799 | F10: =IF((D10+E10)<(1000/B10),"DCM","CDCM") -> DCM | G10: =IF(F10="DCM",1/(1/B10),1000/(D10+E10+worksheet!$F$43/1000)) -> 25 | H10: =C10/worksheet!$F$52 -> 1.0830769 | I10: =0.5*worksheet!$F$62/100*worksheet!$F$29*H10*E10*G10/1000*worksheet!$F$11 -> 6.0177753 | J10: =G10 -> 25 | L10: 1.24 | M10: =IF(worksheet!$F$10="Rapid charger",25," ") | N10: =N9+($C$28-$C$3)/25 -> 0.2112 | O10: =1000*worksheet!$F$42*N10/worksheet!$F$52/worksheet!$F$8 -> 2.1267692 | P10: =worksheet!$F$8*O10/worksheet!$F$29/worksheet!$J$11 -> 4.4560879 | Q10: =IF((O10+P10)<(1000/M10),"DCM","CDCM") -> #VALUE! | R10: =IF(Q10="DCM",1/(1/M10),1000/(O10+P10+worksheet!$F$43/1000)) -> #VALUE! | S10: =N10/worksheet!$F$52 -> 1.0830769 | T10: =0.5*worksheet!$F$62/100*worksheet!$F$29*S10*P10*R10/1000*worksheet!$J$11 -> #VALUE!
A11: 1.26 | B11: 25 | C11: =C10+($C$28-$C$3)/25 -> 0.2128 | D11: =1000*worksheet!$F$42*C11/worksheet!$F$52/worksheet!$F$8 -> 2.1428811 | E11: =worksheet!$F$8*D11/worksheet!$F$29/worksheet!$F$11 -> 4.8105495 | F11: =IF((D11+E11)<(1000/B11),"DCM","CDCM") -> DCM | G11: =IF(F11="DCM",1/(1/B11),1000/(D11+E11+worksheet!$F$43/1000)) -> 25 | H11: =C11/worksheet!$F$52 -> 1.0912821 | I11: =0.5*worksheet!$F$62/100*worksheet!$F$29*H11*E11*G11/1000*worksheet!$F$11 -> 6.1092991 | J11: =G11 -> 25 | L11: 1.26 | M11: =IF(worksheet!$F$10="Rapid charger",25," ") | N11: =N10+($C$28-$C$3)/25 -> 0.2128 | O11: =1000*worksheet!$F$42*N11/worksheet!$F$52/worksheet!$F$8 -> 2.1428811 | P11: =worksheet!$F$8*O11/worksheet!$F$29/worksheet!$J$11 -> 4.4898462 | Q11: =IF((O11+P11)<(1000/M11),"DCM","CDCM") -> #VALUE! | R11: =IF(Q11="DCM",1/(1/M11),1000/(O11+P11+worksheet!$F$43/1000)) -> #VALUE! | S11: =N11/worksheet!$F$52 -> 1.0912821 | T11: =0.5*worksheet!$F$62/100*worksheet!$F$29*S11*P11*R11/1000*worksheet!$J$11 -> #VALUE!
A12: 1.28 | B12: 25 | C12: =C11+($C$28-$C$3)/25 -> 0.2144 | D12: =1000*worksheet!$F$42*C12/worksheet!$F$52/worksheet!$F$8 -> 2.158993 | E12: =worksheet!$F$8*D12/worksheet!$F$29/worksheet!$F$11 -> 4.846719 | F12: =IF((D12+E12)<(1000/B12),"DCM","CDCM") -> DCM | G12: =IF(F12="DCM",1/(1/B12),1000/(D12+E12+worksheet!$F$43/1000)) -> 25 | H12: =C12/worksheet!$F$52 -> 1.0994872 | I12: =0.5*worksheet!$F$62/100*worksheet!$F$29*H12*E12*G12/1000*worksheet!$F$11 -> 6.2015137 | J12: =G12 -> 25 | L12: 1.28 | M12: =IF(worksheet!$F$10="Rapid charger",25," ") | N12: =N11+($C$28-$C$3)/25 -> 0.2144 | O12: =1000*worksheet!$F$42*N12/worksheet!$F$52/worksheet!$F$8 -> 2.158993 | P12: =worksheet!$F$8*O12/worksheet!$F$29/worksheet!$J$11 -> 4.5236044 | Q12: =IF((O12+P12)<(1000/M12),"DCM","CDCM") -> #VALUE! | R12: =IF(Q12="DCM",1/(1/M12),1000/(O12+P12+worksheet!$F$43/1000)) -> #VALUE! | S12: =N12/worksheet!$F$52 -> 1.0994872 | T12: =0.5*worksheet!$F$62/100*worksheet!$F$29*S12*P12*R12/1000*worksheet!$J$11 -> #VALUE!
A13: 1.3 | B13: 25 | C13: =C12+($C$28-$C$3)/25 -> 0.216 | D13: =1000*worksheet!$F$42*C13/worksheet!$F$52/worksheet!$F$8 -> 2.1751049 | E13: =worksheet!$F$8*D13/worksheet!$F$29/worksheet!$F$11 -> 4.8828885 | F13: =IF((D13+E13)<(1000/B13),"DCM","CDCM") -> DCM | G13: =IF(F13="DCM",1/(1/B13),1000/(D13+E13+worksheet!$F$43/1000)) -> 25 | H13: =C13/worksheet!$F$52 -> 1.1076923 | I13: =0.5*worksheet!$F$62/100*worksheet!$F$29*H13*E13*G13/1000*worksheet!$F$11 -> 6.2944189 | J13: =G13 -> 25 | L13: 1.3 | M13: =IF(worksheet!$F$10="Rapid charger",25," ") | N13: =N12+($C$28-$C$3)/25 -> 0.216 | O13: =1000*worksheet!$F$42*N13/worksheet!$F$52/worksheet!$F$8 -> 2.1751049 | P13: =worksheet!$F$8*O13/worksheet!$F$29/worksheet!$J$11 -> 4.5573626 | Q13: =IF((O13+P13)<(1000/M13),"DCM","CDCM") -> #VALUE! | R13: =IF(Q13="DCM",1/(1/M13),1000/(O13+P13+worksheet!$F$43/1000)) -> #VALUE! | S13: =N13/worksheet!$F$52 -> 1.1076923 | T13: =0.5*worksheet!$F$62/100*worksheet!$F$29*S13*P13*R13/1000*worksheet!$J$11 -> #VALUE!
A14: 1.32 | B14: 25 | C14: =C13+($C$28-$C$3)/25 -> 0.2176 | D14: =1000*worksheet!$F$42*C14/worksheet!$F$52/worksheet!$F$8 -> 2.1912168 | E14: =worksheet!$F$8*D14/worksheet!$F$29/worksheet!$F$11 -> 4.9190581 | F14: =IF((D14+E14)<(1000/B14),"DCM","CDCM") -> DCM | G14: =IF(F14="DCM",1/(1/B14),1000/(D14+E14+worksheet!$F$43/1000)) -> 25 | H14: =C14/worksheet!$F$52 -> 1.1158974 | I14: =0.5*worksheet!$F$62/100*worksheet!$F$29*H14*E14*G14/1000*worksheet!$F$11 -> 6.388015 | J14: =G14 -> 25 | L14: 1.32 | M14: =IF(worksheet!$F$10="Rapid charger",25," ") | N14: =N13+($C$28-$C$3)/25 -> 0.2176 | O14: =1000*worksheet!$F$42*N14/worksheet!$F$52/worksheet!$F$8 -> 2.1912168 | P14: =worksheet!$F$8*O14/worksheet!$F$29/worksheet!$J$11 -> 4.5911209 | Q14: =IF((O14+P14)<(1000/M14),"DCM","CDCM") -> #VALUE! | R14: =IF(Q14="DCM",1/(1/M14),1000/(O14+P14+worksheet!$F$43/1000)) -> #VALUE! | S14: =N14/worksheet!$F$52 -> 1.1158974 | T14: =0.5*worksheet!$F$62/100*worksheet!$F$29*S14*P14*R14/1000*worksheet!$J$11 -> #VALUE!
A15: 1.34 | B15: 25 | C15: =C14+($C$28-$C$3)/25 -> 0.2192 | D15: =1000*worksheet!$F$42*C15/worksheet!$F$52/worksheet!$F$8 -> 2.2073287 | E15: =worksheet!$F$8*D15/worksheet!$F$29/worksheet!$F$11 -> 4.9552276 | F15: =IF((D15+E15)<(1000/B15),"DCM","CDCM") -> DCM | G15: =IF(F15="DCM",1/(1/B15),1000/(D15+E15+worksheet!$F$43/1000)) -> 25 | H15: =C15/worksheet!$F$52 -> 1.1241026 | I15: =0.5*worksheet!$F$62/100*worksheet!$F$29*H15*E15*G15/1000*worksheet!$F$11 -> 6.4823017 | J15: =G15 -> 25 | L15: 1.34 | M15: =IF(worksheet!$F$10="Rapid charger",25," ") | N15: =N14+($C$28-$C$3)/25 -> 0.2192 | O15: =1000*worksheet!$F$42*N15/worksheet!$F$52/worksheet!$F$8 -> 2.2073287 | P15: =worksheet!$F$8*O15/worksheet!$F$29/worksheet!$J$11 -> 4.6248791 | Q15: =IF((O15+P15)<(1000/M15),"DCM","CDCM") -> #VALUE! | R15: =IF(Q15="DCM",1/(1/M15),1000/(O15+P15+worksheet!$F$43/1000)) -> #VALUE! | S15: =N15/worksheet!$F$52 -> 1.1241026 | T15: =0.5*worksheet!$F$62/100*worksheet!$F$29*S15*P15*R15/1000*worksheet!$J$11 -> #VALUE!
... A27: 1.58 | B27: 25 | C27: =C26+($C$28-$C$3)/25 -> 0.2384 | D27: =1000*worksheet!$F$42*C27/worksheet!$F$52/worksheet!$F$8 -> 2.4006713 | E27: =worksheet!$F$8*D27/worksheet!$F$29/worksheet!$F$11 -> 5.3892622 | F27: =IF((D27+E27)<(1000/B27),"DCM","CDCM") -> DCM | G27: =IF(F27="DCM",1/(1/B27),1000/(D27+E27+worksheet!$F$43/1000)) -> 25 | H27: =C27/worksheet!$F$52 -> 1.2225641 | I27: =0.5*worksheet!$F$62/100*worksheet!$F$29*H27*E27*G27/1000*worksheet!$F$11 -> 7.6676211 | J27: =G27 -> 25 | L27: 1.58 | M27: =IF(worksheet!$F$10="Rapid charger",25," ") | N27: =N26+($C$28-$C$3)/25 -> 0.2384 | O27: =1000*worksheet!$F$42*N27/worksheet!$F$52/worksheet!$F$8 -> 2.4006713 | P27: =worksheet!$F$8*O27/worksheet!$F$29/worksheet!$J$11 -> 5.029978 | Q27: =IF((O27+P27)<(1000/M27),"DCM","CDCM") -> #VALUE! | R27: =IF(Q27="DCM",1/(1/M27),1000/(O27+P27+worksheet!$F$43/1000)) -> #VALUE! | S27: =N27/worksheet!$F$52 -> 1.2225641 | T27: =0.5*worksheet!$F$62/100*worksheet!$F$29*S27*P27*R27/1000*worksheet!$J$11 -> #VALUE!
A28: 1.6 | B28: 25 | C28: 0.24 | D28: =1000*worksheet!$F$42*C28/worksheet!$F$52/worksheet!$F$8 -> 2.4167832 | E28: =worksheet!$F$8*D28/worksheet!$F$29/worksheet!$F$11 -> 5.4254317 | F28: =IF((D28+E28)<(1000/B28),"DCM","CDCM") -> DCM | G28: =IF(F28="DCM",1/(1/B28),1000/(D28+E28+worksheet!$F$43/1000)) -> 25 | H28: =C28/worksheet!$F$52 -> 1.2307692 | I28: =0.5*worksheet!$F$62/100*worksheet!$F$29*H28*E28*G28/1000*worksheet!$F$11 -> 7.7708876 | J28: =G28 -> 25 | L28: 1.6 | M28: =IF(worksheet!$F$10="Rapid charger",25," ") | N28: 0.24 | O28: =1000*worksheet!$F$42*N28/worksheet!$F$52/worksheet!$F$8 -> 2.4167832 | P28: =worksheet!$F$8*O28/worksheet!$F$29/worksheet!$J$11 -> 5.0637363 | Q28: =IF((O28+P28)<(1000/M28),"DCM","CDCM") -> #VALUE! | R28: =IF(Q28="DCM",1/(1/M28),1000/(O28+P28+worksheet!$F$43/1000)) -> #VALUE! | S28: =N28/worksheet!$F$52 -> 1.2307692 | T28: =0.5*worksheet!$F$62/100*worksheet!$F$29*S28*P28*R28/1000*worksheet!$J$11 -> #VALUE!
A29: 1.62 | B29: =B28+($B$53-$B$28)/25 -> 26.694118 | C29: 0.24 | D29: =1000*worksheet!$F$42*C29/worksheet!$F$52/worksheet!$F$8 -> 2.4167832 | E29: =worksheet!$F$8*D29/worksheet!$F$29/worksheet!$F$11 -> 5.4254317 | F29: =IF((D29+E29)<(1000/B29),"DCM","CDCM") -> DCM | G29: =IF(F29="DCM",1000/(1000/B29+worksheet!$F$43/2/1000),1000/(D29+E29+worksheet!$F$43/2/1000)) -> 26.135976 | H29: =C29/worksheet!$F$52 -> 1.2307692 | I29: =0.5*worksheet!$F$62/100*worksheet!$F$29*H29*E29*G29/1000*worksheet!$F$11 -> 8.1239893 | J29: =G29 -> 26.135976 | L29: 1.62 | M29: =M28+($M$53-$M$28)/25 -> #VALUE! | N29: 0.24 | O29: =1000*worksheet!$F$42*N29/worksheet!$F$52/worksheet!$F$8 -> 2.4167832 | P29: =worksheet!$F$8*O29/worksheet!$F$29/worksheet!$J$11 -> 5.0637363 | Q29: =IF((O29+P29)<(1000/M29),"DCM","CDCM") -> #VALUE! | R29: =IF(Q29="DCM",1000/(1000/M29+worksheet!$F$43/1000),1000/(O29+P29+worksheet!$F$43/1000)) -> #VALUE! | S29: =N29/worksheet!$F$52 -> 1.2307692 | T29: =0.5*worksheet!$F$62/100*worksheet!$F$29*S29*P29*R29/1000*worksheet!$J$11 -> #VALUE!
A30: 1.64 | B30: =B29+($B$53-$B$28)/25 -> 28.388235 | C30: 0.24 | D30: =1000*worksheet!$F$42*C30/worksheet!$F$52/worksheet!$F$8 -> 2.4167832 | E30: =worksheet!$F$8*D30/worksheet!$F$29/worksheet!$F$11 -> 5.4254317 | F30: =IF((D30+E30)<(1000/B30),"DCM","CDCM") -> DCM | G30: =IF(F30="DCM",1000/(1000/B30+worksheet!$F$43/2/1000),1000/(D30+E30+worksheet!$F$43/2/1000)) -> 27.757838 | H30: =C30/worksheet!$F$52 -> 1.2307692 | I30: =0.5*worksheet!$F$62/100*worksheet!$F$29*H30*E30*G30/1000*worksheet!$F$11 -> 8.6281217 | J30: =G30 -> 27.757838 | L30: 1.64 | M30: =M29+($M$53-$M$28)/25 -> #VALUE! | N30: 0.24 | O30: =1000*worksheet!$F$42*N30/worksheet!$F$52/worksheet!$F$8 -> 2.4167832 | P30: =worksheet!$F$8*O30/worksheet!$F$29/worksheet!$J$11 -> 5.0637363 | Q30: =IF((O30+P30)<(1000/M30),"DCM","CDCM") -> #VALUE! | R30: =IF(Q30="DCM",1000/(1000/M30+worksheet!$F$43/1000),1000/(O30+P30+worksheet!$F$43/1000)) -> #VALUE! | S30: =N30/worksheet!$F$52 -> 1.2307692 | T30: =0.5*worksheet!$F$62/100*worksheet!$F$29*S30*P30*R30/1000*worksheet!$J$11 -> #VALUE!
A31: 1.66 | B31: =B30+($B$53-$B$28)/25 -> 30.082353 | C31: 0.24 | D31: =1000*worksheet!$F$42*C31/worksheet!$F$52/worksheet!$F$8 -> 2.4167832 | E31: =worksheet!$F$8*D31/worksheet!$F$29/worksheet!$F$11 -> 5.4254317 | F31: =IF((D31+E31)<(1000/B31),"DCM","CDCM") -> DCM | G31: =IF(F31="DCM",1000/(1000/B31+worksheet!$F$43/2/1000),1000/(D31+E31+worksheet!$F$43/2/1000)) -> 29.375408 | H31: =C31/worksheet!$F$52 -> 1.2307692 | I31: =0.5*worksheet!$F$62/100*worksheet!$F$29*H31*E31*G31/1000*worksheet!$F$11 -> 9.1309197 | J31: =G31 -> 29.375408 | L31: 1.66 | M31: =M30+($M$53-$M$28)/25 -> #VALUE! | N31: 0.24 | O31: =1000*worksheet!$F$42*N31/worksheet!$F$52/worksheet!$F$8 -> 2.4167832 | P31: =worksheet!$F$8*O31/worksheet!$F$29/worksheet!$J$11 -> 5.0637363 | Q31: =IF((O31+P31)<(1000/M31),"DCM","CDCM") -> #VALUE! | R31: =IF(Q31="DCM",1000/(1000/M31+worksheet!$F$43/1000),1000/(O31+P31+worksheet!$F$43/1000)) -> #VALUE! | S31: =N31/worksheet!$F$52 -> 1.2307692 | T31: =0.5*worksheet!$F$62/100*worksheet!$F$29*S31*P31*R31/1000*worksheet!$J$11 -> #VALUE!
A32: 1.68 | B32: =B31+($B$53-$B$28)/25 -> 31.776471 | C32: 0.24 | D32: =1000*worksheet!$F$42*C32/worksheet!$F$52/worksheet!$F$8 -> 2.4167832 | E32: =worksheet!$F$8*D32/worksheet!$F$29/worksheet!$F$11 -> 5.4254317 | F32: =IF((D32+E32)<(1000/B32),"DCM","CDCM") -> DCM | G32: =IF(F32="DCM",1000/(1000/B32+worksheet!$F$43/2/1000),1000/(D32+E32+worksheet!$F$43/2/1000)) -> 30.988701 | H32: =C32/worksheet!$F$52 -> 1.2307692 | I32: =0.5*worksheet!$F$62/100*worksheet!$F$29*H32*E32*G32/1000*worksheet!$F$11 -> 9.6323886 | J32: =G32 -> 30.988701 | L32: 1.68 | M32: =M31+($M$53-$M$28)/25 -> #VALUE! | N32: 0.24 | O32: =1000*worksheet!$F$42*N32/worksheet!$F$52/worksheet!$F$8 -> 2.4167832 | P32: =worksheet!$F$8*O32/worksheet!$F$29/worksheet!$J$11 -> 5.0637363 | Q32: =IF((O32+P32)<(1000/M32),"DCM","CDCM") -> #VALUE! | R32: =IF(Q32="DCM",1000/(1000/M32+worksheet!$F$43/1000),1000/(O32+P32+worksheet!$F$43/1000)) -> #VALUE! | S32: =N32/worksheet!$F$52 -> 1.2307692 | T32: =0.5*worksheet!$F$62/100*worksheet!$F$29*S32*P32*R32/1000*worksheet!$J$11 -> #VALUE!
A33: 1.7 | B33: =B32+($B$53-$B$28)/25 -> 33.470588 | C33: 0.24 | D33: =1000*worksheet!$F$42*C33/worksheet!$F$52/worksheet!$F$8 -> 2.4167832 | E33: =worksheet!$F$8*D33/worksheet!$F$29/worksheet!$F$11 -> 5.4254317 | F33: =IF((D33+E33)<(1000/B33),"DCM","CDCM") -> DCM | G33: =IF(F33="DCM",1000/(1000/B33+worksheet!$F$43/2/1000),1000/(D33+E33+worksheet!$F$43/2/1000)) -> 32.597736 | H33: =C33/worksheet!$F$52 -> 1.2307692 | I33: =0.5*worksheet!$F$62/100*worksheet!$F$29*H33*E33*G33/1000*worksheet!$F$11 -> 10.132534 | J33: =G33 -> 32.597736 | L33: 1.7 | M33: =M32+($M$53-$M$28)/25 -> #VALUE! | N33: 0.24 | O33: =1000*worksheet!$F$42*N33/worksheet!$F$52/worksheet!$F$8 -> 2.4167832 | P33: =worksheet!$F$8*O33/worksheet!$F$29/worksheet!$J$11 -> 5.0637363 | Q33: =IF((O33+P33)<(1000/M33),"DCM","CDCM") -> #VALUE! | R33: =IF(Q33="DCM",1000/(1000/M33+worksheet!$F$43/1000),1000/(O33+P33+worksheet!$F$43/1000)) -> #VALUE! | S33: =N33/worksheet!$F$52 -> 1.2307692 | T33: =0.5*worksheet!$F$62/100*worksheet!$F$29*S33*P33*R33/1000*worksheet!$J$11 -> #VALUE!
A34: 1.72 | B34: =B33+($B$53-$B$28)/25 -> 35.164706 | C34: 0.24 | D34: =1000*worksheet!$F$42*C34/worksheet!$F$52/worksheet!$F$8 -> 2.4167832 | E34: =worksheet!$F$8*D34/worksheet!$F$29/worksheet!$F$11 -> 5.4254317 | F34: =IF((D34+E34)<(1000/B34),"DCM","CDCM") -> DCM | G34: =IF(F34="DCM",1000/(1000/B34+worksheet!$F$43/2/1000),1000/(D34+E34+worksheet!$F$43/2/1000)) -> 34.202528 | H34: =C34/worksheet!$F$52 -> 1.2307692 | I34: =0.5*worksheet!$F$62/100*worksheet!$F$29*H34*E34*G34/1000*worksheet!$F$11 -> 10.63136 | J34: =G34 -> 34.202528 | L34: 1.72 | M34: =M33+($M$53-$M$28)/25 -> #VALUE! | N34: 0.24 | O34: =1000*worksheet!$F$42*N34/worksheet!$F$52/worksheet!$F$8 -> 2.4167832 | P34: =worksheet!$F$8*O34/worksheet!$F$29/worksheet!$J$11 -> 5.0637363 | Q34: =IF((O34+P34)<(1000/M34),"DCM","CDCM") -> #VALUE! | R34: =IF(Q34="DCM",1000/(1000/M34+worksheet!$F$43/1000),1000/(O34+P34+worksheet!$F$43/1000)) -> #VALUE! | S34: =N34/worksheet!$F$52 -> 1.2307692 | T34: =0.5*worksheet!$F$62/100*worksheet!$F$29*S34*P34*R34/1000*worksheet!$J$11 -> #VALUE!
A35: 1.74 | B35: =B34+($B$53-$B$28)/25 -> 36.858824 | C35: 0.24 | D35: =1000*worksheet!$F$42*C35/worksheet!$F$52/worksheet!$F$8 -> 2.4167832 | E35: =worksheet!$F$8*D35/worksheet!$F$29/worksheet!$F$11 -> 5.4254317 | F35: =IF((D35+E35)<(1000/B35),"DCM","CDCM") -> DCM | G35: =IF(F35="DCM",1000/(1000/B35+worksheet!$F$43/2/1000),1000/(D35+E35+worksheet!$F$43/2/1000)) -> 35.803096 | H35: =C35/worksheet!$F$52 -> 1.2307692 | I35: =0.5*worksheet!$F$62/100*worksheet!$F$29*H35*E35*G35/1000*worksheet!$F$11 -> 11.128873 | J35: =G35 -> 35.803096 | L35: 1.74 | M35: =M34+($M$53-$M$28)/25 -> #VALUE! | N35: 0.24 | O35: =1000*worksheet!$F$42*N35/worksheet!$F$52/worksheet!$F$8 -> 2.4167832 | P35: =worksheet!$F$8*O35/worksheet!$F$29/worksheet!$J$11 -> 5.0637363 | Q35: =IF((O35+P35)<(1000/M35),"DCM","CDCM") -> #VALUE! | R35: =IF(Q35="DCM",1000/(1000/M35+worksheet!$F$43/1000),1000/(O35+P35+worksheet!$F$43/1000)) -> #VALUE! | S35: =N35/worksheet!$F$52 -> 1.2307692 | T35: =0.5*worksheet!$F$62/100*worksheet!$F$29*S35*P35*R35/1000*worksheet!$J$11 -> #VALUE!
A36: 1.76 | B36: =B35+($B$53-$B$28)/25 -> 38.552941 | C36: 0.24 | D36: =1000*worksheet!$F$42*C36/worksheet!$F$52/worksheet!$F$8 -> 2.4167832 | E36: =worksheet!$F$8*D36/worksheet!$F$29/worksheet!$F$11 -> 5.4254317 | F36: =IF((D36+E36)<(1000/B36),"DCM","CDCM") -> DCM | G36: =IF(F36="DCM",1000/(1000/B36+worksheet!$F$43/2/1000),1000/(D36+E36+worksheet!$F$43/2/1000)) -> 37.399454 | H36: =C36/worksheet!$F$52 -> 1.2307692 | I36: =0.5*worksheet!$F$62/100*worksheet!$F$29*H36*E36*G36/1000*worksheet!$F$11 -> 11.625078 | J36: =G36 -> 37.399454 | L36: 1.76 | M36: =M35+($M$53-$M$28)/25 -> #VALUE! | N36: 0.24 | O36: =1000*worksheet!$F$42*N36/worksheet!$F$52/worksheet!$F$8 -> 2.4167832 | P36: =worksheet!$F$8*O36/worksheet!$F$29/worksheet!$J$11 -> 5.0637363 | Q36: =IF((O36+P36)<(1000/M36),"DCM","CDCM") -> #VALUE! | R36: =IF(Q36="DCM",1000/(1000/M36+worksheet!$F$43/1000),1000/(O36+P36+worksheet!$F$43/1000)) -> #VALUE! | S36: =N36/worksheet!$F$52 -> 1.2307692 | T36: =0.5*worksheet!$F$62/100*worksheet!$F$29*S36*P36*R36/1000*worksheet!$J$11 -> #VALUE!
A37: 1.78 | B37: =B36+($B$53-$B$28)/25 -> 40.247059 | C37: 0.24 | D37: =1000*worksheet!$F$42*C37/worksheet!$F$52/worksheet!$F$8 -> 2.4167832 | E37: =worksheet!$F$8*D37/worksheet!$F$29/worksheet!$F$11 -> 5.4254317 | F37: =IF((D37+E37)<(1000/B37),"DCM","CDCM") -> DCM | G37: =IF(F37="DCM",1000/(1000/B37+worksheet!$F$43/2/1000),1000/(D37+E37+worksheet!$F$43/2/1000)) -> 38.99162 | H37: =C37/worksheet!$F$52 -> 1.2307692 | I37: =0.5*worksheet!$F$62/100*worksheet!$F$29*H37*E37*G37/1000*worksheet!$F$11 -> 12.11998 | J37: =G37 -> 38.99162 | L37: 1.78 | M37: =M36+($M$53-$M$28)/25 -> #VALUE! | N37: 0.24 | O37: =1000*worksheet!$F$42*N37/worksheet!$F$52/worksheet!$F$8 -> 2.4167832 | P37: =worksheet!$F$8*O37/worksheet!$F$29/worksheet!$J$11 -> 5.0637363 | Q37: =IF((O37+P37)<(1000/M37),"DCM","CDCM") -> #VALUE! | R37: =IF(Q37="DCM",1000/(1000/M37+worksheet!$F$43/1000),1000/(O37+P37+worksheet!$F$43/1000)) -> #VALUE! | S37: =N37/worksheet!$F$52 -> 1.2307692 | T37: =0.5*worksheet!$F$62/100*worksheet!$F$29*S37*P37*R37/1000*worksheet!$J$11 -> #VALUE!
A38: 1.8 | B38: =B37+($B$53-$B$28)/25 -> 41.941176 | C38: 0.24 | D38: =1000*worksheet!$F$42*C38/worksheet!$F$52/worksheet!$F$8 -> 2.4167832 | E38: =worksheet!$F$8*D38/worksheet!$F$29/worksheet!$F$11 -> 5.4254317 | F38: =IF((D38+E38)<(1000/B38),"DCM","CDCM") -> DCM | G38: =IF(F38="DCM",1000/(1000/B38+worksheet!$F$43/2/1000),1000/(D38+E38+worksheet!$F$43/2/1000)) -> 40.579611 | H38: =C38/worksheet!$F$52 -> 1.2307692 | I38: =0.5*worksheet!$F$62/100*worksheet!$F$29*H38*E38*G38/1000*worksheet!$F$11 -> 12.613584 | J38: =G38 -> 40.579611 | L38: 1.8 | M38: =M37+($M$53-$M$28)/25 -> #VALUE! | N38: 0.24 | O38: =1000*worksheet!$F$42*N38/worksheet!$F$52/worksheet!$F$8 -> 2.4167832 | P38: =worksheet!$F$8*O38/worksheet!$F$29/worksheet!$J$11 -> 5.0637363 | Q38: =IF((O38+P38)<(1000/M38),"DCM","CDCM") -> #VALUE! | R38: =IF(Q38="DCM",1000/(1000/M38+worksheet!$F$43/1000),1000/(O38+P38+worksheet!$F$43/1000)) -> #VALUE! | S38: =N38/worksheet!$F$52 -> 1.2307692 | T38: =0.5*worksheet!$F$62/100*worksheet!$F$29*S38*P38*R38/1000*worksheet!$J$11 -> #VALUE!
A39: 1.82 | B39: =B38+($B$53-$B$28)/25 -> 43.635294 | C39: 0.24 | D39: =1000*worksheet!$F$42*C39/worksheet!$F$52/worksheet!$F$8 -> 2.4167832 | E39: =worksheet!$F$8*D39/worksheet!$F$29/worksheet!$F$11 -> 5.4254317 | F39: =IF((D39+E39)<(1000/B39),"DCM","CDCM") -> DCM | G39: =IF(F39="DCM",1000/(1000/B39+worksheet!$F$43/2/1000),1000/(D39+E39+worksheet!$F$43/2/1000)) -> 42.163443 | H39: =C39/worksheet!$F$52 -> 1.2307692 | I39: =0.5*worksheet!$F$62/100*worksheet!$F$29*H39*E39*G39/1000*worksheet!$F$11 -> 13.105895 | J39: =G39 -> 42.163443 | L39: 1.82 | M39: =M38+($M$53-$M$28)/25 -> #VALUE! | N39: 0.24 | O39: =1000*worksheet!$F$42*N39/worksheet!$F$52/worksheet!$F$8 -> 2.4167832 | P39: =worksheet!$F$8*O39/worksheet!$F$29/worksheet!$J$11 -> 5.0637363 | Q39: =IF((O39+P39)<(1000/M39),"DCM","CDCM") -> #VALUE! | R39: =IF(Q39="DCM",1000/(1000/M39+worksheet!$F$43/1000),1000/(O39+P39+worksheet!$F$43/1000)) -> #VALUE! | S39: =N39/worksheet!$F$52 -> 1.2307692 | T39: =0.5*worksheet!$F$62/100*worksheet!$F$29*S39*P39*R39/1000*worksheet!$J$11 -> #VALUE!
A40: 1.84 | B40: =B39+($B$53-$B$28)/25 -> 45.329412 | C40: 0.24 | D40: =1000*worksheet!$F$42*C40/worksheet!$F$52/worksheet!$F$8 -> 2.4167832 | E40: =worksheet!$F$8*D40/worksheet!$F$29/worksheet!$F$11 -> 5.4254317 | F40: =IF((D40+E40)<(1000/B40),"DCM","CDCM") -> DCM | G40: =IF(F40="DCM",1000/(1000/B40+worksheet!$F$43/2/1000),1000/(D40+E40+worksheet!$F$43/2/1000)) -> 43.743131 | H40: =C40/worksheet!$F$52 -> 1.2307692 | I40: =0.5*worksheet!$F$62/100*worksheet!$F$29*H40*E40*G40/1000*worksheet!$F$11 -> 13.596918 | J40: =G40 -> 43.743131 | L40: 1.84 | M40: =M39+($M$53-$M$28)/25 -> #VALUE! | N40: 0.24 | O40: =1000*worksheet!$F$42*N40/worksheet!$F$52/worksheet!$F$8 -> 2.4167832 | P40: =worksheet!$F$8*O40/worksheet!$F$29/worksheet!$J$11 -> 5.0637363 | Q40: =IF((O40+P40)<(1000/M40),"DCM","CDCM") -> #VALUE! | R40: =IF(Q40="DCM",1000/(1000/M40+worksheet!$F$43/1000),1000/(O40+P40+worksheet!$F$43/1000)) -> #VALUE! | S40: =N40/worksheet!$F$52 -> 1.2307692 | T40: =0.5*worksheet!$F$62/100*worksheet!$F$29*S40*P40*R40/1000*worksheet!$J$11 -> #VALUE!
... A52: 2.08 | B52: =B51+($B$53-$B$28)/25 -> 65.658824 | C52: 0.24 | D52: =1000*worksheet!$F$42*C52/worksheet!$F$52/worksheet!$F$8 -> 2.4167832 | E52: =worksheet!$F$8*D52/worksheet!$F$29/worksheet!$F$11 -> 5.4254317 | F52: =IF((D52+E52)<(1000/B52),"DCM","CDCM") -> DCM | G52: =IF(F52="DCM",1000/(1000/B52+worksheet!$F$43/2/1000),1000/(D52+E52+worksheet!$F$43/2/1000)) -> 62.382077 | H52: =C52/worksheet!$F$52 -> 1.2307692 | I52: =0.5*worksheet!$F$62/100*worksheet!$F$29*H52*E52*G52/1000*worksheet!$F$11 -> 19.390564 | J52: =G52 -> 62.382077 | L52: 2.08 | M52: =M51+($M$53-$M$28)/25 -> #VALUE! | N52: 0.24 | O52: =1000*worksheet!$F$42*N52/worksheet!$F$52/worksheet!$F$8 -> 2.4167832 | P52: =worksheet!$F$8*O52/worksheet!$F$29/worksheet!$J$11 -> 5.0637363 | Q52: =IF((O52+P52)<(1000/M52),"DCM","CDCM") -> #VALUE! | R52: =IF(Q52="DCM",1000/(1000/M52+worksheet!$F$43/1000),1000/(O52+P52+worksheet!$F$43/1000)) -> #VALUE! | S52: =N52/worksheet!$F$52 -> 1.2307692 | T52: =0.5*worksheet!$F$62/100*worksheet!$F$29*S52*P52*R52/1000*worksheet!$J$11 -> #VALUE!
A53: 2.1 | B53: =IF(worksheet!$F$10="Rapid charger",IF(worksheet!$F$11>20,40+(worksheet!$F$17-40)*(worksheet!$F$11-3)/(worksheet!$F$11-3),40+(worksheet!$F$17-40)*(worksheet!$F$11-3)/(worksheet!$F$14-3)),IF(worksheet!$F$18>20,40+(worksheet!$F$17-40)*(worksheet!$F$18-3)/(worksheet!$F$14-3),40+(worksheet!$F$17-40)*(worksheet!$F$18-3)/(worksheet!$F$14-3))) -> 67.352941 | C53: 0.24 | D53: =1000*worksheet!$F$42*C53/worksheet!$F$52/worksheet!$F$8 -> 2.4167832 | E53: =worksheet!$F$8*D53/worksheet!$F$29/worksheet!$F$11 -> 5.4254317 | F53: =IF((D53+E53)<(1000/B53),"DCM","CDCM") -> DCM | G53: =IF(F53="DCM",1000/(1000/B53+worksheet!$F$43/2/1000),1000/(D53+E53+worksheet!$F$43/2/1000)) -> 63.909355 | H53: =C53/worksheet!$F$52 -> 1.2307692 | I53: =0.5*worksheet!$F$62/100*worksheet!$F$29*H53*E53*G53/1000*worksheet!$F$11 -> 19.865296 | J53: =worksheet!$F$46*1000-worksheet!$F$43 -> -800 | L53: 2.1 | M53: =IF(worksheet!$F$10="Rapid charger",40+(worksheet!$F$17-40)*(worksheet!$J$11-3)/(worksheet!$F$14-3)," ") | N53: 0.24 | O53: =1000*worksheet!$F$42*N53/worksheet!$F$52/worksheet!$F$8 -> 2.4167832 | P53: =worksheet!$F$8*O53/worksheet!$F$29/worksheet!$J$11 -> 5.0637363 | Q53: =IF((O53+P53)<(1000/M53),"DCM","CDCM") -> #VALUE! | R53: =IF(Q53="DCM",1000/(1000/M53+worksheet!$F$43/1000),1000/(O53+P53+worksheet!$F$43/1000)) -> #VALUE! | S53: =N53/worksheet!$F$52 -> 1.2307692 | T53: =0.5*worksheet!$F$62/100*worksheet!$F$29*S53*P53*R53/1000*worksheet!$J$11 -> #VALUE!
A54: 2.12 | B54: =IF(worksheet!$F$10="Rapid charger",IF(worksheet!$F$11>20,40+(worksheet!$F$17-40)*(worksheet!$F$11-3)/(worksheet!$F$11-3),40+(worksheet!$F$17-40)*(worksheet!$F$11-3)/(worksheet!$F$14-3)),IF(worksheet!$F$18>20,40+(worksheet!$F$17-40)*(worksheet!$F$18-3)/(worksheet!$F$14-3),40+(worksheet!$F$17-40)*(worksheet!$F$18-3)/(worksheet!$F$14-3))) -> 67.352941 | C54: =C53+($C$113-$C$53)/60 -> 0.24483333 | D54: =1000*worksheet!$F$42*C54/worksheet!$F$52/worksheet!$F$8 -> 2.4654545 | E54: =worksheet!$F$8*D54/worksheet!$F$29/worksheet!$F$11 -> 5.5346939 | F54: =IF((D54+E54)<(1000/B54),"DCM","CDCM") -> DCM | G54: =IF(F54="DCM",1000/(1000/B54+worksheet!$F$43/2/1000),1000/(D54+E54+worksheet!$F$43/2/1000)) -> 63.909355 | H54: =C54/worksheet!$F$52 -> 1.2555556 | I54: =0.5*worksheet!$F$62/100*worksheet!$F$29*H54*E54*G54/1000*worksheet!$F$11 -> 20.673483 | J54: =G54 -> 63.909355 | L54: 2.12 | M54: =IF(worksheet!$F$10="Rapid charger",40+(worksheet!$F$17-40)*(worksheet!$J$11-3)/(worksheet!$F$14-3)," ") | N54: =N53+($N$113-$N$53)/60 -> 0.24433333 | O54: =1000*worksheet!$F$42*N54/worksheet!$F$52/worksheet!$F$8 -> 2.4604196 | P54: =worksheet!$F$8*O54/worksheet!$F$29/worksheet!$J$11 -> 5.1551648 | Q54: =IF((O54+P54)<(1000/M54),"DCM","CDCM") -> #VALUE! | R54: =IF(Q54="DCM",1000/(1000/M54+worksheet!$F$43/1000),1000/(O54+P54+worksheet!$F$43/1000)) -> #VALUE! | S54: =N54/worksheet!$F$52 -> 1.2529915 | T54: =0.5*worksheet!$F$62/100*worksheet!$F$29*S54*P54*R54/1000*worksheet!$J$11 -> #VALUE!
A55: 2.14 | B55: =IF(worksheet!$F$10="Rapid charger",IF(worksheet!$F$11>20,40+(worksheet!$F$17-40)*(worksheet!$F$11-3)/(worksheet!$F$11-3),40+(worksheet!$F$17-40)*(worksheet!$F$11-3)/(worksheet!$F$14-3)),IF(worksheet!$F$18>20,40+(worksheet!$F$17-40)*(worksheet!$F$18-3)/(worksheet!$F$14-3),40+(worksheet!$F$17-40)*(worksheet!$F$18-3)/(worksheet!$F$14-3))) -> 67.352941 | C55: =C54+($C$113-$C$53)/60 -> 0.24966667 | D55: =1000*worksheet!$F$42*C55/worksheet!$F$52/worksheet!$F$8 -> 2.5141259 | E55: =worksheet!$F$8*D55/worksheet!$F$29/worksheet!$F$11 -> 5.643956 | F55: =IF((D55+E55)<(1000/B55),"DCM","CDCM") -> DCM | G55: =IF(F55="DCM",1000/(1000/B55+worksheet!$F$43/2/1000),1000/(D55+E55+worksheet!$F$43/2/1000)) -> 63.909355 | H55: =C55/worksheet!$F$52 -> 1.2803419 | I55: =0.5*worksheet!$F$62/100*worksheet!$F$29*H55*E55*G55/1000*worksheet!$F$11 -> 21.497784 | J55: =G55 -> 63.909355 | L55: 2.14 | M55: =IF(worksheet!$F$10="Rapid charger",40+(worksheet!$F$17-40)*(worksheet!$J$11-3)/(worksheet!$F$14-3)," ") | N55: =N54+($N$113-$N$53)/60 -> 0.24866667 | O55: =1000*worksheet!$F$42*N55/worksheet!$F$52/worksheet!$F$8 -> 2.5040559 | P55: =worksheet!$F$8*O55/worksheet!$F$29/worksheet!$J$11 -> 5.2465934 | Q55: =IF((O55+P55)<(1000/M55),"DCM","CDCM") -> #VALUE! | R55: =IF(Q55="DCM",1000/(1000/M55+worksheet!$F$43/1000),1000/(O55+P55+worksheet!$F$43/1000)) -> #VALUE! | S55: =N55/worksheet!$F$52 -> 1.2752137 | T55: =0.5*worksheet!$F$62/100*worksheet!$F$29*S55*P55*R55/1000*worksheet!$J$11 -> #VALUE!
A56: 2.16 | B56: =IF(worksheet!$F$10="Rapid charger",IF(worksheet!$F$11>20,40+(worksheet!$F$17-40)*(worksheet!$F$11-3)/(worksheet!$F$11-3),40+(worksheet!$F$17-40)*(worksheet!$F$11-3)/(worksheet!$F$14-3)),IF(worksheet!$F$18>20,40+(worksheet!$F$17-40)*(worksheet!$F$18-3)/(worksheet!$F$14-3),40+(worksheet!$F$17-40)*(worksheet!$F$18-3)/(worksheet!$F$14-3))) -> 67.352941 | C56: =C55+($C$113-$C$53)/60 -> 0.2545 | D56: =1000*worksheet!$F$42*C56/worksheet!$F$52/worksheet!$F$8 -> 2.5627972 | E56: =worksheet!$F$8*D56/worksheet!$F$29/worksheet!$F$11 -> 5.7532182 | F56: =IF((D56+E56)<(1000/B56),"DCM","CDCM") -> DCM | G56: =IF(F56="DCM",1000/(1000/B56+worksheet!$F$43/2/1000),1000/(D56+E56+worksheet!$F$43/2/1000)) -> 63.909355 | H56: =C56/worksheet!$F$52 -> 1.3051282 | I56: =0.5*worksheet!$F$62/100*worksheet!$F$29*H56*E56*G56/1000*worksheet!$F$11 -> 22.338198 | J56: =G56 -> 63.909355 | L56: 2.16 | M56: =IF(worksheet!$F$10="Rapid charger",40+(worksheet!$F$17-40)*(worksheet!$J$11-3)/(worksheet!$F$14-3)," ") | N56: =N55+($N$113-$N$53)/60 -> 0.253 | O56: =1000*worksheet!$F$42*N56/worksheet!$F$52/worksheet!$F$8 -> 2.5476923 | P56: =worksheet!$F$8*O56/worksheet!$F$29/worksheet!$J$11 -> 5.338022 | Q56: =IF((O56+P56)<(1000/M56),"DCM","CDCM") -> #VALUE! | R56: =IF(Q56="DCM",1000/(1000/M56+worksheet!$F$43/1000),1000/(O56+P56+worksheet!$F$43/1000)) -> #VALUE! | S56: =N56/worksheet!$F$52 -> 1.2974359 | T56: =0.5*worksheet!$F$62/100*worksheet!$F$29*S56*P56*R56/1000*worksheet!$J$11 -> #VALUE!
A57: 2.18 | B57: =IF(worksheet!$F$10="Rapid charger",IF(worksheet!$F$11>20,40+(worksheet!$F$17-40)*(worksheet!$F$11-3)/(worksheet!$F$11-3),40+(worksheet!$F$17-40)*(worksheet!$F$11-3)/(worksheet!$F$14-3)),IF(worksheet!$F$18>20,40+(worksheet!$F$17-40)*(worksheet!$F$18-3)/(worksheet!$F$14-3),40+(worksheet!$F$17-40)*(worksheet!$F$18-3)/(worksheet!$F$14-3))) -> 67.352941 | C57: =C56+($C$113-$C$53)/60 -> 0.25933333 | D57: =1000*worksheet!$F$42*C57/worksheet!$F$52/worksheet!$F$8 -> 2.6114685 | E57: =worksheet!$F$8*D57/worksheet!$F$29/worksheet!$F$11 -> 5.8624804 | F57: =IF((D57+E57)<(1000/B57),"DCM","CDCM") -> DCM | G57: =IF(F57="DCM",1000/(1000/B57+worksheet!$F$43/2/1000),1000/(D57+E57+worksheet!$F$43/2/1000)) -> 63.909355 | H57: =C57/worksheet!$F$52 -> 1.3299145 | I57: =0.5*worksheet!$F$62/100*worksheet!$F$29*H57*E57*G57/1000*worksheet!$F$11 -> 23.194726 | J57: =G57 -> 63.909355 | L57: 2.18 | M57: =IF(worksheet!$F$10="Rapid charger",40+(worksheet!$F$17-40)*(worksheet!$J$11-3)/(worksheet!$F$14-3)," ") | N57: =N56+($N$113-$N$53)/60 -> 0.25733333 | O57: =1000*worksheet!$F$42*N57/worksheet!$F$52/worksheet!$F$8 -> 2.5913287 | P57: =worksheet!$F$8*O57/worksheet!$F$29/worksheet!$J$11 -> 5.4294505 | Q57: =IF((O57+P57)<(1000/M57),"DCM","CDCM") -> #VALUE! | R57: =IF(Q57="DCM",1000/(1000/M57+worksheet!$F$43/1000),1000/(O57+P57+worksheet!$F$43/1000)) -> #VALUE! | S57: =N57/worksheet!$F$52 -> 1.3196581 | T57: =0.5*worksheet!$F$62/100*worksheet!$F$29*S57*P57*R57/1000*worksheet!$J$11 -> #VALUE!
A58: 2.2 | B58: =IF(worksheet!$F$10="Rapid charger",IF(worksheet!$F$11>20,40+(worksheet!$F$17-40)*(worksheet!$F$11-3)/(worksheet!$F$11-3),40+(worksheet!$F$17-40)*(worksheet!$F$11-3)/(worksheet!$F$14-3)),IF(worksheet!$F$18>20,40+(worksheet!$F$17-40)*(worksheet!$F$18-3)/(worksheet!$F$14-3),40+(worksheet!$F$17-40)*(worksheet!$F$18-3)/(worksheet!$F$14-3))) -> 67.352941 | C58: =C57+($C$113-$C$53)/60 -> 0.26416667 | D58: =1000*worksheet!$F$42*C58/worksheet!$F$52/worksheet!$F$8 -> 2.6601399 | E58: =worksheet!$F$8*D58/worksheet!$F$29/worksheet!$F$11 -> 5.9717425 | F58: =IF((D58+E58)<(1000/B58),"DCM","CDCM") -> DCM | G58: =IF(F58="DCM",1000/(1000/B58+worksheet!$F$43/2/1000),1000/(D58+E58+worksheet!$F$43/2/1000)) -> 63.909355 | H58: =C58/worksheet!$F$52 -> 1.3547009 | I58: =0.5*worksheet!$F$62/100*worksheet!$F$29*H58*E58*G58/1000*worksheet!$F$11 -> 24.067368 | J58: =G58 -> 63.909355 | L58: 2.2 | M58: =IF(worksheet!$F$10="Rapid charger",40+(worksheet!$F$17-40)*(worksheet!$J$11-3)/(worksheet!$F$14-3)," ") | N58: =N57+($N$113-$N$53)/60 -> 0.26166667 | O58: =1000*worksheet!$F$42*N58/worksheet!$F$52/worksheet!$F$8 -> 2.634965 | P58: =worksheet!$F$8*O58/worksheet!$F$29/worksheet!$J$11 -> 5.5208791 | Q58: =IF((O58+P58)<(1000/M58),"DCM","CDCM") -> #VALUE! | R58: =IF(Q58="DCM",1000/(1000/M58+worksheet!$F$43/1000),1000/(O58+P58+worksheet!$F$43/1000)) -> #VALUE! | S58: =N58/worksheet!$F$52 -> 1.3418803 | T58: =0.5*worksheet!$F$62/100*worksheet!$F$29*S58*P58*R58/1000*worksheet!$J$11 -> #VALUE!
A59: 2.22 | B59: =IF(worksheet!$F$10="Rapid charger",IF(worksheet!$F$11>20,40+(worksheet!$F$17-40)*(worksheet!$F$11-3)/(worksheet!$F$11-3),40+(worksheet!$F$17-40)*(worksheet!$F$11-3)/(worksheet!$F$14-3)),IF(worksheet!$F$18>20,40+(worksheet!$F$17-40)*(worksheet!$F$18-3)/(worksheet!$F$14-3),40+(worksheet!$F$17-40)*(worksheet!$F$18-3)/(worksheet!$F$14-3))) -> 67.352941 | C59: =C58+($C$113-$C$53)/60 -> 0.269 | D59: =1000*worksheet!$F$42*C59/worksheet!$F$52/worksheet!$F$8 -> 2.7088112 | E59: =worksheet!$F$8*D59/worksheet!$F$29/worksheet!$F$11 -> 6.0810047 | F59: =IF((D59+E59)<(1000/B59),"DCM","CDCM") -> DCM | G59: =IF(F59="DCM",1000/(1000/B59+worksheet!$F$43/2/1000),1000/(D59+E59+worksheet!$F$43/2/1000)) -> 63.909355 | H59: =C59/worksheet!$F$52 -> 1.3794872 | I59: =0.5*worksheet!$F$62/100*worksheet!$F$29*H59*E59*G59/1000*worksheet!$F$11 -> 24.956124 | J59: =G59 -> 63.909355 | L59: 2.22 | M59: =IF(worksheet!$F$10="Rapid charger",40+(worksheet!$F$17-40)*(worksheet!$J$11-3)/(worksheet!$F$14-3)," ") | N59: =N58+($N$113-$N$53)/60 -> 0.266 | O59: =1000*worksheet!$F$42*N59/worksheet!$F$52/worksheet!$F$8 -> 2.6786014 | P59: =worksheet!$F$8*O59/worksheet!$F$29/worksheet!$J$11 -> 5.6123077 | Q59: =IF((O59+P59)<(1000/M59),"DCM","CDCM") -> #VALUE! | R59: =IF(Q59="DCM",1000/(1000/M59+worksheet!$F$43/1000),1000/(O59+P59+worksheet!$F$43/1000)) -> #VALUE! | S59: =N59/worksheet!$F$52 -> 1.3641026 | T59: =0.5*worksheet!$F$62/100*worksheet!$F$29*S59*P59*R59/1000*worksheet!$J$11 -> #VALUE!
A60: 2.24 | B60: =IF(worksheet!$F$10="Rapid charger",IF(worksheet!$F$11>20,40+(worksheet!$F$17-40)*(worksheet!$F$11-3)/(worksheet!$F$11-3),40+(worksheet!$F$17-40)*(worksheet!$F$11-3)/(worksheet!$F$14-3)),IF(worksheet!$F$18>20,40+(worksheet!$F$17-40)*(worksheet!$F$18-3)/(worksheet!$F$14-3),40+(worksheet!$F$17-40)*(worksheet!$F$18-3)/(worksheet!$F$14-3))) -> 67.352941 | C60: =C59+($C$113-$C$53)/60 -> 0.27383333 | D60: =1000*worksheet!$F$42*C60/worksheet!$F$52/worksheet!$F$8 -> 2.7574825 | E60: =worksheet!$F$8*D60/worksheet!$F$29/worksheet!$F$11 -> 6.1902669 | F60: =IF((D60+E60)<(1000/B60),"DCM","CDCM") -> DCM | G60: =IF(F60="DCM",1000/(1000/B60+worksheet!$F$43/2/1000),1000/(D60+E60+worksheet!$F$43/2/1000)) -> 63.909355 | H60: =C60/worksheet!$F$52 -> 1.4042735 | I60: =0.5*worksheet!$F$62/100*worksheet!$F$29*H60*E60*G60/1000*worksheet!$F$11 -> 25.860993 | J60: =G60 -> 63.909355 | L60: 2.24 | M60: =IF(worksheet!$F$10="Rapid charger",40+(worksheet!$F$17-40)*(worksheet!$J$11-3)/(worksheet!$F$14-3)," ") | N60: =N59+($N$113-$N$53)/60 -> 0.27033333 | O60: =1000*worksheet!$F$42*N60/worksheet!$F$52/worksheet!$F$8 -> 2.7222378 | P60: =worksheet!$F$8*O60/worksheet!$F$29/worksheet!$J$11 -> 5.7037363 | Q60: =IF((O60+P60)<(1000/M60),"DCM","CDCM") -> #VALUE! | R60: =IF(Q60="DCM",1000/(1000/M60+worksheet!$F$43/1000),1000/(O60+P60+worksheet!$F$43/1000)) -> #VALUE! | S60: =N60/worksheet!$F$52 -> 1.3863248 | T60: =0.5*worksheet!$F$62/100*worksheet!$F$29*S60*P60*R60/1000*worksheet!$J$11 -> #VALUE!
A61: 2.26 | B61: =IF(worksheet!$F$10="Rapid charger",IF(worksheet!$F$11>20,40+(worksheet!$F$17-40)*(worksheet!$F$11-3)/(worksheet!$F$11-3),40+(worksheet!$F$17-40)*(worksheet!$F$11-3)/(worksheet!$F$14-3)),IF(worksheet!$F$18>20,40+(worksheet!$F$17-40)*(worksheet!$F$18-3)/(worksheet!$F$14-3),40+(worksheet!$F$17-40)*(worksheet!$F$18-3)/(worksheet!$F$14-3))) -> 67.352941 | C61: =C60+($C$113-$C$53)/60 -> 0.27866667 | D61: =1000*worksheet!$F$42*C61/worksheet!$F$52/worksheet!$F$8 -> 2.8061538 | E61: =worksheet!$F$8*D61/worksheet!$F$29/worksheet!$F$11 -> 6.299529 | F61: =IF((D61+E61)<(1000/B61),"DCM","CDCM") -> DCM | G61: =IF(F61="DCM",1000/(1000/B61+worksheet!$F$43/2/1000),1000/(D61+E61+worksheet!$F$43/2/1000)) -> 63.909355 | H61: =C61/worksheet!$F$52 -> 1.4290598 | I61: =0.5*worksheet!$F$62/100*worksheet!$F$29*H61*E61*G61/1000*worksheet!$F$11 -> 26.781976 | J61: =G61 -> 63.909355 | L61: 2.26 | M61: =IF(worksheet!$F$10="Rapid charger",40+(worksheet!$F$17-40)*(worksheet!$J$11-3)/(worksheet!$F$14-3)," ") | N61: =N60+($N$113-$N$53)/60 -> 0.27466667 | O61: =1000*worksheet!$F$42*N61/worksheet!$F$52/worksheet!$F$8 -> 2.7658741 | P61: =worksheet!$F$8*O61/worksheet!$F$29/worksheet!$J$11 -> 5.7951648 | Q61: =IF((O61+P61)<(1000/M61),"DCM","CDCM") -> #VALUE! | R61: =IF(Q61="DCM",1000/(1000/M61+worksheet!$F$43/1000),1000/(O61+P61+worksheet!$F$43/1000)) -> #VALUE! | S61: =N61/worksheet!$F$52 -> 1.408547 | T61: =0.5*worksheet!$F$62/100*worksheet!$F$29*S61*P61*R61/1000*worksheet!$J$11 -> #VALUE!
A62: 2.28 | B62: =IF(worksheet!$F$10="Rapid charger",IF(worksheet!$F$11>20,40+(worksheet!$F$17-40)*(worksheet!$F$11-3)/(worksheet!$F$11-3),40+(worksheet!$F$17-40)*(worksheet!$F$11-3)/(worksheet!$F$14-3)),IF(worksheet!$F$18>20,40+(worksheet!$F$17-40)*(worksheet!$F$18-3)/(worksheet!$F$14-3),40+(worksheet!$F$17-40)*(worksheet!$F$18-3)/(worksheet!$F$14-3))) -> 67.352941 | C62: =C61+($C$113-$C$53)/60 -> 0.2835 | D62: =1000*worksheet!$F$42*C62/worksheet!$F$52/worksheet!$F$8 -> 2.8548252 | E62: =worksheet!$F$8*D62/worksheet!$F$29/worksheet!$F$11 -> 6.4087912 | F62: =IF((D62+E62)<(1000/B62),"DCM","CDCM") -> DCM | G62: =IF(F62="DCM",1000/(1000/B62+worksheet!$F$43/2/1000),1000/(D62+E62+worksheet!$F$43/2/1000)) -> 63.909355 | H62: =C62/worksheet!$F$52 -> 1.4538462 | I62: =0.5*worksheet!$F$62/100*worksheet!$F$29*H62*E62*G62/1000*worksheet!$F$11 -> 27.719072 | J62: =G62 -> 63.909355 | L62: 2.28 | M62: =IF(worksheet!$F$10="Rapid charger",40+(worksheet!$F$17-40)*(worksheet!$J$11-3)/(worksheet!$F$14-3)," ") | N62: =N61+($N$113-$N$53)/60 -> 0.279 | O62: =1000*worksheet!$F$42*N62/worksheet!$F$52/worksheet!$F$8 -> 2.8095105 | P62: =worksheet!$F$8*O62/worksheet!$F$29/worksheet!$J$11 -> 5.8865934 | Q62: =IF((O62+P62)<(1000/M62),"DCM","CDCM") -> #VALUE! | R62: =IF(Q62="DCM",1000/(1000/M62+worksheet!$F$43/1000),1000/(O62+P62+worksheet!$F$43/1000)) -> #VALUE! | S62: =N62/worksheet!$F$52 -> 1.4307692 | T62: =0.5*worksheet!$F$62/100*worksheet!$F$29*S62*P62*R62/1000*worksheet!$J$11 -> #VALUE!
A63: 2.3 | B63: =IF(worksheet!$F$10="Rapid charger",IF(worksheet!$F$11>20,40+(worksheet!$F$17-40)*(worksheet!$F$11-3)/(worksheet!$F$11-3),40+(worksheet!$F$17-40)*(worksheet!$F$11-3)/(worksheet!$F$14-3)),IF(worksheet!$F$18>20,40+(worksheet!$F$17-40)*(worksheet!$F$18-3)/(worksheet!$F$14-3),40+(worksheet!$F$17-40)*(worksheet!$F$18-3)/(worksheet!$F$14-3))) -> 67.352941 | C63: =C62+($C$113-$C$53)/60 -> 0.28833333 | D63: =1000*worksheet!$F$42*C63/worksheet!$F$52/worksheet!$F$8 -> 2.9034965 | E63: =worksheet!$F$8*D63/worksheet!$F$29/worksheet!$F$11 -> 6.5180534 | F63: =IF((D63+E63)<(1000/B63),"DCM","CDCM") -> DCM | G63: =IF(F63="DCM",1000/(1000/B63+worksheet!$F$43/2/1000),1000/(D63+E63+worksheet!$F$43/2/1000)) -> 63.909355 | H63: =C63/worksheet!$F$52 -> 1.4786325 | I63: =0.5*worksheet!$F$62/100*worksheet!$F$29*H63*E63*G63/1000*worksheet!$F$11 -> 28.672283 | J63: =G63 -> 63.909355 | L63: 2.3 | M63: =IF(worksheet!$F$10="Rapid charger",40+(worksheet!$F$17-40)*(worksheet!$J$11-3)/(worksheet!$F$14-3)," ") | N63: =N62+($N$113-$N$53)/60 -> 0.28333333 | O63: =1000*worksheet!$F$42*N63/worksheet!$F$52/worksheet!$F$8 -> 2.8531469 | P63: =worksheet!$F$8*O63/worksheet!$F$29/worksheet!$J$11 -> 5.978022 | Q63: =IF((O63+P63)<(1000/M63),"DCM","CDCM") -> #VALUE! | R63: =IF(Q63="DCM",1000/(1000/M63+worksheet!$F$43/1000),1000/(O63+P63+worksheet!$F$43/1000)) -> #VALUE! | S63: =N63/worksheet!$F$52 -> 1.4529915 | T63: =0.5*worksheet!$F$62/100*worksheet!$F$29*S63*P63*R63/1000*worksheet!$J$11 -> #VALUE!
A64: 2.32 | B64: =IF(worksheet!$F$10="Rapid charger",IF(worksheet!$F$11>20,40+(worksheet!$F$17-40)*(worksheet!$F$11-3)/(worksheet!$F$11-3),40+(worksheet!$F$17-40)*(worksheet!$F$11-3)/(worksheet!$F$14-3)),IF(worksheet!$F$18>20,40+(worksheet!$F$17-40)*(worksheet!$F$18-3)/(worksheet!$F$14-3),40+(worksheet!$F$17-40)*(worksheet!$F$18-3)/(worksheet!$F$14-3))) -> 67.352941 | C64: =C63+($C$113-$C$53)/60 -> 0.29316667 | D64: =1000*worksheet!$F$42*C64/worksheet!$F$52/worksheet!$F$8 -> 2.9521678 | E64: =worksheet!$F$8*D64/worksheet!$F$29/worksheet!$F$11 -> 6.6273155 | F64: =IF((D64+E64)<(1000/B64),"DCM","CDCM") -> DCM | G64: =IF(F64="DCM",1000/(1000/B64+worksheet!$F$43/2/1000),1000/(D64+E64+worksheet!$F$43/2/1000)) -> 63.909355 | H64: =C64/worksheet!$F$52 -> 1.5034188 | I64: =0.5*worksheet!$F$62/100*worksheet!$F$29*H64*E64*G64/1000*worksheet!$F$11 -> 29.641607 | J64: =G64 -> 63.909355 | L64: 2.32 | M64: =IF(worksheet!$F$10="Rapid charger",40+(worksheet!$F$17-40)*(worksheet!$J$11-3)/(worksheet!$F$14-3)," ") | N64: =N63+($N$113-$N$53)/60 -> 0.28766667 | O64: =1000*worksheet!$F$42*N64/worksheet!$F$52/worksheet!$F$8 -> 2.8967832 | P64: =worksheet!$F$8*O64/worksheet!$F$29/worksheet!$J$11 -> 6.0694505 | Q64: =IF((O64+P64)<(1000/M64),"DCM","CDCM") -> #VALUE! | R64: =IF(Q64="DCM",1000/(1000/M64+worksheet!$F$43/1000),1000/(O64+P64+worksheet!$F$43/1000)) -> #VALUE! | S64: =N64/worksheet!$F$52 -> 1.4752137 | T64: =0.5*worksheet!$F$62/100*worksheet!$F$29*S64*P64*R64/1000*worksheet!$J$11 -> #VALUE!
A65: 2.34 | B65: =IF(worksheet!$F$10="Rapid charger",IF(worksheet!$F$11>20,40+(worksheet!$F$17-40)*(worksheet!$F$11-3)/(worksheet!$F$11-3),40+(worksheet!$F$17-40)*(worksheet!$F$11-3)/(worksheet!$F$14-3)),IF(worksheet!$F$18>20,40+(worksheet!$F$17-40)*(worksheet!$F$18-3)/(worksheet!$F$14-3),40+(worksheet!$F$17-40)*(worksheet!$F$18-3)/(worksheet!$F$14-3))) -> 67.352941 | C65: =C64+($C$113-$C$53)/60 -> 0.298 | D65: =1000*worksheet!$F$42*C65/worksheet!$F$52/worksheet!$F$8 -> 3.0008392 | E65: =worksheet!$F$8*D65/worksheet!$F$29/worksheet!$F$11 -> 6.7365777 | F65: =IF((D65+E65)<(1000/B65),"DCM","CDCM") -> DCM | G65: =IF(F65="DCM",1000/(1000/B65+worksheet!$F$43/2/1000),1000/(D65+E65+worksheet!$F$43/2/1000)) -> 63.909355 | H65: =C65/worksheet!$F$52 -> 1.5282051 | I65: =0.5*worksheet!$F$62/100*worksheet!$F$29*H65*E65*G65/1000*worksheet!$F$11 -> 30.627045 | J65: =G65 -> 63.909355 | L65: 2.34 | M65: =IF(worksheet!$F$10="Rapid charger",40+(worksheet!$F$17-40)*(worksheet!$J$11-3)/(worksheet!$F$14-3)," ") | N65: =N64+($N$113-$N$53)/60 -> 0.292 | O65: =1000*worksheet!$F$42*N65/worksheet!$F$52/worksheet!$F$8 -> 2.9404196 | P65: =worksheet!$F$8*O65/worksheet!$F$29/worksheet!$J$11 -> 6.1608791 | Q65: =IF((O65+P65)<(1000/M65),"DCM","CDCM") -> #VALUE! | R65: =IF(Q65="DCM",1000/(1000/M65+worksheet!$F$43/1000),1000/(O65+P65+worksheet!$F$43/1000)) -> #VALUE! | S65: =N65/worksheet!$F$52 -> 1.4974359 | T65: =0.5*worksheet!$F$62/100*worksheet!$F$29*S65*P65*R65/1000*worksheet!$J$11 -> #VALUE!
... A98: 3 | B98: =IF(worksheet!$F$10="Rapid charger",IF(worksheet!$F$11>20,40+(worksheet!$F$17-40)*(worksheet!$F$11-3)/(worksheet!$F$11-3),40+(worksheet!$F$17-40)*(worksheet!$F$11-3)/(worksheet!$F$14-3)),IF(worksheet!$F$18>20,40+(worksheet!$F$17-40)*(worksheet!$F$18-3)/(worksheet!$F$14-3),40+(worksheet!$F$17-40)*(worksheet!$F$18-3)/(worksheet!$F$14-3))) -> 67.352941 | C98: =C97+($C$113-$C$53)/60 -> 0.4575 | D98: =1000*worksheet!$F$42*C98/worksheet!$F$52/worksheet!$F$8 -> 4.606993 | E98: =worksheet!$F$8*D98/worksheet!$F$29/worksheet!$F$11 -> 10.342229 | F98: =IF((D98+E98)<(1000/B98),"DCM","CDCM") -> CDCM | G98: =IF(F98="DCM",1000/(1000/B98+worksheet!$F$43/2/1000),1000/(D98+E98+worksheet!$F$43/2/1000)) -> 63.495199 | H98: =C98/worksheet!$F$52 -> 2.3461538 | I98: =0.5*worksheet!$F$62/100*worksheet!$F$29*H98*E98*G98/1000*worksheet!$F$11 -> 71.718504 | J98: =G98 -> 63.495199 | L98: 3 | M98: =IF(worksheet!$F$10="Rapid charger",40+(worksheet!$F$17-40)*(worksheet!$J$11-3)/(worksheet!$F$14-3)," ") | N98: =N97+($N$113-$N$53)/60 -> 0.435 | O98: =1000*worksheet!$F$42*N98/worksheet!$F$52/worksheet!$F$8 -> 4.3804196 | P98: =worksheet!$F$8*O98/worksheet!$F$29/worksheet!$J$11 -> 9.178022 | Q98: =IF((O98+P98)<(1000/M98),"DCM","CDCM") -> #VALUE! | R98: =IF(Q98="DCM",1000/(1000/M98+worksheet!$F$43/1000),1000/(O98+P98+worksheet!$F$43/1000)) -> #VALUE! | S98: =N98/worksheet!$F$52 -> 2.2307692 | T98: =0.5*worksheet!$F$62/100*worksheet!$F$29*S98*P98*R98/1000*worksheet!$J$11 -> #VALUE!
A99: 3.02 | B99: =IF(worksheet!$F$10="Rapid charger",IF(worksheet!$F$11>20,40+(worksheet!$F$17-40)*(worksheet!$F$11-3)/(worksheet!$F$11-3),40+(worksheet!$F$17-40)*(worksheet!$F$11-3)/(worksheet!$F$14-3)),IF(worksheet!$F$18>20,40+(worksheet!$F$17-40)*(worksheet!$F$18-3)/(worksheet!$F$14-3),40+(worksheet!$F$17-40)*(worksheet!$F$18-3)/(worksheet!$F$14-3))) -> 67.352941 | C99: =C98+($C$113-$C$53)/60 -> 0.46233333 | D99: =1000*worksheet!$F$42*C99/worksheet!$F$52/worksheet!$F$8 -> 4.6556643 | E99: =worksheet!$F$8*D99/worksheet!$F$29/worksheet!$F$11 -> 10.451491 | F99: =IF((D99+E99)<(1000/B99),"DCM","CDCM") -> CDCM | G99: =IF(F99="DCM",1000/(1000/B99+worksheet!$F$43/2/1000),1000/(D99+E99+worksheet!$F$43/2/1000)) -> 62.86479 | H99: =C99/worksheet!$F$52 -> 2.3709402 | I99: =0.5*worksheet!$F$62/100*worksheet!$F$29*H99*E99*G99/1000*worksheet!$F$11 -> 72.514693 | J99: =B99 -> 67.352941 | L99: 3.02 | M99: =IF(worksheet!$F$10="Rapid charger",40+(worksheet!$F$17-40)*(worksheet!$J$11-3)/(worksheet!$F$14-3)," ") | N99: =N98+($N$113-$N$53)/60 -> 0.43933333 | O99: =1000*worksheet!$F$42*N99/worksheet!$F$52/worksheet!$F$8 -> 4.4240559 | P99: =worksheet!$F$8*O99/worksheet!$F$29/worksheet!$J$11 -> 9.2694505 | Q99: =IF((O99+P99)<(1000/M99),"DCM","CDCM") -> #VALUE! | R99: =IF(Q99="DCM",1000/(1000/M99+worksheet!$F$43/1000),1000/(O99+P99+worksheet!$F$43/1000)) -> #VALUE! | S99: =N99/worksheet!$F$52 -> 2.2529915 | T99: =0.5*worksheet!$F$62/100*worksheet!$F$29*S99*P99*R99/1000*worksheet!$J$11 -> #VALUE!
A100: 3.04 | B100: =IF(worksheet!$F$10="Rapid charger",IF(worksheet!$F$11>20,40+(worksheet!$F$17-40)*(worksheet!$F$11-3)/(worksheet!$F$11-3),40+(worksheet!$F$17-40)*(worksheet!$F$11-3)/(worksheet!$F$14-3)),IF(worksheet!$F$18>20,40+(worksheet!$F$17-40)*(worksheet!$F$18-3)/(worksheet!$F$14-3),40+(worksheet!$F$17-40)*(worksheet!$F$18-3)/(worksheet!$F$14-3))) -> 67.352941 | C100: =C99+($C$113-$C$53)/60 -> 0.46716667 | D100: =1000*worksheet!$F$42*C100/worksheet!$F$52/worksheet!$F$8 -> 4.7043357 | E100: =worksheet!$F$8*D100/worksheet!$F$29/worksheet!$F$11 -> 10.560754 | F100: =IF((D100+E100)<(1000/B100),"DCM","CDCM") -> CDCM | G100: =IF(F100="DCM",1000/(1000/B100+worksheet!$F$43/2/1000),1000/(D100+E100+worksheet!$F$43/2/1000)) -> 62.246775 | H100: =C100/worksheet!$F$52 -> 2.3957265 | I100: =0.5*worksheet!$F$62/100*worksheet!$F$29*H100*E100*G100/1000*worksheet!$F$11 -> 73.310923 | J100: =B100 -> 67.352941 | L100: 3.04 | M100: =IF(worksheet!$F$10="Rapid charger",40+(worksheet!$F$17-40)*(worksheet!$J$11-3)/(worksheet!$F$14-3)," ") | N100: =N99+($N$113-$N$53)/60 -> 0.44366667 | O100: =1000*worksheet!$F$42*N100/worksheet!$F$52/worksheet!$F$8 -> 4.4676923 | P100: =worksheet!$F$8*O100/worksheet!$F$29/worksheet!$J$11 -> 9.3608791 | Q100: =IF((O100+P100)<(1000/M100),"DCM","CDCM") -> #VALUE! | R100: =IF(Q100="DCM",1000/(1000/M100+worksheet!$F$43/1000),1000/(O100+P100+worksheet!$F$43/1000)) -> #VALUE! | S100: =N100/worksheet!$F$52 -> 2.2752137 | T100: =0.5*worksheet!$F$62/100*worksheet!$F$29*S100*P100*R100/1000*worksheet!$J$11 -> #VALUE!
A101: 3.06 | B101: =IF(worksheet!$F$10="Rapid charger",IF(worksheet!$F$11>20,40+(worksheet!$F$17-40)*(worksheet!$F$11-3)/(worksheet!$F$11-3),40+(worksheet!$F$17-40)*(worksheet!$F$11-3)/(worksheet!$F$14-3)),IF(worksheet!$F$18>20,40+(worksheet!$F$17-40)*(worksheet!$F$18-3)/(worksheet!$F$14-3),40+(worksheet!$F$17-40)*(worksheet!$F$18-3)/(worksheet!$F$14-3))) -> 67.352941 | C101: =C100+($C$113-$C$53)/60 -> 0.472 | D101: =1000*worksheet!$F$42*C101/worksheet!$F$52/worksheet!$F$8 -> 4.753007 | E101: =worksheet!$F$8*D101/worksheet!$F$29/worksheet!$F$11 -> 10.670016 | F101: =IF((D101+E101)<(1000/B101),"DCM","CDCM") -> CDCM | G101: =IF(F101="DCM",1000/(1000/B101+worksheet!$F$43/2/1000),1000/(D101+E101+worksheet!$F$43/2/1000)) -> 61.640794 | H101: =C101/worksheet!$F$52 -> 2.4205128 | I101: =0.5*worksheet!$F$62/100*worksheet!$F$29*H101*E101*G101/1000*worksheet!$F$11 -> 74.107192 | J101: =B101 -> 67.352941 | L101: 3.06 | M101: =IF(worksheet!$F$10="Rapid charger",40+(worksheet!$F$17-40)*(worksheet!$J$11-3)/(worksheet!$F$14-3)," ") | N101: =N100+($N$113-$N$53)/60 -> 0.448 | O101: =1000*worksheet!$F$42*N101/worksheet!$F$52/worksheet!$F$8 -> 4.5113287 | P101: =worksheet!$F$8*O101/worksheet!$F$29/worksheet!$J$11 -> 9.4523077 | Q101: =IF((O101+P101)<(1000/M101),"DCM","CDCM") -> #VALUE! | R101: =IF(Q101="DCM",1000/(1000/M101+worksheet!$F$43/1000),1000/(O101+P101+worksheet!$F$43/1000)) -> #VALUE! | S101: =N101/worksheet!$F$52 -> 2.2974359 | T101: =0.5*worksheet!$F$62/100*worksheet!$F$29*S101*P101*R101/1000*worksheet!$J$11 -> #VALUE!
A102: 3.08 | B102: =IF(worksheet!$F$10="Rapid charger",IF(worksheet!$F$11>20,40+(worksheet!$F$17-40)*(worksheet!$F$11-3)/(worksheet!$F$11-3),40+(worksheet!$F$17-40)*(worksheet!$F$11-3)/(worksheet!$F$14-3)),IF(worksheet!$F$18>20,40+(worksheet!$F$17-40)*(worksheet!$F$18-3)/(worksheet!$F$14-3),40+(worksheet!$F$17-40)*(worksheet!$F$18-3)/(worksheet!$F$14-3))) -> 67.352941 | C102: =C101+($C$113-$C$53)/60 -> 0.47683333 | D102: =1000*worksheet!$F$42*C102/worksheet!$F$52/worksheet!$F$8 -> 4.8016783 | E102: =worksheet!$F$8*D102/worksheet!$F$29/worksheet!$F$11 -> 10.779278 | F102: =IF((D102+E102)<(1000/B102),"DCM","CDCM") -> CDCM | G102: =IF(F102="DCM",1000/(1000/B102+worksheet!$F$43/2/1000),1000/(D102+E102+worksheet!$F$43/2/1000)) -> 61.046497 | H102: =C102/worksheet!$F$52 -> 2.4452991 | I102: =0.5*worksheet!$F$62/100*worksheet!$F$29*H102*E102*G102/1000*worksheet!$F$11 -> 74.903498 | J102: =B102 -> 67.352941 | L102: 3.08 | M102: =IF(worksheet!$F$10="Rapid charger",40+(worksheet!$F$17-40)*(worksheet!$J$11-3)/(worksheet!$F$14-3)," ") | N102: =N101+($N$113-$N$53)/60 -> 0.45233333 | O102: =1000*worksheet!$F$42*N102/worksheet!$F$52/worksheet!$F$8 -> 4.554965 | P102: =worksheet!$F$8*O102/worksheet!$F$29/worksheet!$J$11 -> 9.5437363 | Q102: =IF((O102+P102)<(1000/M102),"DCM","CDCM") -> #VALUE! | R102: =IF(Q102="DCM",1000/(1000/M102+worksheet!$F$43/1000),1000/(O102+P102+worksheet!$F$43/1000)) -> #VALUE! | S102: =N102/worksheet!$F$52 -> 2.3196581 | T102: =0.5*worksheet!$F$62/100*worksheet!$F$29*S102*P102*R102/1000*worksheet!$J$11 -> #VALUE!
A103: 3.1 | B103: =IF(worksheet!$F$10="Rapid charger",IF(worksheet!$F$11>20,40+(worksheet!$F$17-40)*(worksheet!$F$11-3)/(worksheet!$F$11-3),40+(worksheet!$F$17-40)*(worksheet!$F$11-3)/(worksheet!$F$14-3)),IF(worksheet!$F$18>20,40+(worksheet!$F$17-40)*(worksheet!$F$18-3)/(worksheet!$F$14-3),40+(worksheet!$F$17-40)*(worksheet!$F$18-3)/(worksheet!$F$14-3))) -> 67.352941 | C103: =C102+($C$113-$C$53)/60 -> 0.48166667 | D103: =1000*worksheet!$F$42*C103/worksheet!$F$52/worksheet!$F$8 -> 4.8503497 | E103: =worksheet!$F$8*D103/worksheet!$F$29/worksheet!$F$11 -> 10.88854 | F103: =IF((D103+E103)<(1000/B103),"DCM","CDCM") -> CDCM | G103: =IF(F103="DCM",1000/(1000/B103+worksheet!$F$43/2/1000),1000/(D103+E103+worksheet!$F$43/2/1000)) -> 60.463551 | H103: =C103/worksheet!$F$52 -> 2.4700855 | I103: =0.5*worksheet!$F$62/100*worksheet!$F$29*H103*E103*G103/1000*worksheet!$F$11 -> 75.699841 | J103: =B103 -> 67.352941 | L103: 3.1 | M103: =IF(worksheet!$F$10="Rapid charger",40+(worksheet!$F$17-40)*(worksheet!$J$11-3)/(worksheet!$F$14-3)," ") | N103: =N102+($N$113-$N$53)/60 -> 0.45666667 | O103: =1000*worksheet!$F$42*N103/worksheet!$F$52/worksheet!$F$8 -> 4.5986014 | P103: =worksheet!$F$8*O103/worksheet!$F$29/worksheet!$J$11 -> 9.6351648 | Q103: =IF((O103+P103)<(1000/M103),"DCM","CDCM") -> #VALUE! | R103: =IF(Q103="DCM",1000/(1000/M103+worksheet!$F$43/1000),1000/(O103+P103+worksheet!$F$43/1000)) -> #VALUE! | S103: =N103/worksheet!$F$52 -> 2.3418803 | T103: =0.5*worksheet!$F$62/100*worksheet!$F$29*S103*P103*R103/1000*worksheet!$J$11 -> #VALUE!
A104: 3.12 | B104: =IF(worksheet!$F$10="Rapid charger",IF(worksheet!$F$11>20,40+(worksheet!$F$17-40)*(worksheet!$F$11-3)/(worksheet!$F$11-3),40+(worksheet!$F$17-40)*(worksheet!$F$11-3)/(worksheet!$F$14-3)),IF(worksheet!$F$18>20,40+(worksheet!$F$17-40)*(worksheet!$F$18-3)/(worksheet!$F$14-3),40+(worksheet!$F$17-40)*(worksheet!$F$18-3)/(worksheet!$F$14-3))) -> 67.352941 | C104: =C103+($C$113-$C$53)/60 -> 0.4865 | D104: =1000*worksheet!$F$42*C104/worksheet!$F$52/worksheet!$F$8 -> 4.899021 | E104: =worksheet!$F$8*D104/worksheet!$F$29/worksheet!$F$11 -> 10.997802 | F104: =IF((D104+E104)<(1000/B104),"DCM","CDCM") -> CDCM | G104: =IF(F104="DCM",1000/(1000/B104+worksheet!$F$43/2/1000),1000/(D104+E104+worksheet!$F$43/2/1000)) -> 59.891633 | H104: =C104/worksheet!$F$52 -> 2.4948718 | I104: =0.5*worksheet!$F$62/100*worksheet!$F$29*H104*E104*G104/1000*worksheet!$F$11 -> 76.49622 | J104: =B104 -> 67.352941 | L104: 3.12 | M104: =IF(worksheet!$F$10="Rapid charger",40+(worksheet!$F$17-40)*(worksheet!$J$11-3)/(worksheet!$F$14-3)," ") | N104: =N103+($N$113-$N$53)/60 -> 0.461 | O104: =1000*worksheet!$F$42*N104/worksheet!$F$52/worksheet!$F$8 -> 4.6422378 | P104: =worksheet!$F$8*O104/worksheet!$F$29/worksheet!$J$11 -> 9.7265934 | Q104: =IF((O104+P104)<(1000/M104),"DCM","CDCM") -> #VALUE! | R104: =IF(Q104="DCM",1000/(1000/M104+worksheet!$F$43/1000),1000/(O104+P104+worksheet!$F$43/1000)) -> #VALUE! | S104: =N104/worksheet!$F$52 -> 2.3641026 | T104: =0.5*worksheet!$F$62/100*worksheet!$F$29*S104*P104*R104/1000*worksheet!$J$11 -> #VALUE!
A105: 3.14 | B105: =IF(worksheet!$F$10="Rapid charger",IF(worksheet!$F$11>20,40+(worksheet!$F$17-40)*(worksheet!$F$11-3)/(worksheet!$F$11-3),40+(worksheet!$F$17-40)*(worksheet!$F$11-3)/(worksheet!$F$14-3)),IF(worksheet!$F$18>20,40+(worksheet!$F$17-40)*(worksheet!$F$18-3)/(worksheet!$F$14-3),40+(worksheet!$F$17-40)*(worksheet!$F$18-3)/(worksheet!$F$14-3))) -> 67.352941 | C105: =C104+($C$113-$C$53)/60 -> 0.49133333 | D105: =1000*worksheet!$F$42*C105/worksheet!$F$52/worksheet!$F$8 -> 4.9476923 | E105: =worksheet!$F$8*D105/worksheet!$F$29/worksheet!$F$11 -> 11.107064 | F105: =IF((D105+E105)<(1000/B105),"DCM","CDCM") -> CDCM | G105: =IF(F105="DCM",1000/(1000/B105+worksheet!$F$43/2/1000),1000/(D105+E105+worksheet!$F$43/2/1000)) -> 59.330432 | H105: =C105/worksheet!$F$52 -> 2.5196581 | I105: =0.5*worksheet!$F$62/100*worksheet!$F$29*H105*E105*G105/1000*worksheet!$F$11 -> 77.292633 | J105: =B105 -> 67.352941 | L105: 3.14 | M105: =IF(worksheet!$F$10="Rapid charger",40+(worksheet!$F$17-40)*(worksheet!$J$11-3)/(worksheet!$F$14-3)," ") | N105: =N104+($N$113-$N$53)/60 -> 0.46533333 | O105: =1000*worksheet!$F$42*N105/worksheet!$F$52/worksheet!$F$8 -> 4.6858741 | P105: =worksheet!$F$8*O105/worksheet!$F$29/worksheet!$J$11 -> 9.818022 | Q105: =IF((O105+P105)<(1000/M105),"DCM","CDCM") -> #VALUE! | R105: =IF(Q105="DCM",1000/(1000/M105+worksheet!$F$43/1000),1000/(O105+P105+worksheet!$F$43/1000)) -> #VALUE! | S105: =N105/worksheet!$F$52 -> 2.3863248 | T105: =0.5*worksheet!$F$62/100*worksheet!$F$29*S105*P105*R105/1000*worksheet!$J$11 -> #VALUE!
A106: 3.16 | B106: =IF(worksheet!$F$10="Rapid charger",IF(worksheet!$F$11>20,40+(worksheet!$F$17-40)*(worksheet!$F$11-3)/(worksheet!$F$11-3),40+(worksheet!$F$17-40)*(worksheet!$F$11-3)/(worksheet!$F$14-3)),IF(worksheet!$F$18>20,40+(worksheet!$F$17-40)*(worksheet!$F$18-3)/(worksheet!$F$14-3),40+(worksheet!$F$17-40)*(worksheet!$F$18-3)/(worksheet!$F$14-3))) -> 67.352941 | C106: =C105+($C$113-$C$53)/60 -> 0.49616667 | D106: =1000*worksheet!$F$42*C106/worksheet!$F$52/worksheet!$F$8 -> 4.9963636 | E106: =worksheet!$F$8*D106/worksheet!$F$29/worksheet!$F$11 -> 11.216327 | F106: =IF((D106+E106)<(1000/B106),"DCM","CDCM") -> CDCM | G106: =IF(F106="DCM",1000/(1000/B106+worksheet!$F$43/2/1000),1000/(D106+E106+worksheet!$F$43/2/1000)) -> 58.779652 | H106: =C106/worksheet!$F$52 -> 2.5444444 | I106: =0.5*worksheet!$F$62/100*worksheet!$F$29*H106*E106*G106/1000*worksheet!$F$11 -> 78.089081 | J106: =B106 -> 67.352941 | L106: 3.16 | M106: =IF(worksheet!$F$10="Rapid charger",40+(worksheet!$F$17-40)*(worksheet!$J$11-3)/(worksheet!$F$14-3)," ") | N106: =N105+($N$113-$N$53)/60 -> 0.46966667 | O106: =1000*worksheet!$F$42*N106/worksheet!$F$52/worksheet!$F$8 -> 4.7295105 | P106: =worksheet!$F$8*O106/worksheet!$F$29/worksheet!$J$11 -> 9.9094505 | Q106: =IF((O106+P106)<(1000/M106),"DCM","CDCM") -> #VALUE! | R106: =IF(Q106="DCM",1000/(1000/M106+worksheet!$F$43/1000),1000/(O106+P106+worksheet!$F$43/1000)) -> #VALUE! | S106: =N106/worksheet!$F$52 -> 2.408547 | T106: =0.5*worksheet!$F$62/100*worksheet!$F$29*S106*P106*R106/1000*worksheet!$J$11 -> #VALUE!
A107: 3.18 | B107: =IF(worksheet!$F$10="Rapid charger",IF(worksheet!$F$11>20,40+(worksheet!$F$17-40)*(worksheet!$F$11-3)/(worksheet!$F$11-3),40+(worksheet!$F$17-40)*(worksheet!$F$11-3)/(worksheet!$F$14-3)),IF(worksheet!$F$18>20,40+(worksheet!$F$17-40)*(worksheet!$F$18-3)/(worksheet!$F$14-3),40+(worksheet!$F$17-40)*(worksheet!$F$18-3)/(worksheet!$F$14-3))) -> 67.352941 | C107: =C106+($C$113-$C$53)/60 -> 0.501 | D107: =1000*worksheet!$F$42*C107/worksheet!$F$52/worksheet!$F$8 -> 5.045035 | E107: =worksheet!$F$8*D107/worksheet!$F$29/worksheet!$F$11 -> 11.325589 | F107: =IF((D107+E107)<(1000/B107),"DCM","CDCM") -> CDCM | G107: =IF(F107="DCM",1000/(1000/B107+worksheet!$F$43/2/1000),1000/(D107+E107+worksheet!$F$43/2/1000)) -> 58.239003 | H107: =C107/worksheet!$F$52 -> 2.5692308 | I107: =0.5*worksheet!$F$62/100*worksheet!$F$29*H107*E107*G107/1000*worksheet!$F$11 -> 78.885561 | J107: =B107 -> 67.352941 | L107: 3.18 | M107: =IF(worksheet!$F$10="Rapid charger",40+(worksheet!$F$17-40)*(worksheet!$J$11-3)/(worksheet!$F$14-3)," ") | N107: =N106+($N$113-$N$53)/60 -> 0.474 | O107: =1000*worksheet!$F$42*N107/worksheet!$F$52/worksheet!$F$8 -> 4.7731469 | P107: =worksheet!$F$8*O107/worksheet!$F$29/worksheet!$J$11 -> 10.000879 | Q107: =IF((O107+P107)<(1000/M107),"DCM","CDCM") -> #VALUE! | R107: =IF(Q107="DCM",1000/(1000/M107+worksheet!$F$43/1000),1000/(O107+P107+worksheet!$F$43/1000)) -> #VALUE! | S107: =N107/worksheet!$F$52 -> 2.4307692 | T107: =0.5*worksheet!$F$62/100*worksheet!$F$29*S107*P107*R107/1000*worksheet!$J$11 -> #VALUE!
A108: 3.2 | B108: =IF(worksheet!$F$10="Rapid charger",IF(worksheet!$F$11>20,40+(worksheet!$F$17-40)*(worksheet!$F$11-3)/(worksheet!$F$11-3),40+(worksheet!$F$17-40)*(worksheet!$F$11-3)/(worksheet!$F$14-3)),IF(worksheet!$F$18>20,40+(worksheet!$F$17-40)*(worksheet!$F$18-3)/(worksheet!$F$14-3),40+(worksheet!$F$17-40)*(worksheet!$F$18-3)/(worksheet!$F$14-3))) -> 67.352941 | C108: =C107+($C$113-$C$53)/60 -> 0.50583333 | D108: =1000*worksheet!$F$42*C108/worksheet!$F$52/worksheet!$F$8 -> 5.0937063 | E108: =worksheet!$F$8*D108/worksheet!$F$29/worksheet!$F$11 -> 11.434851 | F108: =IF((D108+E108)<(1000/B108),"DCM","CDCM") -> CDCM | G108: =IF(F108="DCM",1000/(1000/B108+worksheet!$F$43/2/1000),1000/(D108+E108+worksheet!$F$43/2/1000)) -> 57.708209 | H108: =C108/worksheet!$F$52 -> 2.5940171 | I108: =0.5*worksheet!$F$62/100*worksheet!$F$29*H108*E108*G108/1000*worksheet!$F$11 -> 79.682072 | J108: =B108 -> 67.352941 | L108: 3.2 | M108: =IF(worksheet!$F$10="Rapid charger",40+(worksheet!$F$17-40)*(worksheet!$J$11-3)/(worksheet!$F$14-3)," ") | N108: =N107+($N$113-$N$53)/60 -> 0.47833333 | O108: =1000*worksheet!$F$42*N108/worksheet!$F$52/worksheet!$F$8 -> 4.8167832 | P108: =worksheet!$F$8*O108/worksheet!$F$29/worksheet!$J$11 -> 10.092308 | Q108: =IF((O108+P108)<(1000/M108),"DCM","CDCM") -> #VALUE! | R108: =IF(Q108="DCM",1000/(1000/M108+worksheet!$F$43/1000),1000/(O108+P108+worksheet!$F$43/1000)) -> #VALUE! | S108: =N108/worksheet!$F$52 -> 2.4529915 | T108: =0.5*worksheet!$F$62/100*worksheet!$F$29*S108*P108*R108/1000*worksheet!$J$11 -> #VALUE!
A109: 3.22 | B109: =IF(worksheet!$F$10="Rapid charger",IF(worksheet!$F$11>20,40+(worksheet!$F$17-40)*(worksheet!$F$11-3)/(worksheet!$F$11-3),40+(worksheet!$F$17-40)*(worksheet!$F$11-3)/(worksheet!$F$14-3)),IF(worksheet!$F$18>20,40+(worksheet!$F$17-40)*(worksheet!$F$18-3)/(worksheet!$F$14-3),40+(worksheet!$F$17-40)*(worksheet!$F$18-3)/(worksheet!$F$14-3))) -> 67.352941 | C109: =C108+($C$113-$C$53)/60 -> 0.51066667 | D109: =1000*worksheet!$F$42*C109/worksheet!$F$52/worksheet!$F$8 -> 5.1423776 | E109: =worksheet!$F$8*D109/worksheet!$F$29/worksheet!$F$11 -> 11.544113 | F109: =IF((D109+E109)<(1000/B109),"DCM","CDCM") -> CDCM | G109: =IF(F109="DCM",1000/(1000/B109+worksheet!$F$43/2/1000),1000/(D109+E109+worksheet!$F$43/2/1000)) -> 57.187003 | H109: =C109/worksheet!$F$52 -> 2.6188034 | I109: =0.5*worksheet!$F$62/100*worksheet!$F$29*H109*E109*G109/1000*worksheet!$F$11 -> 80.478615 | J109: =B109 -> 67.352941 | L109: 3.22 | M109: =IF(worksheet!$F$10="Rapid charger",40+(worksheet!$F$17-40)*(worksheet!$J$11-3)/(worksheet!$F$14-3)," ") | N109: =N108+($N$113-$N$53)/60 -> 0.48266667 | O109: =1000*worksheet!$F$42*N109/worksheet!$F$52/worksheet!$F$8 -> 4.8604196 | P109: =worksheet!$F$8*O109/worksheet!$F$29/worksheet!$J$11 -> 10.183736 | Q109: =IF((O109+P109)<(1000/M109),"DCM","CDCM") -> #VALUE! | R109: =IF(Q109="DCM",1000/(1000/M109+worksheet!$F$43/1000),1000/(O109+P109+worksheet!$F$43/1000)) -> #VALUE! | S109: =N109/worksheet!$F$52 -> 2.4752137 | T109: =0.5*worksheet!$F$62/100*worksheet!$F$29*S109*P109*R109/1000*worksheet!$J$11 -> #VALUE!
A110: 3.24 | B110: =IF(worksheet!$F$10="Rapid charger",IF(worksheet!$F$11>20,40+(worksheet!$F$17-40)*(worksheet!$F$11-3)/(worksheet!$F$11-3),40+(worksheet!$F$17-40)*(worksheet!$F$11-3)/(worksheet!$F$14-3)),IF(worksheet!$F$18>20,40+(worksheet!$F$17-40)*(worksheet!$F$18-3)/(worksheet!$F$14-3),40+(worksheet!$F$17-40)*(worksheet!$F$18-3)/(worksheet!$F$14-3))) -> 67.352941 | C110: =C109+($C$113-$C$53)/60 -> 0.5155 | D110: =1000*worksheet!$F$42*C110/worksheet!$F$52/worksheet!$F$8 -> 5.191049 | E110: =worksheet!$F$8*D110/worksheet!$F$29/worksheet!$F$11 -> 11.653375 | F110: =IF((D110+E110)<(1000/B110),"DCM","CDCM") -> CDCM | G110: =IF(F110="DCM",1000/(1000/B110+worksheet!$F$43/2/1000),1000/(D110+E110+worksheet!$F$43/2/1000)) -> 56.675128 | H110: =C110/worksheet!$F$52 -> 2.6435897 | I110: =0.5*worksheet!$F$62/100*worksheet!$F$29*H110*E110*G110/1000*worksheet!$F$11 -> 81.275188 | J110: =B110 -> 67.352941 | L110: 3.24 | M110: =IF(worksheet!$F$10="Rapid charger",40+(worksheet!$F$17-40)*(worksheet!$J$11-3)/(worksheet!$F$14-3)," ") | N110: =N109+($N$113-$N$53)/60 -> 0.487 | O110: =1000*worksheet!$F$42*N110/worksheet!$F$52/worksheet!$F$8 -> 4.9040559 | P110: =worksheet!$F$8*O110/worksheet!$F$29/worksheet!$J$11 -> 10.275165 | Q110: =IF((O110+P110)<(1000/M110),"DCM","CDCM") -> #VALUE! | R110: =IF(Q110="DCM",1000/(1000/M110+worksheet!$F$43/1000),1000/(O110+P110+worksheet!$F$43/1000)) -> #VALUE! | S110: =N110/worksheet!$F$52 -> 2.4974359 | T110: =0.5*worksheet!$F$62/100*worksheet!$F$29*S110*P110*R110/1000*worksheet!$J$11 -> #VALUE!
... A112: 3.28 | B112: =IF(worksheet!$F$10="Rapid charger",IF(worksheet!$F$11>20,40+(worksheet!$F$17-40)*(worksheet!$F$11-3)/(worksheet!$F$11-3),40+(worksheet!$F$17-40)*(worksheet!$F$11-3)/(worksheet!$F$14-3)),IF(worksheet!$F$18>20,40+(worksheet!$F$17-40)*(worksheet!$F$18-3)/(worksheet!$F$14-3),40+(worksheet!$F$17-40)*(worksheet!$F$18-3)/(worksheet!$F$14-3))) -> 67.352941 | C112: =C111+($C$113-$C$53)/60 -> 0.52516667 | D112: =1000*worksheet!$F$42*C112/worksheet!$F$52/worksheet!$F$8 -> 5.2883916 | E112: =worksheet!$F$8*D112/worksheet!$F$29/worksheet!$F$11 -> 11.8719 | F112: =IF((D112+E112)<(1000/B112),"DCM","CDCM") -> CDCM | G112: =IF(F112="DCM",1000/(1000/B112+worksheet!$F$43/2/1000),1000/(D112+E112+worksheet!$F$43/2/1000)) -> 55.678385 | H112: =C112/worksheet!$F$52 -> 2.6931624 | I112: =0.5*worksheet!$F$62/100*worksheet!$F$29*H112*E112*G112/1000*worksheet!$F$11 -> 82.868422 | J112: =B112 -> 67.352941 | L112: 3.28 | M112: =IF(worksheet!$F$10="Rapid charger",40+(worksheet!$F$17-40)*(worksheet!$J$11-3)/(worksheet!$F$14-3)," ") | N112: =N111+($N$113-$N$53)/60 -> 0.49566667 | O112: =1000*worksheet!$F$42*N112/worksheet!$F$52/worksheet!$F$8 -> 4.9913287 | P112: =worksheet!$F$8*O112/worksheet!$F$29/worksheet!$J$11 -> 10.458022 | Q112: =IF((O112+P112)<(1000/M112),"DCM","CDCM") -> #VALUE! | R112: =IF(Q112="DCM",1000/(1000/M112+worksheet!$F$43/1000),1000/(O112+P112+worksheet!$F$43/1000)) -> #VALUE! | S112: =N112/worksheet!$F$52 -> 2.5418803 | T112: =0.5*worksheet!$F$62/100*worksheet!$F$29*S112*P112*R112/1000*worksheet!$J$11 -> #VALUE!
A113: 3.3 | B113: =IF(worksheet!$F$10="Rapid charger",IF(worksheet!$F$11>20,40+(worksheet!$F$17-40)*(worksheet!$F$11-3)/(worksheet!$F$11-3),40+(worksheet!$F$17-40)*(worksheet!$F$11-3)/(worksheet!$F$14-3)),IF(worksheet!$F$18>20,40+(worksheet!$F$17-40)*(worksheet!$F$18-3)/(worksheet!$F$14-3),40+(worksheet!$F$17-40)*(worksheet!$F$18-3)/(worksheet!$F$14-3))) -> 67.352941 | C113: 0.53 | D113: =1000*worksheet!$F$42*C113/worksheet!$F$52/worksheet!$F$8 -> 5.3370629 | E113: =worksheet!$F$8*D113/worksheet!$F$29/worksheet!$F$11 -> 11.981162 | F113: =IF((D113+E113)<(1000/B113),"DCM","CDCM") -> CDCM | G113: =IF(F113="DCM",1000/(1000/B113+worksheet!$F$43/2/1000),1000/(D113+E113+worksheet!$F$43/2/1000)) -> 55.193046 | H113: =C113/worksheet!$F$52 -> 2.7179487 | I113: =0.5*worksheet!$F$62/100*worksheet!$F$29*H113*E113*G113/1000*worksheet!$F$11 -> 83.66508 | J113: =B113 -> 67.352941 | L113: 3.3 | M113: =IF(worksheet!$F$10="Rapid charger",40+(worksheet!$F$17-40)*(worksheet!$J$11-3)/(worksheet!$F$14-3)," ") | N113: 0.5 | O113: =1000*worksheet!$F$42*N113/worksheet!$F$52/worksheet!$F$8 -> 5.034965 | P113: =worksheet!$F$8*O113/worksheet!$F$29/worksheet!$J$11 -> 10.549451 | Q113: =IF((O113+P113)<(1000/M113),"DCM","CDCM") -> #VALUE! | R113: =IF(Q113="DCM",1000/(1000/M113+worksheet!$F$43/1000),1000/(O113+P113+worksheet!$F$43/1000)) -> #VALUE! | S113: =N113/worksheet!$F$52 -> 2.5641026 | T113: =0.5*worksheet!$F$62/100*worksheet!$F$29*S113*P113*R113/1000*worksheet!$J$11 -> #VALUE!

Sheet HLDCM
A1: =worksheet!$F$11&"V" -> 14V | L1: =worksheet!$J$11&"V" -> 15V
A2: Vc/V | B2: Fsw/kHz | C2: Vipk/V | D2: Ton/us | E2: Toff/us | F2: mode | G2: Fsw_actual/kHz | H2: Ip2/A | I2: Po_actual/W | L2: Vc/V | M2: Fsw/kHz | N2: Vipk/V | O2: Ton/us | P2: Toff/us | Q2: mode | R2: Fsw_actual/kHz | S2: Ip2/A | T2: Po_actual/W
A3: 1.1 | B3: 25 | C3: 0.11 | D3: =1000*worksheet!$F$42*C3/worksheet!$F$52/worksheet!$F$9 -> 0.62433508 | E3: =worksheet!$F$9*D3/worksheet!$F$29/worksheet!$F$11 -> 2.4866562 | F3: =IF((D3+E3)<(1000/B3),"DCM","CDCM") -> DCM | G3: =IF(F3="DCM",B3,1000/(D3+E3)) -> 25 | H3: =C3/worksheet!$F$52 -> 0.56410256 | I3: =0.5*worksheet!$F$62/100*worksheet!$F$29*H3*E3*G3/1000*worksheet!$F$11 -> 1.632426 | J3: =G3 -> 25 | L3: 1.1 | M3: 25 | N3: 0.11 | O3: =1000*worksheet!$F$42*N3/worksheet!$F$52/worksheet!$F$9 -> 0.62433508 | P3: =worksheet!$F$9*O3/worksheet!$F$29/worksheet!$J$11 -> 2.3208791 | Q3: =IF((O3+P3)<(1000/M3),"DCM","CDCM") -> DCM | R3: =IF(Q3="DCM",M3,1000/(O3+P3)) -> 25 | S3: =N3/worksheet!$F$52 -> 0.56410256 | T3: =0.5*worksheet!$F$62/100*worksheet!$F$29*S3*P3*R3/1000*worksheet!$J$11 -> 1.632426
A4: 1.12 | B4: 25 | C4: =C3+($C$28-$C$3)/25 -> 0.1168 | D4: =1000*worksheet!$F$42*C4/worksheet!$F$52/worksheet!$F$9 -> 0.66293034 | E4: =worksheet!$F$9*D4/worksheet!$F$29/worksheet!$F$11 -> 2.6403768 | F4: =IF((D4+E4)<(1000/B4),"DCM","CDCM") -> DCM | G4: =IF(F4="DCM",B4,1000/(D4+E4)) -> 25 | H4: =C4/worksheet!$F$52 -> 0.59897436 | I4: =0.5*worksheet!$F$62/100*worksheet!$F$29*H4*E4*G4/1000*worksheet!$F$11 -> 1.8404916 | J4: =G4 -> 25 | L4: 1.12 | M4: 25 | N4: =N3+($C$28-$C$3)/25 -> 0.1168 | O4: =1000*worksheet!$F$42*N4/worksheet!$F$52/worksheet!$F$9 -> 0.66293034 | P4: =worksheet!$F$9*O4/worksheet!$F$29/worksheet!$J$11 -> 2.4643516 | Q4: =IF((O4+P4)<(1000/M4),"DCM","CDCM") -> DCM | R4: =IF(Q4="DCM",M4,1000/(O4+P4)) -> 25 | S4: =N4/worksheet!$F$52 -> 0.59897436 | T4: =0.5*worksheet!$F$62/100*worksheet!$F$29*S4*P4*R4/1000*worksheet!$J$11 -> 1.8404916
A5: 1.14 | B5: 25 | C5: =C4+($C$28-$C$3)/25 -> 0.1236 | D5: =1000*worksheet!$F$42*C5/worksheet!$F$52/worksheet!$F$9 -> 0.7015256 | E5: =worksheet!$F$9*D5/worksheet!$F$29/worksheet!$F$11 -> 2.7940973 | F5: =IF((D5+E5)<(1000/B5),"DCM","CDCM") -> DCM | G5: =IF(F5="DCM",B5,1000/(D5+E5)) -> 25 | H5: =C5/worksheet!$F$52 -> 0.63384615 | I5: =0.5*worksheet!$F$62/100*worksheet!$F$29*H5*E5*G5/1000*worksheet!$F$11 -> 2.0610337 | J5: =G5 -> 25 | L5: 1.14 | M5: 25 | N5: =N4+($C$28-$C$3)/25 -> 0.1236 | O5: =1000*worksheet!$F$42*N5/worksheet!$F$52/worksheet!$F$9 -> 0.7015256 | P5: =worksheet!$F$9*O5/worksheet!$F$29/worksheet!$J$11 -> 2.6078242 | Q5: =IF((O5+P5)<(1000/M5),"DCM","CDCM") -> DCM | R5: =IF(Q5="DCM",M5,1000/(O5+P5)) -> 25 | S5: =N5/worksheet!$F$52 -> 0.63384615 | T5: =0.5*worksheet!$F$62/100*worksheet!$F$29*S5*P5*R5/1000*worksheet!$J$11 -> 2.0610337
A6: 1.16 | B6: 25 | C6: =C5+($C$28-$C$3)/25 -> 0.1304 | D6: =1000*worksheet!$F$42*C6/worksheet!$F$52/worksheet!$F$9 -> 0.74012086 | E6: =worksheet!$F$9*D6/worksheet!$F$29/worksheet!$F$11 -> 2.9478179 | F6: =IF((D6+E6)<(1000/B6),"DCM","CDCM") -> DCM | G6: =IF(F6="DCM",B6,1000/(D6+E6)) -> 25 | H6: =C6/worksheet!$F$52 -> 0.66871795 | I6: =0.5*worksheet!$F$62/100*worksheet!$F$29*H6*E6*G6/1000*worksheet!$F$11 -> 2.2940524 | J6: =G6 -> 25 | L6: 1.16 | M6: 25 | N6: =N5+($C$28-$C$3)/25 -> 0.1304 | O6: =1000*worksheet!$F$42*N6/worksheet!$F$52/worksheet!$F$9 -> 0.74012086 | P6: =worksheet!$F$9*O6/worksheet!$F$29/worksheet!$J$11 -> 2.7512967 | Q6: =IF((O6+P6)<(1000/M6),"DCM","CDCM") -> DCM | R6: =IF(Q6="DCM",M6,1000/(O6+P6)) -> 25 | S6: =N6/worksheet!$F$52 -> 0.66871795 | T6: =0.5*worksheet!$F$62/100*worksheet!$F$29*S6*P6*R6/1000*worksheet!$J$11 -> 2.2940524
A7: 1.18 | B7: 25 | C7: =C6+($C$28-$C$3)/25 -> 0.1372 | D7: =1000*worksheet!$F$42*C7/worksheet!$F$52/worksheet!$F$9 -> 0.77871612 | E7: =worksheet!$F$9*D7/worksheet!$F$29/worksheet!$F$11 -> 3.1015385 | F7: =IF((D7+E7)<(1000/B7),"DCM","CDCM") -> DCM | G7: =IF(F7="DCM",B7,1000/(D7+E7)) -> 25 | H7: =C7/worksheet!$F$52 -> 0.70358974 | I7: =0.5*worksheet!$F$62/100*worksheet!$F$29*H7*E7*G7/1000*worksheet!$F$11 -> 2.5395476 | J7: =G7 -> 25 | L7: 1.18 | M7: 25 | N7: =N6+($C$28-$C$3)/25 -> 0.1372 | O7: =1000*worksheet!$F$42*N7/worksheet!$F$52/worksheet!$F$9 -> 0.77871612 | P7: =worksheet!$F$9*O7/worksheet!$F$29/worksheet!$J$11 -> 2.8947692 | Q7: =IF((O7+P7)<(1000/M7),"DCM","CDCM") -> DCM | R7: =IF(Q7="DCM",M7,1000/(O7+P7)) -> 25 | S7: =N7/worksheet!$F$52 -> 0.70358974 | T7: =0.5*worksheet!$F$62/100*worksheet!$F$29*S7*P7*R7/1000*worksheet!$J$11 -> 2.5395476
A8: 1.2 | B8: 25 | C8: =C7+($C$28-$C$3)/25 -> 0.144 | D8: =1000*worksheet!$F$42*C8/worksheet!$F$52/worksheet!$F$9 -> 0.81731138 | E8: =worksheet!$F$9*D8/worksheet!$F$29/worksheet!$F$11 -> 3.255259 | F8: =IF((D8+E8)<(1000/B8),"DCM","CDCM") -> DCM | G8: =IF(F8="DCM",B8,1000/(D8+E8)) -> 25 | H8: =C8/worksheet!$F$52 -> 0.73846154 | I8: =0.5*worksheet!$F$62/100*worksheet!$F$29*H8*E8*G8/1000*worksheet!$F$11 -> 2.7975195 | J8: =G8 -> 25 | L8: 1.2 | M8: 25 | N8: =N7+($C$28-$C$3)/25 -> 0.144 | O8: =1000*worksheet!$F$42*N8/worksheet!$F$52/worksheet!$F$9 -> 0.81731138 | P8: =worksheet!$F$9*O8/worksheet!$F$29/worksheet!$J$11 -> 3.0382418 | Q8: =IF((O8+P8)<(1000/M8),"DCM","CDCM") -> DCM | R8: =IF(Q8="DCM",M8,1000/(O8+P8)) -> 25 | S8: =N8/worksheet!$F$52 -> 0.73846154 | T8: =0.5*worksheet!$F$62/100*worksheet!$F$29*S8*P8*R8/1000*worksheet!$J$11 -> 2.7975195
A9: 1.22 | B9: 25 | C9: =C8+($C$28-$C$3)/25 -> 0.1508 | D9: =1000*worksheet!$F$42*C9/worksheet!$F$52/worksheet!$F$9 -> 0.85590664 | E9: =worksheet!$F$9*D9/worksheet!$F$29/worksheet!$F$11 -> 3.4089796 | F9: =IF((D9+E9)<(1000/B9),"DCM","CDCM") -> DCM | G9: =IF(F9="DCM",B9,1000/(D9+E9)) -> 25 | H9: =C9/worksheet!$F$52 -> 0.77333333 | I9: =0.5*worksheet!$F$62/100*worksheet!$F$29*H9*E9*G9/1000*worksheet!$F$11 -> 3.067968 | L9: 1.22 | M9: 25 | N9: =N8+($C$28-$C$3)/25 -> 0.1508 | O9: =1000*worksheet!$F$42*N9/worksheet!$F$52/worksheet!$F$9 -> 0.85590664 | P9: =worksheet!$F$9*O9/worksheet!$F$29/worksheet!$J$11 -> 3.1817143 | Q9: =IF((O9+P9)<(1000/M9),"DCM","CDCM") -> DCM | R9: =IF(Q9="DCM",M9,1000/(O9+P9)) -> 25 | S9: =N9/worksheet!$F$52 -> 0.77333333 | T9: =0.5*worksheet!$F$62/100*worksheet!$F$29*S9*P9*R9/1000*worksheet!$J$11 -> 3.067968
A10: 1.24 | B10: 25 | C10: =C9+($C$28-$C$3)/25 -> 0.1576 | D10: =1000*worksheet!$F$42*C10/worksheet!$F$52/worksheet!$F$9 -> 0.8945019 | E10: =worksheet!$F$9*D10/worksheet!$F$29/worksheet!$F$11 -> 3.5627002 | F10: =IF((D10+E10)<(1000/B10),"DCM","CDCM") -> DCM | G10: =IF(F10="DCM",B10,1000/(D10+E10)) -> 25 | H10: =C10/worksheet!$F$52 -> 0.80820513 | I10: =0.5*worksheet!$F$62/100*worksheet!$F$29*H10*E10*G10/1000*worksheet!$F$11 -> 3.3508931 | J10: =G10 -> 25 | L10: 1.24 | M10: 25 | N10: =N9+($C$28-$C$3)/25 -> 0.1576 | O10: =1000*worksheet!$F$42*N10/worksheet!$F$52/worksheet!$F$9 -> 0.8945019 | P10: =worksheet!$F$9*O10/worksheet!$F$29/worksheet!$J$11 -> 3.3251868 | Q10: =IF((O10+P10)<(1000/M10),"DCM","CDCM") -> DCM | R10: =IF(Q10="DCM",M10,1000/(O10+P10)) -> 25 | S10: =N10/worksheet!$F$52 -> 0.80820513 | T10: =0.5*worksheet!$F$62/100*worksheet!$F$29*S10*P10*R10/1000*worksheet!$J$11 -> 3.3508931
A11: 1.26 | B11: 25 | C11: =C10+($C$28-$C$3)/25 -> 0.1644 | D11: =1000*worksheet!$F$42*C11/worksheet!$F$52/worksheet!$F$9 -> 0.93309716 | E11: =worksheet!$F$9*D11/worksheet!$F$29/worksheet!$F$11 -> 3.7164207 | F11: =IF((D11+E11)<(1000/B11),"DCM","CDCM") -> DCM | G11: =IF(F11="DCM",B11,1000/(D11+E11)) -> 25 | H11: =C11/worksheet!$F$52 -> 0.84307692 | I11: =0.5*worksheet!$F$62/100*worksheet!$F$29*H11*E11*G11/1000*worksheet!$F$11 -> 3.6462947 | J11: =G11 -> 25 | L11: 1.26 | M11: 25 | N11: =N10+($C$28-$C$3)/25 -> 0.1644 | O11: =1000*worksheet!$F$42*N11/worksheet!$F$52/worksheet!$F$9 -> 0.93309716 | P11: =worksheet!$F$9*O11/worksheet!$F$29/worksheet!$J$11 -> 3.4686593 | Q11: =IF((O11+P11)<(1000/M11),"DCM","CDCM") -> DCM | R11: =IF(Q11="DCM",M11,1000/(O11+P11)) -> 25 | S11: =N11/worksheet!$F$52 -> 0.84307692 | T11: =0.5*worksheet!$F$62/100*worksheet!$F$29*S11*P11*R11/1000*worksheet!$J$11 -> 3.6462947
A12: 1.28 | B12: 25 | C12: =C11+($C$28-$C$3)/25 -> 0.1712 | D12: =1000*worksheet!$F$42*C12/worksheet!$F$52/worksheet!$F$9 -> 0.97169242 | E12: =worksheet!$F$9*D12/worksheet!$F$29/worksheet!$F$11 -> 3.8701413 | F12: =IF((D12+E12)<(1000/B12),"DCM","CDCM") -> DCM | G12: =IF(F12="DCM",B12,1000/(D12+E12)) -> 25 | H12: =C12/worksheet!$F$52 -> 0.87794872 | I12: =0.5*worksheet!$F$62/100*worksheet!$F$29*H12*E12*G12/1000*worksheet!$F$11 -> 3.954173 | J12: =G12 -> 25 | L12: 1.28 | M12: 25 | N12: =N11+($C$28-$C$3)/25 -> 0.1712 | O12: =1000*worksheet!$F$42*N12/worksheet!$F$52/worksheet!$F$9 -> 0.97169242 | P12: =worksheet!$F$9*O12/worksheet!$F$29/worksheet!$J$11 -> 3.6121319 | Q12: =IF((O12+P12)<(1000/M12),"DCM","CDCM") -> DCM | R12: =IF(Q12="DCM",M12,1000/(O12+P12)) -> 25 | S12: =N12/worksheet!$F$52 -> 0.87794872 | T12: =0.5*worksheet!$F$62/100*worksheet!$F$29*S12*P12*R12/1000*worksheet!$J$11 -> 3.954173
A13: 1.3 | B13: 25 | C13: =C12+($C$28-$C$3)/25 -> 0.178 | D13: =1000*worksheet!$F$42*C13/worksheet!$F$52/worksheet!$F$9 -> 1.0102877 | E13: =worksheet!$F$9*D13/worksheet!$F$29/worksheet!$F$11 -> 4.0238619 | F13: =IF((D13+E13)<(1000/B13),"DCM","CDCM") -> DCM | G13: =IF(F13="DCM",B13,1000/(D13+E13)) -> 25 | H13: =C13/worksheet!$F$52 -> 0.91282051 | I13: =0.5*worksheet!$F$62/100*worksheet!$F$29*H13*E13*G13/1000*worksheet!$F$11 -> 4.2745278 | J13: =G13 -> 25 | L13: 1.3 | M13: 25 | N13: =N12+($C$28-$C$3)/25 -> 0.178 | O13: =1000*worksheet!$F$42*N13/worksheet!$F$52/worksheet!$F$9 -> 1.0102877 | P13: =worksheet!$F$9*O13/worksheet!$F$29/worksheet!$J$11 -> 3.7556044 | Q13: =IF((O13+P13)<(1000/M13),"DCM","CDCM") -> DCM | R13: =IF(Q13="DCM",M13,1000/(O13+P13)) -> 25 | S13: =N13/worksheet!$F$52 -> 0.91282051 | T13: =0.5*worksheet!$F$62/100*worksheet!$F$29*S13*P13*R13/1000*worksheet!$J$11 -> 4.2745278
A14: 1.32 | B14: 25 | C14: =C13+($C$28-$C$3)/25 -> 0.1848 | D14: =1000*worksheet!$F$42*C14/worksheet!$F$52/worksheet!$F$9 -> 1.0488829 | E14: =worksheet!$F$9*D14/worksheet!$F$29/worksheet!$F$11 -> 4.1775824 | F14: =IF((D14+E14)<(1000/B14),"DCM","CDCM") -> DCM | G14: =IF(F14="DCM",B14,1000/(D14+E14)) -> 25 | H14: =C14/worksheet!$F$52 -> 0.94769231 | I14: =0.5*worksheet!$F$62/100*worksheet!$F$29*H14*E14*G14/1000*worksheet!$F$11 -> 4.6073592 | J14: =G14 -> 25 | L14: 1.32 | M14: 25 | N14: =N13+($C$28-$C$3)/25 -> 0.1848 | O14: =1000*worksheet!$F$42*N14/worksheet!$F$52/worksheet!$F$9 -> 1.0488829 | P14: =worksheet!$F$9*O14/worksheet!$F$29/worksheet!$J$11 -> 3.8990769 | Q14: =IF((O14+P14)<(1000/M14),"DCM","CDCM") -> DCM | R14: =IF(Q14="DCM",M14,1000/(O14+P14)) -> 25 | S14: =N14/worksheet!$F$52 -> 0.94769231 | T14: =0.5*worksheet!$F$62/100*worksheet!$F$29*S14*P14*R14/1000*worksheet!$J$11 -> 4.6073592
A15: 1.34 | B15: 25 | C15: =C14+($C$28-$C$3)/25 -> 0.1916 | D15: =1000*worksheet!$F$42*C15/worksheet!$F$52/worksheet!$F$9 -> 1.0874782 | E15: =worksheet!$F$9*D15/worksheet!$F$29/worksheet!$F$11 -> 4.331303 | F15: =IF((D15+E15)<(1000/B15),"DCM","CDCM") -> DCM | G15: =IF(F15="DCM",B15,1000/(D15+E15)) -> 25 | H15: =C15/worksheet!$F$52 -> 0.9825641 | I15: =0.5*worksheet!$F$62/100*worksheet!$F$29*H15*E15*G15/1000*worksheet!$F$11 -> 4.9526673 | J15: =G15 -> 25 | L15: 1.34 | M15: 25 | N15: =N14+($C$28-$C$3)/25 -> 0.1916 | O15: =1000*worksheet!$F$42*N15/worksheet!$F$52/worksheet!$F$9 -> 1.0874782 | P15: =worksheet!$F$9*O15/worksheet!$F$29/worksheet!$J$11 -> 4.0425495 | Q15: =IF((O15+P15)<(1000/M15),"DCM","CDCM") -> DCM | R15: =IF(Q15="DCM",M15,1000/(O15+P15)) -> 25 | S15: =N15/worksheet!$F$52 -> 0.9825641 | T15: =0.5*worksheet!$F$62/100*worksheet!$F$29*S15*P15*R15/1000*worksheet!$J$11 -> 4.9526673
A16: 1.36 | B16: 25 | C16: =C15+($C$28-$C$3)/25 -> 0.1984 | D16: =1000*worksheet!$F$42*C16/worksheet!$F$52/worksheet!$F$9 -> 1.1260735 | E16: =worksheet!$F$9*D16/worksheet!$F$29/worksheet!$F$11 -> 4.4850235 | F16: =IF((D16+E16)<(1000/B16),"DCM","CDCM") -> DCM | G16: =IF(F16="DCM",B16,1000/(D16+E16)) -> 25 | H16: =C16/worksheet!$F$52 -> 1.0174359 | I16: =0.5*worksheet!$F$62/100*worksheet!$F$29*H16*E16*G16/1000*worksheet!$F$11 -> 5.3104519 | J16: =G16 -> 25 | L16: 1.36 | M16: 25 | N16: =N15+($C$28-$C$3)/25 -> 0.1984 | O16: =1000*worksheet!$F$42*N16/worksheet!$F$52/worksheet!$F$9 -> 1.1260735 | P16: =worksheet!$F$9*O16/worksheet!$F$29/worksheet!$J$11 -> 4.186022 | Q16: =IF((O16+P16)<(1000/M16),"DCM","CDCM") -> DCM | R16: =IF(Q16="DCM",M16,1000/(O16+P16)) -> 25 | S16: =N16/worksheet!$F$52 -> 1.0174359 | T16: =0.5*worksheet!$F$62/100*worksheet!$F$29*S16*P16*R16/1000*worksheet!$J$11 -> 5.3104519
A17: 1.38 | B17: 25 | C17: =C16+($C$28-$C$3)/25 -> 0.2052 | D17: =1000*worksheet!$F$42*C17/worksheet!$F$52/worksheet!$F$9 -> 1.1646687 | E17: =worksheet!$F$9*D17/worksheet!$F$29/worksheet!$F$11 -> 4.6387441 | F17: =IF((D17+E17)<(1000/B17),"DCM","CDCM") -> DCM | G17: =IF(F17="DCM",B17,1000/(D17+E17)) -> 25 | H17: =C17/worksheet!$F$52 -> 1.0523077 | I17: =0.5*worksheet!$F$62/100*worksheet!$F$29*H17*E17*G17/1000*worksheet!$F$11 -> 5.6807131 | J17: =G17 -> 25 | L17: 1.38 | M17: 25 | N17: =N16+($C$28-$C$3)/25 -> 0.2052 | O17: =1000*worksheet!$F$42*N17/worksheet!$F$52/worksheet!$F$9 -> 1.1646687 | P17: =worksheet!$F$9*O17/worksheet!$F$29/worksheet!$J$11 -> 4.3294945 | Q17: =IF((O17+P17)<(1000/M17),"DCM","CDCM") -> DCM | R17: =IF(Q17="DCM",M17,1000/(O17+P17)) -> 25 | S17: =N17/worksheet!$F$52 -> 1.0523077 | T17: =0.5*worksheet!$F$62/100*worksheet!$F$29*S17*P17*R17/1000*worksheet!$J$11 -> 5.6807131
A18: 1.4 | B18: 25 | C18: =C17+($C$28-$C$3)/25 -> 0.212 | D18: =1000*worksheet!$F$42*C18/worksheet!$F$52/worksheet!$F$9 -> 1.203264 | E18: =worksheet!$F$9*D18/worksheet!$F$29/worksheet!$F$11 -> 4.7924647 | F18: =IF((D18+E18)<(1000/B18),"DCM","CDCM") -> DCM | G18: =IF(F18="DCM",B18,1000/(D18+E18)) -> 25 | H18: =C18/worksheet!$F$52 -> 1.0871795 | I18: =0.5*worksheet!$F$62/100*worksheet!$F$29*H18*E18*G18/1000*worksheet!$F$11 -> 6.0634509 | J18: =G18 -> 25 | L18: 1.4 | M18: 25 | N18: =N17+($C$28-$C$3)/25 -> 0.212 | O18: =1000*worksheet!$F$42*N18/worksheet!$F$52/worksheet!$F$9 -> 1.203264 | P18: =worksheet!$F$9*O18/worksheet!$F$29/worksheet!$J$11 -> 4.472967 | Q18: =IF((O18+P18)<(1000/M18),"DCM","CDCM") -> DCM | R18: =IF(Q18="DCM",M18,1000/(O18+P18)) -> 25 | S18: =N18/worksheet!$F$52 -> 1.0871795 | T18: =0.5*worksheet!$F$62/100*worksheet!$F$29*S18*P18*R18/1000*worksheet!$J$11 -> 6.0634509
A19: 1.42 | B19: 25 | C19: =C18+($C$28-$C$3)/25 -> 0.2188 | D19: =1000*worksheet!$F$42*C19/worksheet!$F$52/worksheet!$F$9 -> 1.2418592 | E19: =worksheet!$F$9*D19/worksheet!$F$29/worksheet!$F$11 -> 4.9461852 | F19: =IF((D19+E19)<(1000/B19),"DCM","CDCM") -> DCM | G19: =IF(F19="DCM",B19,1000/(D19+E19)) -> 25 | H19: =C19/worksheet!$F$52 -> 1.1220513 | I19: =0.5*worksheet!$F$62/100*worksheet!$F$29*H19*E19*G19/1000*worksheet!$F$11 -> 6.4586653 | J19: =G19 -> 25 | L19: 1.42 | M19: 25 | N19: =N18+($C$28-$C$3)/25 -> 0.2188 | O19: =1000*worksheet!$F$42*N19/worksheet!$F$52/worksheet!$F$9 -> 1.2418592 | P19: =worksheet!$F$9*O19/worksheet!$F$29/worksheet!$J$11 -> 4.6164396 | Q19: =IF((O19+P19)<(1000/M19),"DCM","CDCM") -> DCM | R19: =IF(Q19="DCM",M19,1000/(O19+P19)) -> 25 | S19: =N19/worksheet!$F$52 -> 1.1220513 | T19: =0.5*worksheet!$F$62/100*worksheet!$F$29*S19*P19*R19/1000*worksheet!$J$11 -> 6.4586653
A20: 1.44 | B20: 25 | C20: =C19+($C$28-$C$3)/25 -> 0.2256 | D20: =1000*worksheet!$F$42*C20/worksheet!$F$52/worksheet!$F$9 -> 1.2804545 | E20: =worksheet!$F$9*D20/worksheet!$F$29/worksheet!$F$11 -> 5.0999058 | F20: =IF((D20+E20)<(1000/B20),"DCM","CDCM") -> DCM | G20: =IF(F20="DCM",B20,1000/(D20+E20)) -> 25 | H20: =C20/worksheet!$F$52 -> 1.1569231 | I20: =0.5*worksheet!$F$62/100*worksheet!$F$29*H20*E20*G20/1000*worksheet!$F$11 -> 6.8663563 | J20: =G20 -> 25 | L20: 1.44 | M20: 25 | N20: =N19+($C$28-$C$3)/25 -> 0.2256 | O20: =1000*worksheet!$F$42*N20/worksheet!$F$52/worksheet!$F$9 -> 1.2804545 | P20: =worksheet!$F$9*O20/worksheet!$F$29/worksheet!$J$11 -> 4.7599121 | Q20: =IF((O20+P20)<(1000/M20),"DCM","CDCM") -> DCM | R20: =IF(Q20="DCM",M20,1000/(O20+P20)) -> 25 | S20: =N20/worksheet!$F$52 -> 1.1569231 | T20: =0.5*worksheet!$F$62/100*worksheet!$F$29*S20*P20*R20/1000*worksheet!$J$11 -> 6.8663563
A21: 1.46 | B21: 25 | C21: =C20+($C$28-$C$3)/25 -> 0.2324 | D21: =1000*worksheet!$F$42*C21/worksheet!$F$52/worksheet!$F$9 -> 1.3190498 | E21: =worksheet!$F$9*D21/worksheet!$F$29/worksheet!$F$11 -> 5.2536264 | F21: =IF((D21+E21)<(1000/B21),"DCM","CDCM") -> DCM | G21: =IF(F21="DCM",B21,1000/(D21+E21)) -> 25 | H21: =C21/worksheet!$F$52 -> 1.1917949 | I21: =0.5*worksheet!$F$62/100*worksheet!$F$29*H21*E21*G21/1000*worksheet!$F$11 -> 7.2865238 | J21: =G21 -> 25 | L21: 1.46 | M21: 25 | N21: =N20+($C$28-$C$3)/25 -> 0.2324 | O21: =1000*worksheet!$F$42*N21/worksheet!$F$52/worksheet!$F$9 -> 1.3190498 | P21: =worksheet!$F$9*O21/worksheet!$F$29/worksheet!$J$11 -> 4.9033846 | Q21: =IF((O21+P21)<(1000/M21),"DCM","CDCM") -> DCM | R21: =IF(Q21="DCM",M21,1000/(O21+P21)) -> 25 | S21: =N21/worksheet!$F$52 -> 1.1917949 | T21: =0.5*worksheet!$F$62/100*worksheet!$F$29*S21*P21*R21/1000*worksheet!$J$11 -> 7.2865238
... A27: 1.58 | B27: 25 | C27: =C26+($C$28-$C$3)/25 -> 0.2732 | D27: =1000*worksheet!$F$42*C27/worksheet!$F$52/worksheet!$F$9 -> 1.5506213 | E27: =worksheet!$F$9*D27/worksheet!$F$29/worksheet!$F$11 -> 6.1759498 | F27: =IF((D27+E27)<(1000/B27),"DCM","CDCM") -> DCM | G27: =IF(F27="DCM",B27,1000/(D27+E27)) -> 25 | H27: =C27/worksheet!$F$52 -> 1.4010256 | I27: =0.5*worksheet!$F$62/100*worksheet!$F$29*H27*E27*G27/1000*worksheet!$F$11 -> 10.069538 | J27: =G27 -> 25 | L27: 1.58 | M27: 25 | N27: =N26+($C$28-$C$3)/25 -> 0.2732 | O27: =1000*worksheet!$F$42*N27/worksheet!$F$52/worksheet!$F$9 -> 1.5506213 | P27: =worksheet!$F$9*O27/worksheet!$F$29/worksheet!$J$11 -> 5.7642198 | Q27: =IF((O27+P27)<(1000/M27),"DCM","CDCM") -> DCM | R27: =IF(Q27="DCM",M27,1000/(O27+P27)) -> 25 | S27: =N27/worksheet!$F$52 -> 1.4010256 | T27: =0.5*worksheet!$F$62/100*worksheet!$F$29*S27*P27*R27/1000*worksheet!$J$11 -> 10.069538
A28: 1.6 | B28: 25 | C28: 0.28 | D28: =1000*worksheet!$F$42*C28/worksheet!$F$52/worksheet!$F$9 -> 1.5892166 | E28: =worksheet!$F$9*D28/worksheet!$F$29/worksheet!$F$11 -> 6.3296703 | F28: =IF((D28+E28)<(1000/B28),"DCM","CDCM") -> DCM | G28: =IF(F28="DCM",B28,1000/(D28+E28)) -> 25 | H28: =C28/worksheet!$F$52 -> 1.4358974 | I28: =0.5*worksheet!$F$62/100*worksheet!$F$29*H28*E28*G28/1000*worksheet!$F$11 -> 10.577041 | J28: =G28 -> 25 | L28: 1.6 | M28: 25 | N28: 0.28 | O28: =1000*worksheet!$F$42*N28/worksheet!$F$52/worksheet!$F$9 -> 1.5892166 | P28: =worksheet!$F$9*O28/worksheet!$F$29/worksheet!$J$11 -> 5.9076923 | Q28: =IF((O28+P28)<(1000/M28),"DCM","CDCM") -> DCM | R28: =IF(Q28="DCM",M28,1000/(O28+P28)) -> 25 | S28: =N28/worksheet!$F$52 -> 1.4358974 | T28: =0.5*worksheet!$F$62/100*worksheet!$F$29*S28*P28*R28/1000*worksheet!$J$11 -> 10.577041
A29: 1.62 | B29: =B28+($B$53-$B$28)/25 -> 26.376471 | C29: 0.28 | D29: =1000*worksheet!$F$42*C29/worksheet!$F$52/worksheet!$F$9 -> 1.5892166 | E29: =worksheet!$F$9*D29/worksheet!$F$29/worksheet!$F$11 -> 6.3296703 | F29: =IF((D29+E29)<(1000/B29),"DCM","CDCM") -> DCM | G29: =IF(F29="DCM",B29,1000/(D29+E29)) -> 26.376471 | H29: =C29/worksheet!$F$52 -> 1.4358974 | I29: =0.5*worksheet!$F$62/100*worksheet!$F$29*H29*E29*G29/1000*worksheet!$F$11 -> 11.159401 | J29: =G29 -> 26.376471 | L29: 1.62 | M29: =M28+($M$53-$M$28)/25 -> 26.447059 | N29: 0.28 | O29: =1000*worksheet!$F$42*N29/worksheet!$F$52/worksheet!$F$9 -> 1.5892166 | P29: =worksheet!$F$9*O29/worksheet!$F$29/worksheet!$J$11 -> 5.9076923 | Q29: =IF((O29+P29)<(1000/M29),"DCM","CDCM") -> DCM | R29: =IF(Q29="DCM",M29,1000/(O29+P29)) -> 26.447059 | S29: =N29/worksheet!$F$52 -> 1.4358974 | T29: =0.5*worksheet!$F$62/100*worksheet!$F$29*S29*P29*R29/1000*worksheet!$J$11 -> 11.189265
A30: 1.64 | B30: =B29+($B$53-$B$28)/25 -> 27.752941 | C30: 0.28 | D30: =1000*worksheet!$F$42*C30/worksheet!$F$52/worksheet!$F$9 -> 1.5892166 | E30: =worksheet!$F$9*D30/worksheet!$F$29/worksheet!$F$11 -> 6.3296703 | F30: =IF((D30+E30)<(1000/B30),"DCM","CDCM") -> DCM | G30: =IF(F30="DCM",B30,1000/(D30+E30)) -> 27.752941 | H30: =C30/worksheet!$F$52 -> 1.4358974 | I30: =0.5*worksheet!$F$62/100*worksheet!$F$29*H30*E30*G30/1000*worksheet!$F$11 -> 11.74176 | J30: =G30 -> 27.752941 | L30: 1.64 | M30: =M29+($M$53-$M$28)/25 -> 27.894118 | N30: 0.28 | O30: =1000*worksheet!$F$42*N30/worksheet!$F$52/worksheet!$F$9 -> 1.5892166 | P30: =worksheet!$F$9*O30/worksheet!$F$29/worksheet!$J$11 -> 5.9076923 | Q30: =IF((O30+P30)<(1000/M30),"DCM","CDCM") -> DCM | R30: =IF(Q30="DCM",M30,1000/(O30+P30)) -> 27.894118 | S30: =N30/worksheet!$F$52 -> 1.4358974 | T30: =0.5*worksheet!$F$62/100*worksheet!$F$29*S30*P30*R30/1000*worksheet!$J$11 -> 11.80149
A31: 1.66 | B31: =B30+($B$53-$B$28)/25 -> 29.129412 | C31: 0.28 | D31: =1000*worksheet!$F$42*C31/worksheet!$F$52/worksheet!$F$9 -> 1.5892166 | E31: =worksheet!$F$9*D31/worksheet!$F$29/worksheet!$F$11 -> 6.3296703 | F31: =IF((D31+E31)<(1000/B31),"DCM","CDCM") -> DCM | G31: =IF(F31="DCM",B31,1000/(D31+E31)) -> 29.129412 | H31: =C31/worksheet!$F$52 -> 1.4358974 | I31: =0.5*worksheet!$F$62/100*worksheet!$F$29*H31*E31*G31/1000*worksheet!$F$11 -> 12.32412 | J31: =G31 -> 29.129412 | L31: 1.66 | M31: =M30+($M$53-$M$28)/25 -> 29.341176 | N31: 0.28 | O31: =1000*worksheet!$F$42*N31/worksheet!$F$52/worksheet!$F$9 -> 1.5892166 | P31: =worksheet!$F$9*O31/worksheet!$F$29/worksheet!$J$11 -> 5.9076923 | Q31: =IF((O31+P31)<(1000/M31),"DCM","CDCM") -> DCM | R31: =IF(Q31="DCM",M31,1000/(O31+P31)) -> 29.341176 | S31: =N31/worksheet!$F$52 -> 1.4358974 | T31: =0.5*worksheet!$F$62/100*worksheet!$F$29*S31*P31*R31/1000*worksheet!$J$11 -> 12.413714
A32: 1.68 | B32: =B31+($B$53-$B$28)/25 -> 30.505882 | C32: 0.28 | D32: =1000*worksheet!$F$42*C32/worksheet!$F$52/worksheet!$F$9 -> 1.5892166 | E32: =worksheet!$F$9*D32/worksheet!$F$29/worksheet!$F$11 -> 6.3296703 | F32: =IF((D32+E32)<(1000/B32),"DCM","CDCM") -> DCM | G32: =IF(F32="DCM",B32,1000/(D32+E32)) -> 30.505882 | H32: =C32/worksheet!$F$52 -> 1.4358974 | I32: =0.5*worksheet!$F$62/100*worksheet!$F$29*H32*E32*G32/1000*worksheet!$F$11 -> 12.906479 | J32: =G32 -> 30.505882 | L32: 1.68 | M32: =M31+($M$53-$M$28)/25 -> 30.788235 | N32: 0.28 | O32: =1000*worksheet!$F$42*N32/worksheet!$F$52/worksheet!$F$9 -> 1.5892166 | P32: =worksheet!$F$9*O32/worksheet!$F$29/worksheet!$J$11 -> 5.9076923 | Q32: =IF((O32+P32)<(1000/M32),"DCM","CDCM") -> DCM | R32: =IF(Q32="DCM",M32,1000/(O32+P32)) -> 30.788235 | S32: =N32/worksheet!$F$52 -> 1.4358974 | T32: =0.5*worksheet!$F$62/100*worksheet!$F$29*S32*P32*R32/1000*worksheet!$J$11 -> 13.025938
A33: 1.7 | B33: =B32+($B$53-$B$28)/25 -> 31.882353 | C33: 0.28 | D33: =1000*worksheet!$F$42*C33/worksheet!$F$52/worksheet!$F$9 -> 1.5892166 | E33: =worksheet!$F$9*D33/worksheet!$F$29/worksheet!$F$11 -> 6.3296703 | F33: =IF((D33+E33)<(1000/B33),"DCM","CDCM") -> DCM | G33: =IF(F33="DCM",B33,1000/(D33+E33)) -> 31.882353 | H33: =C33/worksheet!$F$52 -> 1.4358974 | I33: =0.5*worksheet!$F$62/100*worksheet!$F$29*H33*E33*G33/1000*worksheet!$F$11 -> 13.488839 | J33: =G33 -> 31.882353 | L33: 1.7 | M33: =M32+($M$53-$M$28)/25 -> 32.235294 | N33: 0.28 | O33: =1000*worksheet!$F$42*N33/worksheet!$F$52/worksheet!$F$9 -> 1.5892166 | P33: =worksheet!$F$9*O33/worksheet!$F$29/worksheet!$J$11 -> 5.9076923 | Q33: =IF((O33+P33)<(1000/M33),"DCM","CDCM") -> DCM | R33: =IF(Q33="DCM",M33,1000/(O33+P33)) -> 32.235294 | S33: =N33/worksheet!$F$52 -> 1.4358974 | T33: =0.5*worksheet!$F$62/100*worksheet!$F$29*S33*P33*R33/1000*worksheet!$J$11 -> 13.638162
A34: 1.72 | B34: =B33+($B$53-$B$28)/25 -> 33.258824 | C34: 0.28 | D34: =1000*worksheet!$F$42*C34/worksheet!$F$52/worksheet!$F$9 -> 1.5892166 | E34: =worksheet!$F$9*D34/worksheet!$F$29/worksheet!$F$11 -> 6.3296703 | F34: =IF((D34+E34)<(1000/B34),"DCM","CDCM") -> DCM | G34: =IF(F34="DCM",B34,1000/(D34+E34)) -> 33.258824 | H34: =C34/worksheet!$F$52 -> 1.4358974 | I34: =0.5*worksheet!$F$62/100*worksheet!$F$29*H34*E34*G34/1000*worksheet!$F$11 -> 14.071198 | J34: =G34 -> 33.258824 | L34: 1.72 | M34: =M33+($M$53-$M$28)/25 -> 33.682353 | N34: 0.28 | O34: =1000*worksheet!$F$42*N34/worksheet!$F$52/worksheet!$F$9 -> 1.5892166 | P34: =worksheet!$F$9*O34/worksheet!$F$29/worksheet!$J$11 -> 5.9076923 | Q34: =IF((O34+P34)<(1000/M34),"DCM","CDCM") -> DCM | R34: =IF(Q34="DCM",M34,1000/(O34+P34)) -> 33.682353 | S34: =N34/worksheet!$F$52 -> 1.4358974 | T34: =0.5*worksheet!$F$62/100*worksheet!$F$29*S34*P34*R34/1000*worksheet!$J$11 -> 14.250386
A35: 1.74 | B35: =B34+($B$53-$B$28)/25 -> 34.635294 | C35: 0.28 | D35: =1000*worksheet!$F$42*C35/worksheet!$F$52/worksheet!$F$9 -> 1.5892166 | E35: =worksheet!$F$9*D35/worksheet!$F$29/worksheet!$F$11 -> 6.3296703 | F35: =IF((D35+E35)<(1000/B35),"DCM","CDCM") -> DCM | G35: =IF(F35="DCM",B35,1000/(D35+E35)) -> 34.635294 | H35: =C35/worksheet!$F$52 -> 1.4358974 | I35: =0.5*worksheet!$F$62/100*worksheet!$F$29*H35*E35*G35/1000*worksheet!$F$11 -> 14.653558 | J35: =G35 -> 34.635294 | L35: 1.74 | M35: =M34+($M$53-$M$28)/25 -> 35.129412 | N35: 0.28 | O35: =1000*worksheet!$F$42*N35/worksheet!$F$52/worksheet!$F$9 -> 1.5892166 | P35: =worksheet!$F$9*O35/worksheet!$F$29/worksheet!$J$11 -> 5.9076923 | Q35: =IF((O35+P35)<(1000/M35),"DCM","CDCM") -> DCM | R35: =IF(Q35="DCM",M35,1000/(O35+P35)) -> 35.129412 | S35: =N35/worksheet!$F$52 -> 1.4358974 | T35: =0.5*worksheet!$F$62/100*worksheet!$F$29*S35*P35*R35/1000*worksheet!$J$11 -> 14.86261
A36: 1.76 | B36: =B35+($B$53-$B$28)/25 -> 36.011765 | C36: 0.28 | D36: =1000*worksheet!$F$42*C36/worksheet!$F$52/worksheet!$F$9 -> 1.5892166 | E36: =worksheet!$F$9*D36/worksheet!$F$29/worksheet!$F$11 -> 6.3296703 | F36: =IF((D36+E36)<(1000/B36),"DCM","CDCM") -> DCM | G36: =IF(F36="DCM",B36,1000/(D36+E36)) -> 36.011765 | H36: =C36/worksheet!$F$52 -> 1.4358974 | I36: =0.5*worksheet!$F$62/100*worksheet!$F$29*H36*E36*G36/1000*worksheet!$F$11 -> 15.235917 | J36: =G36 -> 36.011765 | L36: 1.76 | M36: =M35+($M$53-$M$28)/25 -> 36.576471 | N36: 0.28 | O36: =1000*worksheet!$F$42*N36/worksheet!$F$52/worksheet!$F$9 -> 1.5892166 | P36: =worksheet!$F$9*O36/worksheet!$F$29/worksheet!$J$11 -> 5.9076923 | Q36: =IF((O36+P36)<(1000/M36),"DCM","CDCM") -> DCM | R36: =IF(Q36="DCM",M36,1000/(O36+P36)) -> 36.576471 | S36: =N36/worksheet!$F$52 -> 1.4358974 | T36: =0.5*worksheet!$F$62/100*worksheet!$F$29*S36*P36*R36/1000*worksheet!$J$11 -> 15.474834
A37: 1.78 | B37: =B36+($B$53-$B$28)/25 -> 37.388235 | C37: 0.28 | D37: =1000*worksheet!$F$42*C37/worksheet!$F$52/worksheet!$F$9 -> 1.5892166 | E37: =worksheet!$F$9*D37/worksheet!$F$29/worksheet!$F$11 -> 6.3296703 | F37: =IF((D37+E37)<(1000/B37),"DCM","CDCM") -> DCM | G37: =IF(F37="DCM",B37,1000/(D37+E37)) -> 37.388235 | H37: =C37/worksheet!$F$52 -> 1.4358974 | I37: =0.5*worksheet!$F$62/100*worksheet!$F$29*H37*E37*G37/1000*worksheet!$F$11 -> 15.818277 | J37: =G37 -> 37.388235 | L37: 1.78 | M37: =M36+($M$53-$M$28)/25 -> 38.023529 | N37: 0.28 | O37: =1000*worksheet!$F$42*N37/worksheet!$F$52/worksheet!$F$9 -> 1.5892166 | P37: =worksheet!$F$9*O37/worksheet!$F$29/worksheet!$J$11 -> 5.9076923 | Q37: =IF((O37+P37)<(1000/M37),"DCM","CDCM") -> DCM | R37: =IF(Q37="DCM",M37,1000/(O37+P37)) -> 38.023529 | S37: =N37/worksheet!$F$52 -> 1.4358974 | T37: =0.5*worksheet!$F$62/100*worksheet!$F$29*S37*P37*R37/1000*worksheet!$J$11 -> 16.087058
A38: 1.8 | B38: =B37+($B$53-$B$28)/25 -> 38.764706 | C38: 0.28 | D38: =1000*worksheet!$F$42*C38/worksheet!$F$52/worksheet!$F$9 -> 1.5892166 | E38: =worksheet!$F$9*D38/worksheet!$F$29/worksheet!$F$11 -> 6.3296703 | F38: =IF((D38+E38)<(1000/B38),"DCM","CDCM") -> DCM | G38: =IF(F38="DCM",B38,1000/(D38+E38)) -> 38.764706 | H38: =C38/worksheet!$F$52 -> 1.4358974 | I38: =0.5*worksheet!$F$62/100*worksheet!$F$29*H38*E38*G38/1000*worksheet!$F$11 -> 16.400636 | J38: =G38 -> 38.764706 | L38: 1.8 | M38: =M37+($M$53-$M$28)/25 -> 39.470588 | N38: 0.28 | O38: =1000*worksheet!$F$42*N38/worksheet!$F$52/worksheet!$F$9 -> 1.5892166 | P38: =worksheet!$F$9*O38/worksheet!$F$29/worksheet!$J$11 -> 5.9076923 | Q38: =IF((O38+P38)<(1000/M38),"DCM","CDCM") -> DCM | R38: =IF(Q38="DCM",M38,1000/(O38+P38)) -> 39.470588 | S38: =N38/worksheet!$F$52 -> 1.4358974 | T38: =0.5*worksheet!$F$62/100*worksheet!$F$29*S38*P38*R38/1000*worksheet!$J$11 -> 16.699282
A39: 1.82 | B39: =B38+($B$53-$B$28)/25 -> 40.141176 | C39: 0.28 | D39: =1000*worksheet!$F$42*C39/worksheet!$F$52/worksheet!$F$9 -> 1.5892166 | E39: =worksheet!$F$9*D39/worksheet!$F$29/worksheet!$F$11 -> 6.3296703 | F39: =IF((D39+E39)<(1000/B39),"DCM","CDCM") -> DCM | G39: =IF(F39="DCM",B39,1000/(D39+E39)) -> 40.141176 | H39: =C39/worksheet!$F$52 -> 1.4358974 | I39: =0.5*worksheet!$F$62/100*worksheet!$F$29*H39*E39*G39/1000*worksheet!$F$11 -> 16.982995 | J39: =G39 -> 40.141176 | L39: 1.82 | M39: =M38+($M$53-$M$28)/25 -> 40.917647 | N39: 0.28 | O39: =1000*worksheet!$F$42*N39/worksheet!$F$52/worksheet!$F$9 -> 1.5892166 | P39: =worksheet!$F$9*O39/worksheet!$F$29/worksheet!$J$11 -> 5.9076923 | Q39: =IF((O39+P39)<(1000/M39),"DCM","CDCM") -> DCM | R39: =IF(Q39="DCM",M39,1000/(O39+P39)) -> 40.917647 | S39: =N39/worksheet!$F$52 -> 1.4358974 | T39: =0.5*worksheet!$F$62/100*worksheet!$F$29*S39*P39*R39/1000*worksheet!$J$11 -> 17.311506
A40: 1.84 | B40: =B39+($B$53-$B$28)/25 -> 41.517647 | C40: 0.28 | D40: =1000*worksheet!$F$42*C40/worksheet!$F$52/worksheet!$F$9 -> 1.5892166 | E40: =worksheet!$F$9*D40/worksheet!$F$29/worksheet!$F$11 -> 6.3296703 | F40: =IF((D40+E40)<(1000/B40),"DCM","CDCM") -> DCM | G40: =IF(F40="DCM",B40,1000/(D40+E40)) -> 41.517647 | H40: =C40/worksheet!$F$52 -> 1.4358974 | I40: =0.5*worksheet!$F$62/100*worksheet!$F$29*H40*E40*G40/1000*worksheet!$F$11 -> 17.565355 | J40: =G40 -> 41.517647 | L40: 1.84 | M40: =M39+($M$53-$M$28)/25 -> 42.364706 | N40: 0.28 | O40: =1000*worksheet!$F$42*N40/worksheet!$F$52/worksheet!$F$9 -> 1.5892166 | P40: =worksheet!$F$9*O40/worksheet!$F$29/worksheet!$J$11 -> 5.9076923 | Q40: =IF((O40+P40)<(1000/M40),"DCM","CDCM") -> DCM | R40: =IF(Q40="DCM",M40,1000/(O40+P40)) -> 42.364706 | S40: =N40/worksheet!$F$52 -> 1.4358974 | T40: =0.5*worksheet!$F$62/100*worksheet!$F$29*S40*P40*R40/1000*worksheet!$J$11 -> 17.92373
... A52: 2.08 | B52: =B51+($B$53-$B$28)/25 -> 58.035294 | C52: 0.28 | D52: =1000*worksheet!$F$42*C52/worksheet!$F$52/worksheet!$F$9 -> 1.5892166 | E52: =worksheet!$F$9*D52/worksheet!$F$29/worksheet!$F$11 -> 6.3296703 | F52: =IF((D52+E52)<(1000/B52),"DCM","CDCM") -> DCM | G52: =IF(F52="DCM",B52,1000/(D52+E52)) -> 58.035294 | H52: =C52/worksheet!$F$52 -> 1.4358974 | I52: =0.5*worksheet!$F$62/100*worksheet!$F$29*H52*E52*G52/1000*worksheet!$F$11 -> 24.553668 | J52: =G52 -> 58.035294 | L52: 2.08 | M52: =M51+($M$53-$M$28)/25 -> 59.729412 | N52: 0.28 | O52: =1000*worksheet!$F$42*N52/worksheet!$F$52/worksheet!$F$9 -> 1.5892166 | P52: =worksheet!$F$9*O52/worksheet!$F$29/worksheet!$J$11 -> 5.9076923 | Q52: =IF((O52+P52)<(1000/M52),"DCM","CDCM") -> DCM | R52: =IF(Q52="DCM",M52,1000/(O52+P52)) -> 59.729412 | S52: =N52/worksheet!$F$52 -> 1.4358974 | T52: =0.5*worksheet!$F$62/100*worksheet!$F$29*S52*P52*R52/1000*worksheet!$J$11 -> 25.270418
A53: 2.1 | B53: =40+(worksheet!$F$17-40)*(worksheet!$F$11-3)/(worksheet!$F$14-3) -> 59.411765 | C53: 0.28 | D53: =1000*worksheet!$F$42*C53/worksheet!$F$52/worksheet!$F$9 -> 1.5892166 | E53: =worksheet!$F$9*D53/worksheet!$F$29/worksheet!$F$11 -> 6.3296703 | F53: =IF((D53+E53)<(1000/B53),"DCM","CDCM") -> DCM | G53: =IF(F53="DCM",B53,1000/(D53+E53)) -> 59.411765 | H53: =C53/worksheet!$F$52 -> 1.4358974 | I53: =0.5*worksheet!$F$62/100*worksheet!$F$29*H53*E53*G53/1000*worksheet!$F$11 -> 25.136028 | J53: =G53 -> 59.411765 | L53: 2.1 | M53: =40+(worksheet!$F$17-40)*(worksheet!$J$11-3)/(worksheet!$F$14-3) -> 61.176471 | N53: 0.28 | O53: =1000*worksheet!$F$42*N53/worksheet!$F$52/worksheet!$F$9 -> 1.5892166 | P53: =worksheet!$F$9*O53/worksheet!$F$29/worksheet!$J$11 -> 5.9076923 | Q53: =IF((O53+P53)<(1000/M53),"DCM","CDCM") -> DCM | R53: =IF(Q53="DCM",M53,1000/(O53+P53)) -> 61.176471 | S53: =N53/worksheet!$F$52 -> 1.4358974 | T53: =0.5*worksheet!$F$62/100*worksheet!$F$29*S53*P53*R53/1000*worksheet!$J$11 -> 25.882643
A54: 2.12 | B54: =40+(worksheet!$F$17-40)*(worksheet!$F$11-3)/(worksheet!$F$14-3) -> 59.411765 | C54: =C53+($C$113-$C$53)/60 -> 0.28366667 | D54: =1000*worksheet!$F$42*C54/worksheet!$F$52/worksheet!$F$9 -> 1.6100277 | E54: =worksheet!$F$9*D54/worksheet!$F$29/worksheet!$F$11 -> 6.4125589 | F54: =IF((D54+E54)<(1000/B54),"DCM","CDCM") -> DCM | G54: =IF(F54="DCM",B54,1000/(D54+E54)) -> 59.411765 | H54: =C54/worksheet!$F$52 -> 1.4547009 | I54: =0.5*worksheet!$F$62/100*worksheet!$F$29*H54*E54*G54/1000*worksheet!$F$11 -> 25.798663 | J54: =G54 -> 59.411765 | L54: 2.12 | M54: =40+(worksheet!$F$17-40)*(worksheet!$J$11-3)/(worksheet!$F$14-3) -> 61.176471 | N54: =N53+($C$113-$C$53)/60 -> 0.28366667 | O54: =1000*worksheet!$F$42*N54/worksheet!$F$52/worksheet!$F$9 -> 1.6100277 | P54: =worksheet!$F$9*O54/worksheet!$F$29/worksheet!$J$11 -> 5.9850549 | Q54: =IF((O54+P54)<(1000/M54),"DCM","CDCM") -> DCM | R54: =IF(Q54="DCM",M54,1000/(O54+P54)) -> 61.176471 | S54: =N54/worksheet!$F$52 -> 1.4547009 | T54: =0.5*worksheet!$F$62/100*worksheet!$F$29*S54*P54*R54/1000*worksheet!$J$11 -> 26.56496
A55: 2.14 | B55: =40+(worksheet!$F$17-40)*(worksheet!$F$11-3)/(worksheet!$F$14-3) -> 59.411765 | C55: =C54+($C$113-$C$53)/60 -> 0.28733333 | D55: =1000*worksheet!$F$42*C55/worksheet!$F$52/worksheet!$F$9 -> 1.6308389 | E55: =worksheet!$F$9*D55/worksheet!$F$29/worksheet!$F$11 -> 6.4954474 | F55: =IF((D55+E55)<(1000/B55),"DCM","CDCM") -> DCM | G55: =IF(F55="DCM",B55,1000/(D55+E55)) -> 59.411765 | H55: =C55/worksheet!$F$52 -> 1.4735043 | I55: =0.5*worksheet!$F$62/100*worksheet!$F$29*H55*E55*G55/1000*worksheet!$F$11 -> 26.469919 | J55: =G55 -> 59.411765 | L55: 2.14 | M55: =40+(worksheet!$F$17-40)*(worksheet!$J$11-3)/(worksheet!$F$14-3) -> 61.176471 | N55: =N54+($C$113-$C$53)/60 -> 0.28733333 | O55: =1000*worksheet!$F$42*N55/worksheet!$F$52/worksheet!$F$9 -> 1.6308389 | P55: =worksheet!$F$9*O55/worksheet!$F$29/worksheet!$J$11 -> 6.0624176 | Q55: =IF((O55+P55)<(1000/M55),"DCM","CDCM") -> DCM | R55: =IF(Q55="DCM",M55,1000/(O55+P55)) -> 61.176471 | S55: =N55/worksheet!$F$52 -> 1.4735043 | T55: =0.5*worksheet!$F$62/100*worksheet!$F$29*S55*P55*R55/1000*worksheet!$J$11 -> 27.256154
A56: 2.16 | B56: =40+(worksheet!$F$17-40)*(worksheet!$F$11-3)/(worksheet!$F$14-3) -> 59.411765 | C56: =C55+($C$113-$C$53)/60 -> 0.291 | D56: =1000*worksheet!$F$42*C56/worksheet!$F$52/worksheet!$F$9 -> 1.6516501 | E56: =worksheet!$F$9*D56/worksheet!$F$29/worksheet!$F$11 -> 6.5783359 | F56: =IF((D56+E56)<(1000/B56),"DCM","CDCM") -> DCM | G56: =IF(F56="DCM",B56,1000/(D56+E56)) -> 59.411765 | H56: =C56/worksheet!$F$52 -> 1.4923077 | I56: =0.5*worksheet!$F$62/100*worksheet!$F$29*H56*E56*G56/1000*worksheet!$F$11 -> 27.149796 | J56: =G56 -> 59.411765 | L56: 2.16 | M56: =40+(worksheet!$F$17-40)*(worksheet!$J$11-3)/(worksheet!$F$14-3) -> 61.176471 | N56: =N55+($C$113-$C$53)/60 -> 0.291 | O56: =1000*worksheet!$F$42*N56/worksheet!$F$52/worksheet!$F$9 -> 1.6516501 | P56: =worksheet!$F$9*O56/worksheet!$F$29/worksheet!$J$11 -> 6.1397802 | Q56: =IF((O56+P56)<(1000/M56),"DCM","CDCM") -> DCM | R56: =IF(Q56="DCM",M56,1000/(O56+P56)) -> 61.176471 | S56: =N56/worksheet!$F$52 -> 1.4923077 | T56: =0.5*worksheet!$F$62/100*worksheet!$F$29*S56*P56*R56/1000*worksheet!$J$11 -> 27.956225
A57: 2.18 | B57: =40+(worksheet!$F$17-40)*(worksheet!$F$11-3)/(worksheet!$F$14-3) -> 59.411765 | C57: =C56+($C$113-$C$53)/60 -> 0.29466667 | D57: =1000*worksheet!$F$42*C57/worksheet!$F$52/worksheet!$F$9 -> 1.6724613 | E57: =worksheet!$F$9*D57/worksheet!$F$29/worksheet!$F$11 -> 6.6612245 | F57: =IF((D57+E57)<(1000/B57),"DCM","CDCM") -> DCM | G57: =IF(F57="DCM",B57,1000/(D57+E57)) -> 59.411765 | H57: =C57/worksheet!$F$52 -> 1.5111111 | I57: =0.5*worksheet!$F$62/100*worksheet!$F$29*H57*E57*G57/1000*worksheet!$F$11 -> 27.838293 | J57: =G57 -> 59.411765 | L57: 2.18 | M57: =40+(worksheet!$F$17-40)*(worksheet!$J$11-3)/(worksheet!$F$14-3) -> 61.176471 | N57: =N56+($C$113-$C$53)/60 -> 0.29466667 | O57: =1000*worksheet!$F$42*N57/worksheet!$F$52/worksheet!$F$9 -> 1.6724613 | P57: =worksheet!$F$9*O57/worksheet!$F$29/worksheet!$J$11 -> 6.2171429 | Q57: =IF((O57+P57)<(1000/M57),"DCM","CDCM") -> DCM | R57: =IF(Q57="DCM",M57,1000/(O57+P57)) -> 61.176471 | S57: =N57/worksheet!$F$52 -> 1.5111111 | T57: =0.5*worksheet!$F$62/100*worksheet!$F$29*S57*P57*R57/1000*worksheet!$J$11 -> 28.665173
A58: 2.2 | B58: =40+(worksheet!$F$17-40)*(worksheet!$F$11-3)/(worksheet!$F$14-3) -> 59.411765 | C58: =C57+($C$113-$C$53)/60 -> 0.29833333 | D58: =1000*worksheet!$F$42*C58/worksheet!$F$52/worksheet!$F$9 -> 1.6932724 | E58: =worksheet!$F$9*D58/worksheet!$F$29/worksheet!$F$11 -> 6.744113 | F58: =IF((D58+E58)<(1000/B58),"DCM","CDCM") -> DCM | G58: =IF(F58="DCM",B58,1000/(D58+E58)) -> 59.411765 | H58: =C58/worksheet!$F$52 -> 1.5299145 | I58: =0.5*worksheet!$F$62/100*worksheet!$F$29*H58*E58*G58/1000*worksheet!$F$11 -> 28.535412 | J58: =G58 -> 59.411765 | L58: 2.2 | M58: =40+(worksheet!$F$17-40)*(worksheet!$J$11-3)/(worksheet!$F$14-3) -> 61.176471 | N58: =N57+($C$113-$C$53)/60 -> 0.29833333 | O58: =1000*worksheet!$F$42*N58/worksheet!$F$52/worksheet!$F$9 -> 1.6932724 | P58: =worksheet!$F$9*O58/worksheet!$F$29/worksheet!$J$11 -> 6.2945055 | Q58: =IF((O58+P58)<(1000/M58),"DCM","CDCM") -> DCM | R58: =IF(Q58="DCM",M58,1000/(O58+P58)) -> 61.176471 | S58: =N58/worksheet!$F$52 -> 1.5299145 | T58: =0.5*worksheet!$F$62/100*worksheet!$F$29*S58*P58*R58/1000*worksheet!$J$11 -> 29.382998
A59: 2.22 | B59: =40+(worksheet!$F$17-40)*(worksheet!$F$11-3)/(worksheet!$F$14-3) -> 59.411765 | C59: =C58+($C$113-$C$53)/60 -> 0.302 | D59: =1000*worksheet!$F$42*C59/worksheet!$F$52/worksheet!$F$9 -> 1.7140836 | E59: =worksheet!$F$9*D59/worksheet!$F$29/worksheet!$F$11 -> 6.8270016 | F59: =IF((D59+E59)<(1000/B59),"DCM","CDCM") -> DCM | G59: =IF(F59="DCM",B59,1000/(D59+E59)) -> 59.411765 | H59: =C59/worksheet!$F$52 -> 1.5487179 | I59: =0.5*worksheet!$F$62/100*worksheet!$F$29*H59*E59*G59/1000*worksheet!$F$11 -> 29.241152 | J59: =G59 -> 59.411765 | L59: 2.22 | M59: =40+(worksheet!$F$17-40)*(worksheet!$J$11-3)/(worksheet!$F$14-3) -> 61.176471 | N59: =N58+($C$113-$C$53)/60 -> 0.302 | O59: =1000*worksheet!$F$42*N59/worksheet!$F$52/worksheet!$F$9 -> 1.7140836 | P59: =worksheet!$F$9*O59/worksheet!$F$29/worksheet!$J$11 -> 6.3718681 | Q59: =IF((O59+P59)<(1000/M59),"DCM","CDCM") -> DCM | R59: =IF(Q59="DCM",M59,1000/(O59+P59)) -> 61.176471 | S59: =N59/worksheet!$F$52 -> 1.5487179 | T59: =0.5*worksheet!$F$62/100*worksheet!$F$29*S59*P59*R59/1000*worksheet!$J$11 -> 30.109701
A60: 2.24 | B60: =40+(worksheet!$F$17-40)*(worksheet!$F$11-3)/(worksheet!$F$14-3) -> 59.411765 | C60: =C59+($C$113-$C$53)/60 -> 0.30566667 | D60: =1000*worksheet!$F$42*C60/worksheet!$F$52/worksheet!$F$9 -> 1.7348948 | E60: =worksheet!$F$9*D60/worksheet!$F$29/worksheet!$F$11 -> 6.9098901 | F60: =IF((D60+E60)<(1000/B60),"DCM","CDCM") -> DCM | G60: =IF(F60="DCM",B60,1000/(D60+E60)) -> 59.411765 | H60: =C60/worksheet!$F$52 -> 1.5675214 | I60: =0.5*worksheet!$F$62/100*worksheet!$F$29*H60*E60*G60/1000*worksheet!$F$11 -> 29.955512 | J60: =G60 -> 59.411765 | L60: 2.24 | M60: =40+(worksheet!$F$17-40)*(worksheet!$J$11-3)/(worksheet!$F$14-3) -> 61.176471 | N60: =N59+($C$113-$C$53)/60 -> 0.30566667 | O60: =1000*worksheet!$F$42*N60/worksheet!$F$52/worksheet!$F$9 -> 1.7348948 | P60: =worksheet!$F$9*O60/worksheet!$F$29/worksheet!$J$11 -> 6.4492308 | Q60: =IF((O60+P60)<(1000/M60),"DCM","CDCM") -> DCM | R60: =IF(Q60="DCM",M60,1000/(O60+P60)) -> 61.176471 | S60: =N60/worksheet!$F$52 -> 1.5675214 | T60: =0.5*worksheet!$F$62/100*worksheet!$F$29*S60*P60*R60/1000*worksheet!$J$11 -> 30.84528
A61: 2.26 | B61: =40+(worksheet!$F$17-40)*(worksheet!$F$11-3)/(worksheet!$F$14-3) -> 59.411765 | C61: =C60+($C$113-$C$53)/60 -> 0.30933333 | D61: =1000*worksheet!$F$42*C61/worksheet!$F$52/worksheet!$F$9 -> 1.7557059 | E61: =worksheet!$F$9*D61/worksheet!$F$29/worksheet!$F$11 -> 6.9927786 | F61: =IF((D61+E61)<(1000/B61),"DCM","CDCM") -> DCM | G61: =IF(F61="DCM",B61,1000/(D61+E61)) -> 59.411765 | H61: =C61/worksheet!$F$52 -> 1.5863248 | I61: =0.5*worksheet!$F$62/100*worksheet!$F$29*H61*E61*G61/1000*worksheet!$F$11 -> 30.678493 | J61: =G61 -> 59.411765 | L61: 2.26 | M61: =40+(worksheet!$F$17-40)*(worksheet!$J$11-3)/(worksheet!$F$14-3) -> 61.176471 | N61: =N60+($C$113-$C$53)/60 -> 0.30933333 | O61: =1000*worksheet!$F$42*N61/worksheet!$F$52/worksheet!$F$9 -> 1.7557059 | P61: =worksheet!$F$9*O61/worksheet!$F$29/worksheet!$J$11 -> 6.5265934 | Q61: =IF((O61+P61)<(1000/M61),"DCM","CDCM") -> DCM | R61: =IF(Q61="DCM",M61,1000/(O61+P61)) -> 61.176471 | S61: =N61/worksheet!$F$52 -> 1.5863248 | T61: =0.5*worksheet!$F$62/100*worksheet!$F$29*S61*P61*R61/1000*worksheet!$J$11 -> 31.589736
A62: 2.28 | B62: =40+(worksheet!$F$17-40)*(worksheet!$F$11-3)/(worksheet!$F$14-3) -> 59.411765 | C62: =C61+($C$113-$C$53)/60 -> 0.313 | D62: =1000*worksheet!$F$42*C62/worksheet!$F$52/worksheet!$F$9 -> 1.7765171 | E62: =worksheet!$F$9*D62/worksheet!$F$29/worksheet!$F$11 -> 7.0756672 | F62: =IF((D62+E62)<(1000/B62),"DCM","CDCM") -> DCM | G62: =IF(F62="DCM",B62,1000/(D62+E62)) -> 59.411765 | H62: =C62/worksheet!$F$52 -> 1.6051282 | I62: =0.5*worksheet!$F$62/100*worksheet!$F$29*H62*E62*G62/1000*worksheet!$F$11 -> 31.410096 | J62: =G62 -> 59.411765 | L62: 2.28 | M62: =40+(worksheet!$F$17-40)*(worksheet!$J$11-3)/(worksheet!$F$14-3) -> 61.176471 | N62: =N61+($C$113-$C$53)/60 -> 0.313 | O62: =1000*worksheet!$F$42*N62/worksheet!$F$52/worksheet!$F$9 -> 1.7765171 | P62: =worksheet!$F$9*O62/worksheet!$F$29/worksheet!$J$11 -> 6.603956 | Q62: =IF((O62+P62)<(1000/M62),"DCM","CDCM") -> DCM | R62: =IF(Q62="DCM",M62,1000/(O62+P62)) -> 61.176471 | S62: =N62/worksheet!$F$52 -> 1.6051282 | T62: =0.5*worksheet!$F$62/100*worksheet!$F$29*S62*P62*R62/1000*worksheet!$J$11 -> 32.343069
A63: 2.3 | B63: =40+(worksheet!$F$17-40)*(worksheet!$F$11-3)/(worksheet!$F$14-3) -> 59.411765 | C63: =C62+($C$113-$C$53)/60 -> 0.31666667 | D63: =1000*worksheet!$F$42*C63/worksheet!$F$52/worksheet!$F$9 -> 1.7973283 | E63: =worksheet!$F$9*D63/worksheet!$F$29/worksheet!$F$11 -> 7.1585557 | F63: =IF((D63+E63)<(1000/B63),"DCM","CDCM") -> DCM | G63: =IF(F63="DCM",B63,1000/(D63+E63)) -> 59.411765 | H63: =C63/worksheet!$F$52 -> 1.6239316 | I63: =0.5*worksheet!$F$62/100*worksheet!$F$29*H63*E63*G63/1000*worksheet!$F$11 -> 32.150319 | J63: =G63 -> 59.411765 | L63: 2.3 | M63: =40+(worksheet!$F$17-40)*(worksheet!$J$11-3)/(worksheet!$F$14-3) -> 61.176471 | N63: =N62+($C$113-$C$53)/60 -> 0.31666667 | O63: =1000*worksheet!$F$42*N63/worksheet!$F$52/worksheet!$F$9 -> 1.7973283 | P63: =worksheet!$F$9*O63/worksheet!$F$29/worksheet!$J$11 -> 6.6813187 | Q63: =IF((O63+P63)<(1000/M63),"DCM","CDCM") -> DCM | R63: =IF(Q63="DCM",M63,1000/(O63+P63)) -> 61.176471 | S63: =N63/worksheet!$F$52 -> 1.6239316 | T63: =0.5*worksheet!$F$62/100*worksheet!$F$29*S63*P63*R63/1000*worksheet!$J$11 -> 33.105279
A64: 2.32 | B64: =40+(worksheet!$F$17-40)*(worksheet!$F$11-3)/(worksheet!$F$14-3) -> 59.411765 | C64: =C63+($C$113-$C$53)/60 -> 0.32033333 | D64: =1000*worksheet!$F$42*C64/worksheet!$F$52/worksheet!$F$9 -> 1.8181394 | E64: =worksheet!$F$9*D64/worksheet!$F$29/worksheet!$F$11 -> 7.2414443 | F64: =IF((D64+E64)<(1000/B64),"DCM","CDCM") -> DCM | G64: =IF(F64="DCM",B64,1000/(D64+E64)) -> 59.411765 | H64: =C64/worksheet!$F$52 -> 1.642735 | I64: =0.5*worksheet!$F$62/100*worksheet!$F$29*H64*E64*G64/1000*worksheet!$F$11 -> 32.899163 | J64: =G64 -> 59.411765 | L64: 2.32 | M64: =40+(worksheet!$F$17-40)*(worksheet!$J$11-3)/(worksheet!$F$14-3) -> 61.176471 | N64: =N63+($C$113-$C$53)/60 -> 0.32033333 | O64: =1000*worksheet!$F$42*N64/worksheet!$F$52/worksheet!$F$9 -> 1.8181394 | P64: =worksheet!$F$9*O64/worksheet!$F$29/worksheet!$J$11 -> 6.7586813 | Q64: =IF((O64+P64)<(1000/M64),"DCM","CDCM") -> DCM | R64: =IF(Q64="DCM",M64,1000/(O64+P64)) -> 61.176471 | S64: =N64/worksheet!$F$52 -> 1.642735 | T64: =0.5*worksheet!$F$62/100*worksheet!$F$29*S64*P64*R64/1000*worksheet!$J$11 -> 33.876366
A65: 2.34 | B65: =40+(worksheet!$F$17-40)*(worksheet!$F$11-3)/(worksheet!$F$14-3) -> 59.411765 | C65: =C64+($C$113-$C$53)/60 -> 0.324 | D65: =1000*worksheet!$F$42*C65/worksheet!$F$52/worksheet!$F$9 -> 1.8389506 | E65: =worksheet!$F$9*D65/worksheet!$F$29/worksheet!$F$11 -> 7.3243328 | F65: =IF((D65+E65)<(1000/B65),"DCM","CDCM") -> DCM | G65: =IF(F65="DCM",B65,1000/(D65+E65)) -> 59.411765 | H65: =C65/worksheet!$F$52 -> 1.6615385 | I65: =0.5*worksheet!$F$62/100*worksheet!$F$29*H65*E65*G65/1000*worksheet!$F$11 -> 33.656628 | J65: =G65 -> 59.411765 | L65: 2.34 | M65: =40+(worksheet!$F$17-40)*(worksheet!$J$11-3)/(worksheet!$F$14-3) -> 61.176471 | N65: =N64+($C$113-$C$53)/60 -> 0.324 | O65: =1000*worksheet!$F$42*N65/worksheet!$F$52/worksheet!$F$9 -> 1.8389506 | P65: =worksheet!$F$9*O65/worksheet!$F$29/worksheet!$J$11 -> 6.836044 | Q65: =IF((O65+P65)<(1000/M65),"DCM","CDCM") -> DCM | R65: =IF(Q65="DCM",M65,1000/(O65+P65)) -> 61.176471 | S65: =N65/worksheet!$F$52 -> 1.6615385 | T65: =0.5*worksheet!$F$62/100*worksheet!$F$29*S65*P65*R65/1000*worksheet!$J$11 -> 34.65633
... A112: 3.28 | B112: =40+(worksheet!$F$17-40)*(worksheet!$F$11-3)/(worksheet!$F$14-3) -> 59.411765 | C112: =C111+($C$113-$C$53)/60 -> 0.49633333 | D112: =1000*worksheet!$F$42*C112/worksheet!$F$52/worksheet!$F$9 -> 2.8170756 | E112: =worksheet!$F$9*D112/worksheet!$F$29/worksheet!$F$11 -> 11.220094 | F112: =IF((D112+E112)<(1000/B112),"DCM","CDCM") -> DCM | G112: =IF(F112="DCM",B112,1000/(D112+E112)) -> 59.411765 | H112: =C112/worksheet!$F$52 -> 2.5452991 | I112: =0.5*worksheet!$F$62/100*worksheet!$F$29*H112*E112*G112/1000*worksheet!$F$11 -> 78.981881 | J112: =G112 -> 59.411765 | L112: 3.28 | M112: =40+(worksheet!$F$17-40)*(worksheet!$J$11-3)/(worksheet!$F$14-3) -> 61.176471 | N112: =N111+($C$113-$C$53)/60 -> 0.49633333 | O112: =1000*worksheet!$F$42*N112/worksheet!$F$52/worksheet!$F$9 -> 2.8170756 | P112: =worksheet!$F$9*O112/worksheet!$F$29/worksheet!$J$11 -> 10.472088 | Q112: =IF((O112+P112)<(1000/M112),"DCM","CDCM") -> DCM | R112: =IF(Q112="DCM",M112,1000/(O112+P112)) -> 61.176471 | S112: =N112/worksheet!$F$52 -> 2.5452991 | T112: =0.5*worksheet!$F$62/100*worksheet!$F$29*S112*P112*R112/1000*worksheet!$J$11 -> 81.327877
A113: 3.3 | B113: =40+(worksheet!$F$17-40)*(worksheet!$F$11-3)/(worksheet!$F$14-3) -> 59.411765 | C113: 0.5 | D113: =1000*worksheet!$F$42*C113/worksheet!$F$52/worksheet!$F$9 -> 2.8378867 | E113: =worksheet!$F$9*D113/worksheet!$F$29/worksheet!$F$11 -> 11.302983 | F113: =IF((D113+E113)<(1000/B113),"DCM","CDCM") -> DCM | G113: =IF(F113="DCM",B113,1000/(D113+E113)) -> 59.411765 | H113: =C113/worksheet!$F$52 -> 2.5641026 | I113: =0.5*worksheet!$F$62/100*worksheet!$F$29*H113*E113*G113/1000*worksheet!$F$11 -> 80.15315 | J113: =G113 -> 59.411765 | L113: 3.3 | M113: =40+(worksheet!$F$17-40)*(worksheet!$J$11-3)/(worksheet!$F$14-3) -> 61.176471 | N113: 0.5 | O113: =1000*worksheet!$F$42*N113/worksheet!$F$52/worksheet!$F$9 -> 2.8378867 | P113: =worksheet!$F$9*O113/worksheet!$F$29/worksheet!$J$11 -> 10.549451 | Q113: =IF((O113+P113)<(1000/M113),"DCM","CDCM") -> DCM | R113: =IF(Q113="DCM",M113,1000/(O113+P113)) -> 61.176471 | S113: =N113/worksheet!$F$52 -> 2.5641026 | T113: =0.5*worksheet!$F$62/100*worksheet!$F$29*S113*P113*R113/1000*worksheet!$J$11 -> 82.533937
