Workbook

Sheet worksheet
B1: iW986x/7x / RRW221xx Product Design Tool: please fill yellow blanks only and pay attention to red words !
B2: Key in | D2: Check
B3: System Specifications
B4: AC input Range | F4: HL | T4: Pin | U4: Vin
B5: Minimum Input AC Voltage | E5: Vac_min | F5: 176 | G5: Vac | T5: Pin | U5: Vin
B6: Maximum Input AC Voltage | E6: Vac_max | F6: 276 | G6: Vac | T6: =F11*F12 -> 51.8 | U6: =F11 -> 14
B7: Line Frequency | E7: fac | F7: 50 | G7: Hz | T7: =I11*I12 -> #VALUE! | U7: =I11 -> Vo2
B8: Minimum DC Voltage | E8: Vdc_min | F8: 220 | G8: V | H8: Vds_min of the ripple of bulk cap
B9: Maximum DC Voltage | E9: Vdc_max | F9: =F6*SQRT(2) -> 390.32294 | G9: V | U9: =M11 -> 16
B10: Output Type | F10: Aux power | T10: MPV | U10: =VLOOKUP(F15,T2:U6,2,0) -> #N/A
B11: Output Voltage | E11: Vo1_Vo max_Rapid charger or Vo1_CV loop control_Aux power | F11: 14 | G11: V | I11: Vo2 | J11: 15 | K11: V | L11: Vo3 | M11: 16 | N11: V | T11: MPV | U11: =VLOOKUP(F20,T6:U9,2,0) -> #N/A
B12: Output Current | E12: Io1 | F12: 3.7 | G12: A | I12: Io2 | J12: 0.9 | K12: A | L12: Io3 | M12: 0.1 | N12: A
B13: IC options select | F13: RRW22122 | H13: pelase check the list of IC parameters
B14: FUSE TABLE default Vo_max | F14: 20 | G14: V | H14: pelase check the list of IC parameters
B15: FUSE TABLE default LL mode | F15: DCM | H15: Univasal & LL:please check the list of IC parameters HL&Voltage doubler: DCM
B16: FUSE TABLE LL CCM Frequency | E16: =IF(F15="DCM"," please ignore the yellow blank→"," ") -> please ignore the yellow blank→ | F16: 70 | G16: kHz | H16: Maximum fsw by IC setting; pelase check the list of IC parameters
B17: FUSE TABLE DCM Frequency | F17: 70 | G17: kHz
B18: Correction of Vo | E18: Vo_Correction | F18: 18.5 | G18: V | H18: 1.Vo_correction value will impact the fsw_max, Brown in and OVP level, suggest the change rate less than +/-50% of Vo； 2.Please check the OVP and Bin level after Vo_Correction value changed.
B19: Maxmum Frequency after Vo_Correction | E19: Fsw(max)_Correction | F19: =IF(F15="DCM",LLDCM!B53,LLCCM!B53) -> 67.352941 | G19: kHz | H19: Real maximum system operating fsw
B20: Maximum Output Power | E20: Po | F20: =IF(F10="rapid charger",MAX(F11*F12,J11*J12),SUM(F12*F11,J12*J11,M11*M12)) -> 66.9 | G20: W | H20: total Po | I20: Maximum Output Voltage
B21: Power Board Estimated Efficiency | E21: ƞ(Except the Bridge) | F21: 92 | G21: %
B22: Maximum Input Power | E22: Pin | F22: =F20/F21*100 -> 72.717391 | G22: W
B23: Minimum Input Capacitor (Bulk Cap) | E23: Cin | F23: =((2*F22*(1/4+0.5/PI()*ASIN((F8+2)/1.414/F5)))/((2*F5^2-(F8+2)^2)*F7))*1000000 -> 97.668588 | G23: uF
B25: Transformer& Resistors
B26: Primary-side Winding | E26: Np | F26: 42 | G26: Turns
B27: Secondary-side Winding | E27: Ns | F27: 6 | G27: Turns | H27: Winding turns of Vo_CV loop control please enter the acture Vcc turns according the Tx pins, Can include decimals impacts the OVP calculate result
B28: Auxiliary Winding | E28: Na | F28: 6.8 | G28: Turns | H28: please enter the acture Vcc turns according the Tx pins, Can include decimals impacts the OVP calculate result
B29: Turn Ratio | E29: Nps | F29: =F26/F27 -> 7
E30: Vor | F30: =F29*F11 -> 98 | H30: Suggest Vor=40~120V; if exceed the range, please change the Nps
E31: Npa | F31: =F26/F28 -> 6.1764706
E32: Nas | F32: =F28/F27 -> 1.1333333
B33: Primary-side Switch Stress | E33: Vpri_ds | F33: =F9+F29*F11+100 -> 588.32294 | G33: V | H33: 15% margin
B34: ZVS Switch Stress | E34: Vzvs_ds | F34: =(MAX(F11,J11)+F9/F32)*1.05 -> 377.37273 | G34: V | H34: 15% margin
B35: Secondary-side Switch Stress | E35: Vsec_ds | F35: =(F11+F9/F29)*110% -> 76.736463 | G35: V | H35: 10% margin
B36: Duty Cycle supposed LL CCM | E36: ="Dmax_"&F11&"V" -> Dmax_14V | F36: =F29*F11/(F29*F11+F8) -> 0.3081761
B37: Duty Cycle supposed LL CCM | E37: ="Dmax_"&J11&"V" -> Dmax_15V | F37: =IF(F10="Rapid charger",F29*J11/(F29*J11+F8)," ")
B38: CCM estimate Inductance_LL fullload | E38: Lm_judge1 | F38: =F8^2*F36^2/(2*F11*F22/F11*100/F21*LLCCM!$B$53) -> 0.42614142 | G38: mH | H38: ="F12=CCM: Lm > Lm_judge1 means "&F11&"V fullload is CCM, otherwise DCM" -> F12=CCM: Lm > Lm_judge1 means 14V fullload is CCM, otherwise DCM
E39: Lm_judge2 | F39: =IF(F10="Rapid charger",F8^2*F37^2/(2*J11*(J11*J12/F21*100)/J11*100/F21*LLCCM!$M$53)," ") | G39: mH | H39: ="F12=CCM: Lm > Lm_judge2 means "&J11&"V fullload is CCM, otherwise DCM" -> F12=CCM: Lm > Lm_judge2 means 15V fullload is CCM, otherwise DCM
B40: DCM estimate Inductance_LL fullload | E40: Lm_judge3 | F40: =F8^2*F36^2/(2*F11*F22/F11*100/F21*LLDCM!$B$53) -> 0.43172406 | G40: mH | H40: ="F12=DCM: Lm > Lm_judge3 means "&F11&"V fullload is CDCM, otherwise DCM" -> F12=DCM: Lm > Lm_judge3 means 14V fullload is CDCM, otherwise DCM
E41: Lm_judge4 | F41: =IF(F10="Rapid charger",F8^2*F37^2/(2*J11*(J11*J12/F21*100)/J11*100/F21*LLDCM!$M$53)," ") | G41: mH | H41: ="F12=DCM: Lm > Lm_judge4 means "&J11&"V fullload is CDCM, otherwise DCM" -> F12=DCM: Lm > Lm_judge4 means 15V fullload is CDCM, otherwise DCM
...

Sheet IC parameters
B2: Driver(V) | C2: Power Device | D2: DFET for fast startup | E2: Secondary loop control IC | F2: Application | G2: Highest Vout for max fsw | H2: Max fsw(KHz) | I2: CCM/DCM at LL
A3: iW9870-05 | B3: 6 | C3: EGaN | D3: Y | E3: iW780/RRW30110 | F3: PD_ZSP | G3: 20 | H3: 125 | I3: DCM
A4: iW9870-07 | B4: 10 | C4: DGaN | D4: Y | E4: iW780/RRW30111 | F4: PD_ZSP | G4: 20 | H4: 120 | I4: DCM
A5: iW9873-63 | B5: 10 | C5: DGaN,mosfet | D5: Y | E5: TL431 or 3rd party IC | F5: aux power/PD | G5: 20 | H5: 125 | I5: CCM
A6: iW9863-01 | B6: 10 | C6: DGaN,mosfet | D6: Y | E6: TL431 or 3rd party IC | F6: aux power/PD | G6: 12 | H6: 70 | I6: CCM
A7: iW9863-06 | B7: 10 | C7: DGaN,mosfet | D7: Y | E7: TL431 or 3rd party IC | F7: aux power/PD | G7: 20 | H7: 70 | I7: CCM
A8: RRW22111 | B8: 10 | C8: DGaN | D8: Y | E8: iW780/RRW30110 | F8: PD_ZSP | G8: 20 | H8: 70 | I8: CCM
A9: iW9866-15 | B9: 10 | C9: DGaN,mosfet | D9: N | E9: TL431 or 3rd party IC | F9: aux power/PD | G9: 20 | H9: 70 | I9: CCM
A10: RRW22122 | B10: 10 | C10: DGaN | D10: N | E10: TL431 or 3rd party IC | F10: PD_ZSP | G10: 20 | H10: 70 | I10: CCM
A11: RRW22101 | B11: 10 | C11: DGaN | D11: Y | E11: TL431 or 3rd party IC | F11: aux power/PD | G11: 20 | H11: 70 | I11: CCM

Sheet user guide line
A1: step 1
A2: key in the input information
A8: step 2
A9: choose the output type and key in the output VI profile
A14: In auxiliary power supply design, the total output power is equal to the sum of the output power of each circuit.
A18: In PD applications, key in the highest output voltage PDO and the PDO corresponding to the maximum current in the rated power.
A20: Step3
A21: Select the appropriate IC from the iW986x/7x and RRW221xx general product list, and then select the IC's operating mode based on the input voltage range type.
A28: step4
A29: 1. According to the IC definition, there is a positive correlation between the IC's operating frequency and output voltage(see below curve of fsw vs Vo). The highest frequency is set by an assumed output voltage of 12V or 20V (depending on the IC options). 2.The IC using the Vsense pin to detect the output voltage information via the Auxiliary Winding and Rvs. In the Non-PD design,The Vo doesn't follow the relationship of 12V/20Vmax, The introduction of an output voltage correction factor provides greater design flexibility, such as the ability to configure an optimal maximum operating frequency and an appropriate OVP level. 3.Vo_Correction, Rvs, Npa,Nas ,fsw, OVP and VBIN are related
A43: Step5
A44: key in the transformer parameters accordign to the device voltage stress and current stress consideration.
... A78: Key in the Ae of core, check the Bmax

Sheet LLCCM
A1: =worksheet!$F$11&"V" -> 14V | L1: =worksheet!$J$11&"V" -> 15V
A2: Vc/V | B2: Fsw/kHz | C2: Vipk/V | D2: Ton/us | E2: Toff/us | F2: mode | G2: Ip1/A | H2: Ip2/A | I2: Po_actual/W | L2: Vc/V | M2: Fsw/kHz | N2: Vipk/V | O2: Ton/us | P2: Toff/us | Q2: mode | R2: Ip1/A | S2: Ip2/A | T2: Po_actual/W
A3: 1.1 | B3: 25 | C3: 0.2 | D3: =MIN(1000*worksheet!$F$36/B3,1000*worksheet!$F$42*C3/worksheet!$F$52/worksheet!$F$8) -> 2.013986 | E3: =MIN(1000*(1-worksheet!$F$36/B3),worksheet!$F$8*D3/worksheet!$F$29/worksheet!$F$11) -> 4.5211931 | F3: =IF((D3+E3)<(1000/B3),"DCM","CCM") -> DCM | G3: =H3-worksheet!$F$8*D3/worksheet!$F$42/1000 -> 0 | H3: =C3/worksheet!$F$52 -> 1.025641 | I3: =0.5*worksheet!$F$62/100*worksheet!$F$29*(G3+H3)*E3*B3/1000*worksheet!$F$11 -> 5.3964497 | J3: =B3 -> 25 | L3: 1.1 | M3: =IF(worksheet!$F$10="Rapid charger",25," ") | N3: 0.2 | O3: =MIN(1000*worksheet!$F$37/M3,1000*worksheet!$F$42*N3/worksheet!$F$52/worksheet!$F$8) -> #VALUE! | P3: =MIN(1000*(1-worksheet!$F$37/M3),worksheet!$F$8*O3/worksheet!$F$29/worksheet!$J$11) -> #VALUE! | Q3: =IF((O3+P3)<(1000/M3),"DCM","CCM") -> #VALUE! | R3: =S3-worksheet!$F$8*O3/worksheet!$F$42/1000 -> #VALUE! | S3: =N3/worksheet!$F$52 -> 1.025641 | T3: =0.5*worksheet!$F$62/100*worksheet!$F$29*(R3+S3)*P3*M3/1000*worksheet!$J$11 -> #VALUE!
A4: 1.12 | B4: 25 | C4: =C3+($C$28-$C$3)/25 -> 0.2032 | D4: =MIN(1000*worksheet!$F$36/B4,1000*worksheet!$F$42*C4/worksheet!$F$52/worksheet!$F$8) -> 2.0462098 | E4: =MIN(1000*(1-worksheet!$F$36/B4),worksheet!$F$8*D4/worksheet!$F$29/worksheet!$F$11) -> 4.5935322 | F4: =IF((D4+E4)<(1000/B4),"DCM","CCM") -> DCM | G4: =H4-worksheet!$F$8*D4/worksheet!$F$42/1000 -> 0 | H4: =C4/worksheet!$F$52 -> 1.0420513 | I4: =0.5*worksheet!$F$62/100*worksheet!$F$29*(G4+H4)*E4*B4/1000*worksheet!$F$11 -> 5.5705176 | J4: =B4 -> 25 | L4: 1.12 | M4: =IF(worksheet!$F$10="Rapid charger",25," ") | N4: =N3+($C$28-$C$3)/25 -> 0.2032 | O4: =MIN(1000*worksheet!$F$37/M4,1000*worksheet!$F$42*N4/worksheet!$F$52/worksheet!$F$8) -> #VALUE! | P4: =MIN(1000*(1-worksheet!$F$37/M4),worksheet!$F$8*O4/worksheet!$F$29/worksheet!$J$11) -> #VALUE! | Q4: =IF((O4+P4)<(1000/M4),"DCM","CCM") -> #VALUE! | R4: =S4-worksheet!$F$8*O4/worksheet!$F$42/1000 -> #VALUE! | S4: =N4/worksheet!$F$52 -> 1.0420513 | T4: =0.5*worksheet!$F$62/100*worksheet!$F$29*(R4+S4)*P4*M4/1000*worksheet!$J$11 -> #VALUE!
A5: 1.14 | B5: 25 | C5: =C4+($C$28-$C$3)/25 -> 0.2064 | D5: =MIN(1000*worksheet!$F$36/B5,1000*worksheet!$F$42*C5/worksheet!$F$52/worksheet!$F$8) -> 2.0784336 | E5: =MIN(1000*(1-worksheet!$F$36/B5),worksheet!$F$8*D5/worksheet!$F$29/worksheet!$F$11) -> 4.6658713 | F5: =IF((D5+E5)<(1000/B5),"DCM","CCM") -> DCM | G5: =H5-worksheet!$F$8*D5/worksheet!$F$42/1000 -> 0 | H5: =C5/worksheet!$F$52 -> 1.0584615 | I5: =0.5*worksheet!$F$62/100*worksheet!$F$29*(G5+H5)*E5*B5/1000*worksheet!$F$11 -> 5.7473484 | J5: =B5 -> 25 | L5: 1.14 | M5: =IF(worksheet!$F$10="Rapid charger",25," ") | N5: =N4+($C$28-$C$3)/25 -> 0.2064 | O5: =MIN(1000*worksheet!$F$37/M5,1000*worksheet!$F$42*N5/worksheet!$F$52/worksheet!$F$8) -> #VALUE! | P5: =MIN(1000*(1-worksheet!$F$37/M5),worksheet!$F$8*O5/worksheet!$F$29/worksheet!$J$11) -> #VALUE! | Q5: =IF((O5+P5)<(1000/M5),"DCM","CCM") -> #VALUE! | R5: =S5-worksheet!$F$8*O5/worksheet!$F$42/1000 -> #VALUE! | S5: =N5/worksheet!$F$52 -> 1.0584615 | T5: =0.5*worksheet!$F$62/100*worksheet!$F$29*(R5+S5)*P5*M5/1000*worksheet!$J$11 -> #VALUE!
A6: 1.16 | B6: 25 | C6: =C5+($C$28-$C$3)/25 -> 0.2096 | D6: =MIN(1000*worksheet!$F$36/B6,1000*worksheet!$F$42*C6/worksheet!$F$52/worksheet!$F$8) -> 2.1106573 | E6: =MIN(1000*(1-worksheet!$F$36/B6),worksheet!$F$8*D6/worksheet!$F$29/worksheet!$F$11) -> 4.7382104 | F6: =IF((D6+E6)<(1000/B6),"DCM","CCM") -> DCM | G6: =H6-worksheet!$F$8*D6/worksheet!$F$42/1000 -> 0 | H6: =C6/worksheet!$F$52 -> 1.0748718 | I6: =0.5*worksheet!$F$62/100*worksheet!$F$29*(G6+H6)*E6*B6/1000*worksheet!$F$11 -> 5.9269423 | J6: =B6 -> 25 | L6: 1.16 | M6: =IF(worksheet!$F$10="Rapid charger",25," ") | N6: =N5+($C$28-$C$3)/25 -> 0.2096 | O6: =MIN(1000*worksheet!$F$37/M6,1000*worksheet!$F$42*N6/worksheet!$F$52/worksheet!$F$8) -> #VALUE! | P6: =MIN(1000*(1-worksheet!$F$37/M6),worksheet!$F$8*O6/worksheet!$F$29/worksheet!$J$11) -> #VALUE! | Q6: =IF((O6+P6)<(1000/M6),"DCM","CCM") -> #VALUE! | R6: =S6-worksheet!$F$8*O6/worksheet!$F$42/1000 -> #VALUE! | S6: =N6/worksheet!$F$52 -> 1.0748718 | T6: =0.5*worksheet!$F$62/100*worksheet!$F$29*(R6+S6)*P6*M6/1000*worksheet!$J$11 -> #VALUE!
A7: 1.18 | B7: 25 | C7: =C6+($C$28-$C$3)/25 -> 0.2128 | D7: =MIN(1000*worksheet!$F$36/B7,1000*worksheet!$F$42*C7/worksheet!$F$52/worksheet!$F$8) -> 2.1428811 | E7: =MIN(1000*(1-worksheet!$F$36/B7),worksheet!$F$8*D7/worksheet!$F$29/worksheet!$F$11) -> 4.8105495 | F7: =IF((D7+E7)<(1000/B7),"DCM","CCM") -> DCM | G7: =H7-worksheet!$F$8*D7/worksheet!$F$42/1000 -> 0 | H7: =C7/worksheet!$F$52 -> 1.0912821 | I7: =0.5*worksheet!$F$62/100*worksheet!$F$29*(G7+H7)*E7*B7/1000*worksheet!$F$11 -> 6.1092991 | J7: =B7 -> 25 | L7: 1.18 | M7: =IF(worksheet!$F$10="Rapid charger",25," ") | N7: =N6+($C$28-$C$3)/25 -> 0.2128 | O7: =MIN(1000*worksheet!$F$37/M7,1000*worksheet!$F$42*N7/worksheet!$F$52/worksheet!$F$8) -> #VALUE! | P7: =MIN(1000*(1-worksheet!$F$37/M7),worksheet!$F$8*O7/worksheet!$F$29/worksheet!$J$11) -> #VALUE! | Q7: =IF((O7+P7)<(1000/M7),"DCM","CCM") -> #VALUE! | R7: =S7-worksheet!$F$8*O7/worksheet!$F$42/1000 -> #VALUE! | S7: =N7/worksheet!$F$52 -> 1.0912821 | T7: =0.5*worksheet!$F$62/100*worksheet!$F$29*(R7+S7)*P7*M7/1000*worksheet!$J$11 -> #VALUE!
A8: 1.2 | B8: 25 | C8: =C7+($C$28-$C$3)/25 -> 0.216 | D8: =MIN(1000*worksheet!$F$36/B8,1000*worksheet!$F$42*C8/worksheet!$F$52/worksheet!$F$8) -> 2.1751049 | E8: =MIN(1000*(1-worksheet!$F$36/B8),worksheet!$F$8*D8/worksheet!$F$29/worksheet!$F$11) -> 4.8828885 | F8: =IF((D8+E8)<(1000/B8),"DCM","CCM") -> DCM | G8: =H8-worksheet!$F$8*D8/worksheet!$F$42/1000 -> 0 | H8: =C8/worksheet!$F$52 -> 1.1076923 | I8: =0.5*worksheet!$F$62/100*worksheet!$F$29*(G8+H8)*E8*B8/1000*worksheet!$F$11 -> 6.2944189 | J8: =B8 -> 25 | L8: 1.2 | M8: =IF(worksheet!$F$10="Rapid charger",25," ") | N8: =N7+($C$28-$C$3)/25 -> 0.216 | O8: =MIN(1000*worksheet!$F$37/M8,1000*worksheet!$F$42*N8/worksheet!$F$52/worksheet!$F$8) -> #VALUE! | P8: =MIN(1000*(1-worksheet!$F$37/M8),worksheet!$F$8*O8/worksheet!$F$29/worksheet!$J$11) -> #VALUE! | Q8: =IF((O8+P8)<(1000/M8),"DCM","CCM") -> #VALUE! | R8: =S8-worksheet!$F$8*O8/worksheet!$F$42/1000 -> #VALUE! | S8: =N8/worksheet!$F$52 -> 1.1076923 | T8: =0.5*worksheet!$F$62/100*worksheet!$F$29*(R8+S8)*P8*M8/1000*worksheet!$J$11 -> #VALUE!
A9: 1.22 | B9: 25 | C9: =C8+($C$28-$C$3)/25 -> 0.2192 | D9: =MIN(1000*worksheet!$F$36/B9,1000*worksheet!$F$42*C9/worksheet!$F$52/worksheet!$F$8) -> 2.2073287 | E9: =MIN(1000*(1-worksheet!$F$36/B9),worksheet!$F$8*D9/worksheet!$F$29/worksheet!$F$11) -> 4.9552276 | F9: =IF((D9+E9)<(1000/B9),"DCM","CCM") -> DCM | G9: =H9-worksheet!$F$8*D9/worksheet!$F$42/1000 -> 0 | H9: =C9/worksheet!$F$52 -> 1.1241026 | I9: =0.5*worksheet!$F$62/100*worksheet!$F$29*(G9+H9)*E9*B9/1000*worksheet!$F$11 -> 6.4823017 | J9: =B9 -> 25 | L9: 1.22 | M9: =IF(worksheet!$F$10="Rapid charger",25," ") | N9: =N8+($C$28-$C$3)/25 -> 0.2192 | O9: =MIN(1000*worksheet!$F$37/M9,1000*worksheet!$F$42*N9/worksheet!$F$52/worksheet!$F$8) -> #VALUE! | P9: =MIN(1000*(1-worksheet!$F$37/M9),worksheet!$F$8*O9/worksheet!$F$29/worksheet!$J$11) -> #VALUE! | Q9: =IF((O9+P9)<(1000/M9),"DCM","CCM") -> #VALUE! | R9: =S9-worksheet!$F$8*O9/worksheet!$F$42/1000 -> #VALUE! | S9: =N9/worksheet!$F$52 -> 1.1241026 | T9: =0.5*worksheet!$F$62/100*worksheet!$F$29*(R9+S9)*P9*M9/1000*worksheet!$J$11 -> #VALUE!
A10: 1.24 | B10: 25 | C10: =C9+($C$28-$C$3)/25 -> 0.2224 | D10: =MIN(1000*worksheet!$F$36/B10,1000*worksheet!$F$42*C10/worksheet!$F$52/worksheet!$F$8) -> 2.2395524 | E10: =MIN(1000*(1-worksheet!$F$36/B10),worksheet!$F$8*D10/worksheet!$F$29/worksheet!$F$11) -> 5.0275667 | F10: =IF((D10+E10)<(1000/B10),"DCM","CCM") -> DCM | G10: =H10-worksheet!$F$8*D10/worksheet!$F$42/1000 -> 0 | H10: =C10/worksheet!$F$52 -> 1.1405128 | I10: =0.5*worksheet!$F$62/100*worksheet!$F$29*(G10+H10)*E10*B10/1000*worksheet!$F$11 -> 6.6729475 | J10: =B10 -> 25 | L10: 1.24 | M10: =IF(worksheet!$F$10="Rapid charger",25," ") | N10: =N9+($C$28-$C$3)/25 -> 0.2224 | O10: =MIN(1000*worksheet!$F$37/M10,1000*worksheet!$F$42*N10/worksheet!$F$52/worksheet!$F$8) -> #VALUE! | P10: =MIN(1000*(1-worksheet!$F$37/M10),worksheet!$F$8*O10/worksheet!$F$29/worksheet!$J$11) -> #VALUE! | Q10: =IF((O10+P10)<(1000/M10),"DCM","CCM") -> #VALUE! | R10: =S10-worksheet!$F$8*O10/worksheet!$F$42/1000 -> #VALUE! | S10: =N10/worksheet!$F$52 -> 1.1405128 | T10: =0.5*worksheet!$F$62/100*worksheet!$F$29*(R10+S10)*P10*M10/1000*worksheet!$J$11 -> #VALUE!
A11: 1.26 | B11: 25 | C11: =C10+($C$28-$C$3)/25 -> 0.2256 | D11: =MIN(1000*worksheet!$F$36/B11,1000*worksheet!$F$42*C11/worksheet!$F$52/worksheet!$F$8) -> 2.2717762 | E11: =MIN(1000*(1-worksheet!$F$36/B11),worksheet!$F$8*D11/worksheet!$F$29/worksheet!$F$11) -> 5.0999058 | F11: =IF((D11+E11)<(1000/B11),"DCM","CCM") -> DCM | G11: =H11-worksheet!$F$8*D11/worksheet!$F$42/1000 -> 0 | H11: =C11/worksheet!$F$52 -> 1.1569231 | I11: =0.5*worksheet!$F$62/100*worksheet!$F$29*(G11+H11)*E11*B11/1000*worksheet!$F$11 -> 6.8663563 | J11: =B11 -> 25 | L11: 1.26 | M11: =IF(worksheet!$F$10="Rapid charger",25," ") | N11: =N10+($C$28-$C$3)/25 -> 0.2256 | O11: =MIN(1000*worksheet!$F$37/M11,1000*worksheet!$F$42*N11/worksheet!$F$52/worksheet!$F$8) -> #VALUE! | P11: =MIN(1000*(1-worksheet!$F$37/M11),worksheet!$F$8*O11/worksheet!$F$29/worksheet!$J$11) -> #VALUE! | Q11: =IF((O11+P11)<(1000/M11),"DCM","CCM") -> #VALUE! | R11: =S11-worksheet!$F$8*O11/worksheet!$F$42/1000 -> #VALUE! | S11: =N11/worksheet!$F$52 -> 1.1569231 | T11: =0.5*worksheet!$F$62/100*worksheet!$F$29*(R11+S11)*P11*M11/1000*worksheet!$J$11 -> #VALUE!
A12: 1.28 | B12: 25 | C12: =C11+($C$28-$C$3)/25 -> 0.2288 | D12: =MIN(1000*worksheet!$F$36/B12,1000*worksheet!$F$42*C12/worksheet!$F$52/worksheet!$F$8) -> 2.304 | E12: =MIN(1000*(1-worksheet!$F$36/B12),worksheet!$F$8*D12/worksheet!$F$29/worksheet!$F$11) -> 5.1722449 | F12: =IF((D12+E12)<(1000/B12),"DCM","CCM") -> DCM | G12: =H12-worksheet!$F$8*D12/worksheet!$F$42/1000 -> 0 | H12: =C12/worksheet!$F$52 -> 1.1733333 | I12: =0.5*worksheet!$F$62/100*worksheet!$F$29*(G12+H12)*E12*B12/1000*worksheet!$F$11 -> 7.062528 | J12: =B12 -> 25 | L12: 1.28 | M12: =IF(worksheet!$F$10="Rapid charger",25," ") | N12: =N11+($C$28-$C$3)/25 -> 0.2288 | O12: =MIN(1000*worksheet!$F$37/M12,1000*worksheet!$F$42*N12/worksheet!$F$52/worksheet!$F$8) -> #VALUE! | P12: =MIN(1000*(1-worksheet!$F$37/M12),worksheet!$F$8*O12/worksheet!$F$29/worksheet!$J$11) -> #VALUE! | Q12: =IF((O12+P12)<(1000/M12),"DCM","CCM") -> #VALUE! | R12: =S12-worksheet!$F$8*O12/worksheet!$F$42/1000 -> #VALUE! | S12: =N12/worksheet!$F$52 -> 1.1733333 | T12: =0.5*worksheet!$F$62/100*worksheet!$F$29*(R12+S12)*P12*M12/1000*worksheet!$J$11 -> #VALUE!
A13: 1.3 | B13: 25 | C13: =C12+($C$28-$C$3)/25 -> 0.232 | D13: =MIN(1000*worksheet!$F$36/B13,1000*worksheet!$F$42*C13/worksheet!$F$52/worksheet!$F$8) -> 2.3362238 | E13: =MIN(1000*(1-worksheet!$F$36/B13),worksheet!$F$8*D13/worksheet!$F$29/worksheet!$F$11) -> 5.244584 | F13: =IF((D13+E13)<(1000/B13),"DCM","CCM") -> DCM | G13: =H13-worksheet!$F$8*D13/worksheet!$F$42/1000 -> 0 | H13: =C13/worksheet!$F$52 -> 1.1897436 | I13: =0.5*worksheet!$F$62/100*worksheet!$F$29*(G13+H13)*E13*B13/1000*worksheet!$F$11 -> 7.2614627 | J13: =B13 -> 25 | L13: 1.3 | M13: =IF(worksheet!$F$10="Rapid charger",25," ") | N13: =N12+($C$28-$C$3)/25 -> 0.232 | O13: =MIN(1000*worksheet!$F$37/M13,1000*worksheet!$F$42*N13/worksheet!$F$52/worksheet!$F$8) -> #VALUE! | P13: =MIN(1000*(1-worksheet!$F$37/M13),worksheet!$F$8*O13/worksheet!$F$29/worksheet!$J$11) -> #VALUE! | Q13: =IF((O13+P13)<(1000/M13),"DCM","CCM") -> #VALUE! | R13: =S13-worksheet!$F$8*O13/worksheet!$F$42/1000 -> #VALUE! | S13: =N13/worksheet!$F$52 -> 1.1897436 | T13: =0.5*worksheet!$F$62/100*worksheet!$F$29*(R13+S13)*P13*M13/1000*worksheet!$J$11 -> #VALUE!
A14: 1.32 | B14: 25 | C14: =C13+($C$28-$C$3)/25 -> 0.2352 | D14: =MIN(1000*worksheet!$F$36/B14,1000*worksheet!$F$42*C14/worksheet!$F$52/worksheet!$F$8) -> 2.3684476 | E14: =MIN(1000*(1-worksheet!$F$36/B14),worksheet!$F$8*D14/worksheet!$F$29/worksheet!$F$11) -> 5.3169231 | F14: =IF((D14+E14)<(1000/B14),"DCM","CCM") -> DCM | G14: =H14-worksheet!$F$8*D14/worksheet!$F$42/1000 -> 0 | H14: =C14/worksheet!$F$52 -> 1.2061538 | I14: =0.5*worksheet!$F$62/100*worksheet!$F$29*(G14+H14)*E14*B14/1000*worksheet!$F$11 -> 7.4631604 | J14: =B14 -> 25 | L14: 1.32 | M14: =IF(worksheet!$F$10="Rapid charger",25," ") | N14: =N13+($C$28-$C$3)/25 -> 0.2352 | O14: =MIN(1000*worksheet!$F$37/M14,1000*worksheet!$F$42*N14/worksheet!$F$52/worksheet!$F$8) -> #VALUE! | P14: =MIN(1000*(1-worksheet!$F$37/M14),worksheet!$F$8*O14/worksheet!$F$29/worksheet!$J$11) -> #VALUE! | Q14: =IF((O14+P14)<(1000/M14),"DCM","CCM") -> #VALUE! | R14: =S14-worksheet!$F$8*O14/worksheet!$F$42/1000 -> #VALUE! | S14: =N14/worksheet!$F$52 -> 1.2061538 | T14: =0.5*worksheet!$F$62/100*worksheet!$F$29*(R14+S14)*P14*M14/1000*worksheet!$J$11 -> #VALUE!
A15: 1.34 | B15: 25 | C15: =C14+($C$28-$C$3)/25 -> 0.2384 | D15: =MIN(1000*worksheet!$F$36/B15,1000*worksheet!$F$42*C15/worksheet!$F$52/worksheet!$F$8) -> 2.4006713 | E15: =MIN(1000*(1-worksheet!$F$36/B15),worksheet!$F$8*D15/worksheet!$F$29/worksheet!$F$11) -> 5.3892622 | F15: =IF((D15+E15)<(1000/B15),"DCM","CCM") -> DCM | G15: =H15-worksheet!$F$8*D15/worksheet!$F$42/1000 -> 0 | H15: =C15/worksheet!$F$52 -> 1.2225641 | I15: =0.5*worksheet!$F$62/100*worksheet!$F$29*(G15+H15)*E15*B15/1000*worksheet!$F$11 -> 7.6676211 | J15: =B15 -> 25 | L15: 1.34 | M15: =IF(worksheet!$F$10="Rapid charger",25," ") | N15: =N14+($C$28-$C$3)/25 -> 0.2384 | O15: =MIN(1000*worksheet!$F$37/M15,1000*worksheet!$F$42*N15/worksheet!$F$52/worksheet!$F$8) -> #VALUE! | P15: =MIN(1000*(1-worksheet!$F$37/M15),worksheet!$F$8*O15/worksheet!$F$29/worksheet!$J$11) -> #VALUE! | Q15: =IF((O15+P15)<(1000/M15),"DCM","CCM") -> #VALUE! | R15: =S15-worksheet!$F$8*O15/worksheet!$F$42/1000 -> #VALUE! | S15: =N15/worksheet!$F$52 -> 1.2225641 | T15: =0.5*worksheet!$F$62/100*worksheet!$F$29*(R15+S15)*P15*M15/1000*worksheet!$J$11 -> #VALUE!
... A27: 1.58 | B27: 25 | C27: =C26+($C$28-$C$3)/25 -> 0.2768 | D27: =MIN(1000*worksheet!$F$36/B27,1000*worksheet!$F$42*C27/worksheet!$F$52/worksheet!$F$8) -> 2.7873566 | E27: =MIN(1000*(1-worksheet!$F$36/B27),worksheet!$F$8*D27/worksheet!$F$29/worksheet!$F$11) -> 6.2573312 | F27: =IF((D27+E27)<(1000/B27),"DCM","CCM") -> DCM | G27: =H27-worksheet!$F$8*D27/worksheet!$F$42/1000 -> 0 | H27: =C27/worksheet!$F$52 -> 1.4194872 | I27: =0.5*worksheet!$F$62/100*worksheet!$F$29*(G27+H27)*E27*B27/1000*worksheet!$F$11 -> 10.336662 | J27: =B27 -> 25 | L27: 1.58 | M27: =IF(worksheet!$F$10="Rapid charger",25," ") | N27: =N26+($C$28-$C$3)/25 -> 0.2768 | O27: =MIN(1000*worksheet!$F$37/M27,1000*worksheet!$F$42*N27/worksheet!$F$52/worksheet!$F$8) -> #VALUE! | P27: =MIN(1000*(1-worksheet!$F$37/M27),worksheet!$F$8*O27/worksheet!$F$29/worksheet!$J$11) -> #VALUE! | Q27: =IF((O27+P27)<(1000/M27),"DCM","CCM") -> #VALUE! | R27: =S27-worksheet!$F$8*O27/worksheet!$F$42/1000 -> #VALUE! | S27: =N27/worksheet!$F$52 -> 1.4194872 | T27: =0.5*worksheet!$F$62/100*worksheet!$F$29*(R27+S27)*P27*M27/1000*worksheet!$J$11 -> #VALUE!
A28: 1.6 | B28: 25 | C28: 0.28 | D28: =MIN(1000*worksheet!$F$36/B28,1000*worksheet!$F$42*C28/worksheet!$F$52/worksheet!$F$8) -> 2.8195804 | E28: =MIN(1000*(1-worksheet!$F$36/B28),worksheet!$F$8*D28/worksheet!$F$29/worksheet!$F$11) -> 6.3296703 | F28: =IF((D28+E28)<(1000/B28),"DCM","CCM") -> DCM | G28: =H28-worksheet!$F$8*D28/worksheet!$F$42/1000 -> 0 | H28: =C28/worksheet!$F$52 -> 1.4358974 | I28: =0.5*worksheet!$F$62/100*worksheet!$F$29*(G28+H28)*E28*B28/1000*worksheet!$F$11 -> 10.577041 | J28: =B28 -> 25 | L28: 1.6 | M28: =IF(worksheet!$F$10="Rapid charger",25," ") | N28: 0.28 | O28: =MIN(1000*worksheet!$F$37/M28,1000*worksheet!$F$42*N28/worksheet!$F$52/worksheet!$F$8) -> #VALUE! | P28: =MIN(1000*(1-worksheet!$F$37/M28),worksheet!$F$8*O28/worksheet!$F$29/worksheet!$J$11) -> #VALUE! | Q28: =IF((O28+P28)<(1000/M28),"DCM","CCM") -> #VALUE! | R28: =S28-worksheet!$F$8*O28/worksheet!$F$42/1000 -> #VALUE! | S28: =N28/worksheet!$F$52 -> 1.4358974 | T28: =0.5*worksheet!$F$62/100*worksheet!$F$29*(R28+S28)*P28*M28/1000*worksheet!$J$11 -> #VALUE!
A29: 1.62 | B29: =IF(F9="Rapid charger",B28+($B$53-$B$28)/25,B28+($B$53-$B$28)/25) -> 26.729412 | C29: 0.28 | D29: =MIN(1000*worksheet!$F$36/B29,1000*worksheet!$F$42*C29/worksheet!$F$52/worksheet!$F$8) -> 2.8195804 | E29: =MIN(1000*(1-worksheet!$F$36/B29),worksheet!$F$8*D29/worksheet!$F$29/worksheet!$F$11) -> 6.3296703 | F29: =IF((D29+E29)<(1000/B29),"DCM","CCM") -> DCM | G29: =H29-worksheet!$F$8*D29/worksheet!$F$42/1000 -> 0 | H29: =C29/worksheet!$F$52 -> 1.4358974 | I29: =0.5*worksheet!$F$62/100*worksheet!$F$29*(G29+H29)*E29*B29/1000*worksheet!$F$11 -> 11.308724 | J29: =B29 -> 26.729412 | L29: 1.62 | M29: =M28+($M$53-$M$28)/25 -> #VALUE! | N29: 0.28 | O29: =MIN(1000*worksheet!$F$37/M29,1000*worksheet!$F$42*N29/worksheet!$F$52/worksheet!$F$8) -> #VALUE! | P29: =MIN(1000*(1-worksheet!$F$37/M29),worksheet!$F$8*O29/worksheet!$F$29/worksheet!$J$11) -> #VALUE! | Q29: =IF((O29+P29)<(1000/M29),"DCM","CCM") -> #VALUE! | R29: =S29-worksheet!$F$8*O29/worksheet!$F$42/1000 -> #VALUE! | S29: =N29/worksheet!$F$52 -> 1.4358974 | T29: =0.5*worksheet!$F$62/100*worksheet!$F$29*(R29+S29)*P29*M29/1000*worksheet!$J$11 -> #VALUE!
A30: 1.64 | B30: =IF(F10="Rapid charger",B29+($B$53-$B$28)/25,B29+($B$53-$B$28)/25) -> 28.458824 | C30: 0.28 | D30: =MIN(1000*worksheet!$F$36/B30,1000*worksheet!$F$42*C30/worksheet!$F$52/worksheet!$F$8) -> 2.8195804 | E30: =MIN(1000*(1-worksheet!$F$36/B30),worksheet!$F$8*D30/worksheet!$F$29/worksheet!$F$11) -> 6.3296703 | F30: =IF((D30+E30)<(1000/B30),"DCM","CCM") -> DCM | G30: =H30-worksheet!$F$8*D30/worksheet!$F$42/1000 -> 0 | H30: =C30/worksheet!$F$52 -> 1.4358974 | I30: =0.5*worksheet!$F$62/100*worksheet!$F$29*(G30+H30)*E30*B30/1000*worksheet!$F$11 -> 12.040406 | J30: =B30 -> 28.458824 | L30: 1.64 | M30: =M29+($M$53-$M$28)/25 -> #VALUE! | N30: 0.28 | O30: =MIN(1000*worksheet!$F$37/M30,1000*worksheet!$F$42*N30/worksheet!$F$52/worksheet!$F$8) -> #VALUE! | P30: =MIN(1000*(1-worksheet!$F$37/M30),worksheet!$F$8*O30/worksheet!$F$29/worksheet!$J$11) -> #VALUE! | Q30: =IF((O30+P30)<(1000/M30),"DCM","CCM") -> #VALUE! | R30: =S30-worksheet!$F$8*O30/worksheet!$F$42/1000 -> #VALUE! | S30: =N30/worksheet!$F$52 -> 1.4358974 | T30: =0.5*worksheet!$F$62/100*worksheet!$F$29*(R30+S30)*P30*M30/1000*worksheet!$J$11 -> #VALUE!
A31: 1.66 | B31: =IF(F11="Rapid charger",B30+($B$53-$B$28)/25,B30+($B$53-$B$28)/25) -> 30.188235 | C31: 0.28 | D31: =MIN(1000*worksheet!$F$36/B31,1000*worksheet!$F$42*C31/worksheet!$F$52/worksheet!$F$8) -> 2.8195804 | E31: =MIN(1000*(1-worksheet!$F$36/B31),worksheet!$F$8*D31/worksheet!$F$29/worksheet!$F$11) -> 6.3296703 | F31: =IF((D31+E31)<(1000/B31),"DCM","CCM") -> DCM | G31: =H31-worksheet!$F$8*D31/worksheet!$F$42/1000 -> 0 | H31: =C31/worksheet!$F$52 -> 1.4358974 | I31: =0.5*worksheet!$F$62/100*worksheet!$F$29*(G31+H31)*E31*B31/1000*worksheet!$F$11 -> 12.772089 | J31: =B31 -> 30.188235 | L31: 1.66 | M31: =M30+($M$53-$M$28)/25 -> #VALUE! | N31: 0.28 | O31: =MIN(1000*worksheet!$F$37/M31,1000*worksheet!$F$42*N31/worksheet!$F$52/worksheet!$F$8) -> #VALUE! | P31: =MIN(1000*(1-worksheet!$F$37/M31),worksheet!$F$8*O31/worksheet!$F$29/worksheet!$J$11) -> #VALUE! | Q31: =IF((O31+P31)<(1000/M31),"DCM","CCM") -> #VALUE! | R31: =S31-worksheet!$F$8*O31/worksheet!$F$42/1000 -> #VALUE! | S31: =N31/worksheet!$F$52 -> 1.4358974 | T31: =0.5*worksheet!$F$62/100*worksheet!$F$29*(R31+S31)*P31*M31/1000*worksheet!$J$11 -> #VALUE!
A32: 1.68 | B32: =IF(F12="Rapid charger",B31+($B$53-$B$28)/25,B31+($B$53-$B$28)/25) -> 31.917647 | C32: 0.28 | D32: =MIN(1000*worksheet!$F$36/B32,1000*worksheet!$F$42*C32/worksheet!$F$52/worksheet!$F$8) -> 2.8195804 | E32: =MIN(1000*(1-worksheet!$F$36/B32),worksheet!$F$8*D32/worksheet!$F$29/worksheet!$F$11) -> 6.3296703 | F32: =IF((D32+E32)<(1000/B32),"DCM","CCM") -> DCM | G32: =H32-worksheet!$F$8*D32/worksheet!$F$42/1000 -> 0 | H32: =C32/worksheet!$F$52 -> 1.4358974 | I32: =0.5*worksheet!$F$62/100*worksheet!$F$29*(G32+H32)*E32*B32/1000*worksheet!$F$11 -> 13.503771 | J32: =B32 -> 31.917647 | L32: 1.68 | M32: =M31+($M$53-$M$28)/25 -> #VALUE! | N32: 0.28 | O32: =MIN(1000*worksheet!$F$37/M32,1000*worksheet!$F$42*N32/worksheet!$F$52/worksheet!$F$8) -> #VALUE! | P32: =MIN(1000*(1-worksheet!$F$37/M32),worksheet!$F$8*O32/worksheet!$F$29/worksheet!$J$11) -> #VALUE! | Q32: =IF((O32+P32)<(1000/M32),"DCM","CCM") -> #VALUE! | R32: =S32-worksheet!$F$8*O32/worksheet!$F$42/1000 -> #VALUE! | S32: =N32/worksheet!$F$52 -> 1.4358974 | T32: =0.5*worksheet!$F$62/100*worksheet!$F$29*(R32+S32)*P32*M32/1000*worksheet!$J$11 -> #VALUE!
A33: 1.7 | B33: =IF(F13="Rapid charger",B32+($B$53-$B$28)/25,B32+($B$53-$B$28)/25) -> 33.647059 | C33: 0.28 | D33: =MIN(1000*worksheet!$F$36/B33,1000*worksheet!$F$42*C33/worksheet!$F$52/worksheet!$F$8) -> 2.8195804 | E33: =MIN(1000*(1-worksheet!$F$36/B33),worksheet!$F$8*D33/worksheet!$F$29/worksheet!$F$11) -> 6.3296703 | F33: =IF((D33+E33)<(1000/B33),"DCM","CCM") -> DCM | G33: =H33-worksheet!$F$8*D33/worksheet!$F$42/1000 -> 0 | H33: =C33/worksheet!$F$52 -> 1.4358974 | I33: =0.5*worksheet!$F$62/100*worksheet!$F$29*(G33+H33)*E33*B33/1000*worksheet!$F$11 -> 14.235453 | J33: =B33 -> 33.647059 | L33: 1.7 | M33: =M32+($M$53-$M$28)/25 -> #VALUE! | N33: 0.28 | O33: =MIN(1000*worksheet!$F$37/M33,1000*worksheet!$F$42*N33/worksheet!$F$52/worksheet!$F$8) -> #VALUE! | P33: =MIN(1000*(1-worksheet!$F$37/M33),worksheet!$F$8*O33/worksheet!$F$29/worksheet!$J$11) -> #VALUE! | Q33: =IF((O33+P33)<(1000/M33),"DCM","CCM") -> #VALUE! | R33: =S33-worksheet!$F$8*O33/worksheet!$F$42/1000 -> #VALUE! | S33: =N33/worksheet!$F$52 -> 1.4358974 | T33: =0.5*worksheet!$F$62/100*worksheet!$F$29*(R33+S33)*P33*M33/1000*worksheet!$J$11 -> #VALUE!
A34: 1.72 | B34: =IF(F14="Rapid charger",B33+($B$53-$B$28)/25,B33+($B$53-$B$28)/25) -> 35.376471 | C34: 0.28 | D34: =MIN(1000*worksheet!$F$36/B34,1000*worksheet!$F$42*C34/worksheet!$F$52/worksheet!$F$8) -> 2.8195804 | E34: =MIN(1000*(1-worksheet!$F$36/B34),worksheet!$F$8*D34/worksheet!$F$29/worksheet!$F$11) -> 6.3296703 | F34: =IF((D34+E34)<(1000/B34),"DCM","CCM") -> DCM | G34: =H34-worksheet!$F$8*D34/worksheet!$F$42/1000 -> 0 | H34: =C34/worksheet!$F$52 -> 1.4358974 | I34: =0.5*worksheet!$F$62/100*worksheet!$F$29*(G34+H34)*E34*B34/1000*worksheet!$F$11 -> 14.967136 | J34: =B34 -> 35.376471 | L34: 1.72 | M34: =M33+($M$53-$M$28)/25 -> #VALUE! | N34: 0.28 | O34: =MIN(1000*worksheet!$F$37/M34,1000*worksheet!$F$42*N34/worksheet!$F$52/worksheet!$F$8) -> #VALUE! | P34: =MIN(1000*(1-worksheet!$F$37/M34),worksheet!$F$8*O34/worksheet!$F$29/worksheet!$J$11) -> #VALUE! | Q34: =IF((O34+P34)<(1000/M34),"DCM","CCM") -> #VALUE! | R34: =S34-worksheet!$F$8*O34/worksheet!$F$42/1000 -> #VALUE! | S34: =N34/worksheet!$F$52 -> 1.4358974 | T34: =0.5*worksheet!$F$62/100*worksheet!$F$29*(R34+S34)*P34*M34/1000*worksheet!$J$11 -> #VALUE!
A35: 1.74 | B35: =IF(F15="Rapid charger",B34+($B$53-$B$28)/25,B34+($B$53-$B$28)/25) -> 37.105882 | C35: 0.28 | D35: =MIN(1000*worksheet!$F$36/B35,1000*worksheet!$F$42*C35/worksheet!$F$52/worksheet!$F$8) -> 2.8195804 | E35: =MIN(1000*(1-worksheet!$F$36/B35),worksheet!$F$8*D35/worksheet!$F$29/worksheet!$F$11) -> 6.3296703 | F35: =IF((D35+E35)<(1000/B35),"DCM","CCM") -> DCM | G35: =H35-worksheet!$F$8*D35/worksheet!$F$42/1000 -> 0 | H35: =C35/worksheet!$F$52 -> 1.4358974 | I35: =0.5*worksheet!$F$62/100*worksheet!$F$29*(G35+H35)*E35*B35/1000*worksheet!$F$11 -> 15.698818 | J35: =B35 -> 37.105882 | L35: 1.74 | M35: =M34+($M$53-$M$28)/25 -> #VALUE! | N35: 0.28 | O35: =MIN(1000*worksheet!$F$37/M35,1000*worksheet!$F$42*N35/worksheet!$F$52/worksheet!$F$8) -> #VALUE! | P35: =MIN(1000*(1-worksheet!$F$37/M35),worksheet!$F$8*O35/worksheet!$F$29/worksheet!$J$11) -> #VALUE! | Q35: =IF((O35+P35)<(1000/M35),"DCM","CCM") -> #VALUE! | R35: =S35-worksheet!$F$8*O35/worksheet!$F$42/1000 -> #VALUE! | S35: =N35/worksheet!$F$52 -> 1.4358974 | T35: =0.5*worksheet!$F$62/100*worksheet!$F$29*(R35+S35)*P35*M35/1000*worksheet!$J$11 -> #VALUE!
A36: 1.76 | B36: =IF(F16="Rapid charger",B35+($B$53-$B$28)/25,B35+($B$53-$B$28)/25) -> 38.835294 | C36: 0.28 | D36: =MIN(1000*worksheet!$F$36/B36,1000*worksheet!$F$42*C36/worksheet!$F$52/worksheet!$F$8) -> 2.8195804 | E36: =MIN(1000*(1-worksheet!$F$36/B36),worksheet!$F$8*D36/worksheet!$F$29/worksheet!$F$11) -> 6.3296703 | F36: =IF((D36+E36)<(1000/B36),"DCM","CCM") -> DCM | G36: =H36-worksheet!$F$8*D36/worksheet!$F$42/1000 -> 0 | H36: =C36/worksheet!$F$52 -> 1.4358974 | I36: =0.5*worksheet!$F$62/100*worksheet!$F$29*(G36+H36)*E36*B36/1000*worksheet!$F$11 -> 16.430501 | J36: =B36 -> 38.835294 | L36: 1.76 | M36: =M35+($M$53-$M$28)/25 -> #VALUE! | N36: 0.28 | O36: =MIN(1000*worksheet!$F$37/M36,1000*worksheet!$F$42*N36/worksheet!$F$52/worksheet!$F$8) -> #VALUE! | P36: =MIN(1000*(1-worksheet!$F$37/M36),worksheet!$F$8*O36/worksheet!$F$29/worksheet!$J$11) -> #VALUE! | Q36: =IF((O36+P36)<(1000/M36),"DCM","CCM") -> #VALUE! | R36: =S36-worksheet!$F$8*O36/worksheet!$F$42/1000 -> #VALUE! | S36: =N36/worksheet!$F$52 -> 1.4358974 | T36: =0.5*worksheet!$F$62/100*worksheet!$F$29*(R36+S36)*P36*M36/1000*worksheet!$J$11 -> #VALUE!
A37: 1.78 | B37: =IF(F17="Rapid charger",B36+($B$53-$B$28)/25,B36+($B$53-$B$28)/25) -> 40.564706 | C37: 0.28 | D37: =MIN(1000*worksheet!$F$36/B37,1000*worksheet!$F$42*C37/worksheet!$F$52/worksheet!$F$8) -> 2.8195804 | E37: =MIN(1000*(1-worksheet!$F$36/B37),worksheet!$F$8*D37/worksheet!$F$29/worksheet!$F$11) -> 6.3296703 | F37: =IF((D37+E37)<(1000/B37),"DCM","CCM") -> DCM | G37: =H37-worksheet!$F$8*D37/worksheet!$F$42/1000 -> 0 | H37: =C37/worksheet!$F$52 -> 1.4358974 | I37: =0.5*worksheet!$F$62/100*worksheet!$F$29*(G37+H37)*E37*B37/1000*worksheet!$F$11 -> 17.162183 | J37: =B37 -> 40.564706 | L37: 1.78 | M37: =M36+($M$53-$M$28)/25 -> #VALUE! | N37: 0.28 | O37: =MIN(1000*worksheet!$F$37/M37,1000*worksheet!$F$42*N37/worksheet!$F$52/worksheet!$F$8) -> #VALUE! | P37: =MIN(1000*(1-worksheet!$F$37/M37),worksheet!$F$8*O37/worksheet!$F$29/worksheet!$J$11) -> #VALUE! | Q37: =IF((O37+P37)<(1000/M37),"DCM","CCM") -> #VALUE! | R37: =S37-worksheet!$F$8*O37/worksheet!$F$42/1000 -> #VALUE! | S37: =N37/worksheet!$F$52 -> 1.4358974 | T37: =0.5*worksheet!$F$62/100*worksheet!$F$29*(R37+S37)*P37*M37/1000*worksheet!$J$11 -> #VALUE!
A38: 1.8 | B38: =IF(F18="Rapid charger",B37+($B$53-$B$28)/25,B37+($B$53-$B$28)/25) -> 42.294118 | C38: 0.28 | D38: =MIN(1000*worksheet!$F$36/B38,1000*worksheet!$F$42*C38/worksheet!$F$52/worksheet!$F$8) -> 2.8195804 | E38: =MIN(1000*(1-worksheet!$F$36/B38),worksheet!$F$8*D38/worksheet!$F$29/worksheet!$F$11) -> 6.3296703 | F38: =IF((D38+E38)<(1000/B38),"DCM","CCM") -> DCM | G38: =H38-worksheet!$F$8*D38/worksheet!$F$42/1000 -> 0 | H38: =C38/worksheet!$F$52 -> 1.4358974 | I38: =0.5*worksheet!$F$62/100*worksheet!$F$29*(G38+H38)*E38*B38/1000*worksheet!$F$11 -> 17.893865 | J38: =B38 -> 42.294118 | L38: 1.8 | M38: =M37+($M$53-$M$28)/25 -> #VALUE! | N38: 0.28 | O38: =MIN(1000*worksheet!$F$37/M38,1000*worksheet!$F$42*N38/worksheet!$F$52/worksheet!$F$8) -> #VALUE! | P38: =MIN(1000*(1-worksheet!$F$37/M38),worksheet!$F$8*O38/worksheet!$F$29/worksheet!$J$11) -> #VALUE! | Q38: =IF((O38+P38)<(1000/M38),"DCM","CCM") -> #VALUE! | R38: =S38-worksheet!$F$8*O38/worksheet!$F$42/1000 -> #VALUE! | S38: =N38/worksheet!$F$52 -> 1.4358974 | T38: =0.5*worksheet!$F$62/100*worksheet!$F$29*(R38+S38)*P38*M38/1000*worksheet!$J$11 -> #VALUE!
A39: 1.82 | B39: =IF(F19="Rapid charger",B38+($B$53-$B$28)/25,B38+($B$53-$B$28)/25) -> 44.023529 | C39: 0.28 | D39: =MIN(1000*worksheet!$F$36/B39,1000*worksheet!$F$42*C39/worksheet!$F$52/worksheet!$F$8) -> 2.8195804 | E39: =MIN(1000*(1-worksheet!$F$36/B39),worksheet!$F$8*D39/worksheet!$F$29/worksheet!$F$11) -> 6.3296703 | F39: =IF((D39+E39)<(1000/B39),"DCM","CCM") -> DCM | G39: =H39-worksheet!$F$8*D39/worksheet!$F$42/1000 -> 0 | H39: =C39/worksheet!$F$52 -> 1.4358974 | I39: =0.5*worksheet!$F$62/100*worksheet!$F$29*(G39+H39)*E39*B39/1000*worksheet!$F$11 -> 18.625548 | J39: =B39 -> 44.023529 | L39: 1.82 | M39: =M38+($M$53-$M$28)/25 -> #VALUE! | N39: 0.28 | O39: =MIN(1000*worksheet!$F$37/M39,1000*worksheet!$F$42*N39/worksheet!$F$52/worksheet!$F$8) -> #VALUE! | P39: =MIN(1000*(1-worksheet!$F$37/M39),worksheet!$F$8*O39/worksheet!$F$29/worksheet!$J$11) -> #VALUE! | Q39: =IF((O39+P39)<(1000/M39),"DCM","CCM") -> #VALUE! | R39: =S39-worksheet!$F$8*O39/worksheet!$F$42/1000 -> #VALUE! | S39: =N39/worksheet!$F$52 -> 1.4358974 | T39: =0.5*worksheet!$F$62/100*worksheet!$F$29*(R39+S39)*P39*M39/1000*worksheet!$J$11 -> #VALUE!
A40: 1.84 | B40: =IF(F20="Rapid charger",B39+($B$53-$B$28)/25,B39+($B$53-$B$28)/25) -> 45.752941 | C40: 0.28 | D40: =MIN(1000*worksheet!$F$36/B40,1000*worksheet!$F$42*C40/worksheet!$F$52/worksheet!$F$8) -> 2.8195804 | E40: =MIN(1000*(1-worksheet!$F$36/B40),worksheet!$F$8*D40/worksheet!$F$29/worksheet!$F$11) -> 6.3296703 | F40: =IF((D40+E40)<(1000/B40),"DCM","CCM") -> DCM | G40: =H40-worksheet!$F$8*D40/worksheet!$F$42/1000 -> 0 | H40: =C40/worksheet!$F$52 -> 1.4358974 | I40: =0.5*worksheet!$F$62/100*worksheet!$F$29*(G40+H40)*E40*B40/1000*worksheet!$F$11 -> 19.35723 | J40: =B40 -> 45.752941 | L40: 1.84 | M40: =M39+($M$53-$M$28)/25 -> #VALUE! | N40: 0.28 | O40: =MIN(1000*worksheet!$F$37/M40,1000*worksheet!$F$42*N40/worksheet!$F$52/worksheet!$F$8) -> #VALUE! | P40: =MIN(1000*(1-worksheet!$F$37/M40),worksheet!$F$8*O40/worksheet!$F$29/worksheet!$J$11) -> #VALUE! | Q40: =IF((O40+P40)<(1000/M40),"DCM","CCM") -> #VALUE! | R40: =S40-worksheet!$F$8*O40/worksheet!$F$42/1000 -> #VALUE! | S40: =N40/worksheet!$F$52 -> 1.4358974 | T40: =0.5*worksheet!$F$62/100*worksheet!$F$29*(R40+S40)*P40*M40/1000*worksheet!$J$11 -> #VALUE!
... A52: 2.08 | B52: =IF(F32="Rapid charger",B51+($B$53-$B$28)/25,B51+($B$53-$B$28)/25) -> 66.505882 | C52: 0.28 | D52: =MIN(1000*worksheet!$F$36/B52,1000*worksheet!$F$42*C52/worksheet!$F$52/worksheet!$F$8) -> 2.8195804 | E52: =MIN(1000*(1-worksheet!$F$36/B52),worksheet!$F$8*D52/worksheet!$F$29/worksheet!$F$11) -> 6.3296703 | F52: =IF((D52+E52)<(1000/B52),"DCM","CCM") -> DCM | G52: =H52-worksheet!$F$8*D52/worksheet!$F$42/1000 -> 0 | H52: =C52/worksheet!$F$52 -> 1.4358974 | I52: =0.5*worksheet!$F$62/100*worksheet!$F$29*(G52+H52)*E52*B52/1000*worksheet!$F$11 -> 28.137419 | J52: =B52 -> 66.505882 | L52: 2.08 | M52: =M51+($M$53-$M$28)/25 -> #VALUE! | N52: 0.28 | O52: =MIN(1000*worksheet!$F$37/M52,1000*worksheet!$F$42*N52/worksheet!$F$52/worksheet!$F$8) -> #VALUE! | P52: =MIN(1000*(1-worksheet!$F$37/M52),worksheet!$F$8*O52/worksheet!$F$29/worksheet!$J$11) -> #VALUE! | Q52: =IF((O52+P52)<(1000/M52),"DCM","CCM") -> #VALUE! | R52: =S52-worksheet!$F$8*O52/worksheet!$F$42/1000 -> #VALUE! | S52: =N52/worksheet!$F$52 -> 1.4358974 | T52: =0.5*worksheet!$F$62/100*worksheet!$F$29*(R52+S52)*P52*M52/1000*worksheet!$J$11 -> #VALUE!
A53: 2.1 | B53: =IF(worksheet!$F$10="Rapid charger",IF(worksheet!$F$11>20,50+(worksheet!$F$16-50)*(worksheet!$F$11-3)/(worksheet!$F$11-3),50+(worksheet!$F$16-50)*(worksheet!$F$11-3)/(worksheet!$F$14-3)),IF(worksheet!$F$18>20,50+(worksheet!$F$16-50)*(worksheet!$F$18-3)/(worksheet!$F$18-3),50+(worksheet!$F$16-50)*(worksheet!$F$18-3)/(worksheet!$F$14-3))) -> 68.235294 | C53: 0.28 | D53: =MIN(1000*worksheet!$F$36/B53,1000*worksheet!$F$42*C53/worksheet!$F$52/worksheet!$F$8) -> 2.8195804 | E53: =MIN(1000*(1-worksheet!$F$36/B53),worksheet!$F$8*D53/worksheet!$F$29/worksheet!$F$11) -> 6.3296703 | F53: =IF((D53+E53)<(1000/B53),"DCM","CCM") -> DCM | G53: =H53-worksheet!$F$8*D53/worksheet!$F$42/1000 -> 0 | H53: =C53/worksheet!$F$52 -> 1.4358974 | I53: =0.5*worksheet!$F$62/100*worksheet!$F$29*(G53+H53)*E53*B53/1000*worksheet!$F$11 -> 28.869101 | J53: =B53 -> 68.235294 | L53: 2.1 | M53: =IF(worksheet!$F$10="Rapid charger",50+(worksheet!$F$16-50)*(worksheet!J$11-3)/(worksheet!$F$14-3)," ") | N53: 0.28 | O53: =MIN(1000*worksheet!$F$37/M53,1000*worksheet!$F$42*N53/worksheet!$F$52/worksheet!$F$8) -> #VALUE! | P53: =MIN(1000*(1-worksheet!$F$37/M53),worksheet!$F$8*O53/worksheet!$F$29/worksheet!$J$11) -> #VALUE! | Q53: =IF((O53+P53)<(1000/M53),"DCM","CCM") -> #VALUE! | R53: =S53-worksheet!$F$8*O53/worksheet!$F$42/1000 -> #VALUE! | S53: =N53/worksheet!$F$52 -> 1.4358974 | T53: =0.5*worksheet!$F$62/100*worksheet!$F$29*(R53+S53)*P53*M53/1000*worksheet!$J$11 -> #VALUE!
A54: 2.12 | B54: =IF(worksheet!$F$10="Rapid charger",IF(worksheet!$F$11>20,50+(worksheet!$F$16-50)*(worksheet!$F$11-3)/(worksheet!$F$11-3),50+(worksheet!$F$16-50)*(worksheet!$F$11-3)/(worksheet!$F$14-3)),IF(worksheet!$F$18>20,50+(worksheet!$F$16-50)*(worksheet!$F$18-3)/(worksheet!$F$18-3),50+(worksheet!$F$16-50)*(worksheet!$F$18-3)/(worksheet!$F$14-3))) -> 68.235294 | C54: =C53+($C$113-$C$53)/60 -> 0.28416667 | D54: =MIN(1000*worksheet!$F$36/B54,1000*worksheet!$F$42*C54/worksheet!$F$52/worksheet!$F$8) -> 2.8615385 | E54: =MIN(1000*(1-worksheet!$F$36/B54),worksheet!$F$8*D54/worksheet!$F$29/worksheet!$F$11) -> 6.4238619 | F54: =IF((D54+E54)<(1000/B54),"DCM","CCM") -> DCM | G54: =H54-worksheet!$F$8*D54/worksheet!$F$42/1000 -> 0 | H54: =C54/worksheet!$F$52 -> 1.457265 | I54: =0.5*worksheet!$F$62/100*worksheet!$F$29*(G54+H54)*E54*B54/1000*worksheet!$F$11 -> 29.734694 | J54: =B54 -> 68.235294 | L54: 2.12 | M54: =IF(worksheet!$F$10="Rapid charger",50+(worksheet!$F$16-50)*(worksheet!J$11-3)/(worksheet!$F$14-3)," ") | N54: =N53+($N$113-$N$53)/60 -> 0.28366667 | O54: =MIN(1000*worksheet!$F$37/M54,1000*worksheet!$F$42*N54/worksheet!$F$52/worksheet!$F$8) -> #VALUE! | P54: =MIN(1000*(1-worksheet!$F$37/M54),worksheet!$F$8*O54/worksheet!$F$29/worksheet!$J$11) -> #VALUE! | Q54: =IF((O54+P54)<(1000/M54),"DCM","CCM") -> #VALUE! | R54: =S54-worksheet!$F$8*O54/worksheet!$F$42/1000 -> #VALUE! | S54: =N54/worksheet!$F$52 -> 1.4547009 | T54: =0.5*worksheet!$F$62/100*worksheet!$F$29*(R54+S54)*P54*M54/1000*worksheet!$J$11 -> #VALUE!
A55: 2.14 | B55: =IF(worksheet!$F$10="Rapid charger",IF(worksheet!$F$11>20,50+(worksheet!$F$16-50)*(worksheet!$F$11-3)/(worksheet!$F$11-3),50+(worksheet!$F$16-50)*(worksheet!$F$11-3)/(worksheet!$F$14-3)),IF(worksheet!$F$18>20,50+(worksheet!$F$16-50)*(worksheet!$F$18-3)/(worksheet!$F$18-3),50+(worksheet!$F$16-50)*(worksheet!$F$18-3)/(worksheet!$F$14-3))) -> 68.235294 | C55: =C54+($C$113-$C$53)/60 -> 0.28833333 | D55: =MIN(1000*worksheet!$F$36/B55,1000*worksheet!$F$42*C55/worksheet!$F$52/worksheet!$F$8) -> 2.9034965 | E55: =MIN(1000*(1-worksheet!$F$36/B55),worksheet!$F$8*D55/worksheet!$F$29/worksheet!$F$11) -> 6.5180534 | F55: =IF((D55+E55)<(1000/B55),"DCM","CCM") -> DCM | G55: =H55-worksheet!$F$8*D55/worksheet!$F$42/1000 -> 0 | H55: =C55/worksheet!$F$52 -> 1.4786325 | I55: =0.5*worksheet!$F$62/100*worksheet!$F$29*(G55+H55)*E55*B55/1000*worksheet!$F$11 -> 30.613072 | J55: =B55 -> 68.235294 | L55: 2.14 | M55: =IF(worksheet!$F$10="Rapid charger",50+(worksheet!$F$16-50)*(worksheet!J$11-3)/(worksheet!$F$14-3)," ") | N55: =N54+($N$113-$N$53)/60 -> 0.28733333 | O55: =MIN(1000*worksheet!$F$37/M55,1000*worksheet!$F$42*N55/worksheet!$F$52/worksheet!$F$8) -> #VALUE! | P55: =MIN(1000*(1-worksheet!$F$37/M55),worksheet!$F$8*O55/worksheet!$F$29/worksheet!$J$11) -> #VALUE! | Q55: =IF((O55+P55)<(1000/M55),"DCM","CCM") -> #VALUE! | R55: =S55-worksheet!$F$8*O55/worksheet!$F$42/1000 -> #VALUE! | S55: =N55/worksheet!$F$52 -> 1.4735043 | T55: =0.5*worksheet!$F$62/100*worksheet!$F$29*(R55+S55)*P55*M55/1000*worksheet!$J$11 -> #VALUE!
A56: 2.16 | B56: =IF(worksheet!$F$10="Rapid charger",IF(worksheet!$F$11>20,50+(worksheet!$F$16-50)*(worksheet!$F$11-3)/(worksheet!$F$11-3),50+(worksheet!$F$16-50)*(worksheet!$F$11-3)/(worksheet!$F$14-3)),IF(worksheet!$F$18>20,50+(worksheet!$F$16-50)*(worksheet!$F$18-3)/(worksheet!$F$18-3),50+(worksheet!$F$16-50)*(worksheet!$F$18-3)/(worksheet!$F$14-3))) -> 68.235294 | C56: =C55+($C$113-$C$53)/60 -> 0.2925 | D56: =MIN(1000*worksheet!$F$36/B56,1000*worksheet!$F$42*C56/worksheet!$F$52/worksheet!$F$8) -> 2.9454545 | E56: =MIN(1000*(1-worksheet!$F$36/B56),worksheet!$F$8*D56/worksheet!$F$29/worksheet!$F$11) -> 6.6122449 | F56: =IF((D56+E56)<(1000/B56),"DCM","CCM") -> DCM | G56: =H56-worksheet!$F$8*D56/worksheet!$F$42/1000 -> 0 | H56: =C56/worksheet!$F$52 -> 1.5 | I56: =0.5*worksheet!$F$62/100*worksheet!$F$29*(G56+H56)*E56*B56/1000*worksheet!$F$11 -> 31.504235 | J56: =B56 -> 68.235294 | L56: 2.16 | M56: =IF(worksheet!$F$10="Rapid charger",50+(worksheet!$F$16-50)*(worksheet!J$11-3)/(worksheet!$F$14-3)," ") | N56: =N55+($N$113-$N$53)/60 -> 0.291 | O56: =MIN(1000*worksheet!$F$37/M56,1000*worksheet!$F$42*N56/worksheet!$F$52/worksheet!$F$8) -> #VALUE! | P56: =MIN(1000*(1-worksheet!$F$37/M56),worksheet!$F$8*O56/worksheet!$F$29/worksheet!$J$11) -> #VALUE! | Q56: =IF((O56+P56)<(1000/M56),"DCM","CCM") -> #VALUE! | R56: =S56-worksheet!$F$8*O56/worksheet!$F$42/1000 -> #VALUE! | S56: =N56/worksheet!$F$52 -> 1.4923077 | T56: =0.5*worksheet!$F$62/100*worksheet!$F$29*(R56+S56)*P56*M56/1000*worksheet!$J$11 -> #VALUE!
A57: 2.18 | B57: =IF(worksheet!$F$10="Rapid charger",IF(worksheet!$F$11>20,50+(worksheet!$F$16-50)*(worksheet!$F$11-3)/(worksheet!$F$11-3),50+(worksheet!$F$16-50)*(worksheet!$F$11-3)/(worksheet!$F$14-3)),IF(worksheet!$F$18>20,50+(worksheet!$F$16-50)*(worksheet!$F$18-3)/(worksheet!$F$18-3),50+(worksheet!$F$16-50)*(worksheet!$F$18-3)/(worksheet!$F$14-3))) -> 68.235294 | C57: =C56+($C$113-$C$53)/60 -> 0.29666667 | D57: =MIN(1000*worksheet!$F$36/B57,1000*worksheet!$F$42*C57/worksheet!$F$52/worksheet!$F$8) -> 2.9874126 | E57: =MIN(1000*(1-worksheet!$F$36/B57),worksheet!$F$8*D57/worksheet!$F$29/worksheet!$F$11) -> 6.7064364 | F57: =IF((D57+E57)<(1000/B57),"DCM","CCM") -> DCM | G57: =H57-worksheet!$F$8*D57/worksheet!$F$42/1000 -> 0 | H57: =C57/worksheet!$F$52 -> 1.5213675 | I57: =0.5*worksheet!$F$62/100*worksheet!$F$29*(G57+H57)*E57*B57/1000*worksheet!$F$11 -> 32.408185 | J57: =B57 -> 68.235294 | L57: 2.18 | M57: =IF(worksheet!$F$10="Rapid charger",50+(worksheet!$F$16-50)*(worksheet!J$11-3)/(worksheet!$F$14-3)," ") | N57: =N56+($N$113-$N$53)/60 -> 0.29466667 | O57: =MIN(1000*worksheet!$F$37/M57,1000*worksheet!$F$42*N57/worksheet!$F$52/worksheet!$F$8) -> #VALUE! | P57: =MIN(1000*(1-worksheet!$F$37/M57),worksheet!$F$8*O57/worksheet!$F$29/worksheet!$J$11) -> #VALUE! | Q57: =IF((O57+P57)<(1000/M57),"DCM","CCM") -> #VALUE! | R57: =S57-worksheet!$F$8*O57/worksheet!$F$42/1000 -> #VALUE! | S57: =N57/worksheet!$F$52 -> 1.5111111 | T57: =0.5*worksheet!$F$62/100*worksheet!$F$29*(R57+S57)*P57*M57/1000*worksheet!$J$11 -> #VALUE!
A58: 2.2 | B58: =IF(worksheet!$F$10="Rapid charger",IF(worksheet!$F$11>20,50+(worksheet!$F$16-50)*(worksheet!$F$11-3)/(worksheet!$F$11-3),50+(worksheet!$F$16-50)*(worksheet!$F$11-3)/(worksheet!$F$14-3)),IF(worksheet!$F$18>20,50+(worksheet!$F$16-50)*(worksheet!$F$18-3)/(worksheet!$F$18-3),50+(worksheet!$F$16-50)*(worksheet!$F$18-3)/(worksheet!$F$14-3))) -> 68.235294 | C58: =C57+($C$113-$C$53)/60 -> 0.30083333 | D58: =MIN(1000*worksheet!$F$36/B58,1000*worksheet!$F$42*C58/worksheet!$F$52/worksheet!$F$8) -> 3.0293706 | E58: =MIN(1000*(1-worksheet!$F$36/B58),worksheet!$F$8*D58/worksheet!$F$29/worksheet!$F$11) -> 6.8006279 | F58: =IF((D58+E58)<(1000/B58),"DCM","CCM") -> DCM | G58: =H58-worksheet!$F$8*D58/worksheet!$F$42/1000 -> 0 | H58: =C58/worksheet!$F$52 -> 1.542735 | I58: =0.5*worksheet!$F$62/100*worksheet!$F$29*(G58+H58)*E58*B58/1000*worksheet!$F$11 -> 33.32492 | J58: =B58 -> 68.235294 | L58: 2.2 | M58: =IF(worksheet!$F$10="Rapid charger",50+(worksheet!$F$16-50)*(worksheet!J$11-3)/(worksheet!$F$14-3)," ") | N58: =N57+($N$113-$N$53)/60 -> 0.29833333 | O58: =MIN(1000*worksheet!$F$37/M58,1000*worksheet!$F$42*N58/worksheet!$F$52/worksheet!$F$8) -> #VALUE! | P58: =MIN(1000*(1-worksheet!$F$37/M58),worksheet!$F$8*O58/worksheet!$F$29/worksheet!$J$11) -> #VALUE! | Q58: =IF((O58+P58)<(1000/M58),"DCM","CCM") -> #VALUE! | R58: =S58-worksheet!$F$8*O58/worksheet!$F$42/1000 -> #VALUE! | S58: =N58/worksheet!$F$52 -> 1.5299145 | T58: =0.5*worksheet!$F$62/100*worksheet!$F$29*(R58+S58)*P58*M58/1000*worksheet!$J$11 -> #VALUE!
A59: 2.22 | B59: =IF(worksheet!$F$10="Rapid charger",IF(worksheet!$F$11>20,50+(worksheet!$F$16-50)*(worksheet!$F$11-3)/(worksheet!$F$11-3),50+(worksheet!$F$16-50)*(worksheet!$F$11-3)/(worksheet!$F$14-3)),IF(worksheet!$F$18>20,50+(worksheet!$F$16-50)*(worksheet!$F$18-3)/(worksheet!$F$18-3),50+(worksheet!$F$16-50)*(worksheet!$F$18-3)/(worksheet!$F$14-3))) -> 68.235294 | C59: =C58+($C$113-$C$53)/60 -> 0.305 | D59: =MIN(1000*worksheet!$F$36/B59,1000*worksheet!$F$42*C59/worksheet!$F$52/worksheet!$F$8) -> 3.0713287 | E59: =MIN(1000*(1-worksheet!$F$36/B59),worksheet!$F$8*D59/worksheet!$F$29/worksheet!$F$11) -> 6.8948195 | F59: =IF((D59+E59)<(1000/B59),"DCM","CCM") -> DCM | G59: =H59-worksheet!$F$8*D59/worksheet!$F$42/1000 -> 0 | H59: =C59/worksheet!$F$52 -> 1.5641026 | I59: =0.5*worksheet!$F$62/100*worksheet!$F$29*(G59+H59)*E59*B59/1000*worksheet!$F$11 -> 34.254441 | J59: =B59 -> 68.235294 | L59: 2.22 | M59: =IF(worksheet!$F$10="Rapid charger",50+(worksheet!$F$16-50)*(worksheet!J$11-3)/(worksheet!$F$14-3)," ") | N59: =N58+($N$113-$N$53)/60 -> 0.302 | O59: =MIN(1000*worksheet!$F$37/M59,1000*worksheet!$F$42*N59/worksheet!$F$52/worksheet!$F$8) -> #VALUE! | P59: =MIN(1000*(1-worksheet!$F$37/M59),worksheet!$F$8*O59/worksheet!$F$29/worksheet!$J$11) -> #VALUE! | Q59: =IF((O59+P59)<(1000/M59),"DCM","CCM") -> #VALUE! | R59: =S59-worksheet!$F$8*O59/worksheet!$F$42/1000 -> #VALUE! | S59: =N59/worksheet!$F$52 -> 1.5487179 | T59: =0.5*worksheet!$F$62/100*worksheet!$F$29*(R59+S59)*P59*M59/1000*worksheet!$J$11 -> #VALUE!
A60: 2.24 | B60: =IF(worksheet!$F$10="Rapid charger",IF(worksheet!$F$11>20,50+(worksheet!$F$16-50)*(worksheet!$F$11-3)/(worksheet!$F$11-3),50+(worksheet!$F$16-50)*(worksheet!$F$11-3)/(worksheet!$F$14-3)),IF(worksheet!$F$18>20,50+(worksheet!$F$16-50)*(worksheet!$F$18-3)/(worksheet!$F$18-3),50+(worksheet!$F$16-50)*(worksheet!$F$18-3)/(worksheet!$F$14-3))) -> 68.235294 | C60: =C59+($C$113-$C$53)/60 -> 0.30916667 | D60: =MIN(1000*worksheet!$F$36/B60,1000*worksheet!$F$42*C60/worksheet!$F$52/worksheet!$F$8) -> 3.1132867 | E60: =MIN(1000*(1-worksheet!$F$36/B60),worksheet!$F$8*D60/worksheet!$F$29/worksheet!$F$11) -> 6.989011 | F60: =IF((D60+E60)<(1000/B60),"DCM","CCM") -> DCM | G60: =H60-worksheet!$F$8*D60/worksheet!$F$42/1000 -> 0 | H60: =C60/worksheet!$F$52 -> 1.5854701 | I60: =0.5*worksheet!$F$62/100*worksheet!$F$29*(G60+H60)*E60*B60/1000*worksheet!$F$11 -> 35.196747 | J60: =B60 -> 68.235294 | L60: 2.24 | M60: =IF(worksheet!$F$10="Rapid charger",50+(worksheet!$F$16-50)*(worksheet!J$11-3)/(worksheet!$F$14-3)," ") | N60: =N59+($N$113-$N$53)/60 -> 0.30566667 | O60: =MIN(1000*worksheet!$F$37/M60,1000*worksheet!$F$42*N60/worksheet!$F$52/worksheet!$F$8) -> #VALUE! | P60: =MIN(1000*(1-worksheet!$F$37/M60),worksheet!$F$8*O60/worksheet!$F$29/worksheet!$J$11) -> #VALUE! | Q60: =IF((O60+P60)<(1000/M60),"DCM","CCM") -> #VALUE! | R60: =S60-worksheet!$F$8*O60/worksheet!$F$42/1000 -> #VALUE! | S60: =N60/worksheet!$F$52 -> 1.5675214 | T60: =0.5*worksheet!$F$62/100*worksheet!$F$29*(R60+S60)*P60*M60/1000*worksheet!$J$11 -> #VALUE!
A61: 2.26 | B61: =IF(worksheet!$F$10="Rapid charger",IF(worksheet!$F$11>20,50+(worksheet!$F$16-50)*(worksheet!$F$11-3)/(worksheet!$F$11-3),50+(worksheet!$F$16-50)*(worksheet!$F$11-3)/(worksheet!$F$14-3)),IF(worksheet!$F$18>20,50+(worksheet!$F$16-50)*(worksheet!$F$18-3)/(worksheet!$F$18-3),50+(worksheet!$F$16-50)*(worksheet!$F$18-3)/(worksheet!$F$14-3))) -> 68.235294 | C61: =C60+($C$113-$C$53)/60 -> 0.31333333 | D61: =MIN(1000*worksheet!$F$36/B61,1000*worksheet!$F$42*C61/worksheet!$F$52/worksheet!$F$8) -> 3.1552448 | E61: =MIN(1000*(1-worksheet!$F$36/B61),worksheet!$F$8*D61/worksheet!$F$29/worksheet!$F$11) -> 7.0832025 | F61: =IF((D61+E61)<(1000/B61),"DCM","CCM") -> DCM | G61: =H61-worksheet!$F$8*D61/worksheet!$F$42/1000 -> 0 | H61: =C61/worksheet!$F$52 -> 1.6068376 | I61: =0.5*worksheet!$F$62/100*worksheet!$F$29*(G61+H61)*E61*B61/1000*worksheet!$F$11 -> 36.151839 | J61: =B61 -> 68.235294 | L61: 2.26 | M61: =IF(worksheet!$F$10="Rapid charger",50+(worksheet!$F$16-50)*(worksheet!J$11-3)/(worksheet!$F$14-3)," ") | N61: =N60+($N$113-$N$53)/60 -> 0.30933333 | O61: =MIN(1000*worksheet!$F$37/M61,1000*worksheet!$F$42*N61/worksheet!$F$52/worksheet!$F$8) -> #VALUE! | P61: =MIN(1000*(1-worksheet!$F$37/M61),worksheet!$F$8*O61/worksheet!$F$29/worksheet!$J$11) -> #VALUE! | Q61: =IF((O61+P61)<(1000/M61),"DCM","CCM") -> #VALUE! | R61: =S61-worksheet!$F$8*O61/worksheet!$F$42/1000 -> #VALUE! | S61: =N61/worksheet!$F$52 -> 1.5863248 | T61: =0.5*worksheet!$F$62/100*worksheet!$F$29*(R61+S61)*P61*M61/1000*worksheet!$J$11 -> #VALUE!
A62: 2.28 | B62: =IF(worksheet!$F$10="Rapid charger",IF(worksheet!$F$11>20,50+(worksheet!$F$16-50)*(worksheet!$F$11-3)/(worksheet!$F$11-3),50+(worksheet!$F$16-50)*(worksheet!$F$11-3)/(worksheet!$F$14-3)),IF(worksheet!$F$18>20,50+(worksheet!$F$16-50)*(worksheet!$F$18-3)/(worksheet!$F$18-3),50+(worksheet!$F$16-50)*(worksheet!$F$18-3)/(worksheet!$F$14-3))) -> 68.235294 | C62: =C61+($C$113-$C$53)/60 -> 0.3175 | D62: =MIN(1000*worksheet!$F$36/B62,1000*worksheet!$F$42*C62/worksheet!$F$52/worksheet!$F$8) -> 3.1972028 | E62: =MIN(1000*(1-worksheet!$F$36/B62),worksheet!$F$8*D62/worksheet!$F$29/worksheet!$F$11) -> 7.177394 | F62: =IF((D62+E62)<(1000/B62),"DCM","CCM") -> DCM | G62: =H62-worksheet!$F$8*D62/worksheet!$F$42/1000 -> 0 | H62: =C62/worksheet!$F$52 -> 1.6282051 | I62: =0.5*worksheet!$F$62/100*worksheet!$F$29*(G62+H62)*E62*B62/1000*worksheet!$F$11 -> 37.119717 | J62: =B62 -> 68.235294 | L62: 2.28 | M62: =IF(worksheet!$F$10="Rapid charger",50+(worksheet!$F$16-50)*(worksheet!J$11-3)/(worksheet!$F$14-3)," ") | N62: =N61+($N$113-$N$53)/60 -> 0.313 | O62: =MIN(1000*worksheet!$F$37/M62,1000*worksheet!$F$42*N62/worksheet!$F$52/worksheet!$F$8) -> #VALUE! | P62: =MIN(1000*(1-worksheet!$F$37/M62),worksheet!$F$8*O62/worksheet!$F$29/worksheet!$J$11) -> #VALUE! | Q62: =IF((O62+P62)<(1000/M62),"DCM","CCM") -> #VALUE! | R62: =S62-worksheet!$F$8*O62/worksheet!$F$42/1000 -> #VALUE! | S62: =N62/worksheet!$F$52 -> 1.6051282 | T62: =0.5*worksheet!$F$62/100*worksheet!$F$29*(R62+S62)*P62*M62/1000*worksheet!$J$11 -> #VALUE!
...

Sheet LLDCM
A1: =worksheet!$F$11&"V" -> 14V | L1: =worksheet!$J$11&"V" -> 15V
A2: Vc/V | B2: Fsw/kHz | C2: Vipk/V | D2: Ton/us | E2: Toff/us | F2: mode | G2: Fsw_actual/kHz | H2: Ip2/A | I2: Po_actual/W | L2: Vc/V | M2: Fsw/kHz | N2: Vipk/V | O2: Ton/us | P2: Toff/us | Q2: mode | R2: Fsw_actual/kHz | S2: Ip2/A | T2: Po_actual/W
A3: 1.1 | B3: 25 | C3: 0.2 | D3: =1000*worksheet!$F$42*C3/worksheet!$F$52/worksheet!$F$8 -> 2.013986 | E3: =worksheet!$F$8*D3/worksheet!$F$29/worksheet!$F$11 -> 4.5211931 | F3: =IF((D3+E3)<(1000/B3),"DCM","CDCM") -> DCM | G3: =IF(F3="DCM",1/(1/B3),1000/(D3+E3+worksheet!$F$43/1000)) -> 25 | H3: =C3/worksheet!$F$52 -> 1.025641 | I3: =0.5*worksheet!$F$62/100*worksheet!$F$29*H3*E3*G3/1000*worksheet!$F$11 -> 5.3964497 | J3: =G3 -> 25 | L3: 1.1 | M3: =IF(worksheet!$F$10="Rapid charger",25," ") | N3: 0.2 | O3: =1000*worksheet!$F$42*N3/worksheet!$F$52/worksheet!$F$8 -> 2.013986 | P3: =worksheet!$F$8*O3/worksheet!$F$29/worksheet!$J$11 -> 4.2197802 | Q3: =IF((O3+P3)<(1000/M3),"DCM","CDCM") -> #VALUE! | R3: =IF(Q3="DCM",1/(1/M3),1000/(O3+P3+worksheet!$F$43/1000)) -> #VALUE! | S3: =N3/worksheet!$F$52 -> 1.025641 | T3: =0.5*worksheet!$F$62/100*worksheet!$F$29*S3*P3*R3/1000*worksheet!$J$11 -> #VALUE!
A4: 1.12 | B4: 25 | C4: =C3+($C$28-$C$3)/25 -> 0.2016 | D4: =1000*worksheet!$F$42*C4/worksheet!$F$52/worksheet!$F$8 -> 2.0300979 | E4: =worksheet!$F$8*D4/worksheet!$F$29/worksheet!$F$11 -> 4.5573626 | F4: =IF((D4+E4)<(1000/B4),"DCM","CDCM") -> DCM | G4: =IF(F4="DCM",1/(1/B4),1000/(D4+E4+worksheet!$F$43/1000)) -> 25 | H4: =C4/worksheet!$F$52 -> 1.0338462 | I4: =0.5*worksheet!$F$62/100*worksheet!$F$29*H4*E4*G4/1000*worksheet!$F$11 -> 5.4831383 | J4: =G4 -> 25 | L4: 1.12 | M4: =IF(worksheet!$F$10="Rapid charger",25," ") | N4: =N3+($C$28-$C$3)/25 -> 0.2016 | O4: =1000*worksheet!$F$42*N4/worksheet!$F$52/worksheet!$F$8 -> 2.0300979 | P4: =worksheet!$F$8*O4/worksheet!$F$29/worksheet!$J$11 -> 4.2535385 | Q4: =IF((O4+P4)<(1000/M4),"DCM","CDCM") -> #VALUE! | R4: =IF(Q4="DCM",1/(1/M4),1000/(O4+P4+worksheet!$F$43/1000)) -> #VALUE! | S4: =N4/worksheet!$F$52 -> 1.0338462 | T4: =0.5*worksheet!$F$62/100*worksheet!$F$29*S4*P4*R4/1000*worksheet!$J$11 -> #VALUE!
A5: 1.14 | B5: 25 | C5: =C4+($C$28-$C$3)/25 -> 0.2032 | D5: =1000*worksheet!$F$42*C5/worksheet!$F$52/worksheet!$F$8 -> 2.0462098 | E5: =worksheet!$F$8*D5/worksheet!$F$29/worksheet!$F$11 -> 4.5935322 | F5: =IF((D5+E5)<(1000/B5),"DCM","CDCM") -> DCM | G5: =IF(F5="DCM",1/(1/B5),1000/(D5+E5+worksheet!$F$43/1000)) -> 25 | H5: =C5/worksheet!$F$52 -> 1.0420513 | I5: =0.5*worksheet!$F$62/100*worksheet!$F$29*H5*E5*G5/1000*worksheet!$F$11 -> 5.5705176 | J5: =G5 -> 25 | L5: 1.14 | M5: =IF(worksheet!$F$10="Rapid charger",25," ") | N5: =N4+($C$28-$C$3)/25 -> 0.2032 | O5: =1000*worksheet!$F$42*N5/worksheet!$F$52/worksheet!$F$8 -> 2.0462098 | P5: =worksheet!$F$8*O5/worksheet!$F$29/worksheet!$J$11 -> 4.2872967 | Q5: =IF((O5+P5)<(1000/M5),"DCM","CDCM") -> #VALUE! | R5: =IF(Q5="DCM",1/(1/M5),1000/(O5+P5+worksheet!$F$43/1000)) -> #VALUE! | S5: =N5/worksheet!$F$52 -> 1.0420513 | T5: =0.5*worksheet!$F$62/100*worksheet!$F$29*S5*P5*R5/1000*worksheet!$J$11 -> #VALUE!
A6: 1.16 | B6: 25 | C6: =C5+($C$28-$C$3)/25 -> 0.2048 | D6: =1000*worksheet!$F$42*C6/worksheet!$F$52/worksheet!$F$8 -> 2.0623217 | E6: =worksheet!$F$8*D6/worksheet!$F$29/worksheet!$F$11 -> 4.6297017 | F6: =IF((D6+E6)<(1000/B6),"DCM","CDCM") -> DCM | G6: =IF(F6="DCM",1/(1/B6),1000/(D6+E6+worksheet!$F$43/1000)) -> 25 | H6: =C6/worksheet!$F$52 -> 1.0502564 | I6: =0.5*worksheet!$F$62/100*worksheet!$F$29*H6*E6*G6/1000*worksheet!$F$11 -> 5.6585876 | J6: =G6 -> 25 | L6: 1.16 | M6: =IF(worksheet!$F$10="Rapid charger",25," ") | N6: =N5+($C$28-$C$3)/25 -> 0.2048 | O6: =1000*worksheet!$F$42*N6/worksheet!$F$52/worksheet!$F$8 -> 2.0623217 | P6: =worksheet!$F$8*O6/worksheet!$F$29/worksheet!$J$11 -> 4.3210549 | Q6: =IF((O6+P6)<(1000/M6),"DCM","CDCM") -> #VALUE! | R6: =IF(Q6="DCM",1/(1/M6),1000/(O6+P6+worksheet!$F$43/1000)) -> #VALUE! | S6: =N6/worksheet!$F$52 -> 1.0502564 | T6: =0.5*worksheet!$F$62/100*worksheet!$F$29*S6*P6*R6/1000*worksheet!$J$11 -> #VALUE!
A7: 1.18 | B7: 25 | C7: =C6+($C$28-$C$3)/25 -> 0.2064 | D7: =1000*worksheet!$F$42*C7/worksheet!$F$52/worksheet!$F$8 -> 2.0784336 | E7: =worksheet!$F$8*D7/worksheet!$F$29/worksheet!$F$11 -> 4.6658713 | F7: =IF((D7+E7)<(1000/B7),"DCM","CDCM") -> DCM | G7: =IF(F7="DCM",1/(1/B7),1000/(D7+E7+worksheet!$F$43/1000)) -> 25 | H7: =C7/worksheet!$F$52 -> 1.0584615 | I7: =0.5*worksheet!$F$62/100*worksheet!$F$29*H7*E7*G7/1000*worksheet!$F$11 -> 5.7473484 | J7: =G7 -> 25 | L7: 1.18 | M7: =IF(worksheet!$F$10="Rapid charger",25," ") | N7: =N6+($C$28-$C$3)/25 -> 0.2064 | O7: =1000*worksheet!$F$42*N7/worksheet!$F$52/worksheet!$F$8 -> 2.0784336 | P7: =worksheet!$F$8*O7/worksheet!$F$29/worksheet!$J$11 -> 4.3548132 | Q7: =IF((O7+P7)<(1000/M7),"DCM","CDCM") -> #VALUE! | R7: =IF(Q7="DCM",1/(1/M7),1000/(O7+P7+worksheet!$F$43/1000)) -> #VALUE! | S7: =N7/worksheet!$F$52 -> 1.0584615 | T7: =0.5*worksheet!$F$62/100*worksheet!$F$29*S7*P7*R7/1000*worksheet!$J$11 -> #VALUE!
